Back to the "Multiple platform build/check report"
| Package 18/48 | Hostname | OS | Arch | BUILD | CHECK | BUILD BIN |
golubEsets1.4.3Vince CareyLast Changed Date: 2007-04-15 17:50:05 -0700 Last Changed Rev: 261 | lamb1 | Linux (SUSE 10.1) | x86_64 | OK | OK | |
| lemming | Windows Server 2003 (32-bit) | x64 | OK | OK | [ OK ] |
| Package: golubEsets |
| Version: 1.4.3 |
| Command: D:\biocbld\bbs-2.0-bioc\R\bin\R.exe CMD INSTALL --build --library=golubEsets.buildbin-libdir golubEsets_1.4.3.tar.gz |
| RetCode: 0 |
| Time: 19.5 seconds |
| Status: OK |
| PackageFile: golubEsets_1.4.3.zip |
installing R.css in D:/biocbld/bbs-2.0-data-experiment/meat/golubEsets.buildbin-libdir
Using auto-selected zip options ''
---------- Making package golubEsets ------------
adding build stamp to DESCRIPTION
no R files in this package
installing data files
installing man source files
installing indices
Loading required package: methods
not zipping data
installing help
>>> Building/Updating help pages for package 'golubEsets'
Formats: text html latex example chm
golubMerge text html latex example chm
golubTest text html latex example chm
golubTrain text html latex example chm
Microsoft HTML Help Compiler 4.74.8702
Compiling d:\biocbld\bbs-2.0-data-experiment\meat\R.INSTALL.672\golubEsets\chm\golubEsets.chm
Compile time: 0 minutes, 1 second
4 Topics
9 Local links
3 Internet links
1 Graphic
Created d:\biocbld\bbs-2.0-data-experiment\meat\R.INSTALL.672\golubEsets\chm\golubEsets.chm, 18,931 bytes
Compression increased file by 3,236 bytes.
adding MD5 sums
packaged installation of package 'golubEsets' as golubEsets_1.4.3.zip
* DONE (golubEsets)