Back to the "Multiple platform build/check report"
| Package 18/48 | Hostname | OS | Arch | BUILD | CHECK | BUILD BIN |
golubEsets1.4.3Vince CareyLast Changed Date: 2007-04-15 17:50:05 -0700 Last Changed Rev: 261 | lamb1 | Linux (SUSE 10.1) | x86_64 | OK | [ OK ] | |
| lemming | Windows Server 2003 (32-bit) | x64 | OK | OK | OK |
| Package: golubEsets |
| Version: 1.4.3 |
| Command: /home/biocbuild/bbs-2.0-bioc/R/bin/R CMD check golubEsets_1.4.3.tar.gz |
| RetCode: 0 |
| Time: 12.5 seconds |
| Status: OK |
| CheckDir: golubEsets.Rcheck |
| Warnings: 0 |
* checking for working latex ... OK * using log directory '/home/biocbuild/bbs-2.0-data-experiment/meat/golubEsets.Rcheck' * using R version 2.5.1 (2007-06-27) * checking for file 'golubEsets/DESCRIPTION' ... OK * this is package 'golubEsets' version '1.4.3' * checking package dependencies ... OK * checking if this is a source package ... OK * checking whether package 'golubEsets' can be installed ... OK * checking package directory ... OK * checking for portable file names ... OK * checking for sufficient/correct file permissions ... OK * checking DESCRIPTION meta-information ... OK * checking top-level files ... OK * checking index information ... OK * checking package subdirectories ... OK * checking whether the package can be loaded ... OK * checking whether the package can be loaded with stated dependencies ... OK * checking Rd files ... OK * checking Rd cross-references ... OK * checking for missing documentation entries ... OK * checking for code/documentation mismatches ... OK * checking Rd \usage sections ... OK * checking data for non-ASCII characters ... OK * creating golubEsets-Ex.R ... OK * checking examples ... OK * creating golubEsets-manual.tex ... OK * checking golubEsets-manual.tex ... OK
golubEsets.Rcheck/00install.out:
* Installing *source* package 'golubEsets' ...
** data
** help
>>> Building/Updating help pages for package 'golubEsets'
Formats: text html latex example
golubMerge text html latex example
golubTest text html latex example
golubTrain text html latex example
** building package indices ...
Loading required package: methods
* DONE (golubEsets)