Back to Multiple platform build/check report for BioC 3.22:   simplified   long
ABCDEFGHIJK[L]MNOPQRSTUVWXYZ

This page was generated on 2025-11-15 11:57 -0500 (Sat, 15 Nov 2025).

HostnameOSArch (*)R versionInstalled pkgs
nebbiolo2Linux (Ubuntu 24.04.3 LTS)x86_644.5.1 Patched (2025-08-23 r88802) -- "Great Square Root" 4903
taishanLinux (openEuler 24.03 LTS)aarch644.5.0 (2025-04-11) -- "How About a Twenty-Six" 4668
Click on any hostname to see more info about the system (e.g. compilers)      (*) as reported by 'uname -p', except on Windows and Mac OS X

All results for package limma


To the developers/maintainers of the limma package:
- Allow up to 24 hours (and sometimes 48 hours) for your latest push to git@git.bioconductor.org:packages/limma.git to reflect on this report. See Troubleshooting Build Report for more information.
- Use the following Renviron settings to reproduce errors and warnings.
- If 'R CMD check' started to fail recently on the Linux builder(s) over a missing dependency, add the missing dependency to 'Suggests:' in your DESCRIPTION file. See Renviron.bioc for more information.

raw results

Package 1136/2361HostnameOS / ArchINSTALLBUILDCHECKBUILD BIN
limma 3.66.0  (landing page)
Gordon Smyth
Snapshot Date: 2025-11-14 13:45 -0500 (Fri, 14 Nov 2025)
git_url: https://git.bioconductor.org/packages/limma
git_branch: RELEASE_3_22
git_last_commit: 1c4b971
git_last_commit_date: 2025-10-29 09:42:28 -0500 (Wed, 29 Oct 2025)
nebbiolo2Linux (Ubuntu 24.04.3 LTS) / x86_64  OK    OK    OK  UNNEEDED, same version is already published
taishanLinux (openEuler 24.03 LTS) / aarch64  OK    OK    OK  



Results for Bioconductor software packages that depend directly on package limma

QUICK STATSOS / ArchINSTALLBUILDCHECKBUILD BIN
nebbiolo2Linux (Ubuntu 24.04.3 LTS) / x86_64
02244
09237
0839190
taishanLinux (openEuler 24.03 LTS) / aarch64
02244
410232
31437178
Package 1/246HostnameOS / ArchINSTALLBUILDCHECKBUILD BIN
a4Base 1.58.0  (landing page)
Laure Cougnaud
git_last_commit: b4398e6
git_last_commit_date: 2025-10-29 10:07:20 -0500
nebbiolo2Linux (Ubuntu 24.04.3 LTS) / x86_64  OK    OK    OK  UNNEEDED, same version is already published
taishanLinux (openEuler 24.03 LTS) / aarch64  OK    OK    OK  
Package 2/246HostnameOS / ArchINSTALLBUILDCHECKBUILD BIN
ABSSeq 1.64.0  (landing page)
Wentao Yang
git_last_commit: f6fb00c
git_last_commit_date: 2025-10-29 10:18:51 -0500
nebbiolo2Linux (Ubuntu 24.04.3 LTS) / x86_64  OK    OK    OK  UNNEEDED, same version is already published
taishanLinux (openEuler 24.03 LTS) / aarch64  OK    OK    OK  
Package 3/246HostnameOS / ArchINSTALLBUILDCHECKBUILD BIN
affycoretools 1.82.0  (landing page)
James W. MacDonald
git_last_commit: c96a089
git_last_commit_date: 2025-10-29 09:57:11 -0500
nebbiolo2Linux (Ubuntu 24.04.3 LTS) / x86_64  OK    OK    OK  UNNEEDED, same version is already published
taishanLinux (openEuler 24.03 LTS) / aarch64  OK    OK    OK  
Package 4/246HostnameOS / ArchINSTALLBUILDCHECKBUILD BIN
affylmGUI 1.84.0  (landing page)
Gordon Smyth
git_last_commit: cb9ab7b
git_last_commit_date: 2025-10-29 09:54:46 -0500
nebbiolo2Linux (Ubuntu 24.04.3 LTS) / x86_64  OK    OK    OK  UNNEEDED, same version is already published
taishanLinux (openEuler 24.03 LTS) / aarch64  OK    OK    OK  
Package 5/246HostnameOS / ArchINSTALLBUILDCHECKBUILD BIN
AgiMicroRna 2.60.0  (landing page)
Pedro Lopez-Romero
git_last_commit: 9611ae4
git_last_commit_date: 2025-10-29 10:03:34 -0500
nebbiolo2Linux (Ubuntu 24.04.3 LTS) / x86_64  OK    OK    WARNINGS  UNNEEDED, same version is already published
taishanLinux (openEuler 24.03 LTS) / aarch64  OK    OK    WARNINGS  
Package 6/246HostnameOS / ArchINSTALLBUILDCHECKBUILD BIN
AMARETTO 1.26.0  (landing page)
Olivier Gevaert
git_last_commit: aa11071
git_last_commit_date: 2025-10-29 10:50:47 -0500
nebbiolo2Linux (Ubuntu 24.04.3 LTS) / x86_64  OK    OK    WARNINGS  UNNEEDED, same version is already published
taishanLinux (openEuler 24.03 LTS) / aarch64  OK    OK    WARNINGS  
Package 7/246HostnameOS / ArchINSTALLBUILDCHECKBUILD BIN
animalcules 1.26.0  (landing page)
Jessica McClintock
git_last_commit: 353d97a
git_last_commit_date: 2025-10-29 10:52:04 -0500
nebbiolo2Linux (Ubuntu 24.04.3 LTS) / x86_64  OK    OK    OK  UNNEEDED, same version is already published
taishanLinux (openEuler 24.03 LTS) / aarch64  OK    OK    OK  
Package 8/246HostnameOS / ArchINSTALLBUILDCHECKBUILD BIN
anota2seq 1.32.0  (landing page)
Christian Oertlin , Ola Larsson
git_last_commit: 8720150
git_last_commit_date: 2025-10-29 10:41:23 -0500
nebbiolo2Linux (Ubuntu 24.04.3 LTS) / x86_64  OK    OK    WARNINGS  UNNEEDED, same version is already published
taishanLinux (openEuler 24.03 LTS) / aarch64  OK    OK    OK  
Package 9/246HostnameOS / ArchINSTALLBUILDCHECKBUILD BIN
ArrayExpress 1.70.0  (landing page)
Jose Marugan
git_last_commit: 01e7144
git_last_commit_date: 2025-10-29 10:01:28 -0500
nebbiolo2Linux (Ubuntu 24.04.3 LTS) / x86_64  OK    OK    OK  UNNEEDED, same version is already published
taishanLinux (openEuler 24.03 LTS) / aarch64  OK    OK    ERROR  
Package 10/246HostnameOS / ArchINSTALLBUILDCHECKBUILD BIN
arrayQuality 1.88.0  (landing page)
Agnes Paquet
git_last_commit: 8c022a8
git_last_commit_date: 2025-10-29 09:54:41 -0500
nebbiolo2Linux (Ubuntu 24.04.3 LTS) / x86_64  OK    OK    WARNINGS  UNNEEDED, same version is already published
taishanLinux (openEuler 24.03 LTS) / aarch64  OK    OK    WARNINGS  
Package 11/246HostnameOS / ArchINSTALLBUILDCHECKBUILD BIN
arrayQualityMetrics 3.66.0  (landing page)
Mike Smith
git_last_commit: 9561d9d
git_last_commit_date: 2025-10-29 09:59:44 -0500
nebbiolo2Linux (Ubuntu 24.04.3 LTS) / x86_64  OK    OK    OK  NO, package depends on 'beadarray' which is not available
taishanLinux (openEuler 24.03 LTS) / aarch64  OK    OK    OK  
Package 12/246HostnameOS / ArchINSTALLBUILDCHECKBUILD BIN
artMS 1.28.0  (landing page)
David Jimenez-Morales
git_last_commit: 9313c4c
git_last_commit_date: 2025-10-29 10:48:43 -0500
nebbiolo2Linux (Ubuntu 24.04.3 LTS) / x86_64  OK    OK    OK  UNNEEDED, same version is already published
taishanLinux (openEuler 24.03 LTS) / aarch64  OK    OK    OK  
Package 13/246HostnameOS / ArchINSTALLBUILDCHECKBUILD BIN
ASpli 2.20.0  (landing page)
Ariel Chernomoretz
git_last_commit: 3c6d496
git_last_commit_date: 2025-10-29 10:33:32 -0500
nebbiolo2Linux (Ubuntu 24.04.3 LTS) / x86_64  OK    OK    WARNINGS  UNNEEDED, same version is already published
taishanLinux (openEuler 24.03 LTS) / aarch64  OK    OK    WARNINGS  
Package 14/246HostnameOS / ArchINSTALLBUILDCHECKBUILD BIN
ATACseqQC 1.34.0  (landing page)
Jianhong Ou
git_last_commit: 9b61612
git_last_commit_date: 2025-10-29 10:38:34 -0500
nebbiolo2Linux (Ubuntu 24.04.3 LTS) / x86_64  OK    OK    OK  UNNEEDED, same version is already published
taishanLinux (openEuler 24.03 LTS) / aarch64  OK    OK    OK  
Package 15/246HostnameOS / ArchINSTALLBUILDCHECKBUILD BIN
ATACseqTFEA 1.12.0  (landing page)
Jianhong Ou
git_last_commit: 77ec3ae
git_last_commit_date: 2025-10-29 11:18:13 -0500
nebbiolo2Linux (Ubuntu 24.04.3 LTS) / x86_64  OK    OK    OK  UNNEEDED, same version is already published
taishanLinux (openEuler 24.03 LTS) / aarch64  OK    OK    OK  
Package 16/246HostnameOS / ArchINSTALLBUILDCHECKBUILD BIN
attract 1.62.0  (landing page)
Samuel Zimmerman
git_last_commit: c4f9ff4
git_last_commit_date: 2025-10-29 10:05:14 -0500
nebbiolo2Linux (Ubuntu 24.04.3 LTS) / x86_64  OK    OK    OK  UNNEEDED, same version is already published
taishanLinux (openEuler 24.03 LTS) / aarch64  OK    OK    OK  
Package 17/246HostnameOS / ArchINSTALLBUILDCHECKBUILD BIN
autonomics 1.18.0  (landing page)
Aditya Bhagwat
git_last_commit: c22fce2
git_last_commit_date: 2025-10-29 11:06:51 -0500
nebbiolo2Linux (Ubuntu 24.04.3 LTS) / x86_64  OK    OK    OK  UNNEEDED, same version is already published
taishanLinux (openEuler 24.03 LTS) / aarch64  OK    OK    ERROR  
Package 18/246HostnameOS / ArchINSTALLBUILDCHECKBUILD BIN
AWFisher 1.24.0  (landing page)
Zhiguang Huo
git_last_commit: f7b0edc
git_last_commit_date: 2025-10-29 10:53:01 -0500
nebbiolo2Linux (Ubuntu 24.04.3 LTS) / x86_64  OK    OK    OK  UNNEEDED, same version is already published
taishanLinux (openEuler 24.03 LTS) / aarch64  OK    OK    OK  
Package 19/246HostnameOS / ArchINSTALLBUILDCHECKBUILD BIN
ballgown 2.42.0  (landing page)
Jack Fu
git_last_commit: f1b4171
git_last_commit_date: 2025-10-29 10:20:34 -0500
nebbiolo2Linux (Ubuntu 24.04.3 LTS) / x86_64  OK    OK    ERROR  
taishanLinux (openEuler 24.03 LTS) / aarch64  OK    OK    OK  
Package 20/246HostnameOS / ArchINSTALLBUILDCHECKBUILD BIN
barbieQ 1.2.0  (landing page)
Liyang Fei
git_last_commit: 713137b
git_last_commit_date: 2025-10-29 11:36:03 -0500
nebbiolo2Linux (Ubuntu 24.04.3 LTS) / x86_64  OK    OK    OK  UNNEEDED, same version is already published
taishanLinux (openEuler 24.03 LTS) / aarch64  OK    OK    OK  
Package 21/246HostnameOS / ArchINSTALLBUILDCHECKBUILD BIN
BatchQC 2.6.0  (landing page)
Jessica Anderson
git_last_commit: dce5259
git_last_commit_date: 2025-10-29 10:31:36 -0500
nebbiolo2Linux (Ubuntu 24.04.3 LTS) / x86_64  OK    OK    OK  UNNEEDED, same version is already published
taishanLinux (openEuler 24.03 LTS) / aarch64  OK    TIMEOUT  skipped
Package 22/246HostnameOS / ArchINSTALLBUILDCHECKBUILD BIN
beadarray 2.60.0  (landing page)
Mark Dunning
git_last_commit: 7b5bb0d
git_last_commit_date: 2025-10-29 09:57:32 -0500
nebbiolo2Linux (Ubuntu 24.04.3 LTS) / x86_64  OK    OK    ERROR  
taishanLinux (openEuler 24.03 LTS) / aarch64  OK    ERROR  skipped
Package 23/246HostnameOS / ArchINSTALLBUILDCHECKBUILD BIN
benchdamic 1.16.0  (landing page)
Matteo Calgaro
git_last_commit: fcdab2a
git_last_commit_date: 2025-10-29 11:13:16 -0500
nebbiolo2Linux (Ubuntu 24.04.3 LTS) / x86_64  OK    OK    OK  NO, package depends on 'Maaslin2' which is not available
taishanLinux (openEuler 24.03 LTS) / aarch64  OK    OK    ERROR  
Package 24/246HostnameOS / ArchINSTALLBUILDCHECKBUILD BIN
BERT 1.6.0  (landing page)
Yannis Schumann
git_last_commit: 49dbe48
git_last_commit_date: 2025-10-29 11:26:54 -0500
nebbiolo2Linux (Ubuntu 24.04.3 LTS) / x86_64  OK    OK    OK  UNNEEDED, same version is already published
taishanLinux (openEuler 24.03 LTS) / aarch64  OK    OK    OK  
Package 25/246HostnameOS / ArchINSTALLBUILDCHECKBUILD BIN
biotmle 1.34.0  (landing page)
Nima Hejazi
git_last_commit: 0d668f1
git_last_commit_date: 2025-10-29 10:38:19 -0500
nebbiolo2Linux (Ubuntu 24.04.3 LTS) / x86_64  OK    OK    OK  UNNEEDED, same version is already published
taishanLinux (openEuler 24.03 LTS) / aarch64  OK    OK    OK  
Package 26/246HostnameOS / ArchINSTALLBUILDCHECKBUILD BIN
BLMA 1.34.0  (landing page)
Van-Dung Pham
git_last_commit: 32ae9d5
git_last_commit_date: 2025-10-29 10:38:21 -0500
nebbiolo2Linux (Ubuntu 24.04.3 LTS) / x86_64  OK    OK    OK  UNNEEDED, same version is already published
taishanLinux (openEuler 24.03 LTS) / aarch64  OK    OK    OK  
Package 27/246HostnameOS / ArchINSTALLBUILDCHECKBUILD BIN
BloodGen3Module 1.18.0  (landing page)
Darawan Rinchai
git_last_commit: 6d48c98
git_last_commit_date: 2025-10-29 11:09:33 -0500
nebbiolo2Linux (Ubuntu 24.04.3 LTS) / x86_64  OK    OK    WARNINGS  UNNEEDED, same version is already published
taishanLinux (openEuler 24.03 LTS) / aarch64  OK    OK    WARNINGS  
Package 28/246HostnameOS / ArchINSTALLBUILDCHECKBUILD BIN
bnem 1.18.0  (landing page)
Martin Pirkl
git_last_commit: c751314
git_last_commit_date: 2025-10-29 11:04:57 -0500
nebbiolo2Linux (Ubuntu 24.04.3 LTS) / x86_64  OK    OK    OK  UNNEEDED, same version is already published
taishanLinux (openEuler 24.03 LTS) / aarch64  OK    OK    OK  
Package 29/246HostnameOS / ArchINSTALLBUILDCHECKBUILD BIN
bsseq 1.46.0  (landing page)
Kasper Daniel Hansen
git_last_commit: ea21812
git_last_commit_date: 2025-10-29 10:11:31 -0500
nebbiolo2Linux (Ubuntu 24.04.3 LTS) / x86_64  OK    OK    OK  UNNEEDED, same version is already published
taishanLinux (openEuler 24.03 LTS) / aarch64  OK    OK    TIMEOUT  
Package 30/246HostnameOS / ArchINSTALLBUILDCHECKBUILD BIN
BubbleTree 2.40.0  (landing page)
Todd Creasy , Wei Zhu
git_last_commit: cba34a7
git_last_commit_date: 2025-10-29 10:24:01 -0500
nebbiolo2Linux (Ubuntu 24.04.3 LTS) / x86_64  OK    ERROR  skipped
taishanLinux (openEuler 24.03 LTS) / aarch64  OK    ERROR  skipped
Package 31/246HostnameOS / ArchINSTALLBUILDCHECKBUILD BIN
bumphunter 1.52.0  (landing page)
Tamilselvi Guharaj
git_last_commit: 2f99897
git_last_commit_date: 2025-10-29 10:13:01 -0500
nebbiolo2Linux (Ubuntu 24.04.3 LTS) / x86_64  OK    OK    OK  UNNEEDED, same version is already published
taishanLinux (openEuler 24.03 LTS) / aarch64  OK    OK    OK  
Package 32/246HostnameOS / ArchINSTALLBUILDCHECKBUILD BIN
casper 2.44.0  (landing page)
David Rossell
git_last_commit: 9f5a6ac
git_last_commit_date: 2025-10-29 10:13:21 -0500
nebbiolo2Linux (Ubuntu 24.04.3 LTS) / x86_64  OK    OK    WARNINGS  UNNEEDED, same version is already published
taishanLinux (openEuler 24.03 LTS) / aarch64  OK    OK    WARNINGS  
Package 33/246HostnameOS / ArchINSTALLBUILDCHECKBUILD BIN
cghMCR 1.68.0  (landing page)
J. Zhang
git_last_commit: 5d9a32a
git_last_commit_date: 2025-10-29 09:57:58 -0500
nebbiolo2Linux (Ubuntu 24.04.3 LTS) / x86_64  OK    OK    WARNINGS  UNNEEDED, same version is already published
taishanLinux (openEuler 24.03 LTS) / aarch64  OK    OK    WARNINGS  
Package 34/246HostnameOS / ArchINSTALLBUILDCHECKBUILD BIN
ChAMP 2.40.0  (landing page)
Yuan Tian
git_last_commit: fa068cf
git_last_commit_date: 2025-10-29 10:17:05 -0500
nebbiolo2Linux (Ubuntu 24.04.3 LTS) / x86_64  OK    OK    WARNINGS  UNNEEDED, same version is already published
taishanLinux (openEuler 24.03 LTS) / aarch64  OK    OK    WARNINGS  
Package 35/246HostnameOS / ArchINSTALLBUILDCHECKBUILD BIN
ChIPComp 1.40.0  (landing page)
Li Chen
git_last_commit: 0b95bdf
git_last_commit_date: 2025-10-29 10:27:22 -0500
nebbiolo2Linux (Ubuntu 24.04.3 LTS) / x86_64  OK    OK    OK  UNNEEDED, same version is already published
taishanLinux (openEuler 24.03 LTS) / aarch64  OK    OK    OK  
Package 36/246HostnameOS / ArchINSTALLBUILDCHECKBUILD BIN
CleanUpRNAseq 1.4.0  (landing page)
Haibo Liu
git_last_commit: 3ccdf23
git_last_commit_date: 2025-10-29 11:31:19 -0500
nebbiolo2Linux (Ubuntu 24.04.3 LTS) / x86_64  OK    OK    OK  UNNEEDED, same version is already published
taishanLinux (openEuler 24.03 LTS) / aarch64  OK    OK    OK  
Package 37/246HostnameOS / ArchINSTALLBUILDCHECKBUILD BIN
clippda 1.60.0  (landing page)
Stephen Nyangoma
git_last_commit: 34fec11
git_last_commit_date: 2025-10-29 10:03:30 -0500
nebbiolo2Linux (Ubuntu 24.04.3 LTS) / x86_64  OK    OK    OK  UNNEEDED, same version is already published
taishanLinux (openEuler 24.03 LTS) / aarch64  OK    OK    OK  
Package 38/246HostnameOS / ArchINSTALLBUILDCHECKBUILD BIN
clusterExperiment 2.30.0  (landing page)
Elizabeth Purdom
git_last_commit: 86a6cae
git_last_commit_date: 2025-10-29 10:33:07 -0500
nebbiolo2Linux (Ubuntu 24.04.3 LTS) / x86_64  OK    OK    WARNINGS  UNNEEDED, same version is already published
taishanLinux (openEuler 24.03 LTS) / aarch64  OK    OK    WARNINGS  
Package 39/246HostnameOS / ArchINSTALLBUILDCHECKBUILD BIN
CNVRanger 1.26.0  (landing page)
Ludwig Geistlinger
git_last_commit: 53ff90f
git_last_commit_date: 2025-10-29 10:49:56 -0500
nebbiolo2Linux (Ubuntu 24.04.3 LTS) / x86_64  OK    OK    OK  UNNEEDED, same version is already published
taishanLinux (openEuler 24.03 LTS) / aarch64  OK    OK    OK  
Package 40/246HostnameOS / ArchINSTALLBUILDCHECKBUILD BIN
codelink 1.78.0  (landing page)
Diego Diez
git_last_commit: d9a0b2d
git_last_commit_date: 2025-10-29 09:57:29 -0500
nebbiolo2Linux (Ubuntu 24.04.3 LTS) / x86_64  OK    OK    OK  UNNEEDED, same version is already published
taishanLinux (openEuler 24.03 LTS) / aarch64  OK    OK    OK  
Package 41/246HostnameOS / ArchINSTALLBUILDCHECKBUILD BIN
combi 1.22.0  (landing page)
Stijn Hawinkel
git_last_commit: e4cb095
git_last_commit_date: 2025-10-29 10:57:46 -0500
nebbiolo2Linux (Ubuntu 24.04.3 LTS) / x86_64  OK    OK    OK  UNNEEDED, same version is already published
taishanLinux (openEuler 24.03 LTS) / aarch64  OK    OK    OK  
Package 42/246HostnameOS / ArchINSTALLBUILDCHECKBUILD BIN
compcodeR 1.46.0  (landing page)
Charlotte Soneson
git_last_commit: 0bb9bee
git_last_commit_date: 2025-10-29 10:19:15 -0500
nebbiolo2Linux (Ubuntu 24.04.3 LTS) / x86_64  OK    OK    OK  UNNEEDED, same version is already published
taishanLinux (openEuler 24.03 LTS) / aarch64  OK    OK    OK  
Package 43/246HostnameOS / ArchINSTALLBUILDCHECKBUILD BIN
CONFESS 1.38.0  (landing page)
Diana LOW
git_last_commit: 5c1dbd9
git_last_commit_date: 2025-10-29 10:31:27 -0500
nebbiolo2Linux (Ubuntu 24.04.3 LTS) / x86_64  OK    OK    WARNINGS  UNNEEDED, same version is already published
taishanLinux (openEuler 24.03 LTS) / aarch64  OK    OK    WARNINGS  
Package 44/246HostnameOS / ArchINSTALLBUILDCHECKBUILD BIN
consensusDE 1.28.0  (landing page)
Ashley J. Waardenberg
git_last_commit: 7c6b138
git_last_commit_date: 2025-10-29 10:48:35 -0500
nebbiolo2Linux (Ubuntu 24.04.3 LTS) / x86_64  OK    OK    OK  UNNEEDED, same version is already published
taishanLinux (openEuler 24.03 LTS) / aarch64  OK    OK    OK  
Package 45/246HostnameOS / ArchINSTALLBUILDCHECKBUILD BIN
consensusOV 1.32.0  (landing page)
Benjamin Haibe-Kains
git_last_commit: 04a4249
git_last_commit_date: 2025-10-29 10:39:32 -0500
nebbiolo2Linux (Ubuntu 24.04.3 LTS) / x86_64  OK    OK    OK  UNNEEDED, same version is already published
taishanLinux (openEuler 24.03 LTS) / aarch64  OK    OK    OK  
Package 46/246HostnameOS / ArchINSTALLBUILDCHECKBUILD BIN
convert 1.86.0  (landing page)
Yee Hwa (Jean) Yang
git_last_commit: df54982
git_last_commit_date: 2025-10-29 09:54:55 -0500
nebbiolo2Linux (Ubuntu 24.04.3 LTS) / x86_64  OK    OK    OK  UNNEEDED, same version is already published
taishanLinux (openEuler 24.03 LTS) / aarch64  OK    OK    OK  
Package 47/246HostnameOS / ArchINSTALLBUILDCHECKBUILD BIN
Cormotif 1.56.0  (landing page)
Yingying Wei
git_last_commit: e616f53
git_last_commit_date: 2025-10-29 10:08:07 -0500
nebbiolo2Linux (Ubuntu 24.04.3 LTS) / x86_64  OK    OK    OK  UNNEEDED, same version is already published
taishanLinux (openEuler 24.03 LTS) / aarch64  OK    OK    OK  
Package 48/246HostnameOS / ArchINSTALLBUILDCHECKBUILD BIN
crlmm 1.68.0  (landing page)
Benilton S Carvalho
git_last_commit: 7d8b5c6
git_last_commit_date: 2025-10-29 10:02:32 -0500
nebbiolo2Linux (Ubuntu 24.04.3 LTS) / x86_64  OK    OK    WARNINGS  UNNEEDED, same version is already published
taishanLinux (openEuler 24.03 LTS) / aarch64  OK    OK    WARNINGS  
Package 49/246HostnameOS / ArchINSTALLBUILDCHECKBUILD BIN
csaw 1.44.0  (landing page)
Aaron Lun
git_last_commit: 592497a
git_last_commit_date: 2025-10-29 10:22:21 -0500
nebbiolo2Linux (Ubuntu 24.04.3 LTS) / x86_64  OK    OK    OK  UNNEEDED, same version is already published
taishanLinux (openEuler 24.03 LTS) / aarch64  OK    OK    OK  
Package 50/246HostnameOS / ArchINSTALLBUILDCHECKBUILD BIN
cTRAP 1.28.0  (landing page)
Nuno Saraiva-Agostinho
git_last_commit: 216e3fc
git_last_commit_date: 2025-10-29 10:48:28 -0500
nebbiolo2Linux (Ubuntu 24.04.3 LTS) / x86_64  OK    OK    OK  UNNEEDED, same version is already published
taishanLinux (openEuler 24.03 LTS) / aarch64  OK    ERROR  skipped
Package 51/246HostnameOS / ArchINSTALLBUILDCHECKBUILD BIN
ctsGE 1.36.0  (landing page)
Michal Sharabi-Schwager
git_last_commit: f0f5237
git_last_commit_date: 2025-10-29 10:33:30 -0500
nebbiolo2Linux (Ubuntu 24.04.3 LTS) / x86_64  OK    OK    OK  UNNEEDED, same version is already published
taishanLinux (openEuler 24.03 LTS) / aarch64  OK    OK    OK  
Package 52/246HostnameOS / ArchINSTALLBUILDCHECKBUILD BIN
DAMEfinder 1.22.0  (landing page)
Stephany Orjuela
git_last_commit: a1490db
git_last_commit_date: 2025-10-29 10:56:31 -0500
nebbiolo2Linux (Ubuntu 24.04.3 LTS) / x86_64  OK    OK    OK  UNNEEDED, same version is already published
taishanLinux (openEuler 24.03 LTS) / aarch64  OK    OK    OK  
Package 53/246HostnameOS / ArchINSTALLBUILDCHECKBUILD BIN
DaMiRseq 2.22.0  (landing page)
Mattia Chiesa
git_last_commit: 63d6fe2
git_last_commit_date: 2025-10-29 10:37:23 -0500
nebbiolo2Linux (Ubuntu 24.04.3 LTS) / x86_64  OK    OK    OK  UNNEEDED, same version is already published
taishanLinux (openEuler 24.03 LTS) / aarch64  OK    OK    OK  
Package 54/246HostnameOS / ArchINSTALLBUILDCHECKBUILD BIN
debrowser 1.38.0  (landing page)
Alper Kucukural
git_last_commit: 5dcc10b
git_last_commit_date: 2025-10-29 10:30:54 -0500
nebbiolo2Linux (Ubuntu 24.04.3 LTS) / x86_64  OK    OK    OK  UNNEEDED, same version is already published
taishanLinux (openEuler 24.03 LTS) / aarch64  OK    OK    OK  
Package 55/246HostnameOS / ArchINSTALLBUILDCHECKBUILD BIN
DeeDeeExperiment 1.0.0  (landing page)
Najla Abassi
git_last_commit: 8d413ac
git_last_commit_date: 2025-10-29 11:37:21 -0500
nebbiolo2Linux (Ubuntu 24.04.3 LTS) / x86_64  OK    OK    OK  UNNEEDED, same version is already published
taishanLinux (openEuler 24.03 LTS) / aarch64  OK    OK    OK  
Package 56/246HostnameOS / ArchINSTALLBUILDCHECKBUILD BIN
DELocal 1.10.0  (landing page)
Rishi Das Roy
git_last_commit: 268863b
git_last_commit_date: 2025-10-29 11:22:35 -0500
nebbiolo2Linux (Ubuntu 24.04.3 LTS) / x86_64  OK    ERROR  skipped
taishanLinux (openEuler 24.03 LTS) / aarch64  OK    ERROR  skipped
Package 57/246HostnameOS / ArchINSTALLBUILDCHECKBUILD BIN
DEP 1.32.0  (landing page)
Arne Smits
git_last_commit: 251eef4
git_last_commit_date: 2025-10-29 10:40:06 -0500
nebbiolo2Linux (Ubuntu 24.04.3 LTS) / x86_64  OK    OK    OK  UNNEEDED, same version is already published
taishanLinux (openEuler 24.03 LTS) / aarch64  OK    OK    OK  
Package 58/246HostnameOS / ArchINSTALLBUILDCHECKBUILD BIN
DEqMS 1.28.0  (landing page)
Yafeng Zhu
git_last_commit: 5bf2af4
git_last_commit_date: 2025-10-29 10:47:27 -0500
nebbiolo2Linux (Ubuntu 24.04.3 LTS) / x86_64  OK    OK    OK  UNNEEDED, same version is already published
taishanLinux (openEuler 24.03 LTS) / aarch64  OK    OK    OK  
Package 59/246HostnameOS / ArchINSTALLBUILDCHECKBUILD BIN
derfinderPlot 1.44.0  (landing page)
Leonardo Collado-Torres
git_last_commit: 84ed2cb
git_last_commit_date: 2025-10-29 10:21:51 -0500
nebbiolo2Linux (Ubuntu 24.04.3 LTS) / x86_64  OK    OK    OK  UNNEEDED, same version is already published
taishanLinux (openEuler 24.03 LTS) / aarch64  OK    OK    OK  
Package 60/246HostnameOS / ArchINSTALLBUILDCHECKBUILD BIN
DESpace 2.2.1  (landing page)
Peiying Cai
git_last_commit: 90141ee
git_last_commit_date: 2025-10-31 08:20:25 -0500
nebbiolo2Linux (Ubuntu 24.04.3 LTS) / x86_64  OK    OK    OK  UNNEEDED, same version is already published
taishanLinux (openEuler 24.03 LTS) / aarch64  OK    OK    OK  
Package 61/246HostnameOS / ArchINSTALLBUILDCHECKBUILD BIN
DEsubs 1.36.0  (landing page)
Aristidis G. Vrahatis , Panos Balomenos
git_last_commit: eacc80f
git_last_commit_date: 2025-10-29 10:34:42 -0500
nebbiolo2Linux (Ubuntu 24.04.3 LTS) / x86_64  OK    OK    WARNINGS  UNNEEDED, same version is already published
taishanLinux (openEuler 24.03 LTS) / aarch64  OK    OK    WARNINGS  
Package 62/246HostnameOS / ArchINSTALLBUILDCHECKBUILD BIN
DExMA 1.18.0  (landing page)
Juan Antonio Villatoro-García
git_last_commit: 55162f3
git_last_commit_date: 2025-10-29 11:09:00 -0500
nebbiolo2Linux (Ubuntu 24.04.3 LTS) / x86_64  OK    OK    OK  UNNEEDED, same version is already published
taishanLinux (openEuler 24.03 LTS) / aarch64  OK    OK    OK  
Package 63/246HostnameOS / ArchINSTALLBUILDCHECKBUILD BIN
DiffBind 3.20.0  (landing page)
Rory Stark
git_last_commit: fc696a0
git_last_commit_date: 2025-10-29 10:08:58 -0500
nebbiolo2Linux (Ubuntu 24.04.3 LTS) / x86_64  OK    OK    OK  UNNEEDED, same version is already published
taishanLinux (openEuler 24.03 LTS) / aarch64  OK    OK    OK  
Package 64/246HostnameOS / ArchINSTALLBUILDCHECKBUILD BIN
diffcyt 1.30.0  (landing page)
Lukas M. Weber
git_last_commit: d8003b3
git_last_commit_date: 2025-10-29 10:44:30 -0500
nebbiolo2Linux (Ubuntu 24.04.3 LTS) / x86_64  OK    OK    OK  UNNEEDED, same version is already published
taishanLinux (openEuler 24.03 LTS) / aarch64  OK    OK    OK  
Package 65/246HostnameOS / ArchINSTALLBUILDCHECKBUILD BIN
diffHic 1.42.0  (landing page)
Aaron Lun , Gordon Smyth , Hannah Coughlin
git_last_commit: d1e2c99
git_last_commit_date: 2025-10-29 10:25:47 -0500
nebbiolo2Linux (Ubuntu 24.04.3 LTS) / x86_64  OK    OK    OK  UNNEEDED, same version is already published
taishanLinux (openEuler 24.03 LTS) / aarch64  OK    OK    OK  
Package 66/246HostnameOS / ArchINSTALLBUILDCHECKBUILD BIN
diffUTR 1.18.0  (landing page)
Pierre-Luc Germain
git_last_commit: 6ffc717
git_last_commit_date: 2025-10-29 11:09:14 -0500
nebbiolo2Linux (Ubuntu 24.04.3 LTS) / x86_64  OK    OK    OK  UNNEEDED, same version is already published
taishanLinux (openEuler 24.03 LTS) / aarch64  OK    OK    OK  
Package 67/246HostnameOS / ArchINSTALLBUILDCHECKBUILD BIN
distinct 1.22.0  (landing page)
Simone Tiberi
git_last_commit: 8dca3b7
git_last_commit_date: 2025-10-29 10:58:17 -0500
nebbiolo2Linux (Ubuntu 24.04.3 LTS) / x86_64  OK    OK    OK  UNNEEDED, same version is already published
taishanLinux (openEuler 24.03 LTS) / aarch64  OK    OK    OK  
Package 68/246HostnameOS / ArchINSTALLBUILDCHECKBUILD BIN
DMRcate 3.6.0  (landing page)
Tim Peters
git_last_commit: d522a97
git_last_commit_date: 2025-10-29 10:18:14 -0500
nebbiolo2Linux (Ubuntu 24.04.3 LTS) / x86_64  OK    OK    OK  UNNEEDED, same version is already published
taishanLinux (openEuler 24.03 LTS) / aarch64  OK    OK    ERROR  
Package 69/246HostnameOS / ArchINSTALLBUILDCHECKBUILD BIN
Doscheda 1.32.0  (landing page)
Bruno Contrino
git_last_commit: a361fa2
git_last_commit_date: 2025-10-29 10:40:19 -0500
nebbiolo2Linux (Ubuntu 24.04.3 LTS) / x86_64  OK    OK    OK  UNNEEDED, same version is already published
taishanLinux (openEuler 24.03 LTS) / aarch64  OK    OK    OK  
Package 70/246HostnameOS / ArchINSTALLBUILDCHECKBUILD BIN
dreamlet 1.8.0  (landing page)
Gabriel Hoffman
git_last_commit: 1eb467d
git_last_commit_date: 2025-10-29 11:25:03 -0500
nebbiolo2Linux (Ubuntu 24.04.3 LTS) / x86_64  OK    OK    OK  UNNEEDED, same version is already published
taishanLinux (openEuler 24.03 LTS) / aarch64  OK    OK    OK  
Package 71/246HostnameOS / ArchINSTALLBUILDCHECKBUILD BIN
DRIMSeq 1.38.0  (landing page)
Malgorzata Nowicka
git_last_commit: 7fdbd09
git_last_commit_date: 2025-10-29 10:30:52 -0500
nebbiolo2Linux (Ubuntu 24.04.3 LTS) / x86_64  OK    OK    WARNINGS  UNNEEDED, same version is already published
taishanLinux (openEuler 24.03 LTS) / aarch64  OK    OK    WARNINGS  
Package 72/246HostnameOS / ArchINSTALLBUILDCHECKBUILD BIN
DrugVsDisease 2.52.0  (landing page)
j. Saez-Rodriguez
git_last_commit: 661b563
git_last_commit_date: 2025-10-29 10:13:26 -0500
nebbiolo2Linux (Ubuntu 24.04.3 LTS) / x86_64  OK    OK    OK  UNNEEDED, same version is already published
taishanLinux (openEuler 24.03 LTS) / aarch64  OK    OK    OK  
Package 73/246HostnameOS / ArchINSTALLBUILDCHECKBUILD BIN
DspikeIn 1.0.0  (landing page)
Mitra Ghotbi
git_last_commit: 8a427ff
git_last_commit_date: 2025-10-29 11:39:12 -0500
nebbiolo2Linux (Ubuntu 24.04.3 LTS) / x86_64  OK    OK    OK  UNNEEDED, same version is already published
taishanLinux (openEuler 24.03 LTS) / aarch64  OK    OK    OK  
Package 74/246HostnameOS / ArchINSTALLBUILDCHECKBUILD BIN
edgeR 4.8.0  (landing page)
Yunshun Chen , Gordon Smyth
git_last_commit: d547d7e
git_last_commit_date: 2025-10-29 10:01:19 -0500
nebbiolo2Linux (Ubuntu 24.04.3 LTS) / x86_64  OK    OK    OK  UNNEEDED, same version is already published
taishanLinux (openEuler 24.03 LTS) / aarch64  OK    OK    OK  
Package 75/246HostnameOS / ArchINSTALLBUILDCHECKBUILD BIN
EGAD 1.38.0  (landing page)
Sara Ballouz
git_last_commit: e4b84b7
git_last_commit_date: 2025-10-29 10:32:16 -0500
nebbiolo2Linux (Ubuntu 24.04.3 LTS) / x86_64  OK    OK    WARNINGS  UNNEEDED, same version is already published
taishanLinux (openEuler 24.03 LTS) / aarch64  OK    OK    WARNINGS  
Package 76/246HostnameOS / ArchINSTALLBUILDCHECKBUILD BIN
EGSEA 1.38.0  (landing page)
Monther Alhamdoosh
git_last_commit: 1a8a161
git_last_commit_date: 2025-10-29 10:32:11 -0500
nebbiolo2Linux (Ubuntu 24.04.3 LTS) / x86_64  OK    OK    OK  UNNEEDED, same version is already published
taishanLinux (openEuler 24.03 LTS) / aarch64  OK    OK    OK  
Package 77/246HostnameOS / ArchINSTALLBUILDCHECKBUILD BIN
eisaR 1.22.1  (landing page)
Michael Stadler
git_last_commit: 8c3511a
git_last_commit_date: 2025-11-03 09:33:59 -0500
nebbiolo2Linux (Ubuntu 24.04.3 LTS) / x86_64  OK    OK    OK  UNNEEDED, same version is already published
taishanLinux (openEuler 24.03 LTS) / aarch64  OK    OK    OK  
Package 78/246HostnameOS / ArchINSTALLBUILDCHECKBUILD BIN
EnrichmentBrowser 2.40.0  (landing page)
Ludwig Geistlinger
git_last_commit: 2118f0c
git_last_commit_date: 2025-10-29 10:21:30 -0500
nebbiolo2Linux (Ubuntu 24.04.3 LTS) / x86_64  OK    OK    OK  UNNEEDED, same version is already published
taishanLinux (openEuler 24.03 LTS) / aarch64  OK    OK    OK  
Package 79/246HostnameOS / ArchINSTALLBUILDCHECKBUILD BIN
epigraHMM 1.18.0  (landing page)
Pedro Baldoni
git_last_commit: d390572
git_last_commit_date: 2025-10-29 11:09:46 -0500
nebbiolo2Linux (Ubuntu 24.04.3 LTS) / x86_64  OK    OK    WARNINGS  UNNEEDED, same version is already published
taishanLinux (openEuler 24.03 LTS) / aarch64  OK    OK    WARNINGS  
Package 80/246HostnameOS / ArchINSTALLBUILDCHECKBUILD BIN
EpiMix 1.12.0  (landing page)
Yuanning Zheng
git_last_commit: 36341ff
git_last_commit_date: 2025-10-29 11:17:43 -0500
nebbiolo2Linux (Ubuntu 24.04.3 LTS) / x86_64  OK    OK    OK  UNNEEDED, same version is already published
taishanLinux (openEuler 24.03 LTS) / aarch64  OK    OK    OK  
Package 81/246HostnameOS / ArchINSTALLBUILDCHECKBUILD BIN
erccdashboard 1.44.0  (landing page)
Sarah Munro
git_last_commit: 76c1882
git_last_commit_date: 2025-10-29 10:21:01 -0500
nebbiolo2Linux (Ubuntu 24.04.3 LTS) / x86_64  OK    OK    OK  UNNEEDED, same version is already published
taishanLinux (openEuler 24.03 LTS) / aarch64  OK    OK    OK  
Package 82/246HostnameOS / ArchINSTALLBUILDCHECKBUILD BIN
EventPointer 3.18.0  (landing page)
Juan A. Ferrer-Bonsoms
git_last_commit: 816a09d
git_last_commit_date: 2025-10-29 10:37:08 -0500
nebbiolo2Linux (Ubuntu 24.04.3 LTS) / x86_64  OK    OK    OK  UNNEEDED, same version is already published
taishanLinux (openEuler 24.03 LTS) / aarch64  OK    OK    OK  
Package 83/246HostnameOS / ArchINSTALLBUILDCHECKBUILD BIN
EWCE 1.18.0  (landing page)
Hiranyamaya Dash
git_last_commit: 413c045
git_last_commit_date: 2025-10-29 11:08:07 -0500
nebbiolo2Linux (Ubuntu 24.04.3 LTS) / x86_64  OK    OK    OK  UNNEEDED, same version is already published
taishanLinux (openEuler 24.03 LTS) / aarch64  OK    OK    ERROR  
Package 84/246HostnameOS / ArchINSTALLBUILDCHECKBUILD BIN
ExiMiR 2.52.0  (landing page)
Sylvain Gubian
git_last_commit: f23173f
git_last_commit_date: 2025-10-29 10:06:33 -0500
nebbiolo2Linux (Ubuntu 24.04.3 LTS) / x86_64  OK    OK    OK  UNNEEDED, same version is already published
taishanLinux (openEuler 24.03 LTS) / aarch64  OK    OK    OK  
Package 85/246HostnameOS / ArchINSTALLBUILDCHECKBUILD BIN
ExploreModelMatrix 1.22.0  (landing page)
Charlotte Soneson
git_last_commit: 66ed086
git_last_commit_date: 2025-10-29 10:58:12 -0500
nebbiolo2Linux (Ubuntu 24.04.3 LTS) / x86_64  OK    OK    OK  UNNEEDED, same version is already published
taishanLinux (openEuler 24.03 LTS) / aarch64  OK    OK    OK  
Package 86/246HostnameOS / ArchINSTALLBUILDCHECKBUILD BIN
ExpressionAtlas 2.2.0  (landing page)
Anil Thanki
git_last_commit: 6dde6ba
git_last_commit_date: 2025-10-29 10:30:04 -0500
nebbiolo2Linux (Ubuntu 24.04.3 LTS) / x86_64  OK    OK    OK  UNNEEDED, same version is already published
taishanLinux (openEuler 24.03 LTS) / aarch64  OK    OK    OK  
Package 87/246HostnameOS / ArchINSTALLBUILDCHECKBUILD BIN
flowBin 1.46.0  (landing page)
Kieran O'Neill
git_last_commit: f38d785
git_last_commit_date: 2025-10-29 10:17:38 -0500
nebbiolo2Linux (Ubuntu 24.04.3 LTS) / x86_64  OK    OK    OK  UNNEEDED, same version is already published
taishanLinux (openEuler 24.03 LTS) / aarch64  OK    OK    OK  
Package 88/246HostnameOS / ArchINSTALLBUILDCHECKBUILD BIN
gCrisprTools 2.16.0  (landing page)
Russell Bainer
git_last_commit: 7b3b1fd
git_last_commit_date: 2025-10-29 10:34:14 -0500
nebbiolo2Linux (Ubuntu 24.04.3 LTS) / x86_64  OK    OK    OK  UNNEEDED, same version is already published
taishanLinux (openEuler 24.03 LTS) / aarch64  OK    OK    OK  
Package 89/246HostnameOS / ArchINSTALLBUILDCHECKBUILD BIN
GDCRNATools 1.30.0  (landing page)
Ruidong Li
git_last_commit: 5237ba8
git_last_commit_date: 2025-10-29 10:42:54 -0500
nebbiolo2Linux (Ubuntu 24.04.3 LTS) / x86_64  OK    OK    OK  UNNEEDED, same version is already published
taishanLinux (openEuler 24.03 LTS) / aarch64  OK    OK    OK  
Package 90/246HostnameOS / ArchINSTALLBUILDCHECKBUILD BIN
genefu 2.42.0  (landing page)
Benjamin Haibe-Kains
git_last_commit: 8925b07
git_last_commit_date: 2025-10-29 10:07:12 -0500
nebbiolo2Linux (Ubuntu 24.04.3 LTS) / x86_64  OK    OK    WARNINGS  UNNEEDED, same version is already published
taishanLinux (openEuler 24.03 LTS) / aarch64  OK    OK    WARNINGS  
Package 91/246HostnameOS / ArchINSTALLBUILDCHECKBUILD BIN
GeneSelectMMD 2.54.0  (landing page)
Weiliang Qiu
git_last_commit: bc4828d
git_last_commit_date: 2025-10-29 10:02:29 -0500
nebbiolo2Linux (Ubuntu 24.04.3 LTS) / x86_64  OK    OK    WARNINGS  UNNEEDED, same version is already published
taishanLinux (openEuler 24.03 LTS) / aarch64  OK    OK    WARNINGS  
Package 92/246HostnameOS / ArchINSTALLBUILDCHECKBUILD BIN
GEOexplorer 1.16.0  (landing page)
Guy Hunt
git_last_commit: 95a2b2f
git_last_commit_date: 2025-10-29 11:11:17 -0500
nebbiolo2Linux (Ubuntu 24.04.3 LTS) / x86_64  OK    OK    ERROR  
taishanLinux (openEuler 24.03 LTS) / aarch64  OK    OK    ERROR  
Package 93/246HostnameOS / ArchINSTALLBUILDCHECKBUILD BIN
GEOquery 2.78.0  (landing page)
Sean Davis
git_last_commit: 3a4b52d
git_last_commit_date: 2025-10-29 09:57:26 -0500
nebbiolo2Linux (Ubuntu 24.04.3 LTS) / x86_64  OK    OK    WARNINGS  UNNEEDED, same version is already published
taishanLinux (openEuler 24.03 LTS) / aarch64  OK    OK    ERROR  
Package 94/246HostnameOS / ArchINSTALLBUILDCHECKBUILD BIN
gg4way 1.8.0  (landing page)
Benjamin I Laufer
git_last_commit: 768ce2f
git_last_commit_date: 2025-10-29 11:25:41 -0500
nebbiolo2Linux (Ubuntu 24.04.3 LTS) / x86_64  OK    OK    OK  UNNEEDED, same version is already published
taishanLinux (openEuler 24.03 LTS) / aarch64  OK    OK    OK  
Package 95/246HostnameOS / ArchINSTALLBUILDCHECKBUILD BIN
gINTomics 1.6.0  (landing page)
Angelo Velle
git_last_commit: d433a6d
git_last_commit_date: 2025-10-29 11:30:01 -0500
nebbiolo2Linux (Ubuntu 24.04.3 LTS) / x86_64  OK    OK    OK  NO, package depends on 'OmnipathR' which is not available
taishanLinux (openEuler 24.03 LTS) / aarch64  OK    OK    OK  
Package 96/246HostnameOS / ArchINSTALLBUILDCHECKBUILD BIN
Glimma 2.20.0  (landing page)
Shian Su
git_last_commit: 73c6c44
git_last_commit_date: 2025-10-29 10:31:31 -0500
nebbiolo2Linux (Ubuntu 24.04.3 LTS) / x86_64  OK    OK    OK  UNNEEDED, same version is already published
taishanLinux (openEuler 24.03 LTS) / aarch64  OK    OK    OK  
Package 97/246HostnameOS / ArchINSTALLBUILDCHECKBUILD BIN
GRaNIE 1.14.0  (landing page)
Christian Arnold
git_last_commit: 7d55acc
git_last_commit_date: 2025-10-29 11:16:56 -0500
nebbiolo2Linux (Ubuntu 24.04.3 LTS) / x86_64  OK    OK    OK  UNNEEDED, same version is already published
taishanLinux (openEuler 24.03 LTS) / aarch64  OK    OK    OK  
Package 98/246HostnameOS / ArchINSTALLBUILDCHECKBUILD BIN
GUIDEseq 1.40.0  (landing page)
Lihua Julie Zhu
git_last_commit: 45a0042
git_last_commit_date: 2025-10-29 10:28:16 -0500
nebbiolo2Linux (Ubuntu 24.04.3 LTS) / x86_64  OK    OK    OK  UNNEEDED, same version is already published
taishanLinux (openEuler 24.03 LTS) / aarch64  OK    OK    OK  
Package 99/246HostnameOS / ArchINSTALLBUILDCHECKBUILD BIN
GWAS.BAYES 1.20.0  (landing page)
Jacob Williams
git_last_commit: 2463904
git_last_commit_date: 2025-10-29 11:04:22 -0500
nebbiolo2Linux (Ubuntu 24.04.3 LTS) / x86_64  OK    OK    OK  UNNEEDED, same version is already published
taishanLinux (openEuler 24.03 LTS) / aarch64  OK    OK    OK  
Package 100/246HostnameOS / ArchINSTALLBUILDCHECKBUILD BIN
HarmonizR 1.8.0  (landing page)
Simon Schlumbohm
git_last_commit: 8828598
git_last_commit_date: 2025-10-29 11:24:28 -0500
nebbiolo2Linux (Ubuntu 24.04.3 LTS) / x86_64  OK    OK    OK  UNNEEDED, same version is already published
taishanLinux (openEuler 24.03 LTS) / aarch64  OK    OK    OK  
Package 101/246HostnameOS / ArchINSTALLBUILDCHECKBUILD BIN
hermes 1.14.0  (landing page)
Daniel Sabanés Bové
git_last_commit: b415d55
git_last_commit_date: 2025-10-29 11:14:07 -0500
nebbiolo2Linux (Ubuntu 24.04.3 LTS) / x86_64  OK    OK    OK  UNNEEDED, same version is already published
taishanLinux (openEuler 24.03 LTS) / aarch64  OK    OK    OK  
Package 102/246HostnameOS / ArchINSTALLBUILDCHECKBUILD BIN
HERON 1.8.0  (landing page)
Sean McIlwain
git_last_commit: 571b710
git_last_commit_date: 2025-10-29 11:24:33 -0500
nebbiolo2Linux (Ubuntu 24.04.3 LTS) / x86_64  OK    OK    OK  UNNEEDED, same version is already published
taishanLinux (openEuler 24.03 LTS) / aarch64  OK    OK    OK  
Package 103/246HostnameOS / ArchINSTALLBUILDCHECKBUILD BIN
hipathia 3.10.0  (landing page)
Marta R. Hidalgo
git_last_commit: 73629a5
git_last_commit_date: 2025-10-29 10:44:56 -0500
nebbiolo2Linux (Ubuntu 24.04.3 LTS) / x86_64  OK    ERROR  skipped
taishanLinux (openEuler 24.03 LTS) / aarch64  OK    ERROR  skipped
Package 104/246HostnameOS / ArchINSTALLBUILDCHECKBUILD BIN
HTqPCR 1.64.0  (landing page)
Matthew N. McCall
git_last_commit: c55e513
git_last_commit_date: 2025-10-29 11:35:16 -0500
nebbiolo2Linux (Ubuntu 24.04.3 LTS) / x86_64  OK    OK    OK  UNNEEDED, same version is already published
taishanLinux (openEuler 24.03 LTS) / aarch64  OK    OK    OK  
Package 105/246HostnameOS / ArchINSTALLBUILDCHECKBUILD BIN
icetea 1.28.0  (landing page)
Vivek Bhardwaj
git_last_commit: f7f280d
git_last_commit_date: 2025-10-29 10:45:57 -0500
nebbiolo2Linux (Ubuntu 24.04.3 LTS) / x86_64  OK    OK    WARNINGS  UNNEEDED, same version is already published
taishanLinux (openEuler 24.03 LTS) / aarch64  OK    OK    WARNINGS  
Package 106/246HostnameOS / ArchINSTALLBUILDCHECKBUILD BIN
iCheck 1.40.0  (landing page)
Weiliang Qiu
git_last_commit: 109cb15
git_last_commit_date: 2025-10-29 10:28:02 -0500
nebbiolo2Linux (Ubuntu 24.04.3 LTS) / x86_64  OK    OK    OK  UNNEEDED, same version is already published
taishanLinux (openEuler 24.03 LTS) / aarch64  OK    OK    OK  
Package 107/246HostnameOS / ArchINSTALLBUILDCHECKBUILD BIN
iChip 1.64.0  (landing page)
Qianxing Mo
git_last_commit: ab53168
git_last_commit_date: 2025-10-29 10:04:19 -0500
nebbiolo2Linux (Ubuntu 24.04.3 LTS) / x86_64  OK    OK    WARNINGS  UNNEEDED, same version is already published
taishanLinux (openEuler 24.03 LTS) / aarch64  OK    OK    WARNINGS  
Package 108/246HostnameOS / ArchINSTALLBUILDCHECKBUILD BIN
iCOBRA 1.38.0  (landing page)
Charlotte Soneson
git_last_commit: 60e06fc
git_last_commit_date: 2025-10-29 10:28:52 -0500
nebbiolo2Linux (Ubuntu 24.04.3 LTS) / x86_64  OK    OK    OK  UNNEEDED, same version is already published
taishanLinux (openEuler 24.03 LTS) / aarch64  OK    OK    OK  
Package 109/246HostnameOS / ArchINSTALLBUILDCHECKBUILD BIN
ideal 2.4.0  (landing page)
Federico Marini
git_last_commit: ed2684d
git_last_commit_date: 2025-10-29 10:38:28 -0500
nebbiolo2Linux (Ubuntu 24.04.3 LTS) / x86_64  OK    OK    OK  UNNEEDED, same version is already published
taishanLinux (openEuler 24.03 LTS) / aarch64  OK    OK    OK  
Package 110/246HostnameOS / ArchINSTALLBUILDCHECKBUILD BIN
InPAS 2.18.0  (landing page)
Jianhong Ou
git_last_commit: b015763
git_last_commit_date: 2025-10-29 10:24:45 -0500
nebbiolo2Linux (Ubuntu 24.04.3 LTS) / x86_64  ERROR    ERROR  skipped
taishanLinux (openEuler 24.03 LTS) / aarch64  ERROR    ERROR  skipped
Package 111/246HostnameOS / ArchINSTALLBUILDCHECKBUILD BIN
IsoformSwitchAnalyzeR 2.10.0  (landing page)
Kristoffer Vitting-Seerup
git_last_commit: 34e7c83
git_last_commit_date: 2025-10-29 10:38:58 -0500
nebbiolo2Linux (Ubuntu 24.04.3 LTS) / x86_64  OK    OK    ERROR  
taishanLinux (openEuler 24.03 LTS) / aarch64  OK    OK    OK  
Package 112/246HostnameOS / ArchINSTALLBUILDCHECKBUILD BIN
isomiRs 1.38.0  (landing page)
Lorena Pantano
git_last_commit: c30a378
git_last_commit_date: 2025-10-29 10:31:12 -0500
nebbiolo2Linux (Ubuntu 24.04.3 LTS) / x86_64  OK    OK    ERROR  
taishanLinux (openEuler 24.03 LTS) / aarch64  OK    OK    ERROR  
Package 113/246HostnameOS / ArchINSTALLBUILDCHECKBUILD BIN
KnowSeq 1.24.0  (landing page)
Daniel Castillo-Secilla
git_last_commit: 803fc01
git_last_commit_date: 2025-10-29 10:52:51 -0500
nebbiolo2Linux (Ubuntu 24.04.3 LTS) / x86_64  OK    OK    ERROR  
taishanLinux (openEuler 24.03 LTS) / aarch64  OK    OK    OK  
Package 114/246HostnameOS / ArchINSTALLBUILDCHECKBUILD BIN
lemur 1.8.0  (landing page)
Constantin Ahlmann-Eltze
git_last_commit: c361bc9
git_last_commit_date: 2025-10-29 11:26:19 -0500
nebbiolo2Linux (Ubuntu 24.04.3 LTS) / x86_64  OK    OK    WARNINGS  UNNEEDED, same version is already published
taishanLinux (openEuler 24.03 LTS) / aarch64  OK    OK    WARNINGS  
Package 115/246HostnameOS / ArchINSTALLBUILDCHECKBUILD BIN
limmaGUI 1.86.0  (landing page)
Gordon Smyth
git_last_commit: dd885bc
git_last_commit_date: 2025-10-29 09:54:49 -0500
nebbiolo2Linux (Ubuntu 24.04.3 LTS) / x86_64  OK    OK    OK  UNNEEDED, same version is already published
taishanLinux (openEuler 24.03 LTS) / aarch64  OK    OK    OK  
Package 116/246HostnameOS / ArchINSTALLBUILDCHECKBUILD BIN
limpa 1.2.0  (landing page)
Gordon Smyth
git_last_commit: 8349fa0
git_last_commit_date: 2025-10-29 11:35:19 -0500
nebbiolo2Linux (Ubuntu 24.04.3 LTS) / x86_64  OK    OK    OK  UNNEEDED, same version is already published
taishanLinux (openEuler 24.03 LTS) / aarch64  OK    OK    OK  
Package 117/246HostnameOS / ArchINSTALLBUILDCHECKBUILD BIN
LimROTS 1.2.0  (landing page)
Ali Mostafa Anwar
git_last_commit: a9ce432
git_last_commit_date: 2025-10-29 11:33:21 -0500
nebbiolo2Linux (Ubuntu 24.04.3 LTS) / x86_64  OK    OK    OK  UNNEEDED, same version is already published
taishanLinux (openEuler 24.03 LTS) / aarch64  OK    OK    OK  
Package 118/246HostnameOS / ArchINSTALLBUILDCHECKBUILD BIN
Linnorm 2.34.0  (landing page)
Shun Hang Yip
git_last_commit: 05a328b
git_last_commit_date: 2025-10-29 10:31:24 -0500
nebbiolo2Linux (Ubuntu 24.04.3 LTS) / x86_64  OK    OK    OK  UNNEEDED, same version is already published
taishanLinux (openEuler 24.03 LTS) / aarch64  OK    OK    OK  
Package 119/246HostnameOS / ArchINSTALLBUILDCHECKBUILD BIN
lipidr 2.24.0  (landing page)
Ahmed Mohamed
git_last_commit: 2e5e4b4
git_last_commit_date: 2025-10-29 10:51:46 -0500
nebbiolo2Linux (Ubuntu 24.04.3 LTS) / x86_64  OK    OK    OK  UNNEEDED, same version is already published
taishanLinux (openEuler 24.03 LTS) / aarch64  OK    OK    OK  
Package 120/246HostnameOS / ArchINSTALLBUILDCHECKBUILD BIN
lmdme 1.52.0  (landing page)
Cristobal Fresno
git_last_commit: a117911
git_last_commit_date: 2025-10-29 10:11:57 -0500
nebbiolo2Linux (Ubuntu 24.04.3 LTS) / x86_64  OK    OK    WARNINGS  UNNEEDED, same version is already published
taishanLinux (openEuler 24.03 LTS) / aarch64  OK    OK    WARNINGS  
Package 121/246HostnameOS / ArchINSTALLBUILDCHECKBUILD BIN
maPredictDSC 1.48.0  (landing page)
Adi Laurentiu Tarca
git_last_commit: 27c85a2
git_last_commit_date: 2025-10-29 10:15:22 -0500
nebbiolo2Linux (Ubuntu 24.04.3 LTS) / x86_64  OK    OK    OK  UNNEEDED, same version is already published
taishanLinux (openEuler 24.03 LTS) / aarch64  OK    TIMEOUT  skipped
Package 122/246HostnameOS / ArchINSTALLBUILDCHECKBUILD BIN
markeR 1.0.0  (landing page)
Rita Martins-Silva
git_last_commit: defebad
git_last_commit_date: 2025-10-29 11:38:06 -0500
nebbiolo2Linux (Ubuntu 24.04.3 LTS) / x86_64  OK    OK    OK  UNNEEDED, same version is already published
taishanLinux (openEuler 24.03 LTS) / aarch64  OK    OK    OK  
Package 123/246HostnameOS / ArchINSTALLBUILDCHECKBUILD BIN
marray 1.88.0  (landing page)
Yee Hwa (Jean) Yang
git_last_commit: 5ff7e84
git_last_commit_date: 2025-10-29 09:54:52 -0500
nebbiolo2Linux (Ubuntu 24.04.3 LTS) / x86_64  OK    OK    OK  UNNEEDED, same version is already published
taishanLinux (openEuler 24.03 LTS) / aarch64  OK    OK    OK  
Package 124/246HostnameOS / ArchINSTALLBUILDCHECKBUILD BIN
mastR 1.10.0  (landing page)
Jinjin Chen
git_last_commit: 2cd82fb
git_last_commit_date: 2025-10-29 11:22:48 -0500
nebbiolo2Linux (Ubuntu 24.04.3 LTS) / x86_64  OK    OK    OK  UNNEEDED, same version is already published
taishanLinux (openEuler 24.03 LTS) / aarch64  OK    TIMEOUT  skipped
Package 125/246HostnameOS / ArchINSTALLBUILDCHECKBUILD BIN
MatrixQCvis 1.18.0  (landing page)
Thomas Naake
git_last_commit: b35fe86
git_last_commit_date: 2025-10-29 11:09:24 -0500
nebbiolo2Linux (Ubuntu 24.04.3 LTS) / x86_64  OK    OK    OK  UNNEEDED, same version is already published
taishanLinux (openEuler 24.03 LTS) / aarch64  OK    OK    OK  
Package 126/246HostnameOS / ArchINSTALLBUILDCHECKBUILD BIN
MBECS 1.14.0  (landing page)
Michael Olbrich
git_last_commit: 32d603f
git_last_commit_date: 2025-10-29 11:15:19 -0500
nebbiolo2Linux (Ubuntu 24.04.3 LTS) / x86_64  OK    OK    OK  UNNEEDED, same version is already published
taishanLinux (openEuler 24.03 LTS) / aarch64  OK    OK    OK  
Package 127/246HostnameOS / ArchINSTALLBUILDCHECKBUILD BIN
MBQN 2.22.0  (landing page)
Eva Brombacher
git_last_commit: a7445d7
git_last_commit_date: 2025-10-29 10:55:13 -0500
nebbiolo2Linux (Ubuntu 24.04.3 LTS) / x86_64  OK    OK    OK  UNNEEDED, same version is already published
taishanLinux (openEuler 24.03 LTS) / aarch64  OK    OK    OK  
Package 128/246HostnameOS / ArchINSTALLBUILDCHECKBUILD BIN
mCSEA 1.30.0  (landing page)
Jordi Martorell-Marugán
git_last_commit: 3144485
git_last_commit_date: 2025-10-29 10:42:49 -0500
nebbiolo2Linux (Ubuntu 24.04.3 LTS) / x86_64  OK    ERROR  skipped
taishanLinux (openEuler 24.03 LTS) / aarch64  OK    ERROR  skipped
Package 129/246HostnameOS / ArchINSTALLBUILDCHECKBUILD BIN
MEAL 1.40.0  (landing page)
Xavier Escribà Montagut
git_last_commit: 0882535
git_last_commit_date: 2025-10-29 10:28:05 -0500
nebbiolo2Linux (Ubuntu 24.04.3 LTS) / x86_64  OK    OK    WARNINGS  UNNEEDED, same version is already published
taishanLinux (openEuler 24.03 LTS) / aarch64  OK    OK    WARNINGS  
Package 130/246HostnameOS / ArchINSTALLBUILDCHECKBUILD BIN
metagenomeSeq 1.52.0  (landing page)
Joseph N. Paulson
git_last_commit: 4135a42
git_last_commit_date: 2025-10-29 10:14:26 -0500
nebbiolo2Linux (Ubuntu 24.04.3 LTS) / x86_64  OK    OK    OK  UNNEEDED, same version is already published
taishanLinux (openEuler 24.03 LTS) / aarch64  OK    OK    OK  
Package 131/246HostnameOS / ArchINSTALLBUILDCHECKBUILD BIN
metaseqR2 1.22.0  (landing page)
Panagiotis Moulos
git_last_commit: e5e7809
git_last_commit_date: 2025-10-29 10:59:18 -0500
nebbiolo2Linux (Ubuntu 24.04.3 LTS) / x86_64  OK    ERROR  skipped
taishanLinux (openEuler 24.03 LTS) / aarch64  OK    OK    OK  
Package 132/246HostnameOS / ArchINSTALLBUILDCHECKBUILD BIN
methylKit 1.36.0  (landing page)
Altuna Akalin , Alexander Blume
git_last_commit: c65437a
git_last_commit_date: 2025-10-29 10:33:14 -0500
nebbiolo2Linux (Ubuntu 24.04.3 LTS) / x86_64  OK    OK    OK  UNNEEDED, same version is already published
taishanLinux (openEuler 24.03 LTS) / aarch64  OK    OK    OK  
Package 133/246HostnameOS / ArchINSTALLBUILDCHECKBUILD BIN
MethylMix 2.40.0  (landing page)
Olivier Gevaert
git_last_commit: b1e6c56
git_last_commit_date: 2025-10-29 10:21:12 -0500
nebbiolo2Linux (Ubuntu 24.04.3 LTS) / x86_64  OK    OK    OK  UNNEEDED, same version is already published
taishanLinux (openEuler 24.03 LTS) / aarch64  OK    OK    OK  
Package 134/246HostnameOS / ArchINSTALLBUILDCHECKBUILD BIN
microbiomeExplorer 1.20.0  (landing page)
Janina Reeder
git_last_commit: 307275f
git_last_commit_date: 2025-10-29 11:03:17 -0500
nebbiolo2Linux (Ubuntu 24.04.3 LTS) / x86_64  OK    OK    OK  UNNEEDED, same version is already published
taishanLinux (openEuler 24.03 LTS) / aarch64  OK    OK    OK  
Package 135/246HostnameOS / ArchINSTALLBUILDCHECKBUILD BIN
miloR 2.6.0  (landing page)
Mike Morgan
git_last_commit: 374663b
git_last_commit_date: 2025-10-29 11:08:58 -0500
nebbiolo2Linux (Ubuntu 24.04.3 LTS) / x86_64  OK    OK    OK  UNNEEDED, same version is already published
taishanLinux (openEuler 24.03 LTS) / aarch64  OK    OK    WARNINGS  
Package 136/246HostnameOS / ArchINSTALLBUILDCHECKBUILD BIN
minfi 1.56.0  (landing page)
Kasper Daniel Hansen
git_last_commit: e6780b4
git_last_commit_date: 2025-10-29 10:09:18 -0500
nebbiolo2Linux (Ubuntu 24.04.3 LTS) / x86_64  OK    OK    OK  UNNEEDED, same version is already published
taishanLinux (openEuler 24.03 LTS) / aarch64  OK    OK    OK  
Package 137/246HostnameOS / ArchINSTALLBUILDCHECKBUILD BIN
MIRit 1.6.0  (landing page)
Jacopo Ronchi
git_last_commit: 2274523
git_last_commit_date: 2025-10-29 11:27:39 -0500
nebbiolo2Linux (Ubuntu 24.04.3 LTS) / x86_64  OK    OK    OK  UNNEEDED, same version is already published
taishanLinux (openEuler 24.03 LTS) / aarch64  OK    OK    ERROR  
Package 138/246HostnameOS / ArchINSTALLBUILDCHECKBUILD BIN
miRLAB 1.40.0  (landing page)
Thuc Duy Le
git_last_commit: d343103
git_last_commit_date: 2025-10-29 10:26:51 -0500
nebbiolo2Linux (Ubuntu 24.04.3 LTS) / x86_64  OK    OK    WARNINGS  UNNEEDED, same version is already published
taishanLinux (openEuler 24.03 LTS) / aarch64  OK    OK    WARNINGS  
Package 139/246HostnameOS / ArchINSTALLBUILDCHECKBUILD BIN
missMethyl 1.44.0  (landing page)
Belinda Phipson
git_last_commit: 3ca88f7
git_last_commit_date: 2025-10-29 10:20:32 -0500
nebbiolo2Linux (Ubuntu 24.04.3 LTS) / x86_64  OK    OK    WARNINGS  UNNEEDED, same version is already published
taishanLinux (openEuler 24.03 LTS) / aarch64  OK    OK    WARNINGS  
Package 140/246HostnameOS / ArchINSTALLBUILDCHECKBUILD BIN
MLSeq 2.28.0  (landing page)
Gokmen Zararsiz
git_last_commit: e4f82c9
git_last_commit_date: 2025-10-29 10:18:29 -0500
nebbiolo2Linux (Ubuntu 24.04.3 LTS) / x86_64  OK    OK    OK  UNNEEDED, same version is already published
taishanLinux (openEuler 24.03 LTS) / aarch64  OK    OK    OK  
Package 141/246HostnameOS / ArchINSTALLBUILDCHECKBUILD BIN
moanin 1.18.0  (landing page)
Nelle Varoquaux
git_last_commit: 6b72807
git_last_commit_date: 2025-10-29 11:04:42 -0500
nebbiolo2Linux (Ubuntu 24.04.3 LTS) / x86_64  OK    OK    OK  UNNEEDED, same version is already published
taishanLinux (openEuler 24.03 LTS) / aarch64  OK    OK    OK  
Package 142/246HostnameOS / ArchINSTALLBUILDCHECKBUILD BIN
monocle 2.38.0  (landing page)
Cole Trapnell
git_last_commit: 9f2ab5b
git_last_commit_date: 2025-10-29 10:19:37 -0500
nebbiolo2Linux (Ubuntu 24.04.3 LTS) / x86_64  OK    OK    OK  UNNEEDED, same version is already published
taishanLinux (openEuler 24.03 LTS) / aarch64  OK    OK    OK  
Package 143/246HostnameOS / ArchINSTALLBUILDCHECKBUILD BIN
MoonlightR 1.36.0  (landing page)
Matteo Tiberti
git_last_commit: af4023f
git_last_commit_date: 2025-10-29 10:35:02 -0500
nebbiolo2Linux (Ubuntu 24.04.3 LTS) / x86_64  OK    OK    OK  UNNEEDED, same version is already published
taishanLinux (openEuler 24.03 LTS) / aarch64  OK    OK    OK  
Package 144/246HostnameOS / ArchINSTALLBUILDCHECKBUILD BIN
mpra 1.32.0  (landing page)
Leslie Myint
git_last_commit: 43074f5
git_last_commit_date: 2025-10-29 10:42:02 -0500
nebbiolo2Linux (Ubuntu 24.04.3 LTS) / x86_64  OK    OK    OK  UNNEEDED, same version is already published
taishanLinux (openEuler 24.03 LTS) / aarch64  OK    OK    OK  
Package 145/246HostnameOS / ArchINSTALLBUILDCHECKBUILD BIN
msImpute 1.20.0  (landing page)
Soroor Hediyeh-zadeh
git_last_commit: c038506
git_last_commit_date: 2025-10-29 11:02:31 -0500
nebbiolo2Linux (Ubuntu 24.04.3 LTS) / x86_64  OK    OK    OK  UNNEEDED, same version is already published
taishanLinux (openEuler 24.03 LTS) / aarch64  OK    OK    OK  
Package 146/246HostnameOS / ArchINSTALLBUILDCHECKBUILD BIN
mspms 1.2.0  (landing page)
Charlie Bayne
git_last_commit: 04133d6
git_last_commit_date: 2025-10-29 11:33:10 -0500
nebbiolo2Linux (Ubuntu 24.04.3 LTS) / x86_64  OK    OK    OK  UNNEEDED, same version is already published
taishanLinux (openEuler 24.03 LTS) / aarch64  OK    OK    OK  
Package 147/246HostnameOS / ArchINSTALLBUILDCHECKBUILD BIN
msqrob2 1.18.0  (landing page)
Lieven Clement
git_last_commit: eb5e42c
git_last_commit_date: 2025-10-29 11:09:38 -0500
nebbiolo2Linux (Ubuntu 24.04.3 LTS) / x86_64  OK    OK    OK  UNNEEDED, same version is already published
taishanLinux (openEuler 24.03 LTS) / aarch64  OK    OK    OK  
Package 148/246HostnameOS / ArchINSTALLBUILDCHECKBUILD BIN
MSstats 4.18.0  (landing page)
Meena Choi
git_last_commit: 1173853
git_last_commit_date: 2025-10-29 10:16:50 -0500
nebbiolo2Linux (Ubuntu 24.04.3 LTS) / x86_64  OK    OK    WARNINGS  UNNEEDED, same version is already published
taishanLinux (openEuler 24.03 LTS) / aarch64  OK    OK    WARNINGS  
Package 149/246HostnameOS / ArchINSTALLBUILDCHECKBUILD BIN
MSstatsTMT 2.18.0  (landing page)
Devon Kohler
git_last_commit: ad356e0
git_last_commit_date: 2025-10-29 10:48:02 -0500
nebbiolo2Linux (Ubuntu 24.04.3 LTS) / x86_64  OK    OK    OK  UNNEEDED, same version is already published
taishanLinux (openEuler 24.03 LTS) / aarch64  OK    OK    OK  
Package 150/246HostnameOS / ArchINSTALLBUILDCHECKBUILD BIN
MultiDataSet 1.38.0  (landing page)
Xavier Escribà Montagut
git_last_commit: 65bb120
git_last_commit_date: 2025-10-29 10:31:59 -0500
nebbiolo2Linux (Ubuntu 24.04.3 LTS) / x86_64  OK    OK    WARNINGS  UNNEEDED, same version is already published
taishanLinux (openEuler 24.03 LTS) / aarch64  OK    OK    ERROR  
Package 151/246HostnameOS / ArchINSTALLBUILDCHECKBUILD BIN
muscat 1.24.0  (landing page)
Helena L. Crowell
git_last_commit: a6749ec
git_last_commit_date: 2025-10-29 10:53:55 -0500
nebbiolo2Linux (Ubuntu 24.04.3 LTS) / x86_64  OK    OK    OK  UNNEEDED, same version is already published
taishanLinux (openEuler 24.03 LTS) / aarch64  OK    OK    OK  
Package 152/246HostnameOS / ArchINSTALLBUILDCHECKBUILD BIN
mutscan 1.0.0  (landing page)
Charlotte Soneson
git_last_commit: 79672e3
git_last_commit_date: 2025-10-29 11:37:32 -0500
nebbiolo2Linux (Ubuntu 24.04.3 LTS) / x86_64  OK    OK    OK  UNNEEDED, same version is already published
taishanLinux (openEuler 24.03 LTS) / aarch64  OK    OK    OK  
Package 153/246HostnameOS / ArchINSTALLBUILDCHECKBUILD BIN
NADfinder 1.34.0  (landing page)
Jianhong Ou
git_last_commit: 24bbc3f
git_last_commit_date: 2025-10-29 10:37:48 -0500
nebbiolo2Linux (Ubuntu 24.04.3 LTS) / x86_64  OK    OK    OK  UNNEEDED, same version is already published
taishanLinux (openEuler 24.03 LTS) / aarch64  OK    OK    OK  
Package 154/246HostnameOS / ArchINSTALLBUILDCHECKBUILD BIN
NanoMethViz 3.6.0  (landing page)
Shian Su
git_last_commit: 836d7c6
git_last_commit_date: 2025-10-29 11:04:08 -0500
nebbiolo2Linux (Ubuntu 24.04.3 LTS) / x86_64  OK    OK    OK  UNNEEDED, same version is already published
taishanLinux (openEuler 24.03 LTS) / aarch64  OK    OK    OK  
Package 155/246HostnameOS / ArchINSTALLBUILDCHECKBUILD BIN
NanoTube 1.16.0  (landing page)
Caleb Class
git_last_commit: b78a412
git_last_commit_date: 2025-10-29 11:10:19 -0500
nebbiolo2Linux (Ubuntu 24.04.3 LTS) / x86_64  OK    OK    OK  UNNEEDED, same version is already published
taishanLinux (openEuler 24.03 LTS) / aarch64  OK    OK    OK  
Package 156/246HostnameOS / ArchINSTALLBUILDCHECKBUILD BIN
nethet 1.42.0  (landing page)
Nicolas Staedler
git_last_commit: bc1b9c9
git_last_commit_date: 2025-10-29 10:23:13 -0500
nebbiolo2Linux (Ubuntu 24.04.3 LTS) / x86_64  OK    OK    WARNINGS  UNNEEDED, same version is already published
taishanLinux (openEuler 24.03 LTS) / aarch64  OK    OK    WARNINGS  
Package 157/246HostnameOS / ArchINSTALLBUILDCHECKBUILD BIN
netZooR 1.14.0  (landing page)
Marouen Ben Guebila
git_last_commit: 5f3b18e
git_last_commit_date: 2025-10-29 11:14:04 -0500
nebbiolo2Linux (Ubuntu 24.04.3 LTS) / x86_64  ERROR    ERROR  skipped
taishanLinux (openEuler 24.03 LTS) / aarch64  ERROR    ERROR  skipped
Package 158/246HostnameOS / ArchINSTALLBUILDCHECKBUILD BIN
nondetects 2.40.0  (landing page)
Valeriia Sherina
git_last_commit: 2d09856
git_last_commit_date: 2025-10-29 10:18:46 -0500
nebbiolo2Linux (Ubuntu 24.04.3 LTS) / x86_64  OK    OK    OK  UNNEEDED, same version is already published
taishanLinux (openEuler 24.03 LTS) / aarch64  OK    OK    OK  
Package 159/246HostnameOS / ArchINSTALLBUILDCHECKBUILD BIN
NormalyzerDE 1.28.0  (landing page)
Jakob Willforss
git_last_commit: 93b5996
git_last_commit_date: 2025-10-29 10:47:24 -0500
nebbiolo2Linux (Ubuntu 24.04.3 LTS) / x86_64  OK    OK    WARNINGS  UNNEEDED, same version is already published
taishanLinux (openEuler 24.03 LTS) / aarch64  OK    OK    WARNINGS  
Package 160/246HostnameOS / ArchINSTALLBUILDCHECKBUILD BIN
octad 1.12.0  (landing page)
E. Chekalin
git_last_commit: e8beea0
git_last_commit_date: 2025-10-29 11:19:54 -0500
nebbiolo2Linux (Ubuntu 24.04.3 LTS) / x86_64  OK    OK    OK  UNNEEDED, same version is already published
taishanLinux (openEuler 24.03 LTS) / aarch64  OK    OK    OK  
Package 161/246HostnameOS / ArchINSTALLBUILDCHECKBUILD BIN
OLIN 1.88.0  (landing page)
Matthias Futschik
git_last_commit: d16f4f9
git_last_commit_date: 2025-10-29 09:55:15 -0500
nebbiolo2Linux (Ubuntu 24.04.3 LTS) / x86_64  OK    OK    OK  UNNEEDED, same version is already published
taishanLinux (openEuler 24.03 LTS) / aarch64  OK    OK    OK  
Package 162/246HostnameOS / ArchINSTALLBUILDCHECKBUILD BIN
omicRexposome 1.32.0  (landing page)
Xavier Escribà Montagut
git_last_commit: 0868a1b
git_last_commit_date: 2025-10-29 10:41:13 -0500
nebbiolo2Linux (Ubuntu 24.04.3 LTS) / x86_64  OK    OK    OK  UNNEEDED, same version is already published
taishanLinux (openEuler 24.03 LTS) / aarch64  OK    OK    OK  
Package 163/246HostnameOS / ArchINSTALLBUILDCHECKBUILD BIN
oppti 1.24.0  (landing page)
Abdulkadir Elmas
git_last_commit: 183e416
git_last_commit_date: 2025-10-29 10:55:29 -0500
nebbiolo2Linux (Ubuntu 24.04.3 LTS) / x86_64  OK    ERROR  skipped
taishanLinux (openEuler 24.03 LTS) / aarch64  OK    ERROR  skipped
Package 164/246HostnameOS / ArchINSTALLBUILDCHECKBUILD BIN
OVESEG 1.26.0  (landing page)
Lulu Chen
git_last_commit: 67b37c3
git_last_commit_date: 2025-10-29 10:49:34 -0500
nebbiolo2Linux (Ubuntu 24.04.3 LTS) / x86_64  OK    OK    OK  UNNEEDED, same version is already published
taishanLinux (openEuler 24.03 LTS) / aarch64  OK    OK    OK  
Package 165/246HostnameOS / ArchINSTALLBUILDCHECKBUILD BIN
PAA 1.44.0  (landing page)
Michael Turewicz , Martin Eisenacher
git_last_commit: 5b94516
git_last_commit_date: 2025-10-29 10:22:06 -0500
nebbiolo2Linux (Ubuntu 24.04.3 LTS) / x86_64  OK    OK    OK  UNNEEDED, same version is already published
taishanLinux (openEuler 24.03 LTS) / aarch64  OK    OK    OK  
Package 166/246HostnameOS / ArchINSTALLBUILDCHECKBUILD BIN
PADOG 1.52.0  (landing page)
Adi L. Tarca
git_last_commit: 08a7421
git_last_commit_date: 2025-10-29 10:11:37 -0500
nebbiolo2Linux (Ubuntu 24.04.3 LTS) / x86_64  OK    OK    OK  UNNEEDED, same version is already published
taishanLinux (openEuler 24.03 LTS) / aarch64  OK    OK    OK  
Package 167/246HostnameOS / ArchINSTALLBUILDCHECKBUILD BIN
pairedGSEA 1.10.0  (landing page)
Søren Helweg Dam
git_last_commit: 44e676a
git_last_commit_date: 2025-10-29 11:22:53 -0500
nebbiolo2Linux (Ubuntu 24.04.3 LTS) / x86_64  OK    OK    OK  UNNEEDED, same version is already published
taishanLinux (openEuler 24.03 LTS) / aarch64  OK    OK    OK  
Package 168/246HostnameOS / ArchINSTALLBUILDCHECKBUILD BIN
PanomiR 1.14.0  (landing page)
Pourya Naderi
git_last_commit: ec73906
git_last_commit_date: 2025-10-29 11:14:47 -0500
nebbiolo2Linux (Ubuntu 24.04.3 LTS) / x86_64  OK    OK    OK  UNNEEDED, same version is already published
taishanLinux (openEuler 24.03 LTS) / aarch64  OK    OK    OK  
Package 169/246HostnameOS / ArchINSTALLBUILDCHECKBUILD BIN
PathoStat 1.36.0  (landing page)
Solaiappan Manimaran
git_last_commit: a14c74c
git_last_commit_date: 2025-10-29 10:34:57 -0500
nebbiolo2Linux (Ubuntu 24.04.3 LTS) / x86_64  OK    OK    OK  UNNEEDED, same version is already published
taishanLinux (openEuler 24.03 LTS) / aarch64  OK    OK    OK  
Package 170/246HostnameOS / ArchINSTALLBUILDCHECKBUILD BIN
pcaExplorer 3.4.0  (landing page)
Federico Marini
git_last_commit: 5b76435
git_last_commit_date: 2025-10-29 10:31:39 -0500
nebbiolo2Linux (Ubuntu 24.04.3 LTS) / x86_64  OK    OK    OK  UNNEEDED, same version is already published
taishanLinux (openEuler 24.03 LTS) / aarch64  OK    OK    OK  
Package 171/246HostnameOS / ArchINSTALLBUILDCHECKBUILD BIN
PECA 1.46.0  (landing page)
Tomi Suomi
git_last_commit: ea1bf85
git_last_commit_date: 2025-10-29 10:17:25 -0500
nebbiolo2Linux (Ubuntu 24.04.3 LTS) / x86_64  OK    OK    OK  UNNEEDED, same version is already published
taishanLinux (openEuler 24.03 LTS) / aarch64  OK    OK    OK  
Package 172/246HostnameOS / ArchINSTALLBUILDCHECKBUILD BIN
PepSetTest 1.4.0  (landing page)
Junmin Wang
git_last_commit: f57d8e7
git_last_commit_date: 2025-10-29 11:30:58 -0500
nebbiolo2Linux (Ubuntu 24.04.3 LTS) / x86_64  OK    OK    OK  UNNEEDED, same version is already published
taishanLinux (openEuler 24.03 LTS) / aarch64  OK    OK    OK  
Package 173/246HostnameOS / ArchINSTALLBUILDCHECKBUILD BIN
pepStat 1.44.0  (landing page)
Gregory C Imholte
git_last_commit: 9230a3a
git_last_commit_date: 2025-10-29 10:20:13 -0500
nebbiolo2Linux (Ubuntu 24.04.3 LTS) / x86_64  OK    OK    OK  UNNEEDED, same version is already published
taishanLinux (openEuler 24.03 LTS) / aarch64  OK    OK    OK  
Package 174/246HostnameOS / ArchINSTALLBUILDCHECKBUILD BIN
phantasus 1.30.0  (landing page)
Alexey Sergushichev
git_last_commit: 7182df1
git_last_commit_date: 2025-10-29 10:44:01 -0500
nebbiolo2Linux (Ubuntu 24.04.3 LTS) / x86_64  OK    OK    OK  UNNEEDED, same version is already published
taishanLinux (openEuler 24.03 LTS) / aarch64  OK    OK    ERROR  
Package 175/246HostnameOS / ArchINSTALLBUILDCHECKBUILD BIN
phenomis 1.12.0  (landing page)
Etienne A. Thevenot
git_last_commit: 7918c7b
git_last_commit_date: 2025-10-29 11:18:33 -0500
nebbiolo2Linux (Ubuntu 24.04.3 LTS) / x86_64  OK    OK    OK  UNNEEDED, same version is already published
taishanLinux (openEuler 24.03 LTS) / aarch64  OK    OK    OK  
Package 176/246HostnameOS / ArchINSTALLBUILDCHECKBUILD BIN
phenoTest 1.58.0  (landing page)
Evarist Planet
git_last_commit: 25bf541
git_last_commit_date: 2025-10-29 10:06:30 -0500
nebbiolo2Linux (Ubuntu 24.04.3 LTS) / x86_64  OK    OK    OK  UNNEEDED, same version is already published
taishanLinux (openEuler 24.03 LTS) / aarch64  OK    OK    OK  
Package 177/246HostnameOS / ArchINSTALLBUILDCHECKBUILD BIN
PhosR 1.20.0  (landing page)
Di Xiao
git_last_commit: d795fca
git_last_commit_date: 2025-10-29 11:02:33 -0500
nebbiolo2Linux (Ubuntu 24.04.3 LTS) / x86_64  OK    OK    OK  UNNEEDED, same version is already published
taishanLinux (openEuler 24.03 LTS) / aarch64  OK    OK    OK  
Package 178/246HostnameOS / ArchINSTALLBUILDCHECKBUILD BIN
PolySTest 1.4.0  (landing page)
Veit Schwämmle
git_last_commit: 2c8f878
git_last_commit_date: 2025-10-29 11:31:01 -0500
nebbiolo2Linux (Ubuntu 24.04.3 LTS) / x86_64  OK    OK    OK  UNNEEDED, same version is already published
taishanLinux (openEuler 24.03 LTS) / aarch64  OK    OK    OK  
Package 179/246HostnameOS / ArchINSTALLBUILDCHECKBUILD BIN
POMA 1.20.0  (landing page)
Pol Castellano-Escuder
git_last_commit: 49dcbbe
git_last_commit_date: 2025-10-29 11:01:06 -0500
nebbiolo2Linux (Ubuntu 24.04.3 LTS) / x86_64  OK    OK    OK  UNNEEDED, same version is already published
taishanLinux (openEuler 24.03 LTS) / aarch64  OK    OK    OK  
Package 180/246HostnameOS / ArchINSTALLBUILDCHECKBUILD BIN
POWSC 1.18.0  (landing page)
Kenong Su
git_last_commit: 8098daa
git_last_commit_date: 2025-10-29 11:09:11 -0500
nebbiolo2Linux (Ubuntu 24.04.3 LTS) / x86_64  OK    OK    OK  UNNEEDED, same version is already published
taishanLinux (openEuler 24.03 LTS) / aarch64  OK    OK    OK  
Package 181/246HostnameOS / ArchINSTALLBUILDCHECKBUILD BIN
projectR 1.26.0  (landing page)
Genevieve Stein-O'Brien
git_last_commit: 8ac1c21
git_last_commit_date: 2025-10-29 10:50:52 -0500
nebbiolo2Linux (Ubuntu 24.04.3 LTS) / x86_64  OK    OK    OK  UNNEEDED, same version is already published
taishanLinux (openEuler 24.03 LTS) / aarch64  OK    OK    OK  
Package 182/246HostnameOS / ArchINSTALLBUILDCHECKBUILD BIN
PRONE 1.4.0  (landing page)
Lis Arend
git_last_commit: 2b31a49
git_last_commit_date: 2025-10-29 11:32:38 -0500
nebbiolo2Linux (Ubuntu 24.04.3 LTS) / x86_64  OK    OK    OK  UNNEEDED, same version is already published
taishanLinux (openEuler 24.03 LTS) / aarch64  OK    OK    OK  
Package 183/246HostnameOS / ArchINSTALLBUILDCHECKBUILD BIN
protGear 1.14.0  (landing page)
Kennedy Mwai
git_last_commit: 494bde5
git_last_commit_date: 2025-10-29 11:15:59 -0500
nebbiolo2Linux (Ubuntu 24.04.3 LTS) / x86_64  OK    OK    OK  UNNEEDED, same version is already published
taishanLinux (openEuler 24.03 LTS) / aarch64  OK    OK    OK  
Package 184/246HostnameOS / ArchINSTALLBUILDCHECKBUILD BIN
psichomics 1.36.0  (landing page)
Nuno Saraiva-Agostinho
git_last_commit: 7123c18
git_last_commit_date: 2025-10-29 10:35:05 -0500
nebbiolo2Linux (Ubuntu 24.04.3 LTS) / x86_64  OK    OK    OK  UNNEEDED, same version is already published
taishanLinux (openEuler 24.03 LTS) / aarch64  OK    OK    OK  
Package 185/246HostnameOS / ArchINSTALLBUILDCHECKBUILD BIN
qmtools 1.14.0  (landing page)
Jaehyun Joo
git_last_commit: b38de25
git_last_commit_date: 2025-10-29 11:16:09 -0500
nebbiolo2Linux (Ubuntu 24.04.3 LTS) / x86_64  OK    OK    OK  UNNEEDED, same version is already published
taishanLinux (openEuler 24.03 LTS) / aarch64  OK    OK    OK  
Package 186/246HostnameOS / ArchINSTALLBUILDCHECKBUILD BIN
qpcrNorm 1.68.0  (landing page)
Jessica Mar
git_last_commit: 393692f
git_last_commit_date: 2025-10-29 10:02:38 -0500
nebbiolo2Linux (Ubuntu 24.04.3 LTS) / x86_64  OK    OK    OK  UNNEEDED, same version is already published
taishanLinux (openEuler 24.03 LTS) / aarch64  OK    OK    OK  
Package 187/246HostnameOS / ArchINSTALLBUILDCHECKBUILD BIN
qPLEXanalyzer 1.28.0  (landing page)
Ashley Sawle
git_last_commit: 73100d7
git_last_commit_date: 2025-10-29 10:46:08 -0500
nebbiolo2Linux (Ubuntu 24.04.3 LTS) / x86_64  OK    ERROR  skipped
taishanLinux (openEuler 24.03 LTS) / aarch64  OK    ERROR  skipped
Package 188/246HostnameOS / ArchINSTALLBUILDCHECKBUILD BIN
qsea 1.36.0  (landing page)
Matthias Lienhard
git_last_commit: a9ac816
git_last_commit_date: 2025-10-29 10:32:56 -0500
nebbiolo2Linux (Ubuntu 24.04.3 LTS) / x86_64  OK    OK    WARNINGS  UNNEEDED, same version is already published
taishanLinux (openEuler 24.03 LTS) / aarch64  OK    OK    WARNINGS  
Package 189/246HostnameOS / ArchINSTALLBUILDCHECKBUILD BIN
qusage 2.44.0  (landing page)
Christopher Bolen
git_last_commit: 123902b
git_last_commit_date: 2025-10-29 10:16:07 -0500
nebbiolo2Linux (Ubuntu 24.04.3 LTS) / x86_64  OK    OK    OK  UNNEEDED, same version is already published
taishanLinux (openEuler 24.03 LTS) / aarch64  OK    OK    OK  
Package 190/246HostnameOS / ArchINSTALLBUILDCHECKBUILD BIN
RBM 1.42.0  (landing page)
Dongmei Li
git_last_commit: 0079f8c
git_last_commit_date: 2025-10-29 10:25:01 -0500
nebbiolo2Linux (Ubuntu 24.04.3 LTS) / x86_64  OK    OK    OK  UNNEEDED, same version is already published
taishanLinux (openEuler 24.03 LTS) / aarch64  OK    OK    OK  
Package 191/246HostnameOS / ArchINSTALLBUILDCHECKBUILD BIN
rCGH 1.40.0  (landing page)
Frederic Commo
git_last_commit: 2a97521
git_last_commit_date: 2025-10-29 10:26:46 -0500
nebbiolo2Linux (Ubuntu 24.04.3 LTS) / x86_64  OK    OK    OK  UNNEEDED, same version is already published
taishanLinux (openEuler 24.03 LTS) / aarch64  OK    OK    OK  
Package 192/246HostnameOS / ArchINSTALLBUILDCHECKBUILD BIN
RegEnrich 1.20.0  (landing page)
Weiyang Tao
git_last_commit: 4833032
git_last_commit_date: 2025-10-29 11:00:04 -0500
nebbiolo2Linux (Ubuntu 24.04.3 LTS) / x86_64  OK    OK    OK  UNNEEDED, same version is already published
taishanLinux (openEuler 24.03 LTS) / aarch64  OK    OK    OK  
Package 193/246HostnameOS / ArchINSTALLBUILDCHECKBUILD BIN
regsplice 1.36.0  (landing page)
Lukas M. Weber
git_last_commit: d9c8d76
git_last_commit_date: 2025-10-29 10:35:24 -0500
nebbiolo2Linux (Ubuntu 24.04.3 LTS) / x86_64  OK    OK    OK  UNNEEDED, same version is already published
taishanLinux (openEuler 24.03 LTS) / aarch64  OK    OK    OK  
Package 194/246HostnameOS / ArchINSTALLBUILDCHECKBUILD BIN
ReportingTools 2.50.0  (landing page)
Jason A. Hackney , Gabriel Becker
git_last_commit: 9a53d36
git_last_commit_date: 2025-10-29 10:12:14 -0500
nebbiolo2Linux (Ubuntu 24.04.3 LTS) / x86_64  OK    OK    OK  UNNEEDED, same version is already published
taishanLinux (openEuler 24.03 LTS) / aarch64  OK    OK    OK  
Package 195/246HostnameOS / ArchINSTALLBUILDCHECKBUILD BIN
RFLOMICS 1.2.0  (landing page)
Nadia Bessoltane
git_last_commit: cb2ef8a
git_last_commit_date: 2025-10-29 11:35:35 -0500
nebbiolo2Linux (Ubuntu 24.04.3 LTS) / x86_64  OK    OK    OK  UNNEEDED, same version is already published
taishanLinux (openEuler 24.03 LTS) / aarch64  OK    TIMEOUT  skipped
Package 196/246HostnameOS / ArchINSTALLBUILDCHECKBUILD BIN
RNAseqCovarImpute 1.8.0  (landing page)
Brennan Baker
git_last_commit: 2d5c9bb
git_last_commit_date: 2025-10-29 11:25:57 -0500
nebbiolo2Linux (Ubuntu 24.04.3 LTS) / x86_64  OK    OK    OK  UNNEEDED, same version is already published
taishanLinux (openEuler 24.03 LTS) / aarch64  OK    OK    TIMEOUT  
Package 197/246HostnameOS / ArchINSTALLBUILDCHECKBUILD BIN
RnBeads 2.28.0  (landing page)
Fabian Mueller
git_last_commit: bdda0ad
git_last_commit_date: 2025-10-29 10:25:50 -0500
nebbiolo2Linux (Ubuntu 24.04.3 LTS) / x86_64  OK    OK    OK  UNNEEDED, same version is already published
taishanLinux (openEuler 24.03 LTS) / aarch64  OK    OK    OK  
Package 198/246HostnameOS / ArchINSTALLBUILDCHECKBUILD BIN
Rnits 1.44.0  (landing page)
Dipen P. Sangurdekar
git_last_commit: 083d512
git_last_commit_date: 2025-10-29 10:21:15 -0500
nebbiolo2Linux (Ubuntu 24.04.3 LTS) / x86_64  OK    OK    WARNINGS  UNNEEDED, same version is already published
taishanLinux (openEuler 24.03 LTS) / aarch64  OK    OK    WARNINGS  
Package 199/246HostnameOS / ArchINSTALLBUILDCHECKBUILD BIN
roastgsa 1.8.0  (landing page)
Adria Caballe
git_last_commit: fee309a
git_last_commit_date: 2025-10-29 11:24:38 -0500
nebbiolo2Linux (Ubuntu 24.04.3 LTS) / x86_64  OK    OK    OK  UNNEEDED, same version is already published
taishanLinux (openEuler 24.03 LTS) / aarch64  OK    OK    OK  
Package 200/246HostnameOS / ArchINSTALLBUILDCHECKBUILD BIN
ROSeq 1.22.0  (landing page)
Krishan Gupta
git_last_commit: 41d1eca
git_last_commit_date: 2025-10-29 10:58:57 -0500
nebbiolo2Linux (Ubuntu 24.04.3 LTS) / x86_64  OK    OK    WARNINGS  UNNEEDED, same version is already published
taishanLinux (openEuler 24.03 LTS) / aarch64  OK    OK    WARNINGS  
Package 201/246HostnameOS / ArchINSTALLBUILDCHECKBUILD BIN
RTN 2.34.0  (landing page)
Mauro Castro
git_last_commit: 355296b
git_last_commit_date: 2025-10-29 10:15:52 -0500
nebbiolo2Linux (Ubuntu 24.04.3 LTS) / x86_64  OK    OK    OK  UNNEEDED, same version is already published
taishanLinux (openEuler 24.03 LTS) / aarch64  OK    OK    OK  
Package 202/246HostnameOS / ArchINSTALLBUILDCHECKBUILD BIN
RTopper 1.56.0  (landing page)
Luigi Marchionni
git_last_commit: 161cf03
git_last_commit_date: 2025-10-29 10:08:47 -0500
nebbiolo2Linux (Ubuntu 24.04.3 LTS) / x86_64  OK    OK    OK  UNNEEDED, same version is already published
taishanLinux (openEuler 24.03 LTS) / aarch64  OK    OK    OK  
Package 203/246HostnameOS / ArchINSTALLBUILDCHECKBUILD BIN
saseR 1.6.0  (landing page)
Alexandre Segers
git_last_commit: 8ee3ecc
git_last_commit_date: 2025-10-29 11:27:12 -0500
nebbiolo2Linux (Ubuntu 24.04.3 LTS) / x86_64  OK    OK    WARNINGS  UNNEEDED, same version is already published
taishanLinux (openEuler 24.03 LTS) / aarch64  OK    OK    WARNINGS  
Package 204/246HostnameOS / ArchINSTALLBUILDCHECKBUILD BIN
satuRn 1.18.0  (landing page)
Jeroen Gilis
git_last_commit: 20071e7
git_last_commit_date: 2025-10-29 11:06:23 -0500
nebbiolo2Linux (Ubuntu 24.04.3 LTS) / x86_64  OK    OK    OK  UNNEEDED, same version is already published
taishanLinux (openEuler 24.03 LTS) / aarch64  OK    OK    OK  
Package 205/246HostnameOS / ArchINSTALLBUILDCHECKBUILD BIN
scClassify 1.22.0  (landing page)
Yingxin Lin
git_last_commit: b85cf96
git_last_commit_date: 2025-10-29 10:58:49 -0500
nebbiolo2Linux (Ubuntu 24.04.3 LTS) / x86_64  OK    OK    OK  UNNEEDED, same version is already published
taishanLinux (openEuler 24.03 LTS) / aarch64  OK    OK    OK  
Package 206/246HostnameOS / ArchINSTALLBUILDCHECKBUILD BIN
scone 1.34.0  (landing page)
Davide Risso
git_last_commit: a2184ae
git_last_commit_date: 2025-10-29 10:36:05 -0500
nebbiolo2Linux (Ubuntu 24.04.3 LTS) / x86_64  OK    OK    OK  UNNEEDED, same version is already published
taishanLinux (openEuler 24.03 LTS) / aarch64  OK    OK    OK  
Package 207/246HostnameOS / ArchINSTALLBUILDCHECKBUILD BIN
scQTLtools 1.2.0  (landing page)
Xiaofeng Wu
git_last_commit: 1638397
git_last_commit_date: 2025-10-29 11:34:00 -0500
nebbiolo2Linux (Ubuntu 24.04.3 LTS) / x86_64  OK    OK    ERROR  
taishanLinux (openEuler 24.03 LTS) / aarch64  OK    OK    ERROR  
Package 208/246HostnameOS / ArchINSTALLBUILDCHECKBUILD BIN
scran 1.38.0  (landing page)
Aaron Lun
git_last_commit: 50cb1ba
git_last_commit_date: 2025-10-29 10:31:34 -0500
nebbiolo2Linux (Ubuntu 24.04.3 LTS) / x86_64  OK    OK    WARNINGS  UNNEEDED, same version is already published
taishanLinux (openEuler 24.03 LTS) / aarch64  OK    OK    WARNINGS  
Package 209/246HostnameOS / ArchINSTALLBUILDCHECKBUILD BIN
ScreenR 1.12.0  (landing page)
Emanuel Michele Soda
git_last_commit: e9ee46a
git_last_commit_date: 2025-10-29 11:17:18 -0500
nebbiolo2Linux (Ubuntu 24.04.3 LTS) / x86_64  OK    OK    ERROR  
taishanLinux (openEuler 24.03 LTS) / aarch64  OK    OK    ERROR  
Package 210/246HostnameOS / ArchINSTALLBUILDCHECKBUILD BIN
scviR 1.10.0  (landing page)
Vincent Carey
git_last_commit: 76c9278
git_last_commit_date: 2025-10-29 11:21:42 -0500
nebbiolo2Linux (Ubuntu 24.04.3 LTS) / x86_64  OK    OK    OK  UNNEEDED, same version is already published
taishanLinux (openEuler 24.03 LTS) / aarch64  OK    OK    ERROR  
Package 211/246HostnameOS / ArchINSTALLBUILDCHECKBUILD BIN
seqsetvis 1.30.0  (landing page)
Joseph R Boyd
git_last_commit: 079b602
git_last_commit_date: 2025-10-29 10:44:19 -0500
nebbiolo2Linux (Ubuntu 24.04.3 LTS) / x86_64  OK    OK    OK  UNNEEDED, same version is already published
taishanLinux (openEuler 24.03 LTS) / aarch64  OK    OK    OK  
Package 212/246HostnameOS / ArchINSTALLBUILDCHECKBUILD BIN
shinyDSP 1.2.0  (landing page)
Seung J. Kim
git_last_commit: 867bc12
git_last_commit_date: 2025-10-29 11:35:46 -0500
nebbiolo2Linux (Ubuntu 24.04.3 LTS) / x86_64  OK    OK    OK  UNNEEDED, same version is already published
taishanLinux (openEuler 24.03 LTS) / aarch64  OK    OK    OK  
Package 213/246HostnameOS / ArchINSTALLBUILDCHECKBUILD BIN
shinyepico 1.18.0  (landing page)
Octavio Morante-Palacios
git_last_commit: d61e0ee
git_last_commit_date: 2025-10-29 11:04:44 -0500
nebbiolo2Linux (Ubuntu 24.04.3 LTS) / x86_64  OK    OK    OK  UNNEEDED, same version is already published
taishanLinux (openEuler 24.03 LTS) / aarch64  OK    OK    OK  
Package 214/246HostnameOS / ArchINSTALLBUILDCHECKBUILD BIN
singleCellTK 2.20.0  (landing page)
Joshua David Campbell
git_last_commit: e2bff7b
git_last_commit_date: 2025-10-29 11:29:49 -0500
nebbiolo2Linux (Ubuntu 24.04.3 LTS) / x86_64  OK    OK    OK  UNNEEDED, same version is already published
taishanLinux (openEuler 24.03 LTS) / aarch64  OK    OK    OK  
Package 215/246HostnameOS / ArchINSTALLBUILDCHECKBUILD BIN
SmartPhos 1.0.0  (landing page)
Shubham Agrawal
git_last_commit: a7a52e6
git_last_commit_date: 2025-10-29 11:38:54 -0500
nebbiolo2Linux (Ubuntu 24.04.3 LTS) / x86_64  OK    OK    OK  UNNEEDED, same version is already published
taishanLinux (openEuler 24.03 LTS) / aarch64  OK    OK    OK  
Package 216/246HostnameOS / ArchINSTALLBUILDCHECKBUILD BIN
sparrow 1.16.0  (landing page)
Steve Lianoglou
git_last_commit: fc1b95c
git_last_commit_date: 2025-10-29 11:12:41 -0500
nebbiolo2Linux (Ubuntu 24.04.3 LTS) / x86_64  OK    OK    OK  UNNEEDED, same version is already published
taishanLinux (openEuler 24.03 LTS) / aarch64  OK    OK    OK  
Package 217/246HostnameOS / ArchINSTALLBUILDCHECKBUILD BIN
speckle 1.10.0  (landing page)
Belinda Phipson
git_last_commit: 71ee725
git_last_commit_date: 2025-10-29 11:20:18 -0500
nebbiolo2Linux (Ubuntu 24.04.3 LTS) / x86_64  OK    OK    OK  UNNEEDED, same version is already published
taishanLinux (openEuler 24.03 LTS) / aarch64  OK    OK    OK  
Package 218/246HostnameOS / ArchINSTALLBUILDCHECKBUILD BIN
splineTimeR 1.38.0  (landing page)
Herbert Braselmann , Martin Selmansberger
git_last_commit: 2ba6766
git_last_commit_date: 2025-10-29 10:29:14 -0500
nebbiolo2Linux (Ubuntu 24.04.3 LTS) / x86_64  OK    OK    OK  UNNEEDED, same version is already published
taishanLinux (openEuler 24.03 LTS) / aarch64  OK    OK    OK  
Package 219/246HostnameOS / ArchINSTALLBUILDCHECKBUILD BIN
SPsimSeq 1.20.0  (landing page)
Joris Meys
git_last_commit: bfb4e62
git_last_commit_date: 2025-10-29 11:00:01 -0500
nebbiolo2Linux (Ubuntu 24.04.3 LTS) / x86_64  OK    OK    OK  UNNEEDED, same version is already published
taishanLinux (openEuler 24.03 LTS) / aarch64  OK    OK    OK  
Package 220/246HostnameOS / ArchINSTALLBUILDCHECKBUILD BIN
standR 1.14.0  (landing page)
Ning Liu
git_last_commit: 40f29f9
git_last_commit_date: 2025-10-29 11:16:04 -0500
nebbiolo2Linux (Ubuntu 24.04.3 LTS) / x86_64  OK    OK    OK  UNNEEDED, same version is already published
taishanLinux (openEuler 24.03 LTS) / aarch64  OK    OK    OK  
Package 221/246HostnameOS / ArchINSTALLBUILDCHECKBUILD BIN
STATegRa 1.46.0  (landing page)
David Gomez-Cabrero , Núria Planell
git_last_commit: 5d45aa5
git_last_commit_date: 2025-10-29 10:22:24 -0500
nebbiolo2Linux (Ubuntu 24.04.3 LTS) / x86_64  OK    OK    OK  UNNEEDED, same version is already published
taishanLinux (openEuler 24.03 LTS) / aarch64  OK    OK    OK  
Package 222/246HostnameOS / ArchINSTALLBUILDCHECKBUILD BIN
Statial 1.12.0  (landing page)
Farhan Ameen
git_last_commit: 7de3cdd
git_last_commit_date: 2025-10-29 11:19:57 -0500
nebbiolo2Linux (Ubuntu 24.04.3 LTS) / x86_64  OK    OK    OK  UNNEEDED, same version is already published
taishanLinux (openEuler 24.03 LTS) / aarch64  OK    OK    TIMEOUT  
Package 223/246HostnameOS / ArchINSTALLBUILDCHECKBUILD BIN
sva 3.58.0  (landing page)
Jeffrey T. Leek , John D. Storey
git_last_commit: 32d0f19
git_last_commit_date: 2025-10-29 10:09:21 -0500
nebbiolo2Linux (Ubuntu 24.04.3 LTS) / x86_64  OK    OK    OK  UNNEEDED, same version is already published
taishanLinux (openEuler 24.03 LTS) / aarch64  OK    OK    OK  
Package 224/246HostnameOS / ArchINSTALLBUILDCHECKBUILD BIN
timecourse 1.82.0  (landing page)
Yu Chuan Tai
git_last_commit: c4ca002
git_last_commit_date: 2025-10-29 09:56:54 -0500
nebbiolo2Linux (Ubuntu 24.04.3 LTS) / x86_64  OK    OK    OK  UNNEEDED, same version is already published
taishanLinux (openEuler 24.03 LTS) / aarch64  OK    OK    OK  
Package 225/246HostnameOS / ArchINSTALLBUILDCHECKBUILD BIN
TMSig 1.4.0  (landing page)
Tyler Sagendorf
git_last_commit: c174939
git_last_commit_date: 2025-10-29 11:33:04 -0500
nebbiolo2Linux (Ubuntu 24.04.3 LTS) / x86_64  OK    OK    OK  UNNEEDED, same version is already published
taishanLinux (openEuler 24.03 LTS) / aarch64  OK    OK    OK  
Package 226/246HostnameOS / ArchINSTALLBUILDCHECKBUILD BIN
TOAST 1.24.0  (landing page)
Ziyi Li
git_last_commit: a147119
git_last_commit_date: 2025-10-29 10:52:46 -0500
nebbiolo2Linux (Ubuntu 24.04.3 LTS) / x86_64  OK    OK    OK  UNNEEDED, same version is already published
taishanLinux (openEuler 24.03 LTS) / aarch64  OK    OK    OK  
Package 227/246HostnameOS / ArchINSTALLBUILDCHECKBUILD BIN
TOP 1.10.0  (landing page)
Harry Robertson
git_last_commit: 37ed69c
git_last_commit_date: 2025-10-29 11:23:14 -0500
nebbiolo2Linux (Ubuntu 24.04.3 LTS) / x86_64  OK    OK    OK  UNNEEDED, same version is already published
taishanLinux (openEuler 24.03 LTS) / aarch64  OK    OK    OK  
Package 228/246HostnameOS / ArchINSTALLBUILDCHECKBUILD BIN
ToxicoGx 2.14.0  (landing page)
Benjamin Haibe-Kains
git_last_commit: c4f8032
git_last_commit_date: 2025-10-29 11:00:14 -0500
nebbiolo2Linux (Ubuntu 24.04.3 LTS) / x86_64  OK    OK    OK  UNNEEDED, same version is already published
taishanLinux (openEuler 24.03 LTS) / aarch64  OK    OK    OK  
Package 229/246HostnameOS / ArchINSTALLBUILDCHECKBUILD BIN
TPP 3.38.0  (landing page)
Dorothee Childs
git_last_commit: 958aced
git_last_commit_date: 2025-10-29 10:25:26 -0500
nebbiolo2Linux (Ubuntu 24.04.3 LTS) / x86_64  OK    OK    OK  UNNEEDED, same version is already published
taishanLinux (openEuler 24.03 LTS) / aarch64  OK    OK    OK  
Package 230/246HostnameOS / ArchINSTALLBUILDCHECKBUILD BIN
TPP2D 1.26.0  (landing page)
Nils Kurzawa
git_last_commit: 41578f0
git_last_commit_date: 2025-10-29 10:52:09 -0500
nebbiolo2Linux (Ubuntu 24.04.3 LTS) / x86_64  OK    OK    OK  UNNEEDED, same version is already published
taishanLinux (openEuler 24.03 LTS) / aarch64  OK    OK    OK  
Package 231/246HostnameOS / ArchINSTALLBUILDCHECKBUILD BIN
transcriptogramer 1.32.0  (landing page)
Diego Morais
git_last_commit: 148c879
git_last_commit_date: 2025-10-29 10:42:09 -0500
nebbiolo2Linux (Ubuntu 24.04.3 LTS) / x86_64  OK    OK    OK  UNNEEDED, same version is already published
taishanLinux (openEuler 24.03 LTS) / aarch64  OK    OK    OK  
Package 232/246HostnameOS / ArchINSTALLBUILDCHECKBUILD BIN
tRanslatome 1.48.0  (landing page)
Toma Tebaldi , Erik Dassi
git_last_commit: 4f15a1c
git_last_commit_date: 2025-10-29 10:14:58 -0500
nebbiolo2Linux (Ubuntu 24.04.3 LTS) / x86_64  OK    OK    OK  UNNEEDED, same version is already published
taishanLinux (openEuler 24.03 LTS) / aarch64  OK    OK    OK  
Package 233/246HostnameOS / ArchINSTALLBUILDCHECKBUILD BIN
TurboNorm 1.58.0  (landing page)
Maarten van Iterson
git_last_commit: cadb0c6
git_last_commit_date: 2025-10-29 10:06:24 -0500
nebbiolo2Linux (Ubuntu 24.04.3 LTS) / x86_64  OK    OK    OK  UNNEEDED, same version is already published
taishanLinux (openEuler 24.03 LTS) / aarch64  OK    OK    OK  
Package 234/246HostnameOS / ArchINSTALLBUILDCHECKBUILD BIN
TVTB 1.36.0  (landing page)
Kevin Rue-Albrecht
git_last_commit: f5471e1
git_last_commit_date: 2025-10-29 10:35:21 -0500
nebbiolo2Linux (Ubuntu 24.04.3 LTS) / x86_64  OK    OK    OK  UNNEEDED, same version is already published
taishanLinux (openEuler 24.03 LTS) / aarch64  OK    OK    OK  
Package 235/246HostnameOS / ArchINSTALLBUILDCHECKBUILD BIN
tweeDEseq 1.56.0  (landing page)
Dolors Pelegri-Siso
git_last_commit: 07f346b
git_last_commit_date: 2025-10-29 10:09:35 -0500
nebbiolo2Linux (Ubuntu 24.04.3 LTS) / x86_64  OK    OK    WARNINGS  UNNEEDED, same version is already published
taishanLinux (openEuler 24.03 LTS) / aarch64  OK    OK    WARNINGS  
Package 236/246HostnameOS / ArchINSTALLBUILDCHECKBUILD BIN
unifiedWMWqPCR 1.46.0  (landing page)
Joris Meys
git_last_commit: f29f417
git_last_commit_date: 2025-10-29 10:18:11 -0500
nebbiolo2Linux (Ubuntu 24.04.3 LTS) / x86_64  OK    OK    OK  UNNEEDED, same version is already published
taishanLinux (openEuler 24.03 LTS) / aarch64  OK    OK    OK  
Package 237/246HostnameOS / ArchINSTALLBUILDCHECKBUILD BIN
variancePartition 1.40.0  (landing page)
Gabriel E. Hoffman
git_last_commit: 1ff4f97
git_last_commit_date: 2025-10-29 10:27:03 -0500
nebbiolo2Linux (Ubuntu 24.04.3 LTS) / x86_64  OK    OK    OK  UNNEEDED, same version is already published
taishanLinux (openEuler 24.03 LTS) / aarch64  OK    OK    OK  
Package 238/246HostnameOS / ArchINSTALLBUILDCHECKBUILD BIN
vsclust 1.12.0  (landing page)
Veit Schwammle
git_last_commit: 5f4dab1
git_last_commit_date: 2025-10-29 11:19:19 -0500
nebbiolo2Linux (Ubuntu 24.04.3 LTS) / x86_64  OK    OK    OK  UNNEEDED, same version is already published
taishanLinux (openEuler 24.03 LTS) / aarch64  OK    OK    OK  
Package 239/246HostnameOS / ArchINSTALLBUILDCHECKBUILD BIN
vsn 3.78.0  (landing page)
Wolfgang Huber
git_last_commit: 909160b
git_last_commit_date: 2025-10-29 09:42:11 -0500
nebbiolo2Linux (Ubuntu 24.04.3 LTS) / x86_64  OK    OK    OK  UNNEEDED, same version is already published
taishanLinux (openEuler 24.03 LTS) / aarch64  OK    OK    OK  
Package 240/246HostnameOS / ArchINSTALLBUILDCHECKBUILD BIN
wateRmelon 2.16.0  (landing page)
Leo C Schalkwyk
git_last_commit: 59f6d9f
git_last_commit_date: 2025-10-29 10:13:04 -0500
nebbiolo2Linux (Ubuntu 24.04.3 LTS) / x86_64  OK    OK    WARNINGS  UNNEEDED, same version is already published
taishanLinux (openEuler 24.03 LTS) / aarch64  OK    OK    WARNINGS  
Package 241/246HostnameOS / ArchINSTALLBUILDCHECKBUILD BIN
weitrix 1.22.0  (landing page)
Paul Harrison
git_last_commit: 46b4f6c
git_last_commit_date: 2025-10-29 10:59:24 -0500
nebbiolo2Linux (Ubuntu 24.04.3 LTS) / x86_64  OK    OK    OK  UNNEEDED, same version is already published
taishanLinux (openEuler 24.03 LTS) / aarch64  OK    OK    OK  
Package 242/246HostnameOS / ArchINSTALLBUILDCHECKBUILD BIN
Wrench 1.28.0  (landing page)
Hector Corrada Bravo
git_last_commit: 9dea78f
git_last_commit_date: 2025-10-29 10:48:33 -0500
nebbiolo2Linux (Ubuntu 24.04.3 LTS) / x86_64  OK    OK    OK  UNNEEDED, same version is already published
taishanLinux (openEuler 24.03 LTS) / aarch64  OK    OK    OK  
Package 243/246HostnameOS / ArchINSTALLBUILDCHECKBUILD BIN
XAItest 1.2.0  (landing page)
Ghislain FIEVET
git_last_commit: 520604b
git_last_commit_date: 2025-10-29 11:35:10 -0500
nebbiolo2Linux (Ubuntu 24.04.3 LTS) / x86_64  OK    OK    WARNINGS  UNNEEDED, same version is already published
taishanLinux (openEuler 24.03 LTS) / aarch64  OK    OK    WARNINGS  
Package 244/246HostnameOS / ArchINSTALLBUILDCHECKBUILD BIN
yamss 1.36.0  (landing page)
Leslie Myint
git_last_commit: 268fc64
git_last_commit_date: 2025-10-29 10:35:27 -0500
nebbiolo2Linux (Ubuntu 24.04.3 LTS) / x86_64  OK    OK    OK  UNNEEDED, same version is already published
taishanLinux (openEuler 24.03 LTS) / aarch64  OK    OK    OK  
Package 245/246HostnameOS / ArchINSTALLBUILDCHECKBUILD BIN
yarn 1.36.0  (landing page)
Joseph N Paulson
git_last_commit: ade31dd
git_last_commit_date: 2025-10-29 10:35:35 -0500
nebbiolo2Linux (Ubuntu 24.04.3 LTS) / x86_64  OK    OK    OK  UNNEEDED, same version is already published
taishanLinux (openEuler 24.03 LTS) / aarch64  OK    OK    OK  
Package 246/246HostnameOS / ArchINSTALLBUILDCHECKBUILD BIN
zenith 1.12.0  (landing page)
Gabriel Hoffman
git_last_commit: 5d3238d
git_last_commit_date: 2025-10-29 11:18:08 -0500
nebbiolo2Linux (Ubuntu 24.04.3 LTS) / x86_64  OK    OK    WARNINGS  UNNEEDED, same version is already published
taishanLinux (openEuler 24.03 LTS) / aarch64  OK    OK    WARNINGS