| Back to Multiple platform build/check report for BioC 3.22: simplified long |
|
This page was generated on 2025-11-01 12:04 -0400 (Sat, 01 Nov 2025).
| Hostname | OS | Arch (*) | R version | Installed pkgs |
|---|---|---|---|---|
| nebbiolo2 | Linux (Ubuntu 24.04.3 LTS) | x86_64 | 4.5.1 Patched (2025-08-23 r88802) -- "Great Square Root" | 4901 |
| lconway | macOS 12.7.6 Monterey | x86_64 | 4.5.1 Patched (2025-09-10 r88807) -- "Great Square Root" | 4691 |
| kjohnson3 | macOS 13.7.7 Ventura | arm64 | 4.5.1 Patched (2025-09-10 r88807) -- "Great Square Root" | 4637 |
| Click on any hostname to see more info about the system (e.g. compilers) (*) as reported by 'uname -p', except on Windows and Mac OS X | ||||
| Package 920/2361 | Hostname | OS / Arch | INSTALL | BUILD | CHECK | BUILD BIN | ||||||||
| GRaNIE 1.14.0 (landing page) Christian Arnold
| nebbiolo2 | Linux (Ubuntu 24.04.3 LTS) / x86_64 | OK | OK | OK | |||||||||
| lconway | macOS 12.7.6 Monterey / x86_64 | OK | OK | OK | OK | |||||||||
| kjohnson3 | macOS 13.7.7 Ventura / arm64 | OK | OK | OK | OK | |||||||||
|
To the developers/maintainers of the GRaNIE package: - Allow up to 24 hours (and sometimes 48 hours) for your latest push to git@git.bioconductor.org:packages/GRaNIE.git to reflect on this report. See Troubleshooting Build Report for more information. - Use the following Renviron settings to reproduce errors and warnings. - If 'R CMD check' started to fail recently on the Linux builder(s) over a missing dependency, add the missing dependency to 'Suggests:' in your DESCRIPTION file. See Renviron.bioc for more information. |
| Package: GRaNIE |
| Version: 1.14.0 |
| Command: /Library/Frameworks/R.framework/Resources/bin/R CMD check --install=check:GRaNIE.install-out.txt --library=/Library/Frameworks/R.framework/Resources/library --no-vignettes --timings GRaNIE_1.14.0.tar.gz |
| StartedAt: 2025-10-31 20:09:24 -0400 (Fri, 31 Oct 2025) |
| EndedAt: 2025-10-31 20:12:36 -0400 (Fri, 31 Oct 2025) |
| EllapsedTime: 192.3 seconds |
| RetCode: 0 |
| Status: OK |
| CheckDir: GRaNIE.Rcheck |
| Warnings: 0 |
##############################################################################
##############################################################################
###
### Running command:
###
### /Library/Frameworks/R.framework/Resources/bin/R CMD check --install=check:GRaNIE.install-out.txt --library=/Library/Frameworks/R.framework/Resources/library --no-vignettes --timings GRaNIE_1.14.0.tar.gz
###
##############################################################################
##############################################################################
* using log directory ‘/Users/biocbuild/bbs-3.22-bioc/meat/GRaNIE.Rcheck’
* using R version 4.5.1 Patched (2025-09-10 r88807)
* using platform: aarch64-apple-darwin20
* R was compiled by
Apple clang version 16.0.0 (clang-1600.0.26.6)
GNU Fortran (GCC) 14.2.0
* running under: macOS Ventura 13.7.7
* using session charset: UTF-8
* using option ‘--no-vignettes’
* checking for file ‘GRaNIE/DESCRIPTION’ ... OK
* this is package ‘GRaNIE’ version ‘1.14.0’
* package encoding: UTF-8
* checking package namespace information ... OK
* checking package dependencies ... INFO
Imports includes 37 non-default packages.
Importing from so many packages makes the package vulnerable to any of
them becoming unavailable. Move as many as possible to Suggests and
use conditionally.
* checking if this is a source package ... OK
* checking if there is a namespace ... OK
* checking for hidden files and directories ... OK
* checking for portable file names ... OK
* checking for sufficient/correct file permissions ... OK
* checking whether package ‘GRaNIE’ can be installed ... OK
* checking installed package size ... OK
* checking package directory ... OK
* checking ‘build’ directory ... OK
* checking DESCRIPTION meta-information ... OK
* checking top-level files ... OK
* checking for left-over files ... OK
* checking index information ... OK
* checking package subdirectories ... OK
* checking code files for non-ASCII characters ... OK
* checking R files for syntax errors ... OK
* checking whether the package can be loaded ... OK
* checking whether the package can be loaded with stated dependencies ... OK
* checking whether the package can be unloaded cleanly ... OK
* checking whether the namespace can be loaded with stated dependencies ... OK
* checking whether the namespace can be unloaded cleanly ... OK
* checking whether startup messages can be suppressed ... OK
* checking dependencies in R code ... OK
* checking S3 generic/method consistency ... OK
* checking replacement functions ... OK
* checking foreign function calls ... OK
* checking R code for possible problems ... NOTE
.performIHW: no visible binding for global variable 'adj_pvalue'
Undefined global functions or variables:
adj_pvalue
* checking Rd files ... OK
* checking Rd metadata ... OK
* checking Rd cross-references ... OK
* checking for missing documentation entries ... OK
* checking for code/documentation mismatches ... OK
* checking Rd \usage sections ... OK
* checking Rd contents ... OK
* checking for unstated dependencies in examples ... OK
* checking files in ‘vignettes’ ... OK
* checking examples ... OK
Examples with CPU (user + system) or elapsed time > 5s
user system elapsed
addConnections_TF_peak 2.116 0.224 5.116
* checking for unstated dependencies in vignettes ... OK
* checking package vignettes ... OK
* checking running R code from vignettes ... SKIPPED
* checking re-building of vignette outputs ... SKIPPED
* checking PDF version of manual ... OK
* DONE
Status: 1 NOTE
See
‘/Users/biocbuild/bbs-3.22-bioc/meat/GRaNIE.Rcheck/00check.log’
for details.
GRaNIE.Rcheck/00install.out
############################################################################## ############################################################################## ### ### Running command: ### ### /Library/Frameworks/R.framework/Resources/bin/R CMD INSTALL GRaNIE ### ############################################################################## ############################################################################## * installing to library ‘/Library/Frameworks/R.framework/Versions/4.5-arm64/Resources/library’ * installing *source* package ‘GRaNIE’ ... ** this is package ‘GRaNIE’ version ‘1.14.0’ ** using staged installation ** R ** byte-compile and prepare package for lazy loading ** help *** installing help indices *** copying figures ** building package indices ** installing vignettes ** testing if installed package can be loaded from temporary location ** testing if installed package can be loaded from final location ** testing if installed package keeps a record of temporary installation path * DONE (GRaNIE)
GRaNIE.Rcheck/GRaNIE-Ex.timings
| name | user | system | elapsed | |
| AR_classification_wrapper | 0 | 0 | 0 | |
| addConnections_TF_peak | 2.116 | 0.224 | 5.116 | |
| addConnections_peak_gene | 1.200 | 0.018 | 1.656 | |
| addData | 0 | 0 | 0 | |
| addSNPData | 1.539 | 0.092 | 3.063 | |
| addTFBS | 0 | 0 | 0 | |
| add_TF_gene_correlation | 1.156 | 0.027 | 1.618 | |
| add_featureVariation | 0 | 0 | 0 | |
| build_eGRN_graph | 0.715 | 0.021 | 1.143 | |
| calculateCommunitiesEnrichment | 1.180 | 0.053 | 1.918 | |
| calculateCommunitiesStats | 0.927 | 0.027 | 1.773 | |
| calculateGeneralEnrichment | 1.452 | 0.029 | 2.408 | |
| calculateTFEnrichment | 0.909 | 0.026 | 1.626 | |
| changeOutputDirectory | 0.825 | 0.028 | 1.374 | |
| deleteIntermediateData | 0.992 | 0.027 | 1.789 | |
| filterConnectionsForPlotting | 0.734 | 0.019 | 1.171 | |
| filterData | 1.134 | 0.031 | 1.590 | |
| filterGRNAndConnectGenes | 1.377 | 0.028 | 1.861 | |
| generateStatsSummary | 2.305 | 0.071 | 2.771 | |
| getCounts | 1.294 | 0.028 | 1.729 | |
| getGRNConnections | 0.724 | 0.016 | 1.151 | |
| getGRNSummary | 0.921 | 0.026 | 1.414 | |
| getParameters | 0.777 | 0.018 | 1.210 | |
| getTopNodes | 0.953 | 0.023 | 1.415 | |
| initializeGRN | 0.005 | 0.001 | 0.006 | |
| loadExampleObject | 1.248 | 0.025 | 1.674 | |
| nGenes | 0.720 | 0.017 | 1.161 | |
| nPeaks | 0.750 | 0.020 | 1.184 | |
| nTFs | 0.773 | 0.019 | 1.220 | |
| overlapPeaksAndTFBS | 0.870 | 0.022 | 1.583 | |
| performAllNetworkAnalyses | 0 | 0 | 0 | |
| plotCommunitiesEnrichment | 2.008 | 0.058 | 3.264 | |
| plotCommunitiesStats | 1.554 | 0.032 | 2.588 | |
| plotCorrelations | 1.035 | 0.025 | 1.978 | |
| plotDiagnosticPlots_TFPeaks | 1.465 | 0.031 | 2.439 | |
| plotDiagnosticPlots_peakGene | 1.740 | 0.051 | 2.736 | |
| plotGeneralEnrichment | 1.498 | 0.027 | 2.353 | |
| plotGeneralGraphStats | 1.422 | 0.063 | 2.417 | |
| plotPCA_all | 1.662 | 0.072 | 2.733 | |
| plotTFEnrichment | 1.163 | 0.038 | 2.075 | |
| plot_stats_connectionSummary | 0.997 | 0.040 | 1.466 | |
| visualizeGRN | 1.144 | 0.039 | 1.607 | |