| Back to Multiple platform build/check report for BioC 3.21: simplified long |
|
This page was generated on 2025-10-16 11:38 -0400 (Thu, 16 Oct 2025).
| Hostname | OS | Arch (*) | R version | Installed pkgs |
|---|---|---|---|---|
| nebbiolo1 | Linux (Ubuntu 24.04.3 LTS) | x86_64 | 4.5.1 (2025-06-13) -- "Great Square Root" | 4833 |
| merida1 | macOS 12.7.6 Monterey | x86_64 | 4.5.1 RC (2025-06-05 r88288) -- "Great Square Root" | 4614 |
| kjohnson1 | macOS 13.7.5 Ventura | arm64 | 4.5.1 Patched (2025-06-14 r88325) -- "Great Square Root" | 4555 |
| kunpeng2 | Linux (openEuler 24.03 LTS) | aarch64 | R Under development (unstable) (2025-02-19 r87757) -- "Unsuffered Consequences" | 4586 |
| Click on any hostname to see more info about the system (e.g. compilers) (*) as reported by 'uname -p', except on Windows and Mac OS X | ||||
| Package 913/2341 | Hostname | OS / Arch | INSTALL | BUILD | CHECK | BUILD BIN | ||||||||
| GRaNIE 1.12.0 (landing page) Christian Arnold
| nebbiolo1 | Linux (Ubuntu 24.04.3 LTS) / x86_64 | OK | OK | OK | |||||||||
| merida1 | macOS 12.7.6 Monterey / x86_64 | OK | OK | OK | OK | |||||||||
| kjohnson1 | macOS 13.7.5 Ventura / arm64 | OK | OK | OK | OK | |||||||||
| kunpeng2 | Linux (openEuler 24.03 LTS) / aarch64 | OK | OK | OK | ||||||||||
|
To the developers/maintainers of the GRaNIE package: - Allow up to 24 hours (and sometimes 48 hours) for your latest push to git@git.bioconductor.org:packages/GRaNIE.git to reflect on this report. See Troubleshooting Build Report for more information. - Use the following Renviron settings to reproduce errors and warnings. - If 'R CMD check' started to fail recently on the Linux builder(s) over a missing dependency, add the missing dependency to 'Suggests:' in your DESCRIPTION file. See Renviron.bioc for more information. |
| Package: GRaNIE |
| Version: 1.12.0 |
| Command: /home/biocbuild/bbs-3.21-bioc/R/bin/R CMD check --install=check:GRaNIE.install-out.txt --library=/home/biocbuild/bbs-3.21-bioc/R/site-library --timings GRaNIE_1.12.0.tar.gz |
| StartedAt: 2025-10-15 23:51:09 -0400 (Wed, 15 Oct 2025) |
| EndedAt: 2025-10-16 00:01:38 -0400 (Thu, 16 Oct 2025) |
| EllapsedTime: 629.1 seconds |
| RetCode: 0 |
| Status: OK |
| CheckDir: GRaNIE.Rcheck |
| Warnings: 0 |
##############################################################################
##############################################################################
###
### Running command:
###
### /home/biocbuild/bbs-3.21-bioc/R/bin/R CMD check --install=check:GRaNIE.install-out.txt --library=/home/biocbuild/bbs-3.21-bioc/R/site-library --timings GRaNIE_1.12.0.tar.gz
###
##############################################################################
##############################################################################
* using log directory ‘/home/biocbuild/bbs-3.21-bioc/meat/GRaNIE.Rcheck’
* using R version 4.5.1 (2025-06-13)
* using platform: x86_64-pc-linux-gnu
* R was compiled by
gcc (Ubuntu 13.3.0-6ubuntu2~24.04) 13.3.0
GNU Fortran (Ubuntu 13.3.0-6ubuntu2~24.04) 13.3.0
* running under: Ubuntu 24.04.3 LTS
* using session charset: UTF-8
* checking for file ‘GRaNIE/DESCRIPTION’ ... OK
* this is package ‘GRaNIE’ version ‘1.12.0’
* package encoding: UTF-8
* checking package namespace information ... OK
* checking package dependencies ... INFO
Imports includes 37 non-default packages.
Importing from so many packages makes the package vulnerable to any of
them becoming unavailable. Move as many as possible to Suggests and
use conditionally.
* checking if this is a source package ... OK
* checking if there is a namespace ... OK
* checking for hidden files and directories ... OK
* checking for portable file names ... OK
* checking for sufficient/correct file permissions ... OK
* checking whether package ‘GRaNIE’ can be installed ... OK
* checking installed package size ... OK
* checking package directory ... OK
* checking ‘build’ directory ... OK
* checking DESCRIPTION meta-information ... OK
* checking top-level files ... OK
* checking for left-over files ... OK
* checking index information ... OK
* checking package subdirectories ... OK
* checking code files for non-ASCII characters ... OK
* checking R files for syntax errors ... OK
* checking whether the package can be loaded ... OK
* checking whether the package can be loaded with stated dependencies ... OK
* checking whether the package can be unloaded cleanly ... OK
* checking whether the namespace can be loaded with stated dependencies ... OK
* checking whether the namespace can be unloaded cleanly ... OK
* checking loading without being on the library search path ... OK
* checking whether startup messages can be suppressed ... OK
* checking dependencies in R code ... OK
* checking S3 generic/method consistency ... OK
* checking replacement functions ... OK
* checking foreign function calls ... OK
* checking R code for possible problems ... NOTE
.performIHW: no visible binding for global variable 'adj_pvalue'
Undefined global functions or variables:
adj_pvalue
* checking Rd files ... OK
* checking Rd metadata ... OK
* checking Rd cross-references ... OK
* checking for missing documentation entries ... OK
* checking for code/documentation mismatches ... OK
* checking Rd \usage sections ... OK
* checking Rd contents ... OK
* checking for unstated dependencies in examples ... OK
* checking files in ‘vignettes’ ... OK
* checking examples ... OK
Examples with CPU (user + system) or elapsed time > 5s
user system elapsed
generateStatsSummary 9.454 0.117 10.291
plotCommunitiesStats 6.439 0.160 7.365
getGRNSummary 6.120 0.352 7.075
plotDiagnosticPlots_peakGene 5.333 0.125 5.860
addSNPData 5.025 0.322 7.155
plotCommunitiesEnrichment 5.005 0.097 5.674
plotDiagnosticPlots_TFPeaks 4.519 0.111 5.301
plotCorrelations 4.363 0.149 5.069
visualizeGRN 4.181 0.321 5.872
addConnections_TF_peak 3.025 0.175 5.757
* checking for unstated dependencies in vignettes ... OK
* checking package vignettes ... OK
* checking re-building of vignette outputs ... OK
* checking PDF version of manual ... OK
* DONE
Status: 1 NOTE
See
‘/home/biocbuild/bbs-3.21-bioc/meat/GRaNIE.Rcheck/00check.log’
for details.
GRaNIE.Rcheck/00install.out
############################################################################## ############################################################################## ### ### Running command: ### ### /home/biocbuild/bbs-3.21-bioc/R/bin/R CMD INSTALL GRaNIE ### ############################################################################## ############################################################################## * installing to library ‘/home/biocbuild/bbs-3.21-bioc/R/site-library’ * installing *source* package ‘GRaNIE’ ... ** this is package ‘GRaNIE’ version ‘1.12.0’ ** using staged installation ** R ** byte-compile and prepare package for lazy loading ** help *** installing help indices *** copying figures ** building package indices ** installing vignettes ** testing if installed package can be loaded from temporary location ** testing if installed package can be loaded from final location ** testing if installed package keeps a record of temporary installation path * DONE (GRaNIE)
GRaNIE.Rcheck/GRaNIE-Ex.timings
| name | user | system | elapsed | |
| AR_classification_wrapper | 0 | 0 | 0 | |
| addConnections_TF_peak | 3.025 | 0.175 | 5.757 | |
| addConnections_peak_gene | 2.560 | 0.063 | 3.069 | |
| addData | 0 | 0 | 0 | |
| addSNPData | 5.025 | 0.322 | 7.155 | |
| addTFBS | 0.000 | 0.000 | 0.001 | |
| add_TF_gene_correlation | 1.786 | 0.061 | 2.269 | |
| add_featureVariation | 0.001 | 0.000 | 0.000 | |
| build_eGRN_graph | 1.847 | 0.037 | 2.320 | |
| calculateCommunitiesEnrichment | 3.495 | 0.190 | 4.081 | |
| calculateCommunitiesStats | 1.830 | 0.030 | 2.277 | |
| calculateGeneralEnrichment | 3.246 | 0.080 | 3.730 | |
| calculateTFEnrichment | 2.052 | 0.040 | 2.512 | |
| changeOutputDirectory | 1.746 | 0.037 | 2.305 | |
| deleteIntermediateData | 3.212 | 0.068 | 4.215 | |
| filterConnectionsForPlotting | 2.164 | 0.036 | 2.660 | |
| filterData | 3.790 | 0.061 | 4.402 | |
| filterGRNAndConnectGenes | 3.556 | 0.030 | 4.098 | |
| generateStatsSummary | 9.454 | 0.117 | 10.291 | |
| getCounts | 2.871 | 0.075 | 3.471 | |
| getGRNConnections | 2.766 | 0.054 | 3.285 | |
| getGRNSummary | 6.120 | 0.352 | 7.075 | |
| getParameters | 1.963 | 0.029 | 2.407 | |
| getTopNodes | 3.252 | 0.068 | 4.101 | |
| initializeGRN | 0.026 | 0.001 | 0.027 | |
| loadExampleObject | 3.785 | 0.045 | 4.670 | |
| nGenes | 2.824 | 0.071 | 3.728 | |
| nPeaks | 2.482 | 0.047 | 3.084 | |
| nTFs | 2.852 | 0.041 | 3.609 | |
| overlapPeaksAndTFBS | 1.996 | 0.034 | 2.553 | |
| performAllNetworkAnalyses | 0.001 | 0.000 | 0.000 | |
| plotCommunitiesEnrichment | 5.005 | 0.097 | 5.674 | |
| plotCommunitiesStats | 6.439 | 0.160 | 7.365 | |
| plotCorrelations | 4.363 | 0.149 | 5.069 | |
| plotDiagnosticPlots_TFPeaks | 4.519 | 0.111 | 5.301 | |
| plotDiagnosticPlots_peakGene | 5.333 | 0.125 | 5.860 | |
| plotGeneralEnrichment | 2.071 | 0.050 | 2.534 | |
| plotGeneralGraphStats | 4.320 | 0.062 | 4.775 | |
| plotPCA_all | 2.506 | 0.091 | 3.010 | |
| plotTFEnrichment | 2.547 | 0.161 | 3.105 | |
| plot_stats_connectionSummary | 2.462 | 0.185 | 3.062 | |
| visualizeGRN | 4.181 | 0.321 | 5.872 | |