| Back to Multiple platform build/check report for BioC 3.21: simplified long |
|
This page was generated on 2025-10-16 11:40 -0400 (Thu, 16 Oct 2025).
| Hostname | OS | Arch (*) | R version | Installed pkgs |
|---|---|---|---|---|
| nebbiolo1 | Linux (Ubuntu 24.04.3 LTS) | x86_64 | 4.5.1 (2025-06-13) -- "Great Square Root" | 4833 |
| merida1 | macOS 12.7.6 Monterey | x86_64 | 4.5.1 RC (2025-06-05 r88288) -- "Great Square Root" | 4614 |
| kjohnson1 | macOS 13.7.5 Ventura | arm64 | 4.5.1 Patched (2025-06-14 r88325) -- "Great Square Root" | 4555 |
| kunpeng2 | Linux (openEuler 24.03 LTS) | aarch64 | R Under development (unstable) (2025-02-19 r87757) -- "Unsuffered Consequences" | 4586 |
| Click on any hostname to see more info about the system (e.g. compilers) (*) as reported by 'uname -p', except on Windows and Mac OS X | ||||
| Package 913/2341 | Hostname | OS / Arch | INSTALL | BUILD | CHECK | BUILD BIN | ||||||||
| GRaNIE 1.12.0 (landing page) Christian Arnold
| nebbiolo1 | Linux (Ubuntu 24.04.3 LTS) / x86_64 | OK | OK | OK | |||||||||
| merida1 | macOS 12.7.6 Monterey / x86_64 | OK | OK | OK | OK | |||||||||
| kjohnson1 | macOS 13.7.5 Ventura / arm64 | OK | OK | OK | OK | |||||||||
| kunpeng2 | Linux (openEuler 24.03 LTS) / aarch64 | OK | OK | OK | ||||||||||
|
To the developers/maintainers of the GRaNIE package: - Allow up to 24 hours (and sometimes 48 hours) for your latest push to git@git.bioconductor.org:packages/GRaNIE.git to reflect on this report. See Troubleshooting Build Report for more information. - Use the following Renviron settings to reproduce errors and warnings. - If 'R CMD check' started to fail recently on the Linux builder(s) over a missing dependency, add the missing dependency to 'Suggests:' in your DESCRIPTION file. See Renviron.bioc for more information. |
| Package: GRaNIE |
| Version: 1.12.0 |
| Command: /Library/Frameworks/R.framework/Resources/bin/R CMD check --install=check:GRaNIE.install-out.txt --library=/Library/Frameworks/R.framework/Resources/library --no-vignettes --timings GRaNIE_1.12.0.tar.gz |
| StartedAt: 2025-10-14 23:46:11 -0400 (Tue, 14 Oct 2025) |
| EndedAt: 2025-10-14 23:54:51 -0400 (Tue, 14 Oct 2025) |
| EllapsedTime: 520.2 seconds |
| RetCode: 0 |
| Status: OK |
| CheckDir: GRaNIE.Rcheck |
| Warnings: 0 |
##############################################################################
##############################################################################
###
### Running command:
###
### /Library/Frameworks/R.framework/Resources/bin/R CMD check --install=check:GRaNIE.install-out.txt --library=/Library/Frameworks/R.framework/Resources/library --no-vignettes --timings GRaNIE_1.12.0.tar.gz
###
##############################################################################
##############################################################################
* using log directory ‘/Users/biocbuild/bbs-3.21-bioc/meat/GRaNIE.Rcheck’
* using R version 4.5.1 Patched (2025-06-14 r88325)
* using platform: aarch64-apple-darwin20
* R was compiled by
Apple clang version 16.0.0 (clang-1600.0.26.6)
GNU Fortran (GCC) 14.2.0
* running under: macOS Ventura 13.7.5
* using session charset: UTF-8
* using option ‘--no-vignettes’
* checking for file ‘GRaNIE/DESCRIPTION’ ... OK
* this is package ‘GRaNIE’ version ‘1.12.0’
* package encoding: UTF-8
* checking package namespace information ... OK
* checking package dependencies ... INFO
Imports includes 37 non-default packages.
Importing from so many packages makes the package vulnerable to any of
them becoming unavailable. Move as many as possible to Suggests and
use conditionally.
* checking if this is a source package ... OK
* checking if there is a namespace ... OK
* checking for hidden files and directories ... OK
* checking for portable file names ... OK
* checking for sufficient/correct file permissions ... OK
* checking whether package ‘GRaNIE’ can be installed ... OK
* checking installed package size ... OK
* checking package directory ... OK
* checking ‘build’ directory ... OK
* checking DESCRIPTION meta-information ... OK
* checking top-level files ... OK
* checking for left-over files ... OK
* checking index information ... OK
* checking package subdirectories ... OK
* checking code files for non-ASCII characters ... OK
* checking R files for syntax errors ... OK
* checking whether the package can be loaded ... OK
* checking whether the package can be loaded with stated dependencies ... OK
* checking whether the package can be unloaded cleanly ... OK
* checking whether the namespace can be loaded with stated dependencies ... OK
* checking whether the namespace can be unloaded cleanly ... OK
* checking whether startup messages can be suppressed ... OK
* checking dependencies in R code ... OK
* checking S3 generic/method consistency ... OK
* checking replacement functions ... OK
* checking foreign function calls ... OK
* checking R code for possible problems ... NOTE
.performIHW: no visible binding for global variable 'adj_pvalue'
Undefined global functions or variables:
adj_pvalue
* checking Rd files ... OK
* checking Rd metadata ... OK
* checking Rd cross-references ... OK
* checking for missing documentation entries ... OK
* checking for code/documentation mismatches ... OK
* checking Rd \usage sections ... OK
* checking Rd contents ... OK
* checking for unstated dependencies in examples ... OK
* checking files in ‘vignettes’ ... OK
* checking examples ... OK
Examples with CPU (user + system) or elapsed time > 5s
user system elapsed
generateStatsSummary 8.853 0.207 9.404
addConnections_TF_peak 6.700 0.675 8.085
plotDiagnosticPlots_peakGene 7.041 0.180 7.574
addSNPData 5.931 0.473 7.642
plotCommunitiesEnrichment 5.772 0.122 6.190
plotPCA_all 5.319 0.161 5.817
calculateCommunitiesEnrichment 5.079 0.132 5.512
plotCorrelations 4.790 0.086 5.189
plotCommunitiesStats 4.560 0.100 5.003
* checking for unstated dependencies in vignettes ... OK
* checking package vignettes ... OK
* checking running R code from vignettes ... SKIPPED
* checking re-building of vignette outputs ... SKIPPED
* checking PDF version of manual ... OK
* DONE
Status: 1 NOTE
See
‘/Users/biocbuild/bbs-3.21-bioc/meat/GRaNIE.Rcheck/00check.log’
for details.
GRaNIE.Rcheck/00install.out
############################################################################## ############################################################################## ### ### Running command: ### ### /Library/Frameworks/R.framework/Resources/bin/R CMD INSTALL GRaNIE ### ############################################################################## ############################################################################## * installing to library ‘/Library/Frameworks/R.framework/Versions/4.5-arm64/Resources/library’ * installing *source* package ‘GRaNIE’ ... ** this is package ‘GRaNIE’ version ‘1.12.0’ ** using staged installation ** R ** byte-compile and prepare package for lazy loading ** help *** installing help indices *** copying figures ** building package indices ** installing vignettes ** testing if installed package can be loaded from temporary location ** testing if installed package can be loaded from final location ** testing if installed package keeps a record of temporary installation path * DONE (GRaNIE)
GRaNIE.Rcheck/GRaNIE-Ex.timings
| name | user | system | elapsed | |
| AR_classification_wrapper | 0.001 | 0.000 | 0.001 | |
| addConnections_TF_peak | 6.700 | 0.675 | 8.085 | |
| addConnections_peak_gene | 3.633 | 0.068 | 4.005 | |
| addData | 0 | 0 | 0 | |
| addSNPData | 5.931 | 0.473 | 7.642 | |
| addTFBS | 0 | 0 | 0 | |
| add_TF_gene_correlation | 3.992 | 0.073 | 4.343 | |
| add_featureVariation | 0 | 0 | 0 | |
| build_eGRN_graph | 2.742 | 0.055 | 3.081 | |
| calculateCommunitiesEnrichment | 5.079 | 0.132 | 5.512 | |
| calculateCommunitiesStats | 2.556 | 0.059 | 2.908 | |
| calculateGeneralEnrichment | 3.153 | 0.063 | 3.514 | |
| calculateTFEnrichment | 3.309 | 0.089 | 3.721 | |
| changeOutputDirectory | 2.839 | 0.069 | 3.225 | |
| deleteIntermediateData | 2.937 | 0.068 | 3.318 | |
| filterConnectionsForPlotting | 3.048 | 0.056 | 3.419 | |
| filterData | 3.489 | 0.066 | 3.854 | |
| filterGRNAndConnectGenes | 3.000 | 0.058 | 3.364 | |
| generateStatsSummary | 8.853 | 0.207 | 9.404 | |
| getCounts | 2.947 | 0.100 | 3.394 | |
| getGRNConnections | 2.870 | 0.080 | 3.302 | |
| getGRNSummary | 3.407 | 0.080 | 3.797 | |
| getParameters | 4.130 | 0.068 | 4.504 | |
| getTopNodes | 3.024 | 0.059 | 3.413 | |
| initializeGRN | 0.016 | 0.002 | 0.017 | |
| loadExampleObject | 2.831 | 0.053 | 3.177 | |
| nGenes | 2.954 | 0.078 | 3.345 | |
| nPeaks | 2.994 | 0.071 | 3.350 | |
| nTFs | 2.837 | 0.071 | 3.223 | |
| overlapPeaksAndTFBS | 2.876 | 0.076 | 3.313 | |
| performAllNetworkAnalyses | 0.000 | 0.001 | 0.001 | |
| plotCommunitiesEnrichment | 5.772 | 0.122 | 6.190 | |
| plotCommunitiesStats | 4.560 | 0.100 | 5.003 | |
| plotCorrelations | 4.790 | 0.086 | 5.189 | |
| plotDiagnosticPlots_TFPeaks | 4.553 | 0.086 | 4.937 | |
| plotDiagnosticPlots_peakGene | 7.041 | 0.180 | 7.574 | |
| plotGeneralEnrichment | 3.285 | 0.081 | 3.683 | |
| plotGeneralGraphStats | 4.363 | 0.067 | 4.741 | |
| plotPCA_all | 5.319 | 0.161 | 5.817 | |
| plotTFEnrichment | 3.774 | 0.065 | 4.114 | |
| plot_stats_connectionSummary | 3.582 | 0.085 | 3.957 | |
| visualizeGRN | 4.374 | 0.119 | 4.795 | |