| Back to Build/check report for BioC 3.22: simplified long |
|
This page was generated on 2025-11-13 11:55 -0500 (Thu, 13 Nov 2025).
| Hostname | OS | Arch (*) | R version | Installed pkgs |
|---|---|---|---|---|
| taishan | Linux (openEuler 24.03 LTS) | aarch64 | 4.5.0 (2025-04-11) -- "How About a Twenty-Six" | 4668 |
| Click on any hostname to see more info about the system (e.g. compilers) (*) as reported by 'uname -p', except on Windows and Mac OS X | ||||
| Package 920/2361 | Hostname | OS / Arch | INSTALL | BUILD | CHECK | BUILD BIN | ||||||||
| GRaNIE 1.14.0 (landing page) Christian Arnold
| taishan | Linux (openEuler 24.03 LTS) / aarch64 | OK | OK | OK | |||||||||
|
To the developers/maintainers of the GRaNIE package: - Allow up to 24 hours (and sometimes 48 hours) for your latest push to git@git.bioconductor.org:packages/GRaNIE.git to reflect on this report. See Troubleshooting Build Report for more information. - Use the following Renviron settings to reproduce errors and warnings. - If 'R CMD check' started to fail recently on the Linux builder(s) over a missing dependency, add the missing dependency to 'Suggests:' in your DESCRIPTION file. See Renviron.bioc for more information. - See Martin Grigorov's blog post for how to debug Linux ARM64 related issues on a x86_64 host. |
| Package: GRaNIE |
| Version: 1.14.0 |
| Command: /home/biocbuild/R/R/bin/R CMD check --install=check:GRaNIE.install-out.txt --library=/home/biocbuild/R/R/site-library --no-vignettes --timings GRaNIE_1.14.0.tar.gz |
| StartedAt: 2025-11-11 10:24:22 -0000 (Tue, 11 Nov 2025) |
| EndedAt: 2025-11-11 10:33:51 -0000 (Tue, 11 Nov 2025) |
| EllapsedTime: 568.5 seconds |
| RetCode: 0 |
| Status: OK |
| CheckDir: GRaNIE.Rcheck |
| Warnings: 0 |
##############################################################################
##############################################################################
###
### Running command:
###
### /home/biocbuild/R/R/bin/R CMD check --install=check:GRaNIE.install-out.txt --library=/home/biocbuild/R/R/site-library --no-vignettes --timings GRaNIE_1.14.0.tar.gz
###
##############################################################################
##############################################################################
* using log directory ‘/home/biocbuild/bbs-3.22-bioc/meat/GRaNIE.Rcheck’
* using R version 4.5.0 (2025-04-11)
* using platform: aarch64-unknown-linux-gnu
* R was compiled by
aarch64-unknown-linux-gnu-gcc (GCC) 14.2.0
GNU Fortran (GCC) 14.2.0
* running under: openEuler 24.03 (LTS)
* using session charset: UTF-8
* using option ‘--no-vignettes’
* checking for file ‘GRaNIE/DESCRIPTION’ ... OK
* this is package ‘GRaNIE’ version ‘1.14.0’
* package encoding: UTF-8
* checking package namespace information ... OK
* checking package dependencies ... INFO
Imports includes 37 non-default packages.
Importing from so many packages makes the package vulnerable to any of
them becoming unavailable. Move as many as possible to Suggests and
use conditionally.
* checking if this is a source package ... OK
* checking if there is a namespace ... OK
* checking for hidden files and directories ... OK
* checking for portable file names ... OK
* checking for sufficient/correct file permissions ... OK
* checking whether package ‘GRaNIE’ can be installed ... OK
* checking installed package size ... OK
* checking package directory ... OK
* checking ‘build’ directory ... OK
* checking DESCRIPTION meta-information ... OK
* checking top-level files ... OK
* checking for left-over files ... OK
* checking index information ... OK
* checking package subdirectories ... OK
* checking code files for non-ASCII characters ... OK
* checking R files for syntax errors ... OK
* checking whether the package can be loaded ... OK
* checking whether the package can be loaded with stated dependencies ... OK
* checking whether the package can be unloaded cleanly ... OK
* checking whether the namespace can be loaded with stated dependencies ... OK
* checking whether the namespace can be unloaded cleanly ... OK
* checking loading without being on the library search path ... OK
* checking whether startup messages can be suppressed ... OK
* checking dependencies in R code ... OK
* checking S3 generic/method consistency ... OK
* checking replacement functions ... OK
* checking foreign function calls ... OK
* checking R code for possible problems ... NOTE
.performIHW: no visible binding for global variable 'adj_pvalue'
Undefined global functions or variables:
adj_pvalue
* checking Rd files ... OK
* checking Rd metadata ... OK
* checking Rd cross-references ... OK
* checking for missing documentation entries ... OK
* checking for code/documentation mismatches ... OK
* checking Rd \usage sections ... OK
* checking Rd contents ... OK
* checking for unstated dependencies in examples ... OK
* checking files in ‘vignettes’ ... OK
* checking examples ... OK
Examples with CPU (user + system) or elapsed time > 5s
user system elapsed
generateStatsSummary 7.263 0.118 8.943
addSNPData 5.638 0.513 14.569
plotDiagnosticPlots_peakGene 5.568 0.156 6.907
plotCommunitiesStats 4.475 0.084 5.775
plotDiagnosticPlots_TFPeaks 4.032 0.052 5.264
filterData 3.605 0.174 5.224
getGRNSummary 3.591 0.111 5.508
addConnections_TF_peak 2.876 0.127 16.725
* checking for unstated dependencies in vignettes ... OK
* checking package vignettes ... OK
* checking running R code from vignettes ... SKIPPED
* checking re-building of vignette outputs ... SKIPPED
* checking PDF version of manual ... OK
* DONE
Status: 1 NOTE
See
‘/home/biocbuild/bbs-3.22-bioc/meat/GRaNIE.Rcheck/00check.log’
for details.
GRaNIE.Rcheck/00install.out
############################################################################## ############################################################################## ### ### Running command: ### ### /home/biocbuild/R/R/bin/R CMD INSTALL GRaNIE ### ############################################################################## ############################################################################## * installing to library ‘/home/biocbuild/R/R-4.5.0/site-library’ * installing *source* package ‘GRaNIE’ ... ** this is package ‘GRaNIE’ version ‘1.14.0’ ** using staged installation ** R ** byte-compile and prepare package for lazy loading ** help *** installing help indices *** copying figures ** building package indices ** installing vignettes ** testing if installed package can be loaded from temporary location ** testing if installed package can be loaded from final location ** testing if installed package keeps a record of temporary installation path * DONE (GRaNIE)
GRaNIE.Rcheck/GRaNIE-Ex.timings
| name | user | system | elapsed | |
| AR_classification_wrapper | 0 | 0 | 0 | |
| addConnections_TF_peak | 2.876 | 0.127 | 16.725 | |
| addConnections_peak_gene | 2.512 | 0.120 | 3.413 | |
| addData | 0 | 0 | 0 | |
| addSNPData | 5.638 | 0.513 | 14.569 | |
| addTFBS | 0 | 0 | 0 | |
| add_TF_gene_correlation | 1.875 | 0.097 | 3.375 | |
| add_featureVariation | 0.001 | 0.000 | 0.000 | |
| build_eGRN_graph | 2.765 | 0.096 | 4.326 | |
| calculateCommunitiesEnrichment | 2.826 | 0.108 | 4.581 | |
| calculateCommunitiesStats | 1.952 | 0.043 | 3.352 | |
| calculateGeneralEnrichment | 2.163 | 0.053 | 3.680 | |
| calculateTFEnrichment | 2.333 | 0.094 | 3.275 | |
| changeOutputDirectory | 1.957 | 0.046 | 3.337 | |
| deleteIntermediateData | 1.852 | 0.089 | 3.338 | |
| filterConnectionsForPlotting | 1.987 | 0.038 | 3.783 | |
| filterData | 3.605 | 0.174 | 5.224 | |
| filterGRNAndConnectGenes | 1.890 | 0.073 | 3.390 | |
| generateStatsSummary | 7.263 | 0.118 | 8.943 | |
| getCounts | 2.160 | 0.012 | 3.404 | |
| getGRNConnections | 1.858 | 0.054 | 3.133 | |
| getGRNSummary | 3.591 | 0.111 | 5.508 | |
| getParameters | 1.784 | 0.005 | 2.980 | |
| getTopNodes | 1.936 | 0.004 | 3.128 | |
| initializeGRN | 0.023 | 0.000 | 0.022 | |
| loadExampleObject | 1.840 | 0.020 | 3.025 | |
| nGenes | 1.625 | 0.020 | 2.824 | |
| nPeaks | 1.761 | 0.012 | 2.959 | |
| nTFs | 1.731 | 0.012 | 2.922 | |
| overlapPeaksAndTFBS | 2.578 | 0.072 | 3.817 | |
| performAllNetworkAnalyses | 0 | 0 | 0 | |
| plotCommunitiesEnrichment | 3.536 | 0.044 | 4.768 | |
| plotCommunitiesStats | 4.475 | 0.084 | 5.775 | |
| plotCorrelations | 2.141 | 0.020 | 3.353 | |
| plotDiagnosticPlots_TFPeaks | 4.032 | 0.052 | 5.264 | |
| plotDiagnosticPlots_peakGene | 5.568 | 0.156 | 6.907 | |
| plotGeneralEnrichment | 2.160 | 0.028 | 3.384 | |
| plotGeneralGraphStats | 3.529 | 0.056 | 4.753 | |
| plotPCA_all | 2.869 | 0.048 | 3.623 | |
| plotTFEnrichment | 3.682 | 0.024 | 4.879 | |
| plot_stats_connectionSummary | 2.402 | 0.016 | 3.121 | |
| visualizeGRN | 3.554 | 0.028 | 4.763 | |