Back to Multiple platform build/check report for BioC 3.21: simplified long |
|
This page was generated on 2025-10-16 11:41 -0400 (Thu, 16 Oct 2025).
Hostname | OS | Arch (*) | R version | Installed pkgs |
---|---|---|---|---|
nebbiolo1 | Linux (Ubuntu 24.04.3 LTS) | x86_64 | 4.5.1 (2025-06-13) -- "Great Square Root" | 4833 |
merida1 | macOS 12.7.6 Monterey | x86_64 | 4.5.1 RC (2025-06-05 r88288) -- "Great Square Root" | 4614 |
kjohnson1 | macOS 13.7.5 Ventura | arm64 | 4.5.1 Patched (2025-06-14 r88325) -- "Great Square Root" | 4555 |
kunpeng2 | Linux (openEuler 24.03 LTS) | aarch64 | R Under development (unstable) (2025-02-19 r87757) -- "Unsuffered Consequences" | 4586 |
Click on any hostname to see more info about the system (e.g. compilers) (*) as reported by 'uname -p', except on Windows and Mac OS X |
Package 913/2341 | Hostname | OS / Arch | INSTALL | BUILD | CHECK | BUILD BIN | ||||||||
GRaNIE 1.12.0 (landing page) Christian Arnold
| nebbiolo1 | Linux (Ubuntu 24.04.3 LTS) / x86_64 | OK | OK | OK | ![]() | ||||||||
merida1 | macOS 12.7.6 Monterey / x86_64 | OK | OK | OK | OK | ![]() | ||||||||
kjohnson1 | macOS 13.7.5 Ventura / arm64 | OK | OK | OK | OK | ![]() | ||||||||
kunpeng2 | Linux (openEuler 24.03 LTS) / aarch64 | OK | OK | OK | ||||||||||
To the developers/maintainers of the GRaNIE package: - Allow up to 24 hours (and sometimes 48 hours) for your latest push to git@git.bioconductor.org:packages/GRaNIE.git to reflect on this report. See Troubleshooting Build Report for more information. - Use the following Renviron settings to reproduce errors and warnings. - If 'R CMD check' started to fail recently on the Linux builder(s) over a missing dependency, add the missing dependency to 'Suggests:' in your DESCRIPTION file. See Renviron.bioc for more information. - See Martin Grigorov's blog post for how to debug Linux ARM64 related issues on a x86_64 host. |
Package: GRaNIE |
Version: 1.12.0 |
Command: /home/biocbuild/R/R/bin/R CMD check --install=check:GRaNIE.install-out.txt --library=/home/biocbuild/R/R/site-library --no-vignettes --timings GRaNIE_1.12.0.tar.gz |
StartedAt: 2025-10-14 09:52:08 -0000 (Tue, 14 Oct 2025) |
EndedAt: 2025-10-14 10:02:13 -0000 (Tue, 14 Oct 2025) |
EllapsedTime: 604.5 seconds |
RetCode: 0 |
Status: OK |
CheckDir: GRaNIE.Rcheck |
Warnings: 0 |
############################################################################## ############################################################################## ### ### Running command: ### ### /home/biocbuild/R/R/bin/R CMD check --install=check:GRaNIE.install-out.txt --library=/home/biocbuild/R/R/site-library --no-vignettes --timings GRaNIE_1.12.0.tar.gz ### ############################################################################## ############################################################################## * using log directory ‘/home/biocbuild/bbs-3.21-bioc/meat/GRaNIE.Rcheck’ * using R Under development (unstable) (2025-02-19 r87757) * using platform: aarch64-unknown-linux-gnu * R was compiled by aarch64-unknown-linux-gnu-gcc (GCC) 14.2.0 GNU Fortran (GCC) 14.2.0 * running under: openEuler 24.03 (LTS-SP1) * using session charset: UTF-8 * using option ‘--no-vignettes’ * checking for file ‘GRaNIE/DESCRIPTION’ ... OK * this is package ‘GRaNIE’ version ‘1.12.0’ * package encoding: UTF-8 * checking package namespace information ... OK * checking package dependencies ... INFO Imports includes 37 non-default packages. Importing from so many packages makes the package vulnerable to any of them becoming unavailable. Move as many as possible to Suggests and use conditionally. * checking if this is a source package ... OK * checking if there is a namespace ... OK * checking for hidden files and directories ... OK * checking for portable file names ... OK * checking for sufficient/correct file permissions ... OK * checking whether package ‘GRaNIE’ can be installed ... OK * checking installed package size ... OK * checking package directory ... OK * checking ‘build’ directory ... OK * checking DESCRIPTION meta-information ... OK * checking top-level files ... OK * checking for left-over files ... OK * checking index information ... OK * checking package subdirectories ... OK * checking code files for non-ASCII characters ... OK * checking R files for syntax errors ... OK * checking whether the package can be loaded ... OK * checking whether the package can be loaded with stated dependencies ... OK * checking whether the package can be unloaded cleanly ... OK * checking whether the namespace can be loaded with stated dependencies ... OK * checking whether the namespace can be unloaded cleanly ... OK * checking loading without being on the library search path ... OK * checking whether startup messages can be suppressed ... OK * checking dependencies in R code ... OK * checking S3 generic/method consistency ... OK * checking replacement functions ... OK * checking foreign function calls ... OK * checking R code for possible problems ... NOTE .performIHW: no visible binding for global variable 'adj_pvalue' Undefined global functions or variables: adj_pvalue * checking Rd files ... OK * checking Rd metadata ... OK * checking Rd cross-references ... OK * checking for missing documentation entries ... OK * checking for code/documentation mismatches ... OK * checking Rd \usage sections ... OK * checking Rd contents ... OK * checking for unstated dependencies in examples ... OK * checking files in ‘vignettes’ ... OK * checking examples ... OK Examples with CPU (user + system) or elapsed time > 5s user system elapsed generateStatsSummary 7.214 0.060 8.442 plotDiagnosticPlots_peakGene 6.640 0.056 7.856 addSNPData 6.285 0.300 22.555 plotCommunitiesEnrichment 4.991 0.064 6.188 plotCommunitiesStats 4.712 0.060 5.917 plotPCA_all 4.478 0.064 5.671 plotDiagnosticPlots_TFPeaks 4.386 0.043 5.576 calculateCommunitiesEnrichment 4.194 0.115 5.022 getGRNSummary 3.922 0.147 5.209 addConnections_TF_peak 3.370 0.139 12.276 * checking for unstated dependencies in vignettes ... OK * checking package vignettes ... OK * checking running R code from vignettes ... SKIPPED * checking re-building of vignette outputs ... SKIPPED * checking PDF version of manual ... OK * DONE Status: 1 NOTE See ‘/home/biocbuild/bbs-3.21-bioc/meat/GRaNIE.Rcheck/00check.log’ for details.
GRaNIE.Rcheck/00install.out
############################################################################## ############################################################################## ### ### Running command: ### ### /home/biocbuild/R/R/bin/R CMD INSTALL GRaNIE ### ############################################################################## ############################################################################## * installing to library ‘/home/biocbuild/R/R-devel_2025-02-19/site-library’ * installing *source* package ‘GRaNIE’ ... ** this is package ‘GRaNIE’ version ‘1.12.0’ ** using staged installation ** R ** byte-compile and prepare package for lazy loading ** help *** installing help indices *** copying figures ** building package indices ** installing vignettes ** testing if installed package can be loaded from temporary location ** testing if installed package can be loaded from final location ** testing if installed package keeps a record of temporary installation path * DONE (GRaNIE)
GRaNIE.Rcheck/GRaNIE-Ex.timings
name | user | system | elapsed | |
AR_classification_wrapper | 0 | 0 | 0 | |
addConnections_TF_peak | 3.370 | 0.139 | 12.276 | |
addConnections_peak_gene | 2.977 | 0.052 | 3.718 | |
addData | 0 | 0 | 0 | |
addSNPData | 6.285 | 0.300 | 22.555 | |
addTFBS | 0 | 0 | 0 | |
add_TF_gene_correlation | 2.016 | 0.052 | 2.771 | |
add_featureVariation | 0.001 | 0.000 | 0.000 | |
build_eGRN_graph | 2.050 | 0.028 | 3.249 | |
calculateCommunitiesEnrichment | 4.194 | 0.115 | 5.022 | |
calculateCommunitiesStats | 1.909 | 0.016 | 3.094 | |
calculateGeneralEnrichment | 3.351 | 0.068 | 4.576 | |
calculateTFEnrichment | 2.154 | 0.020 | 3.316 | |
changeOutputDirectory | 1.830 | 0.024 | 3.021 | |
deleteIntermediateData | 1.856 | 0.040 | 3.046 | |
filterConnectionsForPlotting | 1.737 | 0.043 | 2.916 | |
filterData | 2.546 | 0.032 | 3.273 | |
filterGRNAndConnectGenes | 2.990 | 0.032 | 4.171 | |
generateStatsSummary | 7.214 | 0.060 | 8.442 | |
getCounts | 2.059 | 0.012 | 3.245 | |
getGRNConnections | 1.782 | 0.040 | 2.953 | |
getGRNSummary | 3.922 | 0.147 | 5.209 | |
getParameters | 1.753 | 0.024 | 2.896 | |
getTopNodes | 2.095 | 0.016 | 3.223 | |
initializeGRN | 0.024 | 0.000 | 0.024 | |
loadExampleObject | 1.758 | 0.020 | 2.911 | |
nGenes | 1.863 | 0.027 | 3.013 | |
nPeaks | 1.821 | 0.016 | 2.959 | |
nTFs | 2.929 | 0.016 | 3.646 | |
overlapPeaksAndTFBS | 1.711 | 0.032 | 2.864 | |
performAllNetworkAnalyses | 0 | 0 | 0 | |
plotCommunitiesEnrichment | 4.991 | 0.064 | 6.188 | |
plotCommunitiesStats | 4.712 | 0.060 | 5.917 | |
plotCorrelations | 2.403 | 0.024 | 3.573 | |
plotDiagnosticPlots_TFPeaks | 4.386 | 0.043 | 5.576 | |
plotDiagnosticPlots_peakGene | 6.640 | 0.056 | 7.856 | |
plotGeneralEnrichment | 2.291 | 0.044 | 3.523 | |
plotGeneralGraphStats | 3.745 | 0.048 | 4.949 | |
plotPCA_all | 4.478 | 0.064 | 5.671 | |
plotTFEnrichment | 2.833 | 0.012 | 3.960 | |
plot_stats_connectionSummary | 2.651 | 0.016 | 3.807 | |
visualizeGRN | 3.386 | 0.047 | 4.568 | |