Back to Multiple platform build/check report for BioC 3.22:   simplified   long
ABCDEFGHIJKLM[N]OPQRSTUVWXYZ

This page was generated on 2025-11-11 12:03 -0500 (Tue, 11 Nov 2025).

HostnameOSArch (*)R versionInstalled pkgs
nebbiolo2Linux (Ubuntu 24.04.3 LTS)x86_644.5.1 Patched (2025-08-23 r88802) -- "Great Square Root" 4902
kjohnson3macOS 13.7.7 Venturaarm644.5.1 Patched (2025-09-10 r88807) -- "Great Square Root" 4638
Click on any hostname to see more info about the system (e.g. compilers)      (*) as reported by 'uname -p', except on Windows and Mac OS X

Package 1475/2361HostnameOS / ArchINSTALLBUILDCHECKBUILD BIN
notameViz 1.0.0  (landing page)
Vilhelm Suksi
Snapshot Date: 2025-11-10 13:45 -0500 (Mon, 10 Nov 2025)
git_url: https://git.bioconductor.org/packages/notameViz
git_branch: RELEASE_3_22
git_last_commit: bb6e677
git_last_commit_date: 2025-10-29 11:38:35 -0500 (Wed, 29 Oct 2025)
nebbiolo2Linux (Ubuntu 24.04.3 LTS) / x86_64  OK    OK    OK  UNNEEDED, same version is already published
kjohnson3macOS 13.7.7 Ventura / arm64  OK    OK    OK    OK  UNNEEDED, same version is already published


CHECK results for notameViz on kjohnson3

To the developers/maintainers of the notameViz package:
- Allow up to 24 hours (and sometimes 48 hours) for your latest push to git@git.bioconductor.org:packages/notameViz.git to reflect on this report. See Troubleshooting Build Report for more information.
- Use the following Renviron settings to reproduce errors and warnings.
- If 'R CMD check' started to fail recently on the Linux builder(s) over a missing dependency, add the missing dependency to 'Suggests:' in your DESCRIPTION file. See Renviron.bioc for more information.

raw results


Summary

Package: notameViz
Version: 1.0.0
Command: /Library/Frameworks/R.framework/Resources/bin/R CMD check --install=check:notameViz.install-out.txt --library=/Library/Frameworks/R.framework/Resources/library --no-vignettes --timings notameViz_1.0.0.tar.gz
StartedAt: 2025-11-10 21:23:49 -0500 (Mon, 10 Nov 2025)
EndedAt: 2025-11-10 21:25:36 -0500 (Mon, 10 Nov 2025)
EllapsedTime: 106.4 seconds
RetCode: 0
Status:   OK  
CheckDir: notameViz.Rcheck
Warnings: 0

Command output

##############################################################################
##############################################################################
###
### Running command:
###
###   /Library/Frameworks/R.framework/Resources/bin/R CMD check --install=check:notameViz.install-out.txt --library=/Library/Frameworks/R.framework/Resources/library --no-vignettes --timings notameViz_1.0.0.tar.gz
###
##############################################################################
##############################################################################


* using log directory ‘/Users/biocbuild/bbs-3.22-bioc/meat/notameViz.Rcheck’
* using R version 4.5.1 Patched (2025-09-10 r88807)
* using platform: aarch64-apple-darwin20
* R was compiled by
    Apple clang version 16.0.0 (clang-1600.0.26.6)
    GNU Fortran (GCC) 14.2.0
* running under: macOS Ventura 13.7.7
* using session charset: UTF-8
* using option ‘--no-vignettes’
* checking for file ‘notameViz/DESCRIPTION’ ... OK
* checking extension type ... Package
* this is package ‘notameViz’ version ‘1.0.0’
* package encoding: UTF-8
* checking package namespace information ... OK
* checking package dependencies ... OK
* checking if this is a source package ... OK
* checking if there is a namespace ... OK
* checking for hidden files and directories ... OK
* checking for portable file names ... OK
* checking for sufficient/correct file permissions ... OK
* checking whether package ‘notameViz’ can be installed ... OK
* checking installed package size ... OK
* checking package directory ... OK
* checking ‘build’ directory ... OK
* checking DESCRIPTION meta-information ... NOTE
License stub is invalid DCF.
* checking top-level files ... OK
* checking for left-over files ... OK
* checking index information ... OK
* checking package subdirectories ... OK
* checking code files for non-ASCII characters ... OK
* checking R files for syntax errors ... OK
* checking whether the package can be loaded ... OK
* checking whether the package can be loaded with stated dependencies ... OK
* checking whether the package can be unloaded cleanly ... OK
* checking whether the namespace can be loaded with stated dependencies ... OK
* checking whether the namespace can be unloaded cleanly ... OK
* checking dependencies in R code ... OK
* checking S3 generic/method consistency ... OK
* checking replacement functions ... OK
* checking foreign function calls ... OK
* checking R code for possible problems ... OK
* checking Rd files ... OK
* checking Rd metadata ... OK
* checking Rd cross-references ... NOTE
Found the following Rd file(s) with Rd \link{} targets missing package
anchors:
  save_dc_plots.Rd: correct_drift
Please provide package anchors for all Rd \link{} targets not in the
package itself and the base packages.
* checking for missing documentation entries ... OK
* checking for code/documentation mismatches ... OK
* checking Rd \usage sections ... OK
* checking Rd contents ... OK
* checking for unstated dependencies in examples ... OK
* checking files in ‘vignettes’ ... OK
* checking examples ... OK
Examples with CPU (user + system) or elapsed time > 5s
                  user system elapsed
save_QC_plots     4.34  1.805   4.093
plot_injection_lm 3.91  2.099   2.003
* checking for unstated dependencies in ‘tests’ ... OK
* checking tests ...
  Running ‘testthat.R’
 OK
* checking for unstated dependencies in vignettes ... OK
* checking package vignettes ... OK
* checking running R code from vignettes ... SKIPPED
* checking re-building of vignette outputs ... SKIPPED
* checking PDF version of manual ... OK
* DONE

Status: 2 NOTEs
See
  ‘/Users/biocbuild/bbs-3.22-bioc/meat/notameViz.Rcheck/00check.log’
for details.


Installation output

notameViz.Rcheck/00install.out

##############################################################################
##############################################################################
###
### Running command:
###
###   /Library/Frameworks/R.framework/Resources/bin/R CMD INSTALL notameViz
###
##############################################################################
##############################################################################


* installing to library ‘/Library/Frameworks/R.framework/Versions/4.5-arm64/Resources/library’
* installing *source* package ‘notameViz’ ...
** this is package ‘notameViz’ version ‘1.0.0’
** using staged installation
** R
** inst
** byte-compile and prepare package for lazy loading
** help
*** installing help indices
** building package indices
** installing vignettes
** testing if installed package can be loaded from temporary location
** testing if installed package can be loaded from final location
** testing if installed package keeps a record of temporary installation path
* DONE (notameViz)

Tests output

notameViz.Rcheck/tests/testthat.Rout


R version 4.5.1 Patched (2025-09-10 r88807) -- "Great Square Root"
Copyright (C) 2025 The R Foundation for Statistical Computing
Platform: aarch64-apple-darwin20

R is free software and comes with ABSOLUTELY NO WARRANTY.
You are welcome to redistribute it under certain conditions.
Type 'license()' or 'licence()' for distribution details.

R is a collaborative project with many contributors.
Type 'contributors()' for more information and
'citation()' on how to cite R or R packages in publications.

Type 'demo()' for some demos, 'help()' for on-line help, or
'help.start()' for an HTML browser interface to help.
Type 'q()' to quit R.

> library(testthat)
> library(notameViz)
Loading required package: ggplot2
Loading required package: SummarizedExperiment
Loading required package: MatrixGenerics
Loading required package: matrixStats

Attaching package: 'MatrixGenerics'

The following objects are masked from 'package:matrixStats':

    colAlls, colAnyNAs, colAnys, colAvgsPerRowSet, colCollapse,
    colCounts, colCummaxs, colCummins, colCumprods, colCumsums,
    colDiffs, colIQRDiffs, colIQRs, colLogSumExps, colMadDiffs,
    colMads, colMaxs, colMeans2, colMedians, colMins, colOrderStats,
    colProds, colQuantiles, colRanges, colRanks, colSdDiffs, colSds,
    colSums2, colTabulates, colVarDiffs, colVars, colWeightedMads,
    colWeightedMeans, colWeightedMedians, colWeightedSds,
    colWeightedVars, rowAlls, rowAnyNAs, rowAnys, rowAvgsPerColSet,
    rowCollapse, rowCounts, rowCummaxs, rowCummins, rowCumprods,
    rowCumsums, rowDiffs, rowIQRDiffs, rowIQRs, rowLogSumExps,
    rowMadDiffs, rowMads, rowMaxs, rowMeans2, rowMedians, rowMins,
    rowOrderStats, rowProds, rowQuantiles, rowRanges, rowRanks,
    rowSdDiffs, rowSds, rowSums2, rowTabulates, rowVarDiffs, rowVars,
    rowWeightedMads, rowWeightedMeans, rowWeightedMedians,
    rowWeightedSds, rowWeightedVars

Loading required package: GenomicRanges
Loading required package: stats4
Loading required package: BiocGenerics
Loading required package: generics

Attaching package: 'generics'

The following objects are masked from 'package:base':

    as.difftime, as.factor, as.ordered, intersect, is.element, setdiff,
    setequal, union


Attaching package: 'BiocGenerics'

The following objects are masked from 'package:stats':

    IQR, mad, sd, var, xtabs

The following objects are masked from 'package:base':

    Filter, Find, Map, Position, Reduce, anyDuplicated, aperm, append,
    as.data.frame, basename, cbind, colnames, dirname, do.call,
    duplicated, eval, evalq, get, grep, grepl, is.unsorted, lapply,
    mapply, match, mget, order, paste, pmax, pmax.int, pmin, pmin.int,
    rank, rbind, rownames, sapply, saveRDS, table, tapply, unique,
    unsplit, which.max, which.min

Loading required package: S4Vectors

Attaching package: 'S4Vectors'

The following object is masked from 'package:utils':

    findMatches

The following objects are masked from 'package:base':

    I, expand.grid, unname

Loading required package: IRanges
Loading required package: Seqinfo
Loading required package: Biobase
Welcome to Bioconductor

    Vignettes contain introductory material; view with
    'browseVignettes()'. To cite Bioconductor, see
    'citation("Biobase")', and for packages 'citation("pkgname")'.


Attaching package: 'Biobase'

The following object is masked from 'package:MatrixGenerics':

    rowMedians

The following objects are masked from 'package:matrixStats':

    anyMissing, rowMedians

> 
> test_check("notameViz")
Running tests in parallel requires the 3rd edition
INFO [2025-11-10 21:25:24] Saved to: /var/folders/r0/l4fjk6cj5xj0j3brt4bplpl40000gt/T//Rtmp1eln8m\test\recursive/file22867ebf6a1e.pdf
INFO [2025-11-10 21:25:24] Saved to: /var/folders/r0/l4fjk6cj5xj0j3brt4bplpl40000gt/T//Rtmp1eln8m/file228651b8d3b9.pdf
INFO [2025-11-10 21:25:24] Saved to: /var/folders/r0/l4fjk6cj5xj0j3brt4bplpl40000gt/T//Rtmp1eln8m/file22865387bf69.emf
INFO [2025-11-10 21:25:24] Saved to: /var/folders/r0/l4fjk6cj5xj0j3brt4bplpl40000gt/T//Rtmp1eln8m/file228675d8786f.svg
INFO [2025-11-10 21:25:24] Saved to: /var/folders/r0/l4fjk6cj5xj0j3brt4bplpl40000gt/T//Rtmp1eln8m/file228665cd1f09.png
INFO [2025-11-10 21:25:24] Saved to: /var/folders/r0/l4fjk6cj5xj0j3brt4bplpl40000gt/T//Rtmp1eln8m/file2286781446a2.tiff
2025-11-10 21:25:24.843 R[8838:681427054] XType: Using static font registry.
INFO [2025-11-10 21:25:24] Saved to: /var/folders/r0/l4fjk6cj5xj0j3brt4bplpl40000gt/T//Rtmp1eln8m\test\/HILIC_neg_259_9623a4_4322.emf
INFO [2025-11-10 21:25:25] Saved to: /var/folders/r0/l4fjk6cj5xj0j3brt4bplpl40000gt/T//Rtmp1eln8m\test\/HILIC_neg_108_1065a2_6121.emf
INFO [2025-11-10 21:25:25] Saved to: /var/folders/r0/l4fjk6cj5xj0j3brt4bplpl40000gt/T//Rtmp1eln8m\test\/HILIC_neg_158_23a1_4128.emf
INFO [2025-11-10 21:25:25] Saved to: /var/folders/r0/l4fjk6cj5xj0j3brt4bplpl40000gt/T//Rtmp1eln8m\test\/HILIC_neg_251_0056a0_6161.emf
INFO [2025-11-10 21:25:25] Saved to: /var/folders/r0/l4fjk6cj5xj0j3brt4bplpl40000gt/T//Rtmp1eln8m\test\/HILIC_neg_401_52a4_211.emf
INFO [2025-11-10 21:25:25] Saved line plots with mean line to: /var/folders/r0/l4fjk6cj5xj0j3brt4bplpl40000gt/T//Rtmp1eln8m\test\
INFO [2025-11-10 21:25:25] Saved to: /var/folders/r0/l4fjk6cj5xj0j3brt4bplpl40000gt/T//Rtmp1eln8m\test\/Glucose.emf
INFO [2025-11-10 21:25:25] Saved to: /var/folders/r0/l4fjk6cj5xj0j3brt4bplpl40000gt/T//Rtmp1eln8m\test\/Threoline.emf
INFO [2025-11-10 21:25:25] Saved to: /var/folders/r0/l4fjk6cj5xj0j3brt4bplpl40000gt/T//Rtmp1eln8m\test\/5-AVAB.emf
INFO [2025-11-10 21:25:25] Saved to: /var/folders/r0/l4fjk6cj5xj0j3brt4bplpl40000gt/T//Rtmp1eln8m\test\/1_2 acid.emf
INFO [2025-11-10 21:25:25] Saved to: /var/folders/r0/l4fjk6cj5xj0j3brt4bplpl40000gt/T//Rtmp1eln8m\test\/20_0 carbon chain.emf
INFO [2025-11-10 21:25:25] Saved line plots with mean line to: /var/folders/r0/l4fjk6cj5xj0j3brt4bplpl40000gt/T//Rtmp1eln8m\test\
INFO [2025-11-10 21:25:25] Saved to: /var/folders/r0/l4fjk6cj5xj0j3brt4bplpl40000gt/T//Rtmp1eln8m\test\/HILIC_neg_259_9623a4_4322.emf
INFO [2025-11-10 21:25:25] Saved to: /var/folders/r0/l4fjk6cj5xj0j3brt4bplpl40000gt/T//Rtmp1eln8m\test\/HILIC_neg_108_1065a2_6121.emf
INFO [2025-11-10 21:25:26] Saved to: /var/folders/r0/l4fjk6cj5xj0j3brt4bplpl40000gt/T//Rtmp1eln8m\test\/HILIC_neg_158_23a1_4128.emf
INFO [2025-11-10 21:25:26] Saved to: /var/folders/r0/l4fjk6cj5xj0j3brt4bplpl40000gt/T//Rtmp1eln8m\test\/HILIC_neg_251_0056a0_6161.emf
INFO [2025-11-10 21:25:26] Saved to: /var/folders/r0/l4fjk6cj5xj0j3brt4bplpl40000gt/T//Rtmp1eln8m\test\/HILIC_neg_401_52a4_211.emf
INFO [2025-11-10 21:25:26] Saved group boxplots to: /var/folders/r0/l4fjk6cj5xj0j3brt4bplpl40000gt/T//Rtmp1eln8m\test\
INFO [2025-11-10 21:25:26] Saved to: /var/folders/r0/l4fjk6cj5xj0j3brt4bplpl40000gt/T//Rtmp1eln8m\test\/HILIC_neg_259_9623a4_4322.emf
INFO [2025-11-10 21:25:26] Saved to: /var/folders/r0/l4fjk6cj5xj0j3brt4bplpl40000gt/T//Rtmp1eln8m\test\/HILIC_neg_108_1065a2_6121.emf
INFO [2025-11-10 21:25:26] Saved to: /var/folders/r0/l4fjk6cj5xj0j3brt4bplpl40000gt/T//Rtmp1eln8m\test\/HILIC_neg_158_23a1_4128.emf
INFO [2025-11-10 21:25:26] Saved to: /var/folders/r0/l4fjk6cj5xj0j3brt4bplpl40000gt/T//Rtmp1eln8m\test\/HILIC_neg_251_0056a0_6161.emf
INFO [2025-11-10 21:25:26] Saved to: /var/folders/r0/l4fjk6cj5xj0j3brt4bplpl40000gt/T//Rtmp1eln8m\test\/HILIC_neg_401_52a4_211.emf
INFO [2025-11-10 21:25:26] Saved group boxplots to: /var/folders/r0/l4fjk6cj5xj0j3brt4bplpl40000gt/T//Rtmp1eln8m\test\
INFO [2025-11-10 21:25:26] Saved to: /var/folders/r0/l4fjk6cj5xj0j3brt4bplpl40000gt/T//Rtmp1eln8m\test\/HILIC_neg_259_9623a4_4322.emf
INFO [2025-11-10 21:25:26] Saved to: /var/folders/r0/l4fjk6cj5xj0j3brt4bplpl40000gt/T//Rtmp1eln8m\test\/HILIC_neg_108_1065a2_6121.emf
INFO [2025-11-10 21:25:26] Saved to: /var/folders/r0/l4fjk6cj5xj0j3brt4bplpl40000gt/T//Rtmp1eln8m\test\/HILIC_neg_158_23a1_4128.emf
INFO [2025-11-10 21:25:26] Saved to: /var/folders/r0/l4fjk6cj5xj0j3brt4bplpl40000gt/T//Rtmp1eln8m\test\/HILIC_neg_251_0056a0_6161.emf
INFO [2025-11-10 21:25:27] Saved to: /var/folders/r0/l4fjk6cj5xj0j3brt4bplpl40000gt/T//Rtmp1eln8m\test\/HILIC_neg_401_52a4_211.emf
INFO [2025-11-10 21:25:27] Saved beeswarm plots to: /var/folders/r0/l4fjk6cj5xj0j3brt4bplpl40000gt/T//Rtmp1eln8m\test\
INFO [2025-11-10 21:25:27] Saved to: /var/folders/r0/l4fjk6cj5xj0j3brt4bplpl40000gt/T//Rtmp1eln8m\test\/Glucose.emf
INFO [2025-11-10 21:25:27] Saved to: /var/folders/r0/l4fjk6cj5xj0j3brt4bplpl40000gt/T//Rtmp1eln8m\test\/Threoline.emf
INFO [2025-11-10 21:25:27] Saved to: /var/folders/r0/l4fjk6cj5xj0j3brt4bplpl40000gt/T//Rtmp1eln8m\test\/5-AVAB.emf
INFO [2025-11-10 21:25:27] Saved to: /var/folders/r0/l4fjk6cj5xj0j3brt4bplpl40000gt/T//Rtmp1eln8m\test\/1_2 acid.emf
INFO [2025-11-10 21:25:27] Saved to: /var/folders/r0/l4fjk6cj5xj0j3brt4bplpl40000gt/T//Rtmp1eln8m\test\/20_0 carbon chain.emf
INFO [2025-11-10 21:25:27] Saved beeswarm plots to: /var/folders/r0/l4fjk6cj5xj0j3brt4bplpl40000gt/T//Rtmp1eln8m\test\
INFO [2025-11-10 21:25:27] Saved to: /var/folders/r0/l4fjk6cj5xj0j3brt4bplpl40000gt/T//Rtmp1eln8m\test\/HILIC_neg_259_9623a4_4322.emf
INFO [2025-11-10 21:25:27] Saved to: /var/folders/r0/l4fjk6cj5xj0j3brt4bplpl40000gt/T//Rtmp1eln8m\test\/HILIC_neg_108_1065a2_6121.emf
INFO [2025-11-10 21:25:27] Saved to: /var/folders/r0/l4fjk6cj5xj0j3brt4bplpl40000gt/T//Rtmp1eln8m\test\/HILIC_neg_158_23a1_4128.emf
INFO [2025-11-10 21:25:27] Saved to: /var/folders/r0/l4fjk6cj5xj0j3brt4bplpl40000gt/T//Rtmp1eln8m\test\/HILIC_neg_251_0056a0_6161.emf
INFO [2025-11-10 21:25:27] Saved to: /var/folders/r0/l4fjk6cj5xj0j3brt4bplpl40000gt/T//Rtmp1eln8m\test\/HILIC_neg_401_52a4_211.emf
INFO [2025-11-10 21:25:27] Saved scatter plots to: /var/folders/r0/l4fjk6cj5xj0j3brt4bplpl40000gt/T//Rtmp1eln8m\test\
INFO [2025-11-10 21:25:27] Saved to: /var/folders/r0/l4fjk6cj5xj0j3brt4bplpl40000gt/T//Rtmp1eln8m\test\/HILIC_neg_259_9623a4_4322.emf
INFO [2025-11-10 21:25:28] Saved to: /var/folders/r0/l4fjk6cj5xj0j3brt4bplpl40000gt/T//Rtmp1eln8m\test\/HILIC_neg_108_1065a2_6121.emf
INFO [2025-11-10 21:25:28] Saved to: /var/folders/r0/l4fjk6cj5xj0j3brt4bplpl40000gt/T//Rtmp1eln8m\test\/HILIC_neg_158_23a1_4128.emf
INFO [2025-11-10 21:25:28] Saved to: /var/folders/r0/l4fjk6cj5xj0j3brt4bplpl40000gt/T//Rtmp1eln8m\test\/HILIC_neg_251_0056a0_6161.emf
INFO [2025-11-10 21:25:28] Saved to: /var/folders/r0/l4fjk6cj5xj0j3brt4bplpl40000gt/T//Rtmp1eln8m\test\/HILIC_neg_401_52a4_211.emf
INFO [2025-11-10 21:25:28] Saved scatter plots to: /var/folders/r0/l4fjk6cj5xj0j3brt4bplpl40000gt/T//Rtmp1eln8m\test\
INFO [2025-11-10 21:25:28] Saved to: /var/folders/r0/l4fjk6cj5xj0j3brt4bplpl40000gt/T//Rtmp1eln8m\test\/HILIC_neg_259_9623a4_4322.emf
INFO [2025-11-10 21:25:28] Saved to: /var/folders/r0/l4fjk6cj5xj0j3brt4bplpl40000gt/T//Rtmp1eln8m\test\/HILIC_neg_108_1065a2_6121.emf
INFO [2025-11-10 21:25:28] Saved to: /var/folders/r0/l4fjk6cj5xj0j3brt4bplpl40000gt/T//Rtmp1eln8m\test\/HILIC_neg_158_23a1_4128.emf
INFO [2025-11-10 21:25:29] Saved to: /var/folders/r0/l4fjk6cj5xj0j3brt4bplpl40000gt/T//Rtmp1eln8m\test\/HILIC_neg_251_0056a0_6161.emf
INFO [2025-11-10 21:25:29] Saved to: /var/folders/r0/l4fjk6cj5xj0j3brt4bplpl40000gt/T//Rtmp1eln8m\test\/HILIC_neg_401_52a4_211.emf
INFO [2025-11-10 21:25:29] Saved line plots with mean line to: /var/folders/r0/l4fjk6cj5xj0j3brt4bplpl40000gt/T//Rtmp1eln8m\test\
INFO [2025-11-10 21:25:29] Saved to: /var/folders/r0/l4fjk6cj5xj0j3brt4bplpl40000gt/T//Rtmp1eln8m\test\/HILIC_neg_259_9623a4_4322.emf
INFO [2025-11-10 21:25:29] Saved to: /var/folders/r0/l4fjk6cj5xj0j3brt4bplpl40000gt/T//Rtmp1eln8m\test\/HILIC_neg_108_1065a2_6121.emf
INFO [2025-11-10 21:25:30] Saved to: /var/folders/r0/l4fjk6cj5xj0j3brt4bplpl40000gt/T//Rtmp1eln8m\test\/HILIC_neg_158_23a1_4128.emf
INFO [2025-11-10 21:25:30] Saved to: /var/folders/r0/l4fjk6cj5xj0j3brt4bplpl40000gt/T//Rtmp1eln8m\test\/HILIC_neg_251_0056a0_6161.emf
INFO [2025-11-10 21:25:30] Saved to: /var/folders/r0/l4fjk6cj5xj0j3brt4bplpl40000gt/T//Rtmp1eln8m\test\/HILIC_neg_401_52a4_211.emf
INFO [2025-11-10 21:25:30] Saved line plots with mean line to: /var/folders/r0/l4fjk6cj5xj0j3brt4bplpl40000gt/T//Rtmp1eln8m\test\
INFO [2025-11-10 21:25:30] 
Saved batch plots to: /var/folders/r0/l4fjk6cj5xj0j3brt4bplpl40000gt/T//Rtmp1eln8m\test\batch_plots.pdf
INFO [2025-11-10 21:25:30] Identified m/z column Average_Mz and retention time column Average_Rt_min
INFO [2025-11-10 21:25:30] Identified m/z column Average_Mz and retention time column Average_Rt_min
INFO [2025-11-10 21:25:30] Identified m/z column Average_Mz and retention time column Average_Rt_min
INFO [2025-11-10 21:25:30] 
92% of features flagged for low quality
INFO [2025-11-10 21:25:30] Identified m/z column Average_Mz and retention time column Average_Rt_min
INFO [2025-11-10 21:25:30] Identified m/z column Average_Mz and retention time column Average_Rt_min
[ FAIL 0 | WARN 2 | SKIP 0 | PASS 26 ]

[ FAIL 0 | WARN 2 | SKIP 0 | PASS 26 ]
> 
> proc.time()
   user  system elapsed 
  9.506   0.287   9.973 

Example timings

notameViz.Rcheck/notameViz-Ex.timings

nameusersystemelapsed
manhattan_plot2.5190.5051.938
mz_rt_plot1.5540.6720.987
plot_dendrogram0.1700.0150.185
plot_dist_density0.4460.2500.489
plot_effect_heatmap1.3200.5901.125
plot_injection_lm3.9102.0992.003
plot_p_histogram1.2020.7780.704
plot_pca0.1210.0080.135
plot_pca_arrows0.2640.0050.271
plot_pca_hexbin0.1170.0060.136
plot_pca_loadings0.1030.0020.115
plot_quality0.4250.0030.468
plot_sample_boxplots0.3370.0040.344
plot_sample_heatmap0.2010.0040.212
plot_tsne0.1520.0060.163
plot_tsne_arrows0.2670.0050.288
plot_tsne_hexbin0.1240.0030.132
save_QC_plots4.3401.8054.093
save_batch_plots2.8630.0162.935
save_beeswarm_plots1.8650.0271.901
save_dc_plots0.9730.3981.015
save_group_boxplots2.6190.0322.663
save_group_lineplots4.4020.1024.531
save_plot0.1920.0030.195
save_scatter_plots0.8400.0060.858
save_subject_line_plots0.7980.0060.808
visualize_clusters0.6230.0060.631
volcano_plot1.1140.6030.581