| Back to Multiple platform build/check report for BioC 3.21: simplified long |
|
This page was generated on 2025-10-16 11:37 -0400 (Thu, 16 Oct 2025).
| Hostname | OS | Arch (*) | R version | Installed pkgs |
|---|---|---|---|---|
| nebbiolo1 | Linux (Ubuntu 24.04.3 LTS) | x86_64 | 4.5.1 (2025-06-13) -- "Great Square Root" | 4833 |
| merida1 | macOS 12.7.6 Monterey | x86_64 | 4.5.1 RC (2025-06-05 r88288) -- "Great Square Root" | 4614 |
| kjohnson1 | macOS 13.7.5 Ventura | arm64 | 4.5.1 Patched (2025-06-14 r88325) -- "Great Square Root" | 4555 |
| kunpeng2 | Linux (openEuler 24.03 LTS) | aarch64 | R Under development (unstable) (2025-02-19 r87757) -- "Unsuffered Consequences" | 4586 |
| Click on any hostname to see more info about the system (e.g. compilers) (*) as reported by 'uname -p', except on Windows and Mac OS X | ||||
| Package 257/2341 | Hostname | OS / Arch | INSTALL | BUILD | CHECK | BUILD BIN | ||||||||
| bumphunter 1.50.0 (landing page) Tamilselvi Guharaj
| nebbiolo1 | Linux (Ubuntu 24.04.3 LTS) / x86_64 | OK | OK | OK | |||||||||
| merida1 | macOS 12.7.6 Monterey / x86_64 | OK | OK | OK | OK | |||||||||
| kjohnson1 | macOS 13.7.5 Ventura / arm64 | OK | OK | OK | OK | |||||||||
| kunpeng2 | Linux (openEuler 24.03 LTS) / aarch64 | OK | OK | OK | ||||||||||
|
To the developers/maintainers of the bumphunter package: - Allow up to 24 hours (and sometimes 48 hours) for your latest push to git@git.bioconductor.org:packages/bumphunter.git to reflect on this report. See Troubleshooting Build Report for more information. - Use the following Renviron settings to reproduce errors and warnings. - If 'R CMD check' started to fail recently on the Linux builder(s) over a missing dependency, add the missing dependency to 'Suggests:' in your DESCRIPTION file. See Renviron.bioc for more information. |
| Package: bumphunter |
| Version: 1.50.0 |
| Command: /home/biocbuild/bbs-3.21-bioc/R/bin/R CMD check --install=check:bumphunter.install-out.txt --library=/home/biocbuild/bbs-3.21-bioc/R/site-library --timings bumphunter_1.50.0.tar.gz |
| StartedAt: 2025-10-15 21:22:50 -0400 (Wed, 15 Oct 2025) |
| EndedAt: 2025-10-15 21:29:46 -0400 (Wed, 15 Oct 2025) |
| EllapsedTime: 415.5 seconds |
| RetCode: 0 |
| Status: OK |
| CheckDir: bumphunter.Rcheck |
| Warnings: 0 |
##############################################################################
##############################################################################
###
### Running command:
###
### /home/biocbuild/bbs-3.21-bioc/R/bin/R CMD check --install=check:bumphunter.install-out.txt --library=/home/biocbuild/bbs-3.21-bioc/R/site-library --timings bumphunter_1.50.0.tar.gz
###
##############################################################################
##############################################################################
* using log directory ‘/home/biocbuild/bbs-3.21-bioc/meat/bumphunter.Rcheck’
* using R version 4.5.1 (2025-06-13)
* using platform: x86_64-pc-linux-gnu
* R was compiled by
gcc (Ubuntu 13.3.0-6ubuntu2~24.04) 13.3.0
GNU Fortran (Ubuntu 13.3.0-6ubuntu2~24.04) 13.3.0
* running under: Ubuntu 24.04.3 LTS
* using session charset: UTF-8
* checking for file ‘bumphunter/DESCRIPTION’ ... OK
* this is package ‘bumphunter’ version ‘1.50.0’
* checking package namespace information ... OK
* checking package dependencies ... INFO
Depends: includes the non-default packages:
'S4Vectors', 'IRanges', 'GenomeInfoDb', 'GenomicRanges', 'foreach',
'iterators', 'parallel', 'locfit'
Adding so many packages to the search path is excessive and importing
selectively is preferable.
* checking if this is a source package ... OK
* checking if there is a namespace ... OK
* checking for hidden files and directories ... OK
* checking for portable file names ... OK
* checking for sufficient/correct file permissions ... OK
* checking whether package ‘bumphunter’ can be installed ... OK
* checking installed package size ... OK
* checking package directory ... OK
* checking ‘build’ directory ... OK
* checking DESCRIPTION meta-information ... NOTE
Malformed Description field: should contain one or more complete sentences.
* checking top-level files ... OK
* checking for left-over files ... OK
* checking index information ... OK
* checking package subdirectories ... OK
* checking code files for non-ASCII characters ... OK
* checking R files for syntax errors ... OK
* checking whether the package can be loaded ... OK
* checking whether the package can be loaded with stated dependencies ... OK
* checking whether the package can be unloaded cleanly ... OK
* checking whether the namespace can be loaded with stated dependencies ... OK
* checking whether the namespace can be unloaded cleanly ... OK
* checking loading without being on the library search path ... OK
* checking dependencies in R code ... NOTE
Unexported object imported by a ':::' call: ‘doParallel:::.options’
See the note in ?`:::` about the use of this operator.
* checking S3 generic/method consistency ... OK
* checking replacement functions ... OK
* checking foreign function calls ... OK
* checking R code for possible problems ... NOTE
bumphunterEngine: no visible binding for global variable ‘bootstraps’
Undefined global functions or variables:
bootstraps
* checking Rd files ... OK
* checking Rd metadata ... OK
* checking Rd cross-references ... OK
* checking for missing documentation entries ... OK
* checking for code/documentation mismatches ... OK
* checking Rd \usage sections ... OK
* checking Rd contents ... OK
* checking for unstated dependencies in examples ... OK
* checking contents of ‘data’ directory ... OK
* checking data for non-ASCII characters ... OK
* checking LazyData ... OK
* checking data for ASCII and uncompressed saves ... OK
* checking files in ‘vignettes’ ... OK
* checking examples ... OK
* checking for unstated dependencies in ‘tests’ ... OK
* checking tests ...
Running ‘runTests.R’
Running ‘test-all.R’
OK
* checking for unstated dependencies in vignettes ... OK
* checking package vignettes ... OK
* checking re-building of vignette outputs ... OK
* checking PDF version of manual ... OK
* DONE
Status: 3 NOTEs
See
‘/home/biocbuild/bbs-3.21-bioc/meat/bumphunter.Rcheck/00check.log’
for details.
bumphunter.Rcheck/00install.out
############################################################################## ############################################################################## ### ### Running command: ### ### /home/biocbuild/bbs-3.21-bioc/R/bin/R CMD INSTALL bumphunter ### ############################################################################## ############################################################################## * installing to library ‘/home/biocbuild/bbs-3.21-bioc/R/site-library’ * installing *source* package ‘bumphunter’ ... ** this is package ‘bumphunter’ version ‘1.50.0’ ** using staged installation ** R ** data *** moving datasets to lazyload DB ** inst ** byte-compile and prepare package for lazy loading ** help *** installing help indices ** building package indices ** installing vignettes ** testing if installed package can be loaded from temporary location ** testing if installed package can be loaded from final location ** testing if installed package keeps a record of temporary installation path * DONE (bumphunter)
bumphunter.Rcheck/tests/runTests.Rout
R version 4.5.1 (2025-06-13) -- "Great Square Root"
Copyright (C) 2025 The R Foundation for Statistical Computing
Platform: x86_64-pc-linux-gnu
R is free software and comes with ABSOLUTELY NO WARRANTY.
You are welcome to redistribute it under certain conditions.
Type 'license()' or 'licence()' for distribution details.
R is a collaborative project with many contributors.
Type 'contributors()' for more information and
'citation()' on how to cite R or R packages in publications.
Type 'demo()' for some demos, 'help()' for on-line help, or
'help.start()' for an HTML browser interface to help.
Type 'q()' to quit R.
> require("bumphunter") || stop("unable to load bumphunter")
Loading required package: bumphunter
Loading required package: S4Vectors
Loading required package: stats4
Loading required package: BiocGenerics
Loading required package: generics
Attaching package: 'generics'
The following objects are masked from 'package:base':
as.difftime, as.factor, as.ordered, intersect, is.element, setdiff,
setequal, union
Attaching package: 'BiocGenerics'
The following objects are masked from 'package:stats':
IQR, mad, sd, var, xtabs
The following objects are masked from 'package:base':
Filter, Find, Map, Position, Reduce, anyDuplicated, aperm, append,
as.data.frame, basename, cbind, colnames, dirname, do.call,
duplicated, eval, evalq, get, grep, grepl, is.unsorted, lapply,
mapply, match, mget, order, paste, pmax, pmax.int, pmin, pmin.int,
rank, rbind, rownames, sapply, saveRDS, table, tapply, unique,
unsplit, which.max, which.min
Attaching package: 'S4Vectors'
The following object is masked from 'package:utils':
findMatches
The following objects are masked from 'package:base':
I, expand.grid, unname
Loading required package: IRanges
Loading required package: GenomeInfoDb
Loading required package: GenomicRanges
Loading required package: foreach
Loading required package: iterators
Loading required package: parallel
Loading required package: locfit
locfit 1.5-9.12 2025-03-05
[1] TRUE
> BiocGenerics:::testPackage("bumphunter")
[bumphunterEngine] Using a single core (backend: doSEQ, version: 1.5.2).
[bumphunterEngine] Computing coefficients.
[bumphunterEngine] Smoothing coefficients.
Loading required package: rngtools
[bumphunterEngine] Performing 500 permutations.
[bumphunterEngine] Computing marginal permutation p-values.
[bumphunterEngine] Smoothing permutation coefficients.
[bumphunterEngine] cutoff: 0.28
[bumphunterEngine] Finding regions.
[bumphunterEngine] Found 2 bumps.
[bumphunterEngine] Computing regions for each permutation.
[bumphunterEngine] Estimating p-values and FWER.
[bumphunterEngine] Using a single core (backend: doSEQ, version: 1.5.2).
[bumphunterEngine] Computing coefficients.
[bumphunterEngine] Smoothing coefficients.
[bumphunterEngine] Performing 500 permutations.
[bumphunterEngine] Computing marginal permutation p-values.
[bumphunterEngine] Smoothing permutation coefficients.
[bumphunterEngine] cutoff: 0.28
[bumphunterEngine] Finding regions.
[bumphunterEngine] Found 2 bumps.
[bumphunterEngine] Computing regions for each permutation.
[bumphunterEngine] Estimating p-values and FWER.
Loading required package: doParallel
[bumphunterEngine] Parallelizing using 2 workers/cores (backend: doParallelMC, version: 1.0.17).
[bumphunterEngine] Computing coefficients.
[bumphunterEngine] Smoothing coefficients.
[bumphunterEngine] Performing 500 permutations.
[bumphunterEngine] Computing marginal permutation p-values.
[bumphunterEngine] Smoothing permutation coefficients.
[bumphunterEngine] cutoff: 0.28
[bumphunterEngine] Finding regions.
[bumphunterEngine] Found 2 bumps.
[bumphunterEngine] Computing regions for each permutation.
[bumphunterEngine] Estimating p-values and FWER.
[bumphunterEngine] Parallelizing using 2 workers/cores (backend: doParallelSNOW, version: 1.0.17).
[bumphunterEngine] Computing coefficients.
[bumphunterEngine] Smoothing coefficients.
[bumphunterEngine] Performing 500 permutations.
[bumphunterEngine] Computing marginal permutation p-values.
[bumphunterEngine] Smoothing permutation coefficients.
[bumphunterEngine] cutoff: 0.28
[bumphunterEngine] Finding regions.
[bumphunterEngine] Found 2 bumps.
[bumphunterEngine] Computing regions for each permutation.
[bumphunterEngine] Estimating p-values and FWER.
RUNIT TEST PROTOCOL -- Wed Oct 15 21:27:07 2025
***********************************************
Number of test functions: 5
Number of errors: 0
Number of failures: 0
1 Test Suite :
bumphunter RUnit Tests - 5 test functions, 0 errors, 0 failures
Number of test functions: 5
Number of errors: 0
Number of failures: 0
>
> proc.time()
user system elapsed
15.807 1.960 30.491
bumphunter.Rcheck/tests/test-all.Rout
R version 4.5.1 (2025-06-13) -- "Great Square Root"
Copyright (C) 2025 The R Foundation for Statistical Computing
Platform: x86_64-pc-linux-gnu
R is free software and comes with ABSOLUTELY NO WARRANTY.
You are welcome to redistribute it under certain conditions.
Type 'license()' or 'licence()' for distribution details.
R is a collaborative project with many contributors.
Type 'contributors()' for more information and
'citation()' on how to cite R or R packages in publications.
Type 'demo()' for some demos, 'help()' for on-line help, or
'help.start()' for an HTML browser interface to help.
Type 'q()' to quit R.
> library('testthat')
> test_check('bumphunter')
Loading required package: bumphunter
Loading required package: S4Vectors
Loading required package: stats4
Loading required package: BiocGenerics
Loading required package: generics
Attaching package: 'generics'
The following objects are masked from 'package:base':
as.difftime, as.factor, as.ordered, intersect, is.element, setdiff,
setequal, union
Attaching package: 'BiocGenerics'
The following objects are masked from 'package:stats':
IQR, mad, sd, var, xtabs
The following objects are masked from 'package:base':
Filter, Find, Map, Position, Reduce, anyDuplicated, aperm, append,
as.data.frame, basename, cbind, colnames, dirname, do.call,
duplicated, eval, evalq, get, grep, grepl, is.unsorted, lapply,
mapply, match, mget, order, paste, pmax, pmax.int, pmin, pmin.int,
rank, rbind, rownames, sapply, saveRDS, table, tapply, unique,
unsplit, which.max, which.min
Attaching package: 'S4Vectors'
The following object is masked from 'package:utils':
findMatches
The following objects are masked from 'package:base':
I, expand.grid, unname
Loading required package: IRanges
Loading required package: GenomeInfoDb
Loading required package: GenomicRanges
Loading required package: foreach
Loading required package: iterators
Loading required package: parallel
Loading required package: locfit
locfit 1.5-9.12 2025-03-05
trying URL 'http://ftp.ebi.ac.uk/pub/databases/gencode/Gencode_human/release_36/gencode.v36.annotation.gtf.gz'
Content type 'application/x-gzip' length 44507458 bytes (42.4 MB)
==================================================
downloaded 42.4 MB
[ FAIL 0 | WARN 2 | SKIP 0 | PASS 15 ]
[ FAIL 0 | WARN 2 | SKIP 0 | PASS 15 ]
>
> proc.time()
user system elapsed
131.053 6.004 139.993
bumphunter.Rcheck/bumphunter-Ex.timings
| name | user | system | elapsed | |
| annotateNearest | 1.271 | 0.081 | 1.352 | |
| annotateTranscripts | 0 | 0 | 0 | |
| bumphunter | 1.524 | 1.076 | 1.379 | |
| clusterMaker | 0.011 | 0.001 | 0.010 | |
| dummyData | 0.003 | 0.032 | 0.003 | |
| getSegments | 0.015 | 0.032 | 0.013 | |
| locfitByCluster | 0.020 | 0.006 | 0.025 | |
| loessByCluster | 0.162 | 0.046 | 0.208 | |
| matchGenes | 0.001 | 0.000 | 0.000 | |
| regionFinder | 0.016 | 0.001 | 0.018 | |
| runmedByCluster | 0.003 | 0.000 | 0.003 | |
| smoother | 0.048 | 0.150 | 0.152 | |