Back to Multiple platform build/check report for BioC 3.22:   simplified   long
A[B]CDEFGHIJKLMNOPQRSTUVWXYZ

This page was generated on 2025-11-11 12:03 -0500 (Tue, 11 Nov 2025).

HostnameOSArch (*)R versionInstalled pkgs
nebbiolo2Linux (Ubuntu 24.04.3 LTS)x86_644.5.1 Patched (2025-08-23 r88802) -- "Great Square Root" 4902
kjohnson3macOS 13.7.7 Venturaarm644.5.1 Patched (2025-09-10 r88807) -- "Great Square Root" 4638
Click on any hostname to see more info about the system (e.g. compilers)      (*) as reported by 'uname -p', except on Windows and Mac OS X

Package 165/2361HostnameOS / ArchINSTALLBUILDCHECKBUILD BIN
benchdamic 1.16.0  (landing page)
Matteo Calgaro
Snapshot Date: 2025-11-10 13:45 -0500 (Mon, 10 Nov 2025)
git_url: https://git.bioconductor.org/packages/benchdamic
git_branch: RELEASE_3_22
git_last_commit: fcdab2a
git_last_commit_date: 2025-10-29 11:13:16 -0500 (Wed, 29 Oct 2025)
nebbiolo2Linux (Ubuntu 24.04.3 LTS) / x86_64  OK    OK    OK  NO, package depends on 'Maaslin2' which is not available
kjohnson3macOS 13.7.7 Ventura / arm64  OK    OK    OK    OK  NO, package depends on 'Maaslin2' which is not available


CHECK results for benchdamic on kjohnson3

To the developers/maintainers of the benchdamic package:
- Allow up to 24 hours (and sometimes 48 hours) for your latest push to git@git.bioconductor.org:packages/benchdamic.git to reflect on this report. See Troubleshooting Build Report for more information.
- Use the following Renviron settings to reproduce errors and warnings.
- If 'R CMD check' started to fail recently on the Linux builder(s) over a missing dependency, add the missing dependency to 'Suggests:' in your DESCRIPTION file. See Renviron.bioc for more information.

raw results


Summary

Package: benchdamic
Version: 1.16.0
Command: /Library/Frameworks/R.framework/Resources/bin/R CMD check --install=check:benchdamic.install-out.txt --library=/Library/Frameworks/R.framework/Resources/library --no-vignettes --timings benchdamic_1.16.0.tar.gz
StartedAt: 2025-11-10 18:54:18 -0500 (Mon, 10 Nov 2025)
EndedAt: 2025-11-10 18:58:24 -0500 (Mon, 10 Nov 2025)
EllapsedTime: 246.5 seconds
RetCode: 0
Status:   OK  
CheckDir: benchdamic.Rcheck
Warnings: 0

Command output

##############################################################################
##############################################################################
###
### Running command:
###
###   /Library/Frameworks/R.framework/Resources/bin/R CMD check --install=check:benchdamic.install-out.txt --library=/Library/Frameworks/R.framework/Resources/library --no-vignettes --timings benchdamic_1.16.0.tar.gz
###
##############################################################################
##############################################################################


* using log directory ‘/Users/biocbuild/bbs-3.22-bioc/meat/benchdamic.Rcheck’
* using R version 4.5.1 Patched (2025-09-10 r88807)
* using platform: aarch64-apple-darwin20
* R was compiled by
    Apple clang version 16.0.0 (clang-1600.0.26.6)
    GNU Fortran (GCC) 14.2.0
* running under: macOS Ventura 13.7.7
* using session charset: UTF-8
* using option ‘--no-vignettes’
* checking for file ‘benchdamic/DESCRIPTION’ ... OK
* checking extension type ... Package
* this is package ‘benchdamic’ version ‘1.16.0’
* package encoding: UTF-8
* checking package namespace information ... OK
* checking package dependencies ... INFO
Imports includes 32 non-default packages.
Importing from so many packages makes the package vulnerable to any of
them becoming unavailable.  Move as many as possible to Suggests and
use conditionally.
* checking if this is a source package ... OK
* checking if there is a namespace ... OK
* checking for hidden files and directories ... OK
* checking for portable file names ... OK
* checking for sufficient/correct file permissions ... OK
* checking whether package ‘benchdamic’ can be installed ... OK
* checking installed package size ... OK
* checking package directory ... OK
* checking ‘build’ directory ... OK
* checking DESCRIPTION meta-information ... OK
* checking top-level files ... OK
* checking for left-over files ... OK
* checking index information ... OK
* checking package subdirectories ... OK
* checking code files for non-ASCII characters ... OK
* checking R files for syntax errors ... OK
* checking whether the package can be loaded ... OK
* checking whether the package can be loaded with stated dependencies ... OK
* checking whether the package can be unloaded cleanly ... OK
* checking whether the namespace can be loaded with stated dependencies ... OK
* checking whether the namespace can be unloaded cleanly ... OK
* checking dependencies in R code ... NOTE
Namespace in Imports field not imported from: ‘microbiome’
  All declared Imports should be used.
* checking S3 generic/method consistency ... OK
* checking replacement functions ... OK
* checking foreign function calls ... OK
* checking R code for possible problems ... OK
* checking Rd files ... OK
* checking Rd metadata ... OK
* checking Rd cross-references ... NOTE
Non-topic package-anchored link(s) in Rd file 'norm_DESeq2.Rd':
  ‘[DESeq2]{estimateSizeFactors}’

See section 'Cross-references' in the 'Writing R Extensions' manual.
* checking for missing documentation entries ... OK
* checking for code/documentation mismatches ... OK
* checking Rd \usage sections ... OK
* checking Rd contents ... OK
* checking for unstated dependencies in examples ... OK
* checking contents of ‘data’ directory ... OK
* checking data for non-ASCII characters ... OK
* checking LazyData ... OK
* checking data for ASCII and uncompressed saves ... OK
* checking files in ‘vignettes’ ... OK
* checking examples ... OK
* checking for unstated dependencies in ‘tests’ ... OK
* checking tests ...
  Running ‘testthat.R’
 OK
* checking for unstated dependencies in vignettes ... OK
* checking package vignettes ... OK
* checking running R code from vignettes ... SKIPPED
* checking re-building of vignette outputs ... SKIPPED
* checking PDF version of manual ... OK
* DONE

Status: 2 NOTEs
See
  ‘/Users/biocbuild/bbs-3.22-bioc/meat/benchdamic.Rcheck/00check.log’
for details.


Installation output

benchdamic.Rcheck/00install.out

##############################################################################
##############################################################################
###
### Running command:
###
###   /Library/Frameworks/R.framework/Resources/bin/R CMD INSTALL benchdamic
###
##############################################################################
##############################################################################


* installing to library ‘/Library/Frameworks/R.framework/Versions/4.5-arm64/Resources/library’
* installing *source* package ‘benchdamic’ ...
** this is package ‘benchdamic’ version ‘1.16.0’
** using staged installation
** R
** data
*** moving datasets to lazyload DB
** inst
** byte-compile and prepare package for lazy loading
Found more than one class "dist" in cache; using the first, from namespace 'BiocGenerics'
Also defined by ‘spam’
** help
*** installing help indices
** building package indices
** installing vignettes
** testing if installed package can be loaded from temporary location
Found more than one class "dist" in cache; using the first, from namespace 'BiocGenerics'
Also defined by ‘spam’
** testing if installed package can be loaded from final location
Found more than one class "dist" in cache; using the first, from namespace 'BiocGenerics'
Also defined by ‘spam’
** testing if installed package keeps a record of temporary installation path
* DONE (benchdamic)

Tests output

benchdamic.Rcheck/tests/testthat.Rout


R version 4.5.1 Patched (2025-09-10 r88807) -- "Great Square Root"
Copyright (C) 2025 The R Foundation for Statistical Computing
Platform: aarch64-apple-darwin20

R is free software and comes with ABSOLUTELY NO WARRANTY.
You are welcome to redistribute it under certain conditions.
Type 'license()' or 'licence()' for distribution details.

R is a collaborative project with many contributors.
Type 'contributors()' for more information and
'citation()' on how to cite R or R packages in publications.

Type 'demo()' for some demos, 'help()' for on-line help, or
'help.start()' for an HTML browser interface to help.
Type 'q()' to quit R.

> library(testthat)
> library(benchdamic)
Found more than one class "dist" in cache; using the first, from namespace 'BiocGenerics'
Also defined by 'spam'
> 
> test_check("benchdamic")
|------------(25%)----------(50%)----------(75%)----------|
|------------(25%)----------(50%)----------(75%)----------|
|------------(25%)----------(50%)----------(75%)----------|
|------------(25%)----------(50%)----------(75%)----------|
|------------(25%)----------(50%)----------(75%)----------|
[ FAIL 0 | WARN 0 | SKIP 0 | PASS 334 ]
> 
> proc.time()
   user  system elapsed 
 24.614   1.364  29.353 

Example timings

benchdamic.Rcheck/benchdamic-Ex.timings

nameusersystemelapsed
CAT0.0020.0000.002
DA_ALDEx21.3720.2281.605
DA_ANCOM0.2310.0070.239
DA_DESeq20.9220.0160.938
DA_MAST0.4400.0130.708
DA_Maaslin20.0940.0160.148
DA_NOISeq0.7620.0061.213
DA_Seurat1.0510.0201.764
DA_ZicoSeq0.2870.0120.491
DA_basic0.0110.0010.015
DA_corncob0.2690.0270.479
DA_dearseq0.0240.0010.039
DA_edgeR0.0820.0030.146
DA_limma0.0340.0020.061
DA_linda0.0170.0020.023
DA_maaslin30.2270.0080.383
DA_metagenomeSeq0.1310.0050.249
DA_mixMC0.2450.0030.406
RMSE0.0010.0000.000
addKnowledge0.0730.0030.113
areaCAT1.4370.0312.150
checkNormalization000
createColors0.0010.0000.002
createConcordance1.9580.0353.173
createEnrichment0.1050.0040.183
createMocks0.0010.0010.001
createPositives0.4000.0110.671
createSplits0.0130.0000.020
createTIEC1.0990.0171.752
enrichmentTest0.0390.0020.062
extractDA0.0750.0030.126
extractStatistics0.0590.0020.101
fitDM0.0100.0010.012
fitHURDLE0.2200.0020.390
fitModels0.8370.0121.391
fitNB0.0190.0000.024
fitZIG0.0160.0000.025
fitZINB0.1600.0010.267
getDA0.0310.0030.060
getPositives0.0260.0020.042
getStatistics0.0320.0030.055
get_counts_metadata0.1390.0020.234
iterative_ordering0.0040.0000.005
meanDifferences0.0010.0000.001
norm_CSS0.0230.0010.042
norm_DESeq20.1620.0000.249
norm_TSS0.0100.0000.014
norm_edgeR0.0230.0010.034
plotConcordance2.0240.0363.111
plotContingency0.4680.0070.669
plotEnrichment0.4970.0050.794
plotFDR1.0340.0121.700
plotFPR1.0680.0141.783
plotKS1.0750.0141.717
plotLogP0.8820.0121.300
plotMD1.4330.0122.471
plotMutualFindings0.5800.0091.021
plotPositives0.3240.0050.541
plotQQ1.0920.0151.752
plotRMSE0.9390.0170.978
prepareObserved0.0010.0000.000
runDA0.150.000.15
runMocks0.1980.0040.202
runNormalizations0.1510.0020.153
runSplits1.0930.0311.129
setNormalizations000
set_ALDEx20.0030.0000.002
set_ANCOM0.0020.0000.002
set_DESeq20.0020.0010.003
set_MAST0.0000.0000.001
set_Maaslin20.0010.0000.002
set_NOISeq0.0010.0000.001
set_Seurat0.0020.0000.002
set_ZicoSeq0.0020.0000.003
set_basic0.0010.0000.000
set_corncob0.0010.0000.001
set_dearseq0.0010.0000.001
set_edgeR0.0040.0000.008
set_limma0.0020.0010.003
set_linda0.0020.0000.002
set_maaslin30.0020.0000.003
set_metagenomeSeq0.0020.0000.001
set_mixMC0.0010.0000.000
weights_ZINB0.1510.0020.155