| Back to Multiple platform build/check report for BioC 3.22: simplified long |
|
This page was generated on 2025-11-11 12:03 -0500 (Tue, 11 Nov 2025).
| Hostname | OS | Arch (*) | R version | Installed pkgs |
|---|---|---|---|---|
| nebbiolo2 | Linux (Ubuntu 24.04.3 LTS) | x86_64 | 4.5.1 Patched (2025-08-23 r88802) -- "Great Square Root" | 4902 |
| kjohnson3 | macOS 13.7.7 Ventura | arm64 | 4.5.1 Patched (2025-09-10 r88807) -- "Great Square Root" | 4638 |
| Click on any hostname to see more info about the system (e.g. compilers) (*) as reported by 'uname -p', except on Windows and Mac OS X | ||||
| Package 119/2361 | Hostname | OS / Arch | INSTALL | BUILD | CHECK | BUILD BIN | ||||||||
| autonomics 1.18.0 (landing page) Aditya Bhagwat
| nebbiolo2 | Linux (Ubuntu 24.04.3 LTS) / x86_64 | OK | OK | OK | |||||||||
| kjohnson3 | macOS 13.7.7 Ventura / arm64 | OK | OK | OK | OK | |||||||||
|
To the developers/maintainers of the autonomics package: - Allow up to 24 hours (and sometimes 48 hours) for your latest push to git@git.bioconductor.org:packages/autonomics.git to reflect on this report. See Troubleshooting Build Report for more information. - Use the following Renviron settings to reproduce errors and warnings. - If 'R CMD check' started to fail recently on the Linux builder(s) over a missing dependency, add the missing dependency to 'Suggests:' in your DESCRIPTION file. See Renviron.bioc for more information. |
| Package: autonomics |
| Version: 1.18.0 |
| Command: /Library/Frameworks/R.framework/Resources/bin/R CMD check --install=check:autonomics.install-out.txt --library=/Library/Frameworks/R.framework/Resources/library --no-vignettes --timings autonomics_1.18.0.tar.gz |
| StartedAt: 2025-11-10 18:47:12 -0500 (Mon, 10 Nov 2025) |
| EndedAt: 2025-11-10 18:53:41 -0500 (Mon, 10 Nov 2025) |
| EllapsedTime: 389.6 seconds |
| RetCode: 0 |
| Status: OK |
| CheckDir: autonomics.Rcheck |
| Warnings: 0 |
##############################################################################
##############################################################################
###
### Running command:
###
### /Library/Frameworks/R.framework/Resources/bin/R CMD check --install=check:autonomics.install-out.txt --library=/Library/Frameworks/R.framework/Resources/library --no-vignettes --timings autonomics_1.18.0.tar.gz
###
##############################################################################
##############################################################################
* using log directory ‘/Users/biocbuild/bbs-3.22-bioc/meat/autonomics.Rcheck’
* using R version 4.5.1 Patched (2025-09-10 r88807)
* using platform: aarch64-apple-darwin20
* R was compiled by
Apple clang version 16.0.0 (clang-1600.0.26.6)
GNU Fortran (GCC) 14.2.0
* running under: macOS Ventura 13.7.7
* using session charset: UTF-8
* using option ‘--no-vignettes’
* checking for file ‘autonomics/DESCRIPTION’ ... OK
* checking extension type ... Package
* this is package ‘autonomics’ version ‘1.18.0’
* package encoding: UTF-8
* checking package namespace information ... OK
* checking package dependencies ... INFO
Imports includes 32 non-default packages.
Importing from so many packages makes the package vulnerable to any of
them becoming unavailable. Move as many as possible to Suggests and
use conditionally.
* checking if this is a source package ... OK
* checking if there is a namespace ... OK
* checking for hidden files and directories ... NOTE
Found the following hidden files and directories:
.BBSoptions
These were most likely included in error. See section ‘Package
structure’ in the ‘Writing R Extensions’ manual.
* checking for portable file names ... OK
* checking for sufficient/correct file permissions ... OK
* checking whether package ‘autonomics’ can be installed ... OK
* checking installed package size ... OK
* checking package directory ... OK
* checking ‘build’ directory ... OK
* checking DESCRIPTION meta-information ... OK
* checking top-level files ... OK
* checking for left-over files ... OK
* checking index information ... OK
* checking package subdirectories ... OK
* checking code files for non-ASCII characters ... OK
* checking R files for syntax errors ... OK
* checking whether the package can be loaded ... OK
* checking whether the package can be loaded with stated dependencies ... OK
* checking whether the package can be unloaded cleanly ... OK
* checking whether the namespace can be loaded with stated dependencies ... OK
* checking whether the namespace can be unloaded cleanly ... OK
* checking dependencies in R code ... OK
* checking S3 generic/method consistency ... OK
* checking replacement functions ... OK
* checking foreign function calls ... OK
* checking R code for possible problems ... OK
* checking Rd files ... OK
* checking Rd metadata ... OK
* checking Rd cross-references ... NOTE
Non-topic package-anchored link(s) in Rd file 'reexports.Rd':
‘[magrittr:compound]{%<>%}’ ‘[magrittr:pipe]{%>%}’
‘[magrittr:aliases]{extract}’
See section 'Cross-references' in the 'Writing R Extensions' manual.
* checking for missing documentation entries ... OK
* checking for code/documentation mismatches ... OK
* checking Rd \usage sections ... OK
* checking Rd contents ... OK
* checking for unstated dependencies in examples ... OK
* checking files in ‘vignettes’ ... OK
* checking examples ... OK
Examples with CPU (user + system) or elapsed time > 5s
user system elapsed
write_xl 51.640 2.312 55.934
read_diann_proteingroups 33.955 1.059 34.074
awblinmod 12.466 0.077 12.594
read_rnaseq_counts 9.603 0.837 10.518
rm_diann_contaminants 7.247 0.188 7.275
LINMOD 7.219 0.123 8.052
plot_exprs 6.431 0.045 6.672
plot_exprs_per_coef 6.295 0.052 6.572
default_formula 5.543 0.300 5.785
* checking for unstated dependencies in ‘tests’ ... OK
* checking tests ...
Running ‘testthat.R’
OK
* checking for unstated dependencies in vignettes ... OK
* checking package vignettes ... OK
* checking running R code from vignettes ... SKIPPED
* checking re-building of vignette outputs ... SKIPPED
* checking PDF version of manual ... OK
* DONE
Status: 2 NOTEs
See
‘/Users/biocbuild/bbs-3.22-bioc/meat/autonomics.Rcheck/00check.log’
for details.
autonomics.Rcheck/00install.out
############################################################################## ############################################################################## ### ### Running command: ### ### /Library/Frameworks/R.framework/Resources/bin/R CMD INSTALL autonomics ### ############################################################################## ############################################################################## * installing to library ‘/Library/Frameworks/R.framework/Versions/4.5-arm64/Resources/library’ * installing *source* package ‘autonomics’ ... ** this is package ‘autonomics’ version ‘1.18.0’ ** using staged installation ** R ** inst ** byte-compile and prepare package for lazy loading Note: wrong number of arguments to 'seq_along' Note: wrong number of arguments to 'sqrt' ** help *** installing help indices ** building package indices ** installing vignettes ** testing if installed package can be loaded from temporary location ** testing if installed package can be loaded from final location ** testing if installed package keeps a record of temporary installation path * DONE (autonomics)
autonomics.Rcheck/tests/testthat.Rout
R version 4.5.1 Patched (2025-09-10 r88807) -- "Great Square Root"
Copyright (C) 2025 The R Foundation for Statistical Computing
Platform: aarch64-apple-darwin20
R is free software and comes with ABSOLUTELY NO WARRANTY.
You are welcome to redistribute it under certain conditions.
Type 'license()' or 'licence()' for distribution details.
R is a collaborative project with many contributors.
Type 'contributors()' for more information and
'citation()' on how to cite R or R packages in publications.
Type 'demo()' for some demos, 'help()' for on-line help, or
'help.start()' for an HTML browser interface to help.
Type 'q()' to quit R.
> library(testthat)
> library(autonomics)
Attaching package: 'autonomics'
The following objects are masked from 'package:stats':
biplot, loadings
The following object is masked from 'package:base':
beta
>
> test_check("autonomics")
[ FAIL 0 | WARN 3 | SKIP 0 | PASS 158 ]
[ FAIL 0 | WARN 3 | SKIP 0 | PASS 158 ]
>
> proc.time()
user system elapsed
51.534 3.454 56.817
autonomics.Rcheck/autonomics-Ex.timings
| name | user | system | elapsed | |
| AUTONOMICS_DATASETS | 0.000 | 0.000 | 0.001 | |
| COMPOUNDDISCOVERER_PATTERNS | 0.000 | 0.000 | 0.001 | |
| LINMOD | 7.219 | 0.123 | 8.052 | |
| LINMODENGINES | 0 | 0 | 0 | |
| MAXQUANT_PATTERNS | 0 | 0 | 0 | |
| TAXON_TO_ORGNAME | 0 | 0 | 0 | |
| TESTS | 0.001 | 0.000 | 0.000 | |
| X | 0.353 | 0.015 | 0.368 | |
| abstract_fit | 0.291 | 0.015 | 0.307 | |
| add_adjusted_pvalues | 0.155 | 0.004 | 0.163 | |
| add_assay_means | 0.112 | 0.002 | 0.114 | |
| add_facetvars | 0.406 | 0.016 | 0.421 | |
| add_opentargets_by_uniprot | 0.129 | 0.003 | 0.134 | |
| add_psp | 0.155 | 0.004 | 0.159 | |
| add_smiles | 0.142 | 0.014 | 0.158 | |
| all_non_numeric | 0.164 | 0.001 | 0.166 | |
| analysis | 0.121 | 0.002 | 0.123 | |
| analyze | 3.936 | 0.052 | 4.055 | |
| annotate_maxquant | 0.401 | 0.023 | 0.427 | |
| annotate_uniprot_rest | 0.031 | 0.006 | 2.271 | |
| assert_is_valid_sumexp | 0.160 | 0.014 | 0.172 | |
| awblinmod | 12.466 | 0.077 | 12.594 | |
| biplot | 1.142 | 0.018 | 1.168 | |
| biplot_corrections | 1.044 | 0.014 | 1.058 | |
| biplot_covariates | 2.161 | 0.018 | 2.186 | |
| block2limma | 0.001 | 0.000 | 0.001 | |
| block2lm | 0.001 | 0.000 | 0.001 | |
| block2lme | 0.000 | 0.000 | 0.001 | |
| block2lmer | 0.000 | 0.000 | 0.001 | |
| block_has_two_levels | 0.199 | 0.016 | 0.216 | |
| center | 0.557 | 0.007 | 0.565 | |
| code | 1.403 | 0.017 | 1.468 | |
| collapsed_entrezg_to_symbol | 0.335 | 0.022 | 0.357 | |
| contrast_subgroup_cols | 0.193 | 0.016 | 0.209 | |
| contrastdt | 0.177 | 0.001 | 0.179 | |
| count_in | 0 | 0 | 0 | |
| counts | 0.096 | 0.000 | 0.097 | |
| counts2cpm | 0.1 | 0.0 | 0.1 | |
| counts2tpm | 0.083 | 0.001 | 0.083 | |
| cpm | 0.104 | 0.001 | 0.106 | |
| create_design | 0.257 | 0.014 | 0.270 | |
| default_formula | 5.543 | 0.300 | 5.785 | |
| default_geom | 0.146 | 0.012 | 0.161 | |
| default_sfile | 0 | 0 | 0 | |
| demultiplex | 0.004 | 0.000 | 0.004 | |
| densities | 0.070 | 0.005 | 0.074 | |
| dequantify | 0.001 | 0.000 | 0.001 | |
| dequantify_compounddiscoverer | 0.000 | 0.000 | 0.001 | |
| dot-coxph | 0.135 | 0.017 | 0.162 | |
| dot-merge | 0.009 | 0.001 | 0.009 | |
| dot-read_maxquant_proteingroups | 0.048 | 0.003 | 0.061 | |
| download_data | 0.000 | 0.000 | 0.001 | |
| download_gtf | 0 | 0 | 0 | |
| download_mcclain21 | 0.000 | 0.000 | 0.001 | |
| dt2mat | 0.001 | 0.001 | 0.001 | |
| enrichment | 0.347 | 0.006 | 0.362 | |
| entrezg_to_symbol | 0.056 | 0.002 | 0.058 | |
| explore-transforms | 3.430 | 0.051 | 3.489 | |
| extract_contrast_features | 1.239 | 0.017 | 1.256 | |
| extract_rectangle | 0.043 | 0.015 | 0.058 | |
| factor.vars | 0.048 | 0.000 | 0.049 | |
| factorize | 0.212 | 0.004 | 0.217 | |
| fcluster | 2.699 | 0.019 | 2.752 | |
| fcor | 0.479 | 0.010 | 0.506 | |
| fdata | 0.165 | 0.004 | 0.170 | |
| fdr2p | 0.253 | 0.014 | 0.267 | |
| filter_exprs_replicated_in_some_subgroup | 0.281 | 0.015 | 0.296 | |
| filter_features | 0.154 | 0.016 | 0.184 | |
| filter_medoid | 0.179 | 0.001 | 0.181 | |
| filter_samples | 0.157 | 0.016 | 0.179 | |
| fit_survival | 3.135 | 0.064 | 3.275 | |
| fits | 0.086 | 0.000 | 0.087 | |
| fix_xlgenes | 0.000 | 0.000 | 0.001 | |
| flevels | 0.118 | 0.002 | 0.121 | |
| fnames | 0.129 | 0.003 | 0.131 | |
| formula2str | 0 | 0 | 0 | |
| ftype | 2.457 | 0.153 | 2.689 | |
| fvalues | 0.117 | 0.001 | 0.119 | |
| fvars | 0.117 | 0.002 | 0.119 | |
| genome_to_orgdb | 0.001 | 0.000 | 0.000 | |
| group_by_level | 0.000 | 0.000 | 0.001 | |
| guess_compounddiscoverer_quantity | 0 | 0 | 0 | |
| guess_fitsep | 0.128 | 0.001 | 0.130 | |
| guess_maxquant_quantity | 0.001 | 0.001 | 0.002 | |
| guess_sep | 0.166 | 0.015 | 0.181 | |
| has_multiple_levels | 0.017 | 0.001 | 0.018 | |
| hdlproteins | 0.021 | 0.013 | 0.035 | |
| impute | 1.027 | 0.010 | 1.041 | |
| invert_subgroups | 0.193 | 0.004 | 0.198 | |
| is_character_matrix | 0.039 | 0.001 | 0.039 | |
| is_collapsed_subset | 0 | 0 | 0 | |
| is_compounddiscoverer_output | 0.027 | 0.008 | 0.059 | |
| is_correlation_matrix | 0.001 | 0.001 | 0.000 | |
| is_diann_report | 0.053 | 0.005 | 0.050 | |
| is_fastadt | 0.019 | 0.000 | 0.019 | |
| is_file | 0.001 | 0.000 | 0.000 | |
| is_fraction | 0.000 | 0.000 | 0.001 | |
| is_fragpipe_tsv | 0.037 | 0.003 | 0.032 | |
| is_imputed | 0.205 | 0.001 | 0.207 | |
| is_maxquant_phosphosites | 0.026 | 0.002 | 0.028 | |
| is_maxquant_proteingroups | 0.027 | 0.003 | 0.027 | |
| is_positive_number | 0.001 | 0.001 | 0.000 | |
| is_scalar_subset | 0.112 | 0.001 | 0.114 | |
| is_sig | 0.391 | 0.002 | 0.392 | |
| is_valid_formula | 0.031 | 0.000 | 0.031 | |
| keep_estimable_features | 0.222 | 0.018 | 0.251 | |
| label2index | 0.001 | 0.000 | 0.001 | |
| list2mat | 0 | 0 | 0 | |
| log2counts | 0.089 | 0.000 | 0.089 | |
| log2cpm | 0.112 | 0.001 | 0.112 | |
| log2diffs | 0.093 | 0.001 | 0.094 | |
| log2proteins | 0.092 | 0.002 | 0.094 | |
| log2sites | 0.093 | 0.002 | 0.095 | |
| log2tpm | 0.089 | 0.001 | 0.090 | |
| log2transform | 1.539 | 0.023 | 1.566 | |
| logical2factor | 0.000 | 0.001 | 0.000 | |
| make_alpha_palette | 0.157 | 0.016 | 0.185 | |
| make_colors | 0.005 | 0.001 | 0.005 | |
| make_volcano_dt | 0.279 | 0.002 | 0.285 | |
| map_fvalues | 0.110 | 0.002 | 0.111 | |
| matrix2sumexp | 0.318 | 0.024 | 0.350 | |
| mclust_breaks | 0.191 | 0.019 | 0.209 | |
| merge_sample_file | 0.185 | 0.004 | 0.189 | |
| merge_sdata | 0.177 | 0.017 | 0.198 | |
| message_df | 0.001 | 0.000 | 0.001 | |
| model_coefs | 0.213 | 0.014 | 0.229 | |
| modelvar | 1.003 | 0.017 | 1.028 | |
| object1 | 0.158 | 0.001 | 0.160 | |
| order_on_p | 0.402 | 0.020 | 0.430 | |
| overall_parameters | 0.009 | 0.000 | 0.009 | |
| pca | 1.007 | 0.019 | 1.037 | |
| pg_to_canonical | 0.002 | 0.000 | 0.001 | |
| plot_coef_densities | 0.419 | 0.017 | 0.437 | |
| plot_contrast_venn | 0.705 | 0.017 | 0.737 | |
| plot_contrastogram | 0.943 | 0.042 | 0.989 | |
| plot_data | 0.507 | 0.021 | 0.557 | |
| plot_densities | 3.251 | 0.108 | 3.394 | |
| plot_design | 0.236 | 0.002 | 0.239 | |
| plot_detections | 2.288 | 0.009 | 2.341 | |
| plot_exprs | 6.431 | 0.045 | 6.672 | |
| plot_exprs_per_coef | 6.295 | 0.052 | 6.572 | |
| plot_fit_summary | 0.722 | 0.020 | 0.782 | |
| plot_heatmap | 0.646 | 0.002 | 0.656 | |
| plot_matrix | 0.183 | 0.015 | 0.200 | |
| plot_subgroup_points | 1.897 | 0.022 | 2.024 | |
| plot_summary | 4.546 | 0.035 | 4.731 | |
| plot_venn | 0.008 | 0.001 | 0.009 | |
| plot_venn_heatmap | 0.006 | 0.002 | 0.008 | |
| plot_violins | 1.429 | 0.043 | 1.516 | |
| plot_volcano | 3.617 | 0.037 | 3.670 | |
| plot_xy_density | 1.897 | 0.021 | 1.931 | |
| preprocess_rnaseq_counts | 0.098 | 0.001 | 0.103 | |
| pull_columns | 0.001 | 0.000 | 0.001 | |
| pvalues_estimable | 0.011 | 0.001 | 0.013 | |
| read_affymetrix | 0.000 | 0.001 | 0.000 | |
| read_diann_proteingroups | 33.955 | 1.059 | 34.074 | |
| read_fragpipe | 2.448 | 0.104 | 2.512 | |
| read_maxquant_phosphosites | 0.458 | 0.008 | 0.466 | |
| read_maxquant_proteingroups | 0.346 | 0.005 | 0.355 | |
| read_metabolon | 3.693 | 0.056 | 3.780 | |
| read_msigdt | 0 | 0 | 0 | |
| read_olink | 0.502 | 0.023 | 0.527 | |
| read_rectangles | 0.069 | 0.007 | 0.077 | |
| read_rnaseq_counts | 9.603 | 0.837 | 10.518 | |
| read_salmon | 0 | 0 | 0 | |
| read_somascan | 3.766 | 0.008 | 3.819 | |
| read_uniprotdt | 0.120 | 0.007 | 0.128 | |
| reset_fit | 1.304 | 0.024 | 1.362 | |
| rm_diann_contaminants | 7.247 | 0.188 | 7.275 | |
| rm_missing_in_some_samples | 0.144 | 0.018 | 0.163 | |
| rm_unmatched_samples | 0.197 | 0.006 | 0.204 | |
| sbind | 1.186 | 0.005 | 1.207 | |
| scaledlibsizes | 0.106 | 0.001 | 0.106 | |
| scoremat | 0.234 | 0.012 | 0.255 | |
| slevels | 0.197 | 0.046 | 0.242 | |
| snames | 0.123 | 0.001 | 0.124 | |
| split_extract_fixed | 0.153 | 0.013 | 0.192 | |
| split_samples | 0.362 | 0.020 | 0.384 | |
| stepauc | 0.094 | 0.001 | 0.095 | |
| stri_any_regex | 0 | 0 | 0 | |
| stri_detect_fixed_in_collapsed | 0.116 | 0.001 | 0.118 | |
| subgroup_matrix | 0.154 | 0.019 | 0.179 | |
| subtract_baseline | 1.403 | 0.022 | 1.455 | |
| sumexp_to_longdt | 0.564 | 0.022 | 0.614 | |
| sumexp_to_tsv | 0.135 | 0.002 | 0.144 | |
| sumexplist_to_longdt | 0.460 | 0.006 | 0.496 | |
| summarize_fit | 0.475 | 0.020 | 0.508 | |
| survobj | 0.042 | 0.000 | 0.042 | |
| svalues | 0.151 | 0.003 | 0.160 | |
| svars | 0.116 | 0.001 | 0.122 | |
| systematic_nas | 0.149 | 0.002 | 0.154 | |
| tag_features | 0.351 | 0.012 | 0.370 | |
| tag_hdlproteins | 0.166 | 0.013 | 0.202 | |
| taxon2org | 0.000 | 0.000 | 0.001 | |
| tpm | 0.130 | 0.002 | 0.143 | |
| uncollapse | 0.009 | 0.000 | 0.009 | |
| values | 0.125 | 0.003 | 0.137 | |
| varlevels_dont_clash | 0.009 | 0.001 | 0.012 | |
| venn_detects | 0.156 | 0.005 | 0.164 | |
| weights | 0.122 | 0.001 | 0.130 | |
| write_xl | 51.640 | 2.312 | 55.934 | |
| zero_to_na | 0.000 | 0.001 | 0.005 | |