| Back to Multiple platform build/check report for BioC 3.22: simplified long |
|
This page was generated on 2025-11-11 12:02 -0500 (Tue, 11 Nov 2025).
| Hostname | OS | Arch (*) | R version | Installed pkgs |
|---|---|---|---|---|
| nebbiolo2 | Linux (Ubuntu 24.04.3 LTS) | x86_64 | 4.5.1 Patched (2025-08-23 r88802) -- "Great Square Root" | 4902 |
| kjohnson3 | macOS 13.7.7 Ventura | arm64 | 4.5.1 Patched (2025-09-10 r88807) -- "Great Square Root" | 4638 |
| Click on any hostname to see more info about the system (e.g. compilers) (*) as reported by 'uname -p', except on Windows and Mac OS X | ||||
| Package 119/2361 | Hostname | OS / Arch | INSTALL | BUILD | CHECK | BUILD BIN | ||||||||
| autonomics 1.18.0 (landing page) Aditya Bhagwat
| nebbiolo2 | Linux (Ubuntu 24.04.3 LTS) / x86_64 | OK | OK | OK | |||||||||
| kjohnson3 | macOS 13.7.7 Ventura / arm64 | OK | OK | OK | OK | |||||||||
|
To the developers/maintainers of the autonomics package: - Allow up to 24 hours (and sometimes 48 hours) for your latest push to git@git.bioconductor.org:packages/autonomics.git to reflect on this report. See Troubleshooting Build Report for more information. - Use the following Renviron settings to reproduce errors and warnings. - If 'R CMD check' started to fail recently on the Linux builder(s) over a missing dependency, add the missing dependency to 'Suggests:' in your DESCRIPTION file. See Renviron.bioc for more information. |
| Package: autonomics |
| Version: 1.18.0 |
| Command: /home/biocbuild/bbs-3.22-bioc/R/bin/R CMD check --install=check:autonomics.install-out.txt --library=/home/biocbuild/bbs-3.22-bioc/R/site-library --timings autonomics_1.18.0.tar.gz |
| StartedAt: 2025-11-10 21:18:38 -0500 (Mon, 10 Nov 2025) |
| EndedAt: 2025-11-10 21:39:34 -0500 (Mon, 10 Nov 2025) |
| EllapsedTime: 1255.3 seconds |
| RetCode: 0 |
| Status: OK |
| CheckDir: autonomics.Rcheck |
| Warnings: 0 |
##############################################################################
##############################################################################
###
### Running command:
###
### /home/biocbuild/bbs-3.22-bioc/R/bin/R CMD check --install=check:autonomics.install-out.txt --library=/home/biocbuild/bbs-3.22-bioc/R/site-library --timings autonomics_1.18.0.tar.gz
###
##############################################################################
##############################################################################
* using log directory ‘/home/biocbuild/bbs-3.22-bioc/meat/autonomics.Rcheck’
* using R version 4.5.1 Patched (2025-08-23 r88802)
* using platform: x86_64-pc-linux-gnu
* R was compiled by
gcc (Ubuntu 13.3.0-6ubuntu2~24.04) 13.3.0
GNU Fortran (Ubuntu 13.3.0-6ubuntu2~24.04) 13.3.0
* running under: Ubuntu 24.04.3 LTS
* using session charset: UTF-8
* checking for file ‘autonomics/DESCRIPTION’ ... OK
* checking extension type ... Package
* this is package ‘autonomics’ version ‘1.18.0’
* package encoding: UTF-8
* checking package namespace information ... OK
* checking package dependencies ... INFO
Imports includes 32 non-default packages.
Importing from so many packages makes the package vulnerable to any of
them becoming unavailable. Move as many as possible to Suggests and
use conditionally.
* checking if this is a source package ... OK
* checking if there is a namespace ... OK
* checking for hidden files and directories ... NOTE
Found the following hidden files and directories:
.BBSoptions
These were most likely included in error. See section ‘Package
structure’ in the ‘Writing R Extensions’ manual.
* checking for portable file names ... OK
* checking for sufficient/correct file permissions ... OK
* checking whether package ‘autonomics’ can be installed ... OK
* checking installed package size ... OK
* checking package directory ... OK
* checking ‘build’ directory ... OK
* checking DESCRIPTION meta-information ... OK
* checking top-level files ... OK
* checking for left-over files ... OK
* checking index information ... OK
* checking package subdirectories ... OK
* checking code files for non-ASCII characters ... OK
* checking R files for syntax errors ... OK
* checking whether the package can be loaded ... OK
* checking whether the package can be loaded with stated dependencies ... OK
* checking whether the package can be unloaded cleanly ... OK
* checking whether the namespace can be loaded with stated dependencies ... OK
* checking whether the namespace can be unloaded cleanly ... OK
* checking loading without being on the library search path ... OK
* checking dependencies in R code ... OK
* checking S3 generic/method consistency ... OK
* checking replacement functions ... OK
* checking foreign function calls ... OK
* checking R code for possible problems ... OK
* checking Rd files ... OK
* checking Rd metadata ... OK
* checking Rd cross-references ... NOTE
Non-topic package-anchored link(s) in Rd file 'reexports.Rd':
‘[magrittr:compound]{%<>%}’ ‘[magrittr:pipe]{%>%}’
‘[magrittr:aliases]{extract}’
See section 'Cross-references' in the 'Writing R Extensions' manual.
* checking for missing documentation entries ... OK
* checking for code/documentation mismatches ... OK
* checking Rd \usage sections ... OK
* checking Rd contents ... OK
* checking for unstated dependencies in examples ... OK
* checking files in ‘vignettes’ ... OK
* checking examples ... OK
Examples with CPU (user + system) or elapsed time > 5s
user system elapsed
write_xl 170.216 3.158 173.405
read_diann_proteingroups 107.798 1.383 103.432
awblinmod 43.987 0.222 42.804
read_rnaseq_counts 32.210 1.533 33.695
LINMOD 26.088 0.582 26.116
rm_diann_contaminants 23.434 0.269 22.161
plot_exprs 22.956 0.035 22.825
plot_exprs_per_coef 21.570 0.017 21.453
default_formula 18.993 0.559 19.122
plot_summary 15.967 0.109 15.984
analyze 14.266 0.123 14.275
read_somascan 13.735 0.104 13.788
plot_volcano 13.486 0.078 13.487
read_metabolon 13.219 0.006 13.141
fit_survival 11.801 0.069 11.877
plot_densities 11.500 0.114 11.518
explore-transforms 11.459 0.119 11.579
fcluster 9.346 0.061 9.347
ftype 8.982 0.045 8.705
plot_detections 8.281 0.069 8.293
read_fragpipe 7.266 0.076 7.051
biplot_covariates 6.878 0.041 6.897
plot_xy_density 6.462 0.071 6.533
plot_subgroup_points 6.288 0.006 6.255
log2transform 5.700 0.033 5.733
subtract_baseline 5.569 0.023 5.542
* checking for unstated dependencies in ‘tests’ ... OK
* checking tests ...
Running ‘testthat.R’
OK
* checking for unstated dependencies in vignettes ... OK
* checking package vignettes ... OK
* checking re-building of vignette outputs ... OK
* checking PDF version of manual ... OK
* DONE
Status: 2 NOTEs
See
‘/home/biocbuild/bbs-3.22-bioc/meat/autonomics.Rcheck/00check.log’
for details.
autonomics.Rcheck/00install.out
############################################################################## ############################################################################## ### ### Running command: ### ### /home/biocbuild/bbs-3.22-bioc/R/bin/R CMD INSTALL autonomics ### ############################################################################## ############################################################################## * installing to library ‘/home/biocbuild/bbs-3.22-bioc/R/site-library’ * installing *source* package ‘autonomics’ ... ** this is package ‘autonomics’ version ‘1.18.0’ ** using staged installation ** R ** inst ** byte-compile and prepare package for lazy loading Note: wrong number of arguments to 'seq_along' Note: wrong number of arguments to 'sqrt' ** help *** installing help indices ** building package indices ** installing vignettes ** testing if installed package can be loaded from temporary location ** testing if installed package can be loaded from final location ** testing if installed package keeps a record of temporary installation path * DONE (autonomics)
autonomics.Rcheck/tests/testthat.Rout
R version 4.5.1 Patched (2025-08-23 r88802) -- "Great Square Root"
Copyright (C) 2025 The R Foundation for Statistical Computing
Platform: x86_64-pc-linux-gnu
R is free software and comes with ABSOLUTELY NO WARRANTY.
You are welcome to redistribute it under certain conditions.
Type 'license()' or 'licence()' for distribution details.
R is a collaborative project with many contributors.
Type 'contributors()' for more information and
'citation()' on how to cite R or R packages in publications.
Type 'demo()' for some demos, 'help()' for on-line help, or
'help.start()' for an HTML browser interface to help.
Type 'q()' to quit R.
> library(testthat)
> library(autonomics)
Attaching package: 'autonomics'
The following objects are masked from 'package:stats':
biplot, loadings
The following object is masked from 'package:base':
beta
>
> test_check("autonomics")
[ FAIL 0 | WARN 3 | SKIP 0 | PASS 158 ]
[ FAIL 0 | WARN 3 | SKIP 0 | PASS 158 ]
>
> proc.time()
user system elapsed
137.740 4.254 139.374
autonomics.Rcheck/autonomics-Ex.timings
| name | user | system | elapsed | |
| AUTONOMICS_DATASETS | 0 | 0 | 0 | |
| COMPOUNDDISCOVERER_PATTERNS | 0 | 0 | 0 | |
| LINMOD | 26.088 | 0.582 | 26.116 | |
| LINMODENGINES | 0 | 0 | 0 | |
| MAXQUANT_PATTERNS | 0.000 | 0.000 | 0.001 | |
| TAXON_TO_ORGNAME | 0 | 0 | 0 | |
| TESTS | 0 | 0 | 0 | |
| X | 1.265 | 0.015 | 1.259 | |
| abstract_fit | 1.081 | 0.010 | 1.054 | |
| add_adjusted_pvalues | 0.526 | 0.012 | 0.539 | |
| add_assay_means | 0.380 | 0.005 | 0.385 | |
| add_facetvars | 1.459 | 0.004 | 1.440 | |
| add_opentargets_by_uniprot | 0.410 | 0.002 | 0.413 | |
| add_psp | 0.495 | 0.004 | 0.501 | |
| add_smiles | 0.514 | 0.008 | 0.500 | |
| all_non_numeric | 0.616 | 0.000 | 0.616 | |
| analysis | 0.420 | 0.001 | 0.420 | |
| analyze | 14.266 | 0.123 | 14.275 | |
| annotate_maxquant | 1.179 | 0.022 | 1.202 | |
| annotate_uniprot_rest | 0.386 | 0.020 | 1.904 | |
| assert_is_valid_sumexp | 0.606 | 0.010 | 0.576 | |
| awblinmod | 43.987 | 0.222 | 42.804 | |
| biplot | 3.719 | 0.009 | 3.699 | |
| biplot_corrections | 3.457 | 0.011 | 3.446 | |
| biplot_covariates | 6.878 | 0.041 | 6.897 | |
| block2limma | 0.001 | 0.001 | 0.002 | |
| block2lm | 0.004 | 0.000 | 0.003 | |
| block2lme | 0.003 | 0.000 | 0.002 | |
| block2lmer | 0.005 | 0.000 | 0.005 | |
| block_has_two_levels | 0.650 | 0.004 | 0.617 | |
| center | 1.835 | 0.006 | 1.838 | |
| code | 4.743 | 0.013 | 4.734 | |
| collapsed_entrezg_to_symbol | 0.954 | 0.080 | 1.033 | |
| contrast_subgroup_cols | 0.666 | 0.015 | 0.650 | |
| contrastdt | 0.607 | 0.000 | 0.607 | |
| count_in | 0.001 | 0.000 | 0.001 | |
| counts | 0.369 | 0.002 | 0.370 | |
| counts2cpm | 0.289 | 0.000 | 0.289 | |
| counts2tpm | 0.328 | 0.002 | 0.330 | |
| cpm | 0.295 | 0.001 | 0.296 | |
| create_design | 0.887 | 0.012 | 0.860 | |
| default_formula | 18.993 | 0.559 | 19.122 | |
| default_geom | 0.485 | 0.011 | 0.463 | |
| default_sfile | 0.002 | 0.000 | 0.002 | |
| demultiplex | 0.014 | 0.000 | 0.014 | |
| densities | 0.234 | 0.000 | 0.235 | |
| dequantify | 0.002 | 0.000 | 0.003 | |
| dequantify_compounddiscoverer | 0.001 | 0.000 | 0.001 | |
| dot-coxph | 0.408 | 0.040 | 0.448 | |
| dot-merge | 0.020 | 0.003 | 0.022 | |
| dot-read_maxquant_proteingroups | 0.120 | 0.014 | 0.135 | |
| download_data | 0 | 0 | 0 | |
| download_gtf | 0 | 0 | 0 | |
| download_mcclain21 | 0.000 | 0.000 | 0.001 | |
| dt2mat | 0.002 | 0.001 | 0.004 | |
| enrichment | 1.208 | 0.048 | 1.257 | |
| entrezg_to_symbol | 0.149 | 0.002 | 0.152 | |
| explore-transforms | 11.459 | 0.119 | 11.579 | |
| extract_contrast_features | 4.538 | 0.007 | 4.522 | |
| extract_rectangle | 0.114 | 0.007 | 0.121 | |
| factor.vars | 0.193 | 0.001 | 0.193 | |
| factorize | 0.759 | 0.009 | 0.768 | |
| fcluster | 9.346 | 0.061 | 9.347 | |
| fcor | 1.476 | 0.017 | 1.494 | |
| fdata | 0.597 | 0.007 | 0.605 | |
| fdr2p | 0.970 | 0.010 | 0.958 | |
| filter_exprs_replicated_in_some_subgroup | 1.160 | 0.007 | 1.058 | |
| filter_features | 0.539 | 0.008 | 0.509 | |
| filter_medoid | 0.633 | 0.000 | 0.634 | |
| filter_samples | 0.537 | 0.007 | 0.520 | |
| fit_survival | 11.801 | 0.069 | 11.877 | |
| fits | 0.326 | 0.000 | 0.326 | |
| fix_xlgenes | 0.001 | 0.000 | 0.002 | |
| flevels | 0.437 | 0.001 | 0.438 | |
| fnames | 0.543 | 0.006 | 0.549 | |
| formula2str | 0 | 0 | 0 | |
| ftype | 8.982 | 0.045 | 8.705 | |
| fvalues | 0.392 | 0.003 | 0.395 | |
| fvars | 0.398 | 0.003 | 0.401 | |
| genome_to_orgdb | 0.000 | 0.000 | 0.001 | |
| group_by_level | 0.001 | 0.001 | 0.001 | |
| guess_compounddiscoverer_quantity | 0.001 | 0.000 | 0.001 | |
| guess_fitsep | 0.487 | 0.001 | 0.488 | |
| guess_maxquant_quantity | 0.006 | 0.000 | 0.006 | |
| guess_sep | 0.593 | 0.004 | 0.557 | |
| has_multiple_levels | 0.052 | 0.002 | 0.054 | |
| hdlproteins | 0.054 | 0.003 | 0.060 | |
| impute | 3.593 | 0.008 | 3.601 | |
| invert_subgroups | 0.725 | 0.000 | 0.726 | |
| is_character_matrix | 0.141 | 0.000 | 0.142 | |
| is_collapsed_subset | 0.000 | 0.000 | 0.001 | |
| is_compounddiscoverer_output | 0.109 | 0.057 | 0.214 | |
| is_correlation_matrix | 0.001 | 0.000 | 0.001 | |
| is_diann_report | 0.186 | 0.015 | 0.128 | |
| is_fastadt | 0.077 | 0.000 | 0.067 | |
| is_file | 0.000 | 0.000 | 0.001 | |
| is_fraction | 0.001 | 0.000 | 0.001 | |
| is_fragpipe_tsv | 0.138 | 0.012 | 0.093 | |
| is_imputed | 0.745 | 0.004 | 0.740 | |
| is_maxquant_phosphosites | 0.093 | 0.004 | 0.070 | |
| is_maxquant_proteingroups | 0.087 | 0.007 | 0.064 | |
| is_positive_number | 0.001 | 0.001 | 0.002 | |
| is_scalar_subset | 0.408 | 0.001 | 0.409 | |
| is_sig | 1.459 | 0.003 | 1.461 | |
| is_valid_formula | 0.103 | 0.000 | 0.102 | |
| keep_estimable_features | 0.83 | 0.01 | 0.77 | |
| label2index | 0.000 | 0.000 | 0.001 | |
| list2mat | 0.001 | 0.000 | 0.001 | |
| log2counts | 0.345 | 0.002 | 0.347 | |
| log2cpm | 0.455 | 0.000 | 0.455 | |
| log2diffs | 0.331 | 0.000 | 0.331 | |
| log2proteins | 0.312 | 0.002 | 0.314 | |
| log2sites | 0.329 | 0.004 | 0.333 | |
| log2tpm | 0.361 | 0.001 | 0.361 | |
| log2transform | 5.700 | 0.033 | 5.733 | |
| logical2factor | 0.001 | 0.000 | 0.001 | |
| make_alpha_palette | 0.565 | 0.005 | 0.539 | |
| make_colors | 0.010 | 0.001 | 0.011 | |
| make_volcano_dt | 0.961 | 0.003 | 0.964 | |
| map_fvalues | 0.414 | 0.004 | 0.418 | |
| matrix2sumexp | 1.188 | 0.009 | 1.173 | |
| mclust_breaks | 0.547 | 0.010 | 0.558 | |
| merge_sample_file | 0.653 | 0.010 | 0.663 | |
| merge_sdata | 0.612 | 0.005 | 0.578 | |
| message_df | 0.002 | 0.000 | 0.002 | |
| model_coefs | 0.832 | 0.009 | 0.799 | |
| modelvar | 3.787 | 0.032 | 3.766 | |
| object1 | 0.566 | 0.003 | 0.569 | |
| order_on_p | 1.487 | 0.008 | 1.464 | |
| overall_parameters | 0.029 | 0.001 | 0.029 | |
| pca | 3.722 | 0.007 | 3.691 | |
| pg_to_canonical | 0.005 | 0.000 | 0.006 | |
| plot_coef_densities | 1.529 | 0.013 | 1.518 | |
| plot_contrast_venn | 2.709 | 0.057 | 2.620 | |
| plot_contrastogram | 3.269 | 0.019 | 3.216 | |
| plot_data | 1.890 | 0.012 | 1.867 | |
| plot_densities | 11.500 | 0.114 | 11.518 | |
| plot_design | 0.857 | 0.004 | 0.861 | |
| plot_detections | 8.281 | 0.069 | 8.293 | |
| plot_exprs | 22.956 | 0.035 | 22.825 | |
| plot_exprs_per_coef | 21.570 | 0.017 | 21.453 | |
| plot_fit_summary | 2.395 | 0.011 | 2.310 | |
| plot_heatmap | 2.109 | 0.004 | 2.113 | |
| plot_matrix | 0.526 | 0.003 | 0.506 | |
| plot_subgroup_points | 6.288 | 0.006 | 6.255 | |
| plot_summary | 15.967 | 0.109 | 15.984 | |
| plot_venn | 0.016 | 0.001 | 0.017 | |
| plot_venn_heatmap | 0.023 | 0.000 | 0.023 | |
| plot_violins | 4.892 | 0.025 | 4.877 | |
| plot_volcano | 13.486 | 0.078 | 13.487 | |
| plot_xy_density | 6.462 | 0.071 | 6.533 | |
| preprocess_rnaseq_counts | 0.320 | 0.002 | 0.322 | |
| pull_columns | 0.003 | 0.000 | 0.003 | |
| pvalues_estimable | 0.041 | 0.000 | 0.041 | |
| read_affymetrix | 0 | 0 | 0 | |
| read_diann_proteingroups | 107.798 | 1.383 | 103.432 | |
| read_fragpipe | 7.266 | 0.076 | 7.051 | |
| read_maxquant_phosphosites | 1.513 | 0.005 | 1.517 | |
| read_maxquant_proteingroups | 1.168 | 0.002 | 1.171 | |
| read_metabolon | 13.219 | 0.006 | 13.141 | |
| read_msigdt | 0.001 | 0.000 | 0.001 | |
| read_olink | 1.448 | 0.009 | 1.387 | |
| read_rectangles | 0.178 | 0.007 | 0.185 | |
| read_rnaseq_counts | 32.210 | 1.533 | 33.695 | |
| read_salmon | 0 | 0 | 0 | |
| read_somascan | 13.735 | 0.104 | 13.788 | |
| read_uniprotdt | 0.316 | 0.005 | 0.321 | |
| reset_fit | 4.898 | 0.016 | 4.831 | |
| rm_diann_contaminants | 23.434 | 0.269 | 22.161 | |
| rm_missing_in_some_samples | 0.492 | 0.005 | 0.476 | |
| rm_unmatched_samples | 0.698 | 0.000 | 0.698 | |
| sbind | 4.696 | 0.037 | 4.733 | |
| scaledlibsizes | 0.318 | 0.000 | 0.317 | |
| scoremat | 0.998 | 0.004 | 0.981 | |
| slevels | 0.421 | 0.003 | 0.424 | |
| snames | 0.435 | 0.003 | 0.438 | |
| split_extract_fixed | 0.662 | 0.004 | 0.643 | |
| split_samples | 1.303 | 0.005 | 1.286 | |
| stepauc | 0.322 | 0.000 | 0.321 | |
| stri_any_regex | 0 | 0 | 0 | |
| stri_detect_fixed_in_collapsed | 0.354 | 0.001 | 0.355 | |
| subgroup_matrix | 0.682 | 0.007 | 0.666 | |
| subtract_baseline | 5.569 | 0.023 | 5.542 | |
| sumexp_to_longdt | 2.012 | 0.034 | 1.993 | |
| sumexp_to_tsv | 0.602 | 0.027 | 0.629 | |
| sumexplist_to_longdt | 1.661 | 0.015 | 1.675 | |
| summarize_fit | 1.864 | 0.014 | 1.821 | |
| survobj | 0.152 | 0.000 | 0.151 | |
| svalues | 0.492 | 0.003 | 0.495 | |
| svars | 0.419 | 0.000 | 0.418 | |
| systematic_nas | 0.680 | 0.046 | 0.726 | |
| tag_features | 1.329 | 0.019 | 1.350 | |
| tag_hdlproteins | 0.632 | 0.004 | 0.636 | |
| taxon2org | 0.001 | 0.000 | 0.001 | |
| tpm | 0.320 | 0.001 | 0.321 | |
| uncollapse | 0.026 | 0.001 | 0.027 | |
| values | 0.441 | 0.001 | 0.443 | |
| varlevels_dont_clash | 0.020 | 0.003 | 0.022 | |
| venn_detects | 0.730 | 0.002 | 0.732 | |
| weights | 0.324 | 0.000 | 0.325 | |
| write_xl | 170.216 | 3.158 | 173.405 | |
| zero_to_na | 0.001 | 0.000 | 0.002 | |