| Back to Multiple platform build/check report for BioC 3.21: simplified long |
|
This page was generated on 2025-04-22 13:18 -0400 (Tue, 22 Apr 2025).
| Hostname | OS | Arch (*) | R version | Installed pkgs |
|---|---|---|---|---|
| nebbiolo1 | Linux (Ubuntu 24.04.1 LTS) | x86_64 | 4.5.0 RC (2025-04-04 r88126) -- "How About a Twenty-Six" | 4831 |
| palomino7 | Windows Server 2022 Datacenter | x64 | 4.5.0 RC (2025-04-04 r88126 ucrt) -- "How About a Twenty-Six" | 4573 |
| lconway | macOS 12.7.1 Monterey | x86_64 | 4.5.0 RC (2025-04-04 r88126) -- "How About a Twenty-Six" | 4599 |
| kjohnson3 | macOS 13.7.1 Ventura | arm64 | 4.5.0 RC (2025-04-04 r88126) -- "How About a Twenty-Six" | 4553 |
| kunpeng2 | Linux (openEuler 24.03 LTS) | aarch64 | R Under development (unstable) (2025-02-19 r87757) -- "Unsuffered Consequences" | 4570 |
| Click on any hostname to see more info about the system (e.g. compilers) (*) as reported by 'uname -p', except on Windows and Mac OS X | ||||
| Package 1087/2341 | Hostname | OS / Arch | INSTALL | BUILD | CHECK | BUILD BIN | ||||||||
| IsoformSwitchAnalyzeR 2.8.0 (landing page) Kristoffer Vitting-Seerup
| nebbiolo1 | Linux (Ubuntu 24.04.1 LTS) / x86_64 | OK | OK | OK | |||||||||
| palomino7 | Windows Server 2022 Datacenter / x64 | OK | OK | OK | OK | |||||||||
| lconway | macOS 12.7.1 Monterey / x86_64 | OK | OK | OK | OK | |||||||||
| kjohnson3 | macOS 13.7.1 Ventura / arm64 | OK | OK | OK | OK | |||||||||
| kunpeng2 | Linux (openEuler 24.03 LTS) / aarch64 | OK | OK | OK | ||||||||||
|
To the developers/maintainers of the IsoformSwitchAnalyzeR package: - Allow up to 24 hours (and sometimes 48 hours) for your latest push to git@git.bioconductor.org:packages/IsoformSwitchAnalyzeR.git to reflect on this report. See Troubleshooting Build Report for more information. - Use the following Renviron settings to reproduce errors and warnings. - If 'R CMD check' started to fail recently on the Linux builder(s) over a missing dependency, add the missing dependency to 'Suggests:' in your DESCRIPTION file. See Renviron.bioc for more information. |
| Package: IsoformSwitchAnalyzeR |
| Version: 2.8.0 |
| Command: /Library/Frameworks/R.framework/Resources/bin/R CMD check --install=check:IsoformSwitchAnalyzeR.install-out.txt --library=/Library/Frameworks/R.framework/Resources/library --no-vignettes --timings IsoformSwitchAnalyzeR_2.8.0.tar.gz |
| StartedAt: 2025-04-21 20:00:18 -0400 (Mon, 21 Apr 2025) |
| EndedAt: 2025-04-21 20:04:28 -0400 (Mon, 21 Apr 2025) |
| EllapsedTime: 250.3 seconds |
| RetCode: 0 |
| Status: OK |
| CheckDir: IsoformSwitchAnalyzeR.Rcheck |
| Warnings: 0 |
##############################################################################
##############################################################################
###
### Running command:
###
### /Library/Frameworks/R.framework/Resources/bin/R CMD check --install=check:IsoformSwitchAnalyzeR.install-out.txt --library=/Library/Frameworks/R.framework/Resources/library --no-vignettes --timings IsoformSwitchAnalyzeR_2.8.0.tar.gz
###
##############################################################################
##############################################################################
* using log directory ‘/Users/biocbuild/bbs-3.21-bioc/meat/IsoformSwitchAnalyzeR.Rcheck’
* using R version 4.5.0 RC (2025-04-04 r88126)
* using platform: aarch64-apple-darwin20
* R was compiled by
Apple clang version 14.0.0 (clang-1400.0.29.202)
GNU Fortran (GCC) 14.2.0
* running under: macOS Ventura 13.7.1
* using session charset: UTF-8
* using option ‘--no-vignettes’
* checking for file ‘IsoformSwitchAnalyzeR/DESCRIPTION’ ... OK
* checking extension type ... Package
* this is package ‘IsoformSwitchAnalyzeR’ version ‘2.8.0’
* checking package namespace information ... OK
* checking package dependencies ... INFO
Depends: includes the non-default packages:
'limma', 'DEXSeq', 'satuRn', 'sva', 'ggplot2', 'pfamAnalyzeR'
Adding so many packages to the search path is excessive and importing
selectively is preferable.
Imports includes 30 non-default packages.
Importing from so many packages makes the package vulnerable to any of
them becoming unavailable. Move as many as possible to Suggests and
use conditionally.
* checking if this is a source package ... OK
* checking if there is a namespace ... OK
* checking for hidden files and directories ... OK
* checking for portable file names ... OK
* checking for sufficient/correct file permissions ... OK
* checking whether package ‘IsoformSwitchAnalyzeR’ can be installed ... OK
* used C compiler: ‘Apple clang version 15.0.0 (clang-1500.1.0.2.5)’
* used SDK: ‘MacOSX11.3.sdk’
* checking installed package size ... INFO
installed size is 6.8Mb
sub-directories of 1Mb or more:
R 1.0Mb
data 1.1Mb
extdata 4.3Mb
* checking package directory ... OK
* checking ‘build’ directory ... OK
* checking DESCRIPTION meta-information ... OK
* checking top-level files ... OK
* checking for left-over files ... OK
* checking index information ... OK
* checking package subdirectories ... OK
* checking code files for non-ASCII characters ... OK
* checking R files for syntax errors ... OK
* checking whether the package can be loaded ... OK
* checking whether the package can be loaded with stated dependencies ... OK
* checking whether the package can be unloaded cleanly ... OK
* checking whether the namespace can be loaded with stated dependencies ... OK
* checking whether the namespace can be unloaded cleanly ... OK
* checking dependencies in R code ... OK
* checking S3 generic/method consistency ... OK
* checking replacement functions ... OK
* checking foreign function calls ... OK
* checking R code for possible problems ... NOTE
analyzeNovelIsoformORF: no visible binding for global variable
'orf_origin'
analyzeNovelIsoformORF: no visible binding for global variable
'orfStartGenomic'
analyzeNovelIsoformORF: no visible binding for global variable
'isoform_id'
analyzeNovelIsoformORF: no visible binding for global variable
'orfEndGenomic'
expressionAnalysisPlot: no visible binding for global variable
'Condition'
expressionAnalysisPlot: no visible binding for global variable
'gene_expression'
expressionAnalysisPlot: no visible binding for global variable 'CI_up'
expressionAnalysisPlot: no visible binding for global variable
'CI_down'
expressionAnalysisPlot: no visible binding for global variable
'sigLevelPos'
expressionAnalysisPlot: no visible binding for global variable
'sigLevel'
expressionAnalysisPlot: no visible binding for global variable 'CI_hi'
expressionAnalysisPlot: no visible binding for global variable 'CI_low'
expressionAnalysisPlot: no visible binding for global variable 'ymax'
expressionAnalysisPlot: no visible binding for global variable
'sigEval'
expressionAnalysisPlot: no visible binding for global variable 'idNr'
expressionAnalysisPlot: no visible binding for global variable 'IF'
extractConsequenceEnrichment: no visible binding for global variable
'feature2'
extractConsequenceEnrichment: no visible binding for global variable
'propOfRelevantEvents'
extractConsequenceEnrichment: no visible binding for global variable
'Significant'
extractConsequenceEnrichment: no visible binding for global variable
'propCiLo'
extractConsequenceEnrichment: no visible binding for global variable
'propCiHi'
extractConsequenceEnrichment: no visible binding for global variable
'nTot'
extractConsequenceEnrichmentComparison: no visible binding for global
variable 'Comparison'
extractConsequenceEnrichmentComparison: no visible binding for global
variable 'propOfRelevantEvents'
extractConsequenceEnrichmentComparison: no visible binding for global
variable 'Significant'
extractConsequenceEnrichmentComparison: no visible binding for global
variable 'nTot'
extractConsequenceEnrichmentComparison: no visible binding for global
variable 'propCiHi'
extractConsequenceEnrichmentComparison: no visible binding for global
variable 'propCiLo'
extractConsequenceGenomeWide: no visible binding for global variable
'isoform_feature'
extractConsequenceGenomeWide: no visible binding for global variable
'value'
extractConsequenceGenomeWide: no visible binding for global variable
'variable'
extractConsequenceGenomeWide: no visible binding for global variable
'ymax'
extractConsequenceGenomeWide: no visible binding for global variable
'significance'
extractConsequenceGenomeWide: no visible binding for global variable
'idNr'
extractConsequenceSummary: no visible binding for global variable
'switchConsequence'
extractConsequenceSummary: no visible binding for global variable
'geneFraction'
extractConsequenceSummary: no visible binding for global variable
'nrGenesWithConsequences'
extractConsequenceSummary: no visible binding for global variable
'isoFraction'
extractConsequenceSummary: no visible binding for global variable
'nrIsoWithConsequences'
extractSplicingEnrichment: no visible binding for global variable
'AStype'
extractSplicingEnrichment: no visible binding for global variable
'propUp'
extractSplicingEnrichment: no visible binding for global variable
'Significant'
extractSplicingEnrichment: no visible binding for global variable
'nTot'
extractSplicingEnrichment: no visible binding for global variable
'propUpCiHi'
extractSplicingEnrichment: no visible binding for global variable
'propUpCiLo'
extractSplicingEnrichmentComparison: no visible binding for global
variable 'Comparison'
extractSplicingEnrichmentComparison: no visible binding for global
variable 'propUp'
extractSplicingEnrichmentComparison: no visible binding for global
variable 'Significant'
extractSplicingEnrichmentComparison: no visible binding for global
variable 'nTot'
extractSplicingEnrichmentComparison: no visible binding for global
variable 'propUpCiHi'
extractSplicingEnrichmentComparison: no visible binding for global
variable 'propUpCiLo'
extractSplicingGenomeWide: no visible binding for global variable
'isoform_feature'
extractSplicingGenomeWide: no visible binding for global variable
'value'
extractSplicingGenomeWide: no visible binding for global variable
'variable'
extractSplicingGenomeWide: no visible binding for global variable
'ymax'
extractSplicingGenomeWide: no visible binding for global variable
'significance'
extractSplicingGenomeWide: no visible binding for global variable
'idNr'
extractSplicingSummary: no visible binding for global variable
'splicingResult'
extractSplicingSummary: no visible binding for global variable
'geneFraction'
extractSplicingSummary: no visible binding for global variable
'nrGenesWithConsequences'
extractSplicingSummary: no visible binding for global variable
'isoFraction'
extractSplicingSummary: no visible binding for global variable
'nrIsoWithConsequences'
extractSubCellShifts: no visible binding for global variable 'gene_ref'
extractSubCellShifts: no visible binding for global variable 'gene_id'
extractSubCellShifts: no visible binding for global variable
'condition_1'
extractSubCellShifts: no visible binding for global variable
'condition_2'
extractSubCellShifts: no visible binding for global variable
'isoformUpregulated'
extractSubCellShifts: no visible binding for global variable
'isoformDownregulated'
extractSubCellShifts: no visible binding for global variable
'featureCompared'
extractSubCellShifts: no visible binding for global variable
'isoformsDifferent'
extractSubCellShifts: no visible binding for global variable
'isoform_id'
extractSubCellShifts: no visible binding for global variable
'Localizations'
extractSubCellShifts: no visible binding for global variable
'location_gain'
extractSubCellShifts: no visible binding for global variable
'location_loss'
extractSubCellShifts: no visible binding for global variable 'n_genes'
extractSubCellShifts: no visible binding for global variable 'n_switch'
extractSubCellShifts: no visible binding for global variable 'Genes'
extractSubCellShifts: no visible binding for global variable 'Switch'
importGTF: no visible binding for global variable 'gene_id'
importGTF: no visible binding for global variable 'gene_name'
importRdata: no visible binding for global variable 'isoform_id'
importRdata: no visible binding for global variable 'gene_id'
importRdata: no visible binding for global variable 'ref_gene_id'
importRdata: no visible binding for global variable 'n_ref_gene_ids'
importRdata: no visible binding for global variable 'n_iso_na'
importRdata: no visible binding for global variable 'novel_iso'
importRdata: no visible binding for global variable 'known_ref_gene_id'
importRdata: no visible binding for global variable 'nt_overlap'
importRdata: no visible binding for global variable 'frac_overlap'
importRdata: no visible binding for global variable
'log2_overlap_ratio'
importRdata: no visible binding for global variable 'has_ref_gene_id'
importRdata: no visible binding for global variable 'has_novel_iso'
importRdata: no visible binding for global variable 'gene_name'
importRdata: no visible binding for global variable 'n_ref'
isoformToGeneExp: no visible binding for global variable 'gene_id'
isoformToGeneExp: no visible binding for global variable 'gene_name'
preFilter: no visible global function definition for 'setdff'
switchPlotTranscript: no visible binding for global variable 'topology'
switchPlotTranscript: no visible binding for global variable 'idNr'
switchPlotTranscript: no visible binding for global variable 'Topology'
switchPlotTranscript: no visible binding for global variable 'topGroup'
switchPlotTranscript: no visible binding for global variable 'y'
switchPlotTranscript: no visible binding for global variable 'yend'
switchPlotTranscript: no visible binding for global variable 'x'
switchPlotTranscript: no visible binding for global variable 'ymin'
switchPlotTranscript: no visible binding for global variable 'xmin'
switchPlotTranscript: no visible binding for global variable 'ymax'
switchPlotTranscript: no visible binding for global variable 'xmax'
switchPlotTranscript: no visible binding for global variable 'Domain'
switchPlotTranscript: no visible binding for global variable 'value'
Undefined global functions or variables:
AStype CI_down CI_hi CI_low CI_up Comparison Condition Domain Genes
IF Localizations Significant Switch Topology condition_1 condition_2
feature2 featureCompared frac_overlap geneFraction gene_expression
gene_id gene_name gene_ref has_novel_iso has_ref_gene_id idNr
isoFraction isoformDownregulated isoformUpregulated isoform_feature
isoform_id isoformsDifferent known_ref_gene_id location_gain
location_loss log2_overlap_ratio nTot n_genes n_iso_na n_ref
n_ref_gene_ids n_switch novel_iso nrGenesWithConsequences
nrIsoWithConsequences nt_overlap orfEndGenomic orfStartGenomic
orf_origin propCiHi propCiLo propOfRelevantEvents propUp propUpCiHi
propUpCiLo ref_gene_id setdff sigEval sigLevel sigLevelPos
significance splicingResult switchConsequence topGroup topology value
variable x xmax xmin y yend ymax ymin
* checking Rd files ... NOTE
checkRd: (-1) isoformToGeneExp.Rd:22: Lost braces; missing escapes or markup?
22 | \item{Using the {isoformGeneAnnotation} argument}.
| ^
checkRd: (-1) isoformToIsoformFraction.Rd:23: Lost braces; missing escapes or markup?
23 | \item{Using the {isoformGeneAnnotation} argument}.
| ^
* checking Rd metadata ... OK
* checking Rd cross-references ... OK
* checking for missing documentation entries ... OK
* checking for code/documentation mismatches ... OK
* checking Rd \usage sections ... OK
* checking Rd contents ... OK
* checking for unstated dependencies in examples ... OK
* checking contents of ‘data’ directory ... OK
* checking data for non-ASCII characters ... OK
* checking data for ASCII and uncompressed saves ... OK
* checking line endings in C/C++/Fortran sources/headers ... OK
* checking compiled code ... NOTE
Note: information on .o files is not available
* checking files in ‘vignettes’ ... OK
* checking examples ... OK
Examples with CPU (user + system) or elapsed time > 5s
user system elapsed
IsoformSwitchTestDEXSeq 21.572 0.215 21.858
isoformSwitchAnalysisCombined 16.694 2.282 19.009
importSalmonData 16.377 0.467 25.383
prepareSalmonFilesDataFrame 5.480 0.183 9.455
* checking for unstated dependencies in vignettes ... OK
* checking package vignettes ... OK
* checking running R code from vignettes ... SKIPPED
* checking re-building of vignette outputs ... SKIPPED
* checking PDF version of manual ... OK
* DONE
Status: 3 NOTEs
See
‘/Users/biocbuild/bbs-3.21-bioc/meat/IsoformSwitchAnalyzeR.Rcheck/00check.log’
for details.
IsoformSwitchAnalyzeR.Rcheck/00install.out
############################################################################## ############################################################################## ### ### Running command: ### ### /Library/Frameworks/R.framework/Resources/bin/R CMD INSTALL IsoformSwitchAnalyzeR ### ############################################################################## ############################################################################## * installing to library ‘/Library/Frameworks/R.framework/Versions/4.5-arm64/Resources/library’ * installing *source* package ‘IsoformSwitchAnalyzeR’ ... ** this is package ‘IsoformSwitchAnalyzeR’ version ‘2.8.0’ ** using staged installation ** libs using C compiler: ‘Apple clang version 15.0.0 (clang-1500.1.0.2.5)’ using SDK: ‘MacOSX11.3.sdk’ clang -arch arm64 -I"/Library/Frameworks/R.framework/Resources/include" -DNDEBUG -I/opt/R/arm64/include -fPIC -falign-functions=64 -Wall -g -O2 -c utils.c -o utils.o clang -arch arm64 -dynamiclib -Wl,-headerpad_max_install_names -undefined dynamic_lookup -L/Library/Frameworks/R.framework/Resources/lib -L/opt/R/arm64/lib -o IsoformSwitchAnalyzeR.so utils.o -F/Library/Frameworks/R.framework/.. -framework R installing to /Library/Frameworks/R.framework/Versions/4.5-arm64/Resources/library/00LOCK-IsoformSwitchAnalyzeR/00new/IsoformSwitchAnalyzeR/libs ** R ** data ** inst ** byte-compile and prepare package for lazy loading ** help *** installing help indices ** building package indices ** installing vignettes ** testing if installed package can be loaded from temporary location ** checking absolute paths in shared objects and dynamic libraries ** testing if installed package can be loaded from final location ** testing if installed package keeps a record of temporary installation path * DONE (IsoformSwitchAnalyzeR)
IsoformSwitchAnalyzeR.Rcheck/IsoformSwitchAnalyzeR-Ex.timings
| name | user | system | elapsed | |
| IsoformSwitchTestDEXSeq | 21.572 | 0.215 | 21.858 | |
| IsoformSwitchTestSatuRn | 0.844 | 0.048 | 0.887 | |
| addORFfromGTF | 0.302 | 0.011 | 0.320 | |
| analyzeAlternativSplicing | 1.903 | 0.005 | 1.940 | |
| analyzeCPAT | 0.020 | 0.002 | 0.024 | |
| analyzeCPC2 | 0.020 | 0.003 | 0.022 | |
| analyzeDeepLoc2 | 0.075 | 0.016 | 0.093 | |
| analyzeDeepTMHMM | 0.146 | 0.003 | 0.153 | |
| analyzeIUPred2A | 0.673 | 0.011 | 0.704 | |
| analyzeNovelIsoformORF | 0.221 | 0.014 | 0.236 | |
| analyzeORF | 2.775 | 0.020 | 2.841 | |
| analyzePFAM | 0.131 | 0.003 | 0.134 | |
| analyzeSignalP | 0.031 | 0.002 | 0.033 | |
| analyzeSwitchConsequences | 0.331 | 0.006 | 0.338 | |
| expressionAnalysisPlots | 0.363 | 0.005 | 0.372 | |
| extractConsequenceEnrichment | 0.141 | 0.003 | 0.144 | |
| extractConsequenceEnrichmentComparison | 0.213 | 0.004 | 0.219 | |
| extractConsequenceSummary | 0.239 | 0.003 | 0.242 | |
| extractGeneExpression | 0.016 | 0.003 | 0.019 | |
| extractGenomeWideAnalysis | 1.528 | 0.073 | 1.618 | |
| extractGenomeWideSplicingAnalysis | 0.873 | 0.042 | 0.924 | |
| extractSequence | 2.840 | 0.026 | 2.952 | |
| extractSplicingEnrichment | 0.377 | 0.010 | 0.389 | |
| extractSplicingEnrichmentComparison | 0.393 | 0.008 | 0.403 | |
| extractSplicingSummary | 0.323 | 0.005 | 0.328 | |
| extractSwitchOverlap | 0.122 | 0.009 | 0.131 | |
| extractSwitchSummary | 2.262 | 0.004 | 2.267 | |
| extractTopSwitches | 2.972 | 0.013 | 2.985 | |
| importCufflinksGalaxyData | 0.000 | 0.000 | 0.001 | |
| importGTF | 0.254 | 0.007 | 0.260 | |
| importIsoformExpression | 0.224 | 0.058 | 0.253 | |
| importRdata | 0.747 | 0.039 | 0.785 | |
| importSalmonData | 16.377 | 0.467 | 25.383 | |
| isoformSwitchAnalysisCombined | 16.694 | 2.282 | 19.009 | |
| isoformSwitchAnalysisPart1 | 2.167 | 0.034 | 2.203 | |
| isoformSwitchAnalysisPart2 | 1.060 | 0.133 | 1.190 | |
| isoformToGeneExp | 0.950 | 0.061 | 0.994 | |
| isoformToIsoformFraction | 0.084 | 0.029 | 0.102 | |
| preFilter | 0.010 | 0.001 | 0.012 | |
| prepareSalmonFilesDataFrame | 5.480 | 0.183 | 9.455 | |
| subsetSwitchAnalyzeRlist | 0.009 | 0.002 | 0.011 | |
| switchAnalyzeRlist | 0.768 | 0.058 | 0.802 | |
| switchPlot | 0.976 | 0.006 | 0.991 | |
| switchPlotTranscript | 0.539 | 0.003 | 0.543 | |
| testData | 0.006 | 0.002 | 0.007 | |