Back to Multiple platform build/check report for BioC 3.21: simplified long |
|
This page was generated on 2025-10-16 11:37 -0400 (Thu, 16 Oct 2025).
Hostname | OS | Arch (*) | R version | Installed pkgs |
---|---|---|---|---|
nebbiolo1 | Linux (Ubuntu 24.04.3 LTS) | x86_64 | 4.5.1 (2025-06-13) -- "Great Square Root" | 4833 |
merida1 | macOS 12.7.6 Monterey | x86_64 | 4.5.1 RC (2025-06-05 r88288) -- "Great Square Root" | 4614 |
kjohnson1 | macOS 13.7.5 Ventura | arm64 | 4.5.1 Patched (2025-06-14 r88325) -- "Great Square Root" | 4555 |
kunpeng2 | Linux (openEuler 24.03 LTS) | aarch64 | R Under development (unstable) (2025-02-19 r87757) -- "Unsuffered Consequences" | 4586 |
Click on any hostname to see more info about the system (e.g. compilers) (*) as reported by 'uname -p', except on Windows and Mac OS X |
Package 143/2341 | Hostname | OS / Arch | INSTALL | BUILD | CHECK | BUILD BIN | ||||||||
BatchQC 2.4.0 (landing page) Jessica Anderson
| nebbiolo1 | Linux (Ubuntu 24.04.3 LTS) / x86_64 | OK | OK | OK | ![]() | ||||||||
merida1 | macOS 12.7.6 Monterey / x86_64 | OK | OK | OK | OK | ![]() | ||||||||
kjohnson1 | macOS 13.7.5 Ventura / arm64 | OK | OK | OK | OK | ![]() | ||||||||
kunpeng2 | Linux (openEuler 24.03 LTS) / aarch64 | OK | ERROR | skipped | ||||||||||
To the developers/maintainers of the BatchQC package: - Allow up to 24 hours (and sometimes 48 hours) for your latest push to git@git.bioconductor.org:packages/BatchQC.git to reflect on this report. See Troubleshooting Build Report for more information. - Use the following Renviron settings to reproduce errors and warnings. - If 'R CMD check' started to fail recently on the Linux builder(s) over a missing dependency, add the missing dependency to 'Suggests:' in your DESCRIPTION file. See Renviron.bioc for more information. |
Package: BatchQC |
Version: 2.4.0 |
Command: /home/biocbuild/bbs-3.21-bioc/R/bin/R CMD check --install=check:BatchQC.install-out.txt --library=/home/biocbuild/bbs-3.21-bioc/R/site-library --timings BatchQC_2.4.0.tar.gz |
StartedAt: 2025-10-15 20:59:46 -0400 (Wed, 15 Oct 2025) |
EndedAt: 2025-10-15 21:07:18 -0400 (Wed, 15 Oct 2025) |
EllapsedTime: 451.4 seconds |
RetCode: 0 |
Status: OK |
CheckDir: BatchQC.Rcheck |
Warnings: 0 |
############################################################################## ############################################################################## ### ### Running command: ### ### /home/biocbuild/bbs-3.21-bioc/R/bin/R CMD check --install=check:BatchQC.install-out.txt --library=/home/biocbuild/bbs-3.21-bioc/R/site-library --timings BatchQC_2.4.0.tar.gz ### ############################################################################## ############################################################################## * using log directory ‘/home/biocbuild/bbs-3.21-bioc/meat/BatchQC.Rcheck’ * using R version 4.5.1 (2025-06-13) * using platform: x86_64-pc-linux-gnu * R was compiled by gcc (Ubuntu 13.3.0-6ubuntu2~24.04) 13.3.0 GNU Fortran (Ubuntu 13.3.0-6ubuntu2~24.04) 13.3.0 * running under: Ubuntu 24.04.3 LTS * using session charset: UTF-8 * checking for file ‘BatchQC/DESCRIPTION’ ... OK * checking extension type ... Package * this is package ‘BatchQC’ version ‘2.4.0’ * package encoding: UTF-8 * checking package namespace information ... OK * checking package dependencies ... INFO Imports includes 24 non-default packages. Importing from so many packages makes the package vulnerable to any of them becoming unavailable. Move as many as possible to Suggests and use conditionally. * checking if this is a source package ... OK * checking if there is a namespace ... OK * checking for hidden files and directories ... OK * checking for portable file names ... OK * checking for sufficient/correct file permissions ... OK * checking whether package ‘BatchQC’ can be installed ... OK * checking installed package size ... OK * checking package directory ... OK * checking ‘build’ directory ... OK * checking DESCRIPTION meta-information ... OK * checking top-level files ... OK * checking for left-over files ... OK * checking index information ... OK * checking package subdirectories ... OK * checking code files for non-ASCII characters ... OK * checking R files for syntax errors ... OK * checking whether the package can be loaded ... OK * checking whether the package can be loaded with stated dependencies ... OK * checking whether the package can be unloaded cleanly ... OK * checking whether the namespace can be loaded with stated dependencies ... OK * checking whether the namespace can be unloaded cleanly ... OK * checking loading without being on the library search path ... OK * checking dependencies in R code ... OK * checking S3 generic/method consistency ... OK * checking replacement functions ... OK * checking foreign function calls ... OK * checking R code for possible problems ... OK * checking Rd files ... OK * checking Rd metadata ... OK * checking Rd cross-references ... OK * checking for missing documentation entries ... OK * checking for code/documentation mismatches ... OK * checking Rd \usage sections ... OK * checking Rd contents ... OK * checking for unstated dependencies in examples ... OK * checking contents of ‘data’ directory ... OK * checking data for non-ASCII characters ... OK * checking data for ASCII and uncompressed saves ... OK * checking files in ‘vignettes’ ... OK * checking examples ... OK Examples with CPU (user + system) or elapsed time > 5s user system elapsed volcano_plot 25.868 0.184 26.057 DE_analyze 20.667 0.492 21.177 pval_summary 19.404 0.257 19.661 pval_plotter 17.362 0.214 17.577 batch_correct 14.972 0.276 15.249 PCA_plotter 11.982 0.195 12.177 * checking for unstated dependencies in ‘tests’ ... OK * checking tests ... Running ‘spelling.R’ Running ‘testthat.R’ OK * checking for unstated dependencies in vignettes ... OK * checking package vignettes ... OK * checking re-building of vignette outputs ... OK * checking PDF version of manual ... OK * DONE Status: OK
BatchQC.Rcheck/00install.out
############################################################################## ############################################################################## ### ### Running command: ### ### /home/biocbuild/bbs-3.21-bioc/R/bin/R CMD INSTALL BatchQC ### ############################################################################## ############################################################################## * installing to library ‘/home/biocbuild/bbs-3.21-bioc/R/site-library’ * installing *source* package ‘BatchQC’ ... ** this is package ‘BatchQC’ version ‘2.4.0’ ** using staged installation ** R ** data ** inst ** byte-compile and prepare package for lazy loading ** help *** installing help indices ** building package indices ** installing vignettes ** testing if installed package can be loaded from temporary location ** testing if installed package can be loaded from final location ** testing if installed package keeps a record of temporary installation path * DONE (BatchQC)
BatchQC.Rcheck/tests/spelling.Rout
R version 4.5.1 (2025-06-13) -- "Great Square Root" Copyright (C) 2025 The R Foundation for Statistical Computing Platform: x86_64-pc-linux-gnu R is free software and comes with ABSOLUTELY NO WARRANTY. You are welcome to redistribute it under certain conditions. Type 'license()' or 'licence()' for distribution details. R is a collaborative project with many contributors. Type 'contributors()' for more information and 'citation()' on how to cite R or R packages in publications. Type 'demo()' for some demos, 'help()' for on-line help, or 'help.start()' for an HTML browser interface to help. Type 'q()' to quit R. > if (requireNamespace('spelling', quietly = TRUE)) + spelling::spell_check_test(vignettes = TRUE, error = FALSE, + skip_on_cran = TRUE) All Done! > > proc.time() user system elapsed 0.151 0.045 0.184
BatchQC.Rcheck/tests/testthat.Rout
R version 4.5.1 (2025-06-13) -- "Great Square Root" Copyright (C) 2025 The R Foundation for Statistical Computing Platform: x86_64-pc-linux-gnu R is free software and comes with ABSOLUTELY NO WARRANTY. You are welcome to redistribute it under certain conditions. Type 'license()' or 'licence()' for distribution details. R is a collaborative project with many contributors. Type 'contributors()' for more information and 'citation()' on how to cite R or R packages in publications. Type 'demo()' for some demos, 'help()' for on-line help, or 'help.start()' for an HTML browser interface to help. Type 'q()' to quit R. > library(testthat) > library(BatchQC) > > test_check("BatchQC") [ FAIL 0 | WARN 0 | SKIP 1 | PASS 0 ] ══ Skipped tests (1) ═══════════════════════════════════════════════════════════ • On CRAN (1): 'test-lintr.R:3:5' [ FAIL 0 | WARN 0 | SKIP 1 | PASS 0 ] > > proc.time() user system elapsed 12.589 0.697 13.275
BatchQC.Rcheck/BatchQC-Ex.timings
name | user | system | elapsed | |
BatchQC | 0 | 0 | 0 | |
DE_analyze | 20.667 | 0.492 | 21.177 | |
EV_plotter | 1.270 | 0.043 | 1.313 | |
EV_table | 0.973 | 0.030 | 1.004 | |
PCA_plotter | 11.982 | 0.195 | 12.177 | |
batch_correct | 14.972 | 0.276 | 15.249 | |
batch_design | 0.633 | 0.009 | 0.644 | |
batchqc_explained_variation | 0.914 | 0.110 | 1.026 | |
bladder_data_upload | 0.268 | 0.012 | 0.279 | |
color_palette | 0.269 | 0.005 | 0.274 | |
confound_metrics | 0.568 | 0.005 | 0.573 | |
cor_props | 0.494 | 0.004 | 0.498 | |
covariates_not_confounded | 0.547 | 0.006 | 0.554 | |
cramers_v | 0.508 | 0.005 | 0.512 | |
dendrogram_alpha_numeric_check | 0.444 | 0.008 | 0.453 | |
dendrogram_color_palette | 0.714 | 0.009 | 0.722 | |
dendrogram_plotter | 1.730 | 0.006 | 1.734 | |
goodness_of_fit_DESeq2 | 4.024 | 0.027 | 4.052 | |
heatmap_num_to_char_converter | 0.424 | 0.005 | 0.430 | |
heatmap_plotter | 1.217 | 0.010 | 1.227 | |
normalize_SE | 0.662 | 0.005 | 0.667 | |
process_dendrogram | 0.713 | 0.048 | 0.761 | |
pval_plotter | 17.362 | 0.214 | 17.577 | |
pval_summary | 19.404 | 0.257 | 19.661 | |
ratio_plotter | 1.130 | 0.005 | 1.135 | |
std_pearson_corr_coef | 0.509 | 0.004 | 0.513 | |
summarized_experiment | 0.014 | 0.002 | 0.016 | |
umap | 1.799 | 0.005 | 1.804 | |
variation_ratios | 0.890 | 0.026 | 0.917 | |
volcano_plot | 25.868 | 0.184 | 26.057 | |