| Back to Multiple platform build/check report for BioC 3.21: simplified long |
|
This page was generated on 2025-10-16 11:38 -0400 (Thu, 16 Oct 2025).
| Hostname | OS | Arch (*) | R version | Installed pkgs |
|---|---|---|---|---|
| nebbiolo1 | Linux (Ubuntu 24.04.3 LTS) | x86_64 | 4.5.1 (2025-06-13) -- "Great Square Root" | 4833 |
| merida1 | macOS 12.7.6 Monterey | x86_64 | 4.5.1 RC (2025-06-05 r88288) -- "Great Square Root" | 4614 |
| kjohnson1 | macOS 13.7.5 Ventura | arm64 | 4.5.1 Patched (2025-06-14 r88325) -- "Great Square Root" | 4555 |
| kunpeng2 | Linux (openEuler 24.03 LTS) | aarch64 | R Under development (unstable) (2025-02-19 r87757) -- "Unsuffered Consequences" | 4586 |
| Click on any hostname to see more info about the system (e.g. compilers) (*) as reported by 'uname -p', except on Windows and Mac OS X | ||||
| Package 964/2341 | Hostname | OS / Arch | INSTALL | BUILD | CHECK | BUILD BIN | ||||||||
| HERON 1.6.1 (landing page) Sean McIlwain
| nebbiolo1 | Linux (Ubuntu 24.04.3 LTS) / x86_64 | OK | OK | OK | |||||||||
| merida1 | macOS 12.7.6 Monterey / x86_64 | OK | OK | OK | OK | |||||||||
| kjohnson1 | macOS 13.7.5 Ventura / arm64 | OK | OK | OK | OK | |||||||||
| kunpeng2 | Linux (openEuler 24.03 LTS) / aarch64 | OK | OK | OK | ||||||||||
|
To the developers/maintainers of the HERON package: - Allow up to 24 hours (and sometimes 48 hours) for your latest push to git@git.bioconductor.org:packages/HERON.git to reflect on this report. See Troubleshooting Build Report for more information. - Use the following Renviron settings to reproduce errors and warnings. - If 'R CMD check' started to fail recently on the Linux builder(s) over a missing dependency, add the missing dependency to 'Suggests:' in your DESCRIPTION file. See Renviron.bioc for more information. |
| Package: HERON |
| Version: 1.6.1 |
| Command: /home/biocbuild/bbs-3.21-bioc/R/bin/R CMD check --install=check:HERON.install-out.txt --library=/home/biocbuild/bbs-3.21-bioc/R/site-library --timings HERON_1.6.1.tar.gz |
| StartedAt: 2025-10-16 00:01:17 -0400 (Thu, 16 Oct 2025) |
| EndedAt: 2025-10-16 00:07:26 -0400 (Thu, 16 Oct 2025) |
| EllapsedTime: 369.5 seconds |
| RetCode: 0 |
| Status: OK |
| CheckDir: HERON.Rcheck |
| Warnings: 0 |
##############################################################################
##############################################################################
###
### Running command:
###
### /home/biocbuild/bbs-3.21-bioc/R/bin/R CMD check --install=check:HERON.install-out.txt --library=/home/biocbuild/bbs-3.21-bioc/R/site-library --timings HERON_1.6.1.tar.gz
###
##############################################################################
##############################################################################
* using log directory ‘/home/biocbuild/bbs-3.21-bioc/meat/HERON.Rcheck’
* using R version 4.5.1 (2025-06-13)
* using platform: x86_64-pc-linux-gnu
* R was compiled by
gcc (Ubuntu 13.3.0-6ubuntu2~24.04) 13.3.0
GNU Fortran (Ubuntu 13.3.0-6ubuntu2~24.04) 13.3.0
* running under: Ubuntu 24.04.3 LTS
* using session charset: UTF-8
* checking for file ‘HERON/DESCRIPTION’ ... OK
* checking extension type ... Package
* this is package ‘HERON’ version ‘1.6.1’
* package encoding: UTF-8
* checking package namespace information ... OK
* checking package dependencies ... OK
* checking if this is a source package ... OK
* checking if there is a namespace ... OK
* checking for hidden files and directories ... OK
* checking for portable file names ... OK
* checking for sufficient/correct file permissions ... OK
* checking whether package ‘HERON’ can be installed ... OK
* checking installed package size ... OK
* checking package directory ... OK
* checking ‘build’ directory ... OK
* checking DESCRIPTION meta-information ... OK
* checking top-level files ... OK
* checking for left-over files ... OK
* checking index information ... OK
* checking package subdirectories ... OK
* checking code files for non-ASCII characters ... OK
* checking R files for syntax errors ... OK
* checking whether the package can be loaded ... OK
* checking whether the package can be loaded with stated dependencies ... OK
* checking whether the package can be unloaded cleanly ... OK
* checking whether the namespace can be loaded with stated dependencies ... OK
* checking whether the namespace can be unloaded cleanly ... OK
* checking loading without being on the library search path ... OK
* checking dependencies in R code ... OK
* checking S3 generic/method consistency ... OK
* checking replacement functions ... OK
* checking foreign function calls ... OK
* checking R code for possible problems ... OK
* checking Rd files ... OK
* checking Rd metadata ... OK
* checking Rd cross-references ... OK
* checking for missing documentation entries ... OK
* checking for code/documentation mismatches ... OK
* checking Rd \usage sections ... OK
* checking Rd contents ... OK
* checking for unstated dependencies in examples ... OK
* checking contents of ‘data’ directory ... OK
* checking data for non-ASCII characters ... OK
* checking data for ASCII and uncompressed saves ... OK
* checking files in ‘vignettes’ ... OK
* checking examples ... OK
Examples with CPU (user + system) or elapsed time > 5s
user system elapsed
calcProbePValuesWUnpaired 12.873 0.486 13.361
addSequenceAnnotations 7.454 0.166 7.620
calcProteinPValues 5.889 0.016 5.905
makeProteinCalls 5.482 0.002 5.484
makeEpitopeCalls 5.315 0.004 5.321
calcEpitopePValues 5.276 0.019 5.296
* checking for unstated dependencies in ‘tests’ ... OK
* checking tests ...
Running ‘testthat.R’
OK
* checking for unstated dependencies in vignettes ... OK
* checking package vignettes ... OK
* checking re-building of vignette outputs ... OK
* checking PDF version of manual ... OK
* DONE
Status: OK
HERON.Rcheck/00install.out
############################################################################## ############################################################################## ### ### Running command: ### ### /home/biocbuild/bbs-3.21-bioc/R/bin/R CMD INSTALL HERON ### ############################################################################## ############################################################################## * installing to library ‘/home/biocbuild/bbs-3.21-bioc/R/site-library’ * installing *source* package ‘HERON’ ... ** this is package ‘HERON’ version ‘1.6.1’ ** using staged installation ** R ** data ** inst ** byte-compile and prepare package for lazy loading ** help *** installing help indices ** building package indices ** installing vignettes ** testing if installed package can be loaded from temporary location ** testing if installed package can be loaded from final location ** testing if installed package keeps a record of temporary installation path * DONE (HERON)
HERON.Rcheck/tests/testthat.Rout
R version 4.5.1 (2025-06-13) -- "Great Square Root"
Copyright (C) 2025 The R Foundation for Statistical Computing
Platform: x86_64-pc-linux-gnu
R is free software and comes with ABSOLUTELY NO WARRANTY.
You are welcome to redistribute it under certain conditions.
Type 'license()' or 'licence()' for distribution details.
R is a collaborative project with many contributors.
Type 'contributors()' for more information and
'citation()' on how to cite R or R packages in publications.
Type 'demo()' for some demos, 'help()' for on-line help, or
'help.start()' for an HTML browser interface to help.
Type 'q()' to quit R.
> # This file is part of the standard setup for testthat.
> # It is recommended that you do not modify it.
> #
> # Where should you do additional test configuration?
> # Learn more about the roles of various files in:
> # * https://r-pkgs.org/tests.html
> # * https://testthat.r-lib.org/reference/test_package.html#special-files
>
> library(testthat)
> library(HERON)
Loading required package: SummarizedExperiment
Loading required package: MatrixGenerics
Loading required package: matrixStats
Attaching package: 'MatrixGenerics'
The following objects are masked from 'package:matrixStats':
colAlls, colAnyNAs, colAnys, colAvgsPerRowSet, colCollapse,
colCounts, colCummaxs, colCummins, colCumprods, colCumsums,
colDiffs, colIQRDiffs, colIQRs, colLogSumExps, colMadDiffs,
colMads, colMaxs, colMeans2, colMedians, colMins, colOrderStats,
colProds, colQuantiles, colRanges, colRanks, colSdDiffs, colSds,
colSums2, colTabulates, colVarDiffs, colVars, colWeightedMads,
colWeightedMeans, colWeightedMedians, colWeightedSds,
colWeightedVars, rowAlls, rowAnyNAs, rowAnys, rowAvgsPerColSet,
rowCollapse, rowCounts, rowCummaxs, rowCummins, rowCumprods,
rowCumsums, rowDiffs, rowIQRDiffs, rowIQRs, rowLogSumExps,
rowMadDiffs, rowMads, rowMaxs, rowMeans2, rowMedians, rowMins,
rowOrderStats, rowProds, rowQuantiles, rowRanges, rowRanks,
rowSdDiffs, rowSds, rowSums2, rowTabulates, rowVarDiffs, rowVars,
rowWeightedMads, rowWeightedMeans, rowWeightedMedians,
rowWeightedSds, rowWeightedVars
Loading required package: GenomicRanges
Loading required package: stats4
Loading required package: BiocGenerics
Loading required package: generics
Attaching package: 'generics'
The following objects are masked from 'package:base':
as.difftime, as.factor, as.ordered, intersect, is.element, setdiff,
setequal, union
Attaching package: 'BiocGenerics'
The following objects are masked from 'package:stats':
IQR, mad, sd, var, xtabs
The following objects are masked from 'package:base':
Filter, Find, Map, Position, Reduce, anyDuplicated, aperm, append,
as.data.frame, basename, cbind, colnames, dirname, do.call,
duplicated, eval, evalq, get, grep, grepl, is.unsorted, lapply,
mapply, match, mget, order, paste, pmax, pmax.int, pmin, pmin.int,
rank, rbind, rownames, sapply, saveRDS, table, tapply, unique,
unsplit, which.max, which.min
Loading required package: S4Vectors
Attaching package: 'S4Vectors'
The following object is masked from 'package:utils':
findMatches
The following objects are masked from 'package:base':
I, expand.grid, unname
Loading required package: IRanges
Loading required package: GenomeInfoDb
Loading required package: Biobase
Welcome to Bioconductor
Vignettes contain introductory material; view with
'browseVignettes()'. To cite Bioconductor, see
'citation("Biobase")', and for packages 'citation("pkgname")'.
Attaching package: 'Biobase'
The following object is masked from 'package:MatrixGenerics':
rowMedians
The following objects are masked from 'package:matrixStats':
anyMissing, rowMedians
>
> test_check("HERON")
exact:
[ FAIL 0 | WARN 0 | SKIP 0 | PASS 103 ]
>
> proc.time()
user system elapsed
113.677 1.244 114.998
HERON.Rcheck/HERON-Ex.timings
| name | user | system | elapsed | |
| HERONEpitopeDataSet | 0.080 | 0.004 | 0.083 | |
| HERONProbeDataSet | 0.016 | 0.000 | 0.016 | |
| HERONProteinDataSet | 0.025 | 0.000 | 0.026 | |
| HERONSequenceDataSet | 0.038 | 0.000 | 0.039 | |
| addSequenceAnnotations | 7.454 | 0.166 | 7.620 | |
| calcCombPValues | 0.394 | 0.011 | 0.405 | |
| calcEpitopePValues | 5.276 | 0.019 | 5.296 | |
| calcProbePValuesTPaired | 2.005 | 0.003 | 2.008 | |
| calcProbePValuesTUnpaired | 0.199 | 0.005 | 0.204 | |
| calcProbePValuesWUnpaired | 12.873 | 0.486 | 13.361 | |
| calcProteinPValues | 5.889 | 0.016 | 5.905 | |
| catSequences | 0.000 | 0.001 | 0.000 | |
| convertSequenceDSToProbeDS | 0.420 | 0.008 | 0.428 | |
| findBlocksProbeT | 0.005 | 0.000 | 0.005 | |
| findBlocksT | 0.003 | 0.000 | 0.003 | |
| findEpitopeSegments | 1.586 | 0.024 | 1.610 | |
| getEpitopeID | 0 | 0 | 0 | |
| getEpitopeIDsToProbeIDs | 0.002 | 0.000 | 0.002 | |
| getEpitopeProbeIDs | 0 | 0 | 0 | |
| getEpitopeProtein | 0.000 | 0.000 | 0.001 | |
| getEpitopeStart | 0.001 | 0.000 | 0.000 | |
| getEpitopeStop | 0 | 0 | 0 | |
| getKofN | 0.690 | 0.001 | 0.691 | |
| getProteinLabel | 0.001 | 0.000 | 0.000 | |
| getProteinStart | 0 | 0 | 0 | |
| getProteinTiling | 0.000 | 0.001 | 0.001 | |
| log2Transform | 0.288 | 0.003 | 0.290 | |
| makeEpitopeCalls | 5.315 | 0.004 | 5.321 | |
| makeProbeCalls | 0.635 | 0.010 | 0.646 | |
| makeProteinCalls | 5.482 | 0.002 | 5.484 | |
| min_max | 0 | 0 | 0 | |
| oneHitEpitopes | 0.000 | 0.001 | 0.001 | |
| oneHitProbes | 0.005 | 0.000 | 0.005 | |
| oneProbeEpitopes | 0.001 | 0.000 | 0.001 | |
| pvalue_to_zscore | 0.001 | 0.001 | 0.002 | |
| quantileNormalize | 0.435 | 0.005 | 0.440 | |
| smoothProbeDS | 1.393 | 0.001 | 1.394 | |