| Back to Mac ARM64 build report for BioC 3.16 |
|
This page was generated on 2023-04-19 11:01:49 -0400 (Wed, 19 Apr 2023).
| Hostname | OS | Arch (*) | R version | Installed pkgs |
|---|---|---|---|---|
| kjohnson | macOS 13.0 Ventura | arm64 | 4.2.2 (2022-10-31) -- "Innocent and Trusting" | 4256 |
| Click on any hostname to see more info about the system (e.g. compilers) (*) as reported by 'uname -p', except on Windows and Mac OS X | ||||
|
To the developers/maintainers of the IRanges package: Make sure to use the following settings in order to reproduce any error or warning you see on this page. |
| Package 994/2183 | Hostname | OS / Arch | INSTALL | BUILD | BUILD BIN | ||||||||
| IRanges 2.32.0 (landing page) Hervé Pagès
| kjohnson | macOS 13.0 Ventura / arm64 | OK | OK | OK | ||||||||
| QUICK STATS | OS / Arch | INSTALL | BUILD | BUILD BIN | |||||||||||||
| kjohnson | macOS 13.0 Ventura / arm64 |
|
|
| |||||||||||||
| Package 1/505 | Hostname | OS / Arch | INSTALL | BUILD | BUILD BIN | ||||||||||||
| ALDEx2 1.30.0 (landing page) Greg Gloor
| kjohnson | macOS 13.0 Ventura / arm64 | OK | OK | OK | ||||||||||||
| Package 2/505 | Hostname | OS / Arch | INSTALL | BUILD | BUILD BIN | ||||||||||||
| AllelicImbalance 1.36.0 (landing page) Jesper R Gadin
| kjohnson | macOS 13.0 Ventura / arm64 | OK | OK | OK | ||||||||||||
| Package 3/505 | Hostname | OS / Arch | INSTALL | BUILD | BUILD BIN | ||||||||||||
| alpine 1.24.0 (landing page) Michael Love
| kjohnson | macOS 13.0 Ventura / arm64 | OK | OK | OK | ||||||||||||
| Package 4/505 | Hostname | OS / Arch | INSTALL | BUILD | BUILD BIN | ||||||||||||
| amplican 1.20.0 (landing page) Eivind Valen
| kjohnson | macOS 13.0 Ventura / arm64 | OK | OK | OK | ||||||||||||
| Package 5/505 | Hostname | OS / Arch | INSTALL | BUILD | BUILD BIN | ||||||||||||
| AneuFinder 1.26.0 (landing page) Aaron Taudt
| kjohnson | macOS 13.0 Ventura / arm64 | ERROR | ERROR | skipped | ||||||||||||
| Package 6/505 | Hostname | OS / Arch | INSTALL | BUILD | BUILD BIN | ||||||||||||
| annmap 1.40.0 (landing page) Chris Wirth
| kjohnson | macOS 13.0 Ventura / arm64 | OK | ERROR | skipped | ||||||||||||
| Package 7/505 | Hostname | OS / Arch | INSTALL | BUILD | BUILD BIN | ||||||||||||
| AnnotationDbi 1.60.2 (landing page) Bioconductor Package Maintainer
| kjohnson | macOS 13.0 Ventura / arm64 | OK | OK | OK | ||||||||||||
| Package 8/505 | Hostname | OS / Arch | INSTALL | BUILD | BUILD BIN | ||||||||||||
| AnnotationHubData 1.28.0 (landing page) Bioconductor Package Maintainer
| kjohnson | macOS 13.0 Ventura / arm64 | OK | OK | OK | ||||||||||||
| Package 9/505 | Hostname | OS / Arch | INSTALL | BUILD | BUILD BIN | ||||||||||||
| annotatr 1.24.0 (landing page) Raymond G. Cavalcante
| kjohnson | macOS 13.0 Ventura / arm64 | OK | OK | OK | ||||||||||||
| Package 10/505 | Hostname | OS / Arch | INSTALL | BUILD | BUILD BIN | ||||||||||||
| appreci8R 1.16.0 (landing page) Sarah Sandmann
| kjohnson | macOS 13.0 Ventura / arm64 | OK | OK | OK | ||||||||||||
| Package 11/505 | Hostname | OS / Arch | INSTALL | BUILD | BUILD BIN | ||||||||||||
| ArrayExpressHTS 1.48.0 (landing page) Angela Goncalves
| kjohnson | macOS 13.0 Ventura / arm64 | ERROR | ERROR | skipped | ||||||||||||
| Package 12/505 | Hostname | OS / Arch | INSTALL | BUILD | BUILD BIN | ||||||||||||
| ASpediaFI 1.12.0 (landing page) Doyeong Yu
| kjohnson | macOS 13.0 Ventura / arm64 | ERROR | ERROR | skipped | ||||||||||||
| Package 13/505 | Hostname | OS / Arch | INSTALL | BUILD | BUILD BIN | ||||||||||||
| ASpli 2.8.0 (landing page) Estefania Mancini
| kjohnson | macOS 13.0 Ventura / arm64 | OK | OK | OK | ||||||||||||
| Package 14/505 | Hostname | OS / Arch | INSTALL | BUILD | BUILD BIN | ||||||||||||
| AssessORF 1.16.0 (landing page) Deepank Korandla
| kjohnson | macOS 13.0 Ventura / arm64 | OK | OK | OK | ||||||||||||
| Package 15/505 | Hostname | OS / Arch | INSTALL | BUILD | BUILD BIN | ||||||||||||
| ATACCoGAPS 1.0.0 (landing page) Rossin Erbe
| kjohnson | macOS 13.0 Ventura / arm64 | ERROR | ERROR | skipped | ||||||||||||
| Package 16/505 | Hostname | OS / Arch | INSTALL | BUILD | BUILD BIN | ||||||||||||
| ATACseqQC 1.22.0 (landing page) Jianhong Ou
| kjohnson | macOS 13.0 Ventura / arm64 | OK | OK | OK | ||||||||||||
| Package 17/505 | Hostname | OS / Arch | INSTALL | BUILD | BUILD BIN | ||||||||||||
| ATACseqTFEA 1.0.1 (landing page) Jianhong Ou
| kjohnson | macOS 13.0 Ventura / arm64 | OK | OK | OK | ||||||||||||
| Package 18/505 | Hostname | OS / Arch | INSTALL | BUILD | BUILD BIN | ||||||||||||
| atena 1.4.1 (landing page) Beatriz Calvo-Serra
| kjohnson | macOS 13.0 Ventura / arm64 | OK | OK | OK | ||||||||||||
| Package 19/505 | Hostname | OS / Arch | INSTALL | BUILD | BUILD BIN | ||||||||||||
| BaalChIP 1.24.0 (landing page) Ines de Santiago
| kjohnson | macOS 13.0 Ventura / arm64 | OK | OK | OK | ||||||||||||
| Package 20/505 | Hostname | OS / Arch | INSTALL | BUILD | BUILD BIN | ||||||||||||
| ballgown 2.30.0 (landing page) Jack Fu
| kjohnson | macOS 13.0 Ventura / arm64 | OK | OK | OK | ||||||||||||
| Package 21/505 | Hostname | OS / Arch | INSTALL | BUILD | BUILD BIN | ||||||||||||
| bambu 3.0.8 (landing page) Ying Chen
| kjohnson | macOS 13.0 Ventura / arm64 | OK | OK | OK | ||||||||||||
| Package 22/505 | Hostname | OS / Arch | INSTALL | BUILD | BUILD BIN | ||||||||||||
| bamsignals 1.30.0 (landing page) Johannes Helmuth
| kjohnson | macOS 13.0 Ventura / arm64 | OK | OK | OK | ||||||||||||
| Package 23/505 | Hostname | OS / Arch | INSTALL | BUILD | BUILD BIN | ||||||||||||
| BasicSTARRseq 1.26.0 (landing page) Annika Buerger
| kjohnson | macOS 13.0 Ventura / arm64 | OK | OK | OK | ||||||||||||
| Package 24/505 | Hostname | OS / Arch | INSTALL | BUILD | BUILD BIN | ||||||||||||
| BBCAnalyzer 1.28.0 (landing page) Sarah Sandmann
| kjohnson | macOS 13.0 Ventura / arm64 | OK | OK | OK | ||||||||||||
| Package 25/505 | Hostname | OS / Arch | INSTALL | BUILD | BUILD BIN | ||||||||||||
| beadarray 2.48.0 (landing page) Mark Dunning
| kjohnson | macOS 13.0 Ventura / arm64 | OK | OK | OK | ||||||||||||
| Package 26/505 | Hostname | OS / Arch | INSTALL | BUILD | BUILD BIN | ||||||||||||
| BiocOncoTK 1.18.0 (landing page) VJ Carey
| kjohnson | macOS 13.0 Ventura / arm64 | OK | OK | OK | ||||||||||||
| Package 27/505 | Hostname | OS / Arch | INSTALL | BUILD | BUILD BIN | ||||||||||||
| biomvRCNS 1.38.0 (landing page) Yang Du
| kjohnson | macOS 13.0 Ventura / arm64 | OK | OK | OK | ||||||||||||
| Package 28/505 | Hostname | OS / Arch | INSTALL | BUILD | BUILD BIN | ||||||||||||
| Biostrings 2.66.0 (landing page) H. Pagès
| kjohnson | macOS 13.0 Ventura / arm64 | OK | OK | OK | ||||||||||||
| Package 29/505 | Hostname | OS / Arch | INSTALL | BUILD | BUILD BIN | ||||||||||||
| biovizBase 1.46.0 (landing page) Michael Lawrence
| kjohnson | macOS 13.0 Ventura / arm64 | OK | OK | OK | ||||||||||||
| Package 30/505 | Hostname | OS / Arch | INSTALL | BUILD | BUILD BIN | ||||||||||||
| biscuiteer 1.12.0 (landing page) Jacob Morrison
| kjohnson | macOS 13.0 Ventura / arm64 | OK | OK | OK | ||||||||||||
| Package 31/505 | Hostname | OS / Arch | INSTALL | BUILD | BUILD BIN | ||||||||||||
| BiSeq 1.38.0 (landing page) Katja Hebestreit
| kjohnson | macOS 13.0 Ventura / arm64 | OK | OK | OK | ||||||||||||
| Package 32/505 | Hostname | OS / Arch | INSTALL | BUILD | BUILD BIN | ||||||||||||
Antti Honkela
| kjohnson | macOS 13.0 Ventura / arm64 | ERROR | ERROR | skipped | ||||||||||||
| Package 33/505 | Hostname | OS / Arch | INSTALL | BUILD | BUILD BIN | ||||||||||||
| bnbc 1.20.0 (landing page) Kipper Fletez-Brant
| kjohnson | macOS 13.0 Ventura / arm64 | OK | OK | OK | ||||||||||||
| Package 34/505 | Hostname | OS / Arch | INSTALL | BUILD | BUILD BIN | ||||||||||||
| BPRMeth 1.24.2 (landing page) Chantriolnt-Andreas Kapourani
| kjohnson | macOS 13.0 Ventura / arm64 | OK | OK | OK | ||||||||||||
| Package 35/505 | Hostname | OS / Arch | INSTALL | BUILD | BUILD BIN | ||||||||||||
| branchpointer 1.24.0 (landing page) Beth Signal
| kjohnson | macOS 13.0 Ventura / arm64 | OK | OK | OK | ||||||||||||
| Package 36/505 | Hostname | OS / Arch | INSTALL | BUILD | BUILD BIN | ||||||||||||
| breakpointR 1.16.0 (landing page) David Porubsky
| kjohnson | macOS 13.0 Ventura / arm64 | OK | OK | OK | ||||||||||||
| Package 37/505 | Hostname | OS / Arch | INSTALL | BUILD | BUILD BIN | ||||||||||||
| BRGenomics 1.10.0 (landing page) Mike DeBerardine
| kjohnson | macOS 13.0 Ventura / arm64 | OK | OK | OK | ||||||||||||
| Package 38/505 | Hostname | OS / Arch | INSTALL | BUILD | BUILD BIN | ||||||||||||
| BSgenome 1.66.3 (landing page) Hervé Pagès
| kjohnson | macOS 13.0 Ventura / arm64 | OK | OK | OK | ||||||||||||
| Package 39/505 | Hostname | OS / Arch | INSTALL | BUILD | BUILD BIN | ||||||||||||
| bsseq 1.34.0 (landing page) Kasper Daniel Hansen
| kjohnson | macOS 13.0 Ventura / arm64 | OK | OK | OK | ||||||||||||
| Package 40/505 | Hostname | OS / Arch | INSTALL | BUILD | BUILD BIN | ||||||||||||
| BubbleTree 2.28.0 (landing page) Todd Creasy
| kjohnson | macOS 13.0 Ventura / arm64 | OK | OK | OK | ||||||||||||
| Package 41/505 | Hostname | OS / Arch | INSTALL | BUILD | BUILD BIN | ||||||||||||
| BUMHMM 1.22.0 (landing page) Alina Selega
| kjohnson | macOS 13.0 Ventura / arm64 | OK | OK | OK | ||||||||||||
| Package 42/505 | Hostname | OS / Arch | INSTALL | BUILD | BUILD BIN | ||||||||||||
| bumphunter 1.40.0 (landing page) Tamilselvi Guharaj
| kjohnson | macOS 13.0 Ventura / arm64 | OK | OK | OK | ||||||||||||
| Package 43/505 | Hostname | OS / Arch | INSTALL | BUILD | BUILD BIN | ||||||||||||
| BumpyMatrix 1.6.0 (landing page) Aaron Lun
| kjohnson | macOS 13.0 Ventura / arm64 | OK | OK | OK | ||||||||||||
| Package 44/505 | Hostname | OS / Arch | INSTALL | BUILD | BUILD BIN | ||||||||||||
| BUSpaRse 1.12.2 (landing page) Lambda Moses
| kjohnson | macOS 13.0 Ventura / arm64 | OK | OK | OK | ||||||||||||
| Package 45/505 | Hostname | OS / Arch | INSTALL | BUILD | BUILD BIN | ||||||||||||
| CAFE 1.34.0 (landing page) Sander Bollen
| kjohnson | macOS 13.0 Ventura / arm64 | OK | OK | OK | ||||||||||||
| Package 46/505 | Hostname | OS / Arch | INSTALL | BUILD | BUILD BIN | ||||||||||||
| CAGEfightR 1.18.0 (landing page) Malte Thodberg
| kjohnson | macOS 13.0 Ventura / arm64 | OK | OK | OK | ||||||||||||
| Package 47/505 | Hostname | OS / Arch | INSTALL | BUILD | BUILD BIN | ||||||||||||
| cageminer 1.4.0 (landing page) Fabrício Almeida-Silva
| kjohnson | macOS 13.0 Ventura / arm64 | OK | OK | OK | ||||||||||||
| Package 48/505 | Hostname | OS / Arch | INSTALL | BUILD | BUILD BIN | ||||||||||||
| CAGEr 2.4.0 (landing page) Charles Plessy
| kjohnson | macOS 13.0 Ventura / arm64 | OK | OK | OK | ||||||||||||
| Package 49/505 | Hostname | OS / Arch | INSTALL | BUILD | BUILD BIN | ||||||||||||
| casper 2.32.0 (landing page) David Rossell
| kjohnson | macOS 13.0 Ventura / arm64 | OK | ERROR | skipped | ||||||||||||
| Package 50/505 | Hostname | OS / Arch | INSTALL | BUILD | BUILD BIN | ||||||||||||
| cBioPortalData 2.10.3 (landing page) Marcel Ramos
| kjohnson | macOS 13.0 Ventura / arm64 | OK | OK | OK | ||||||||||||
| Package 51/505 | Hostname | OS / Arch | INSTALL | BUILD | BUILD BIN | ||||||||||||
| CexoR 1.36.0 (landing page) Pedro Madrigal
| kjohnson | macOS 13.0 Ventura / arm64 | OK | OK | OK | ||||||||||||
| Package 52/505 | Hostname | OS / Arch | INSTALL | BUILD | BUILD BIN | ||||||||||||
| cfDNAPro 1.4.0 (landing page) Haichao Wang
| kjohnson | macOS 13.0 Ventura / arm64 | OK | OK | OK | ||||||||||||
| Package 53/505 | Hostname | OS / Arch | INSTALL | BUILD | BUILD BIN | ||||||||||||
| ChIC 1.18.0 (landing page) Carmen Maria Livi
| kjohnson | macOS 13.0 Ventura / arm64 | ERROR | ERROR | skipped | ||||||||||||
| Package 54/505 | Hostname | OS / Arch | INSTALL | BUILD | BUILD BIN | ||||||||||||
| chimeraviz 1.24.0 (landing page) Stian Lågstad
| kjohnson | macOS 13.0 Ventura / arm64 | OK | OK | OK | ||||||||||||
| Package 55/505 | Hostname | OS / Arch | INSTALL | BUILD | BUILD BIN | ||||||||||||
| ChIPanalyser 1.20.0 (landing page) Patrick C.N. Martin
| kjohnson | macOS 13.0 Ventura / arm64 | OK | OK | OK | ||||||||||||
| Package 56/505 | Hostname | OS / Arch | INSTALL | BUILD | BUILD BIN | ||||||||||||
| ChIPComp 1.28.0 (landing page) Li Chen
| kjohnson | macOS 13.0 Ventura / arm64 | OK | OK | OK | ||||||||||||
| Package 57/505 | Hostname | OS / Arch | INSTALL | BUILD | BUILD BIN | ||||||||||||
| chipenrich 2.22.0 (landing page) Raymond G. Cavalcante
| kjohnson | macOS 13.0 Ventura / arm64 | OK | OK | OK | ||||||||||||
| Package 58/505 | Hostname | OS / Arch | INSTALL | BUILD | BUILD BIN | ||||||||||||
| ChIPexoQual 1.22.0 (landing page) Rene Welch
| kjohnson | macOS 13.0 Ventura / arm64 | OK | OK | OK | ||||||||||||
| Package 59/505 | Hostname | OS / Arch | INSTALL | BUILD | BUILD BIN | ||||||||||||
| ChIPpeakAnno 3.32.0 (landing page) Jianhong Ou
| kjohnson | macOS 13.0 Ventura / arm64 | OK | OK | OK | ||||||||||||
| Package 60/505 | Hostname | OS / Arch | INSTALL | BUILD | BUILD BIN | ||||||||||||
| ChIPQC 1.34.1 (landing page) Tom Carroll
| kjohnson | macOS 13.0 Ventura / arm64 | OK | OK | OK | ||||||||||||
| Package 61/505 | Hostname | OS / Arch | INSTALL | BUILD | BUILD BIN | ||||||||||||
| ChIPseeker 1.34.1 (landing page) Guangchuang Yu
| kjohnson | macOS 13.0 Ventura / arm64 | OK | OK | OK | ||||||||||||
| Package 62/505 | Hostname | OS / Arch | INSTALL | BUILD | BUILD BIN | ||||||||||||
| chipseq 1.48.0 (landing page) Bioconductor Package Maintainer
| kjohnson | macOS 13.0 Ventura / arm64 | OK | OK | OK | ||||||||||||
| Package 63/505 | Hostname | OS / Arch | INSTALL | BUILD | BUILD BIN | ||||||||||||
| ChIPseqR 1.52.0 (landing page) Peter Humburg
| kjohnson | macOS 13.0 Ventura / arm64 | OK | OK | OK | ||||||||||||
| Package 64/505 | Hostname | OS / Arch | INSTALL | BUILD | BUILD BIN | ||||||||||||
| ChIPsim 1.52.0 (landing page) Peter Humburg
| kjohnson | macOS 13.0 Ventura / arm64 | OK | OK | OK | ||||||||||||
| Package 65/505 | Hostname | OS / Arch | INSTALL | BUILD | BUILD BIN | ||||||||||||
| ChromHeatMap 1.52.0 (landing page) Tim F. Rayner
| kjohnson | macOS 13.0 Ventura / arm64 | OK | OK | OK | ||||||||||||
| Package 66/505 | Hostname | OS / Arch | INSTALL | BUILD | BUILD BIN | ||||||||||||
| ChromSCape 1.8.0 (landing page) Pacome Prompsy
| kjohnson | macOS 13.0 Ventura / arm64 | OK | OK | OK | ||||||||||||
| Package 67/505 | Hostname | OS / Arch | INSTALL | BUILD | BUILD BIN | ||||||||||||
| chromstaR 1.24.0 (landing page) Aaron Taudt
| kjohnson | macOS 13.0 Ventura / arm64 | OK | OK | OK | ||||||||||||
| Package 68/505 | Hostname | OS / Arch | INSTALL | BUILD | BUILD BIN | ||||||||||||
| chromswitch 1.20.0 (landing page) Selin Jessa
| kjohnson | macOS 13.0 Ventura / arm64 | OK | OK | OK | ||||||||||||
| Package 69/505 | Hostname | OS / Arch | INSTALL | BUILD | BUILD BIN | ||||||||||||
| chromVAR 1.20.2 (landing page) Alicia Schep
| kjohnson | macOS 13.0 Ventura / arm64 | OK | OK | OK | ||||||||||||
| Package 70/505 | Hostname | OS / Arch | INSTALL | BUILD | BUILD BIN | ||||||||||||
| cicero 1.16.2 (landing page) Hannah Pliner
| kjohnson | macOS 13.0 Ventura / arm64 | OK | OK | OK | ||||||||||||
| Package 71/505 | Hostname | OS / Arch | INSTALL | BUILD | BUILD BIN | ||||||||||||
| CINdex 1.26.0 (landing page) Yuriy Gusev
| kjohnson | macOS 13.0 Ventura / arm64 | OK | OK | OK | ||||||||||||
| Package 72/505 | Hostname | OS / Arch | INSTALL | BUILD | BUILD BIN | ||||||||||||
| circRNAprofiler 1.12.2 (landing page) Simona Aufiero
| kjohnson | macOS 13.0 Ventura / arm64 | OK | OK | OK | ||||||||||||
| Package 73/505 | Hostname | OS / Arch | INSTALL | BUILD | BUILD BIN | ||||||||||||
| CircSeqAlignTk 1.0.0 (landing page) Jianqiang Sun
| kjohnson | macOS 13.0 Ventura / arm64 | OK | OK | OK | ||||||||||||
| Package 74/505 | Hostname | OS / Arch | INSTALL | BUILD | BUILD BIN | ||||||||||||
| cleanUpdTSeq 1.36.0 (landing page) Jianhong Ou
| kjohnson | macOS 13.0 Ventura / arm64 | OK | OK | OK | ||||||||||||
| Package 75/505 | Hostname | OS / Arch | INSTALL | BUILD | BUILD BIN | ||||||||||||
| cleaver 1.36.0 (landing page) Sebastian Gibb
| kjohnson | macOS 13.0 Ventura / arm64 | OK | OK | OK | ||||||||||||
| Package 76/505 | Hostname | OS / Arch | INSTALL | BUILD | BUILD BIN | ||||||||||||
| cn.mops 1.44.0 (landing page) Gundula Povysil
| kjohnson | macOS 13.0 Ventura / arm64 | OK | OK | OK | ||||||||||||
| Package 77/505 | Hostname | OS / Arch | INSTALL | BUILD | BUILD BIN | ||||||||||||
| CNEr 1.34.0 (landing page) Ge Tan
| kjohnson | macOS 13.0 Ventura / arm64 | OK | OK | OK | ||||||||||||
| Package 78/505 | Hostname | OS / Arch | INSTALL | BUILD | BUILD BIN | ||||||||||||
| CNVfilteR 1.12.2 (landing page) Jose Marcos Moreno-Cabrera
| kjohnson | macOS 13.0 Ventura / arm64 | OK | OK | OK | ||||||||||||
| Package 79/505 | Hostname | OS / Arch | INSTALL | BUILD | BUILD BIN | ||||||||||||
| CNVMetrics 1.2.0 (landing page) Astrid Deschênes
| kjohnson | macOS 13.0 Ventura / arm64 | OK | OK | OK | ||||||||||||
| Package 80/505 | Hostname | OS / Arch | INSTALL | BUILD | BUILD BIN | ||||||||||||
| CNVPanelizer 1.30.0 (landing page) Thomas Wolf
| kjohnson | macOS 13.0 Ventura / arm64 | OK | OK | OK | ||||||||||||
| Package 81/505 | Hostname | OS / Arch | INSTALL | BUILD | BUILD BIN | ||||||||||||
| CNVRanger 1.14.0 (landing page) Ludwig Geistlinger
| kjohnson | macOS 13.0 Ventura / arm64 | OK | OK | OK | ||||||||||||
| Package 82/505 | Hostname | OS / Arch | INSTALL | BUILD | BUILD BIN | ||||||||||||
| CNVrd2 1.36.0 (landing page) Hoang Tan Nguyen
| kjohnson | macOS 13.0 Ventura / arm64 | OK | OK | OK | ||||||||||||
| Package 83/505 | Hostname | OS / Arch | INSTALL | BUILD | BUILD BIN | ||||||||||||
| COCOA 2.12.0 (landing page) John Lawson
| kjohnson | macOS 13.0 Ventura / arm64 | OK | OK | OK | ||||||||||||
| Package 84/505 | Hostname | OS / Arch | INSTALL | BUILD | BUILD BIN | ||||||||||||
| CODEX 1.30.0 (landing page) Yuchao Jiang
| kjohnson | macOS 13.0 Ventura / arm64 | OK | OK | OK | ||||||||||||
| Package 85/505 | Hostname | OS / Arch | INSTALL | BUILD | BUILD BIN | ||||||||||||
| comapr 1.2.0 (landing page) Ruqian Lyu
| kjohnson | macOS 13.0 Ventura / arm64 | OK | OK | OK | ||||||||||||
| Package 86/505 | Hostname | OS / Arch | INSTALL | BUILD | BUILD BIN | ||||||||||||
| coMET 1.30.0 (landing page) Tiphaine Martin
| kjohnson | macOS 13.0 Ventura / arm64 | OK | OK | OK | ||||||||||||
| Package 87/505 | Hostname | OS / Arch | INSTALL | BUILD | BUILD BIN | ||||||||||||
| coMethDMR 1.2.0 (landing page) Fernanda Veitzman
| kjohnson | macOS 13.0 Ventura / arm64 | OK | OK | OK | ||||||||||||
| Package 88/505 | Hostname | OS / Arch | INSTALL | BUILD | BUILD BIN | ||||||||||||
| compEpiTools 1.32.0 (landing page) Kamal Kishore
| kjohnson | macOS 13.0 Ventura / arm64 | OK | OK | OK | ||||||||||||
| Package 89/505 | Hostname | OS / Arch | INSTALL | BUILD | BUILD BIN | ||||||||||||
| ComplexHeatmap 2.14.0 (landing page) Zuguang Gu
| kjohnson | macOS 13.0 Ventura / arm64 | OK | OK | OK | ||||||||||||
| Package 90/505 | Hostname | OS / Arch | INSTALL | BUILD | BUILD BIN | ||||||||||||
| CompoundDb 1.2.1 (landing page) Johannes Rainer
| kjohnson | macOS 13.0 Ventura / arm64 | OK | OK | OK | ||||||||||||
| Package 91/505 | Hostname | OS / Arch | INSTALL | BUILD | BUILD BIN | ||||||||||||
| consensusSeekeR 1.26.0 (landing page) Astrid Deschenes
| kjohnson | macOS 13.0 Ventura / arm64 | OK | OK | OK | ||||||||||||
| Package 92/505 | Hostname | OS / Arch | INSTALL | BUILD | BUILD BIN | ||||||||||||
| contiBAIT 1.26.0 (landing page) Kieran O'Neill
| kjohnson | macOS 13.0 Ventura / arm64 | OK | OK | OK | ||||||||||||
| Package 93/505 | Hostname | OS / Arch | INSTALL | BUILD | BUILD BIN | ||||||||||||
| conumee 1.32.0 (landing page) Volker Hovestadt
| kjohnson | macOS 13.0 Ventura / arm64 | OK | OK | OK | ||||||||||||
| Package 94/505 | Hostname | OS / Arch | INSTALL | BUILD | BUILD BIN | ||||||||||||
| copynumber 1.38.0 (landing page) Gro Nilsen
| kjohnson | macOS 13.0 Ventura / arm64 | OK | ERROR | skipped | ||||||||||||
| Package 95/505 | Hostname | OS / Arch | INSTALL | BUILD | BUILD BIN | ||||||||||||
| CopyNumberPlots 1.14.0 (landing page) Bernat Gel
| kjohnson | macOS 13.0 Ventura / arm64 | OK | OK | OK | ||||||||||||
| Package 96/505 | Hostname | OS / Arch | INSTALL | BUILD | BUILD BIN | ||||||||||||
| CopywriteR 2.30.0 (landing page) Oscar Krijgsman
| kjohnson | macOS 13.0 Ventura / arm64 | OK | OK | OK | ||||||||||||
| Package 97/505 | Hostname | OS / Arch | INSTALL | BUILD | BUILD BIN | ||||||||||||
| CoverageView 1.36.0 (landing page) Ernesto Lowy
| kjohnson | macOS 13.0 Ventura / arm64 | OK | OK | OK | ||||||||||||
| Package 98/505 | Hostname | OS / Arch | INSTALL | BUILD | BUILD BIN | ||||||||||||
| crisprBase 1.2.0 (landing page) Jean-Philippe Fortin
| kjohnson | macOS 13.0 Ventura / arm64 | OK | OK | OK | ||||||||||||
| Package 99/505 | Hostname | OS / Arch | INSTALL | BUILD | BUILD BIN | ||||||||||||
| crisprBowtie 1.2.0 (landing page) Jean-Philippe Fortin
| kjohnson | macOS 13.0 Ventura / arm64 | OK | OK | OK | ||||||||||||
| Package 100/505 | Hostname | OS / Arch | INSTALL | BUILD | BUILD BIN | ||||||||||||
| crisprDesign 1.0.0 (landing page) Jean-Philippe Fortin
| kjohnson | macOS 13.0 Ventura / arm64 | OK | OK | OK | ||||||||||||
| Package 101/505 | Hostname | OS / Arch | INSTALL | BUILD | BUILD BIN | ||||||||||||
| crisprScore 1.2.0 (landing page) Jean-Philippe Fortin
| kjohnson | macOS 13.0 Ventura / arm64 | OK | OK | OK | ||||||||||||
| Package 102/505 | Hostname | OS / Arch | INSTALL | BUILD | BUILD BIN | ||||||||||||
| CRISPRseek 1.38.0 (landing page) Lihua Julie Zhu
| kjohnson | macOS 13.0 Ventura / arm64 | OK | OK | OK | ||||||||||||
| Package 103/505 | Hostname | OS / Arch | INSTALL | BUILD | BUILD BIN | ||||||||||||
| CrispRVariants 1.26.0 (landing page) Helen Lindsay
| kjohnson | macOS 13.0 Ventura / arm64 | OK | OK | OK | ||||||||||||
| Package 104/505 | Hostname | OS / Arch | INSTALL | BUILD | BUILD BIN | ||||||||||||
| crisprViz 1.0.0 (landing page) Jean-Philippe Fortin
| kjohnson | macOS 13.0 Ventura / arm64 | OK | OK | OK | ||||||||||||
| Package 105/505 | Hostname | OS / Arch | INSTALL | BUILD | BUILD BIN | ||||||||||||
| CSAR 1.50.0 (landing page) Jose M Muino
| kjohnson | macOS 13.0 Ventura / arm64 | OK | OK | OK | ||||||||||||
| Package 106/505 | Hostname | OS / Arch | INSTALL | BUILD | BUILD BIN | ||||||||||||
| csaw 1.32.0 (landing page) Aaron Lun
| kjohnson | macOS 13.0 Ventura / arm64 | OK | OK | OK | ||||||||||||
| Package 107/505 | Hostname | OS / Arch | INSTALL | BUILD | BUILD BIN | ||||||||||||
| CSSQ 1.10.0 (landing page) Fan Lab at Georgia Institute of Technology
| kjohnson | macOS 13.0 Ventura / arm64 | OK | OK | OK | ||||||||||||
| Package 108/505 | Hostname | OS / Arch | INSTALL | BUILD | BUILD BIN | ||||||||||||
| customProDB 1.38.0 (landing page) Xiaojing Wang
| kjohnson | macOS 13.0 Ventura / arm64 | OK | OK | OK | ||||||||||||
| Package 109/505 | Hostname | OS / Arch | INSTALL | BUILD | BUILD BIN | ||||||||||||
| dada2 1.26.0 (landing page) Benjamin Callahan
| kjohnson | macOS 13.0 Ventura / arm64 | OK | OK | OK | ||||||||||||
| Package 110/505 | Hostname | OS / Arch | INSTALL | BUILD | BUILD BIN | ||||||||||||
| DAMEfinder 1.10.1 (landing page) Stephany Orjuela
| kjohnson | macOS 13.0 Ventura / arm64 | OK | OK | OK | ||||||||||||
| Package 111/505 | Hostname | OS / Arch | INSTALL | BUILD | BUILD BIN | ||||||||||||
| dasper 1.8.0 (landing page) David Zhang
| kjohnson | macOS 13.0 Ventura / arm64 | OK | ERROR | skipped | ||||||||||||
| Package 112/505 | Hostname | OS / Arch | INSTALL | BUILD | BUILD BIN | ||||||||||||
| debrowser 1.26.3 (landing page) Alper Kucukural
| kjohnson | macOS 13.0 Ventura / arm64 | OK | OK | OK | ||||||||||||
| Package 113/505 | Hostname | OS / Arch | INSTALL | BUILD | BUILD BIN | ||||||||||||
| DECIPHER 2.26.0 (landing page) Erik Wright
| kjohnson | macOS 13.0 Ventura / arm64 | OK | OK | OK | ||||||||||||
| Package 114/505 | Hostname | OS / Arch | INSTALL | BUILD | BUILD BIN | ||||||||||||
| deconvR 1.4.5 (landing page) Irem B. G�nd�z
| kjohnson | macOS 13.0 Ventura / arm64 | OK | OK | OK | ||||||||||||
| Package 115/505 | Hostname | OS / Arch | INSTALL | BUILD | BUILD BIN | ||||||||||||
| deepSNV 1.44.0 (landing page) Moritz Gerstung
| kjohnson | macOS 13.0 Ventura / arm64 | OK | OK | OK | ||||||||||||
| Package 116/505 | Hostname | OS / Arch | INSTALL | BUILD | BUILD BIN | ||||||||||||
| DegNorm 1.8.2 (landing page) Ji-Ping Wang
| kjohnson | macOS 13.0 Ventura / arm64 | OK | OK | OK | ||||||||||||
| Package 117/505 | Hostname | OS / Arch | INSTALL | BUILD | BUILD BIN | ||||||||||||
| DelayedArray 0.24.0 (landing page) Hervé Pagès
| kjohnson | macOS 13.0 Ventura / arm64 | OK | OK | OK | ||||||||||||
| Package 118/505 | Hostname | OS / Arch | INSTALL | BUILD | BUILD BIN | ||||||||||||
| DelayedMatrixStats 1.20.0 (landing page) Peter Hickey
| kjohnson | macOS 13.0 Ventura / arm64 | OK | OK | OK | ||||||||||||
| Package 119/505 | Hostname | OS / Arch | INSTALL | BUILD | BUILD BIN | ||||||||||||
| deltaCaptureC 1.12.0 (landing page) Michael Shapiro
| kjohnson | macOS 13.0 Ventura / arm64 | OK | OK | OK | ||||||||||||
| Package 120/505 | Hostname | OS / Arch | INSTALL | BUILD | BUILD BIN | ||||||||||||
| derfinder 1.32.0 (landing page) Leonardo Collado-Torres
| kjohnson | macOS 13.0 Ventura / arm64 | OK | OK | OK | ||||||||||||
| Package 121/505 | Hostname | OS / Arch | INSTALL | BUILD | BUILD BIN | ||||||||||||
| derfinderHelper 1.32.0 (landing page) Leonardo Collado-Torres
| kjohnson | macOS 13.0 Ventura / arm64 | OK | OK | OK | ||||||||||||
| Package 122/505 | Hostname | OS / Arch | INSTALL | BUILD | BUILD BIN | ||||||||||||
| derfinderPlot 1.32.0 (landing page) Leonardo Collado-Torres
| kjohnson | macOS 13.0 Ventura / arm64 | OK | OK | OK | ||||||||||||
| Package 123/505 | Hostname | OS / Arch | INSTALL | BUILD | BUILD BIN | ||||||||||||
| DEScan2 1.18.2 (landing page) Dario Righelli
| kjohnson | macOS 13.0 Ventura / arm64 | OK | OK | OK | ||||||||||||
| Package 124/505 | Hostname | OS / Arch | INSTALL | BUILD | BUILD BIN | ||||||||||||
| DESeq2 1.38.3 (landing page) Michael Love
| kjohnson | macOS 13.0 Ventura / arm64 | OK | OK | OK | ||||||||||||
| Package 125/505 | Hostname | OS / Arch | INSTALL | BUILD | BUILD BIN | ||||||||||||
| DEXSeq 1.44.0 (landing page) Alejandro Reyes
| kjohnson | macOS 13.0 Ventura / arm64 | OK | OK | OK | ||||||||||||
| Package 126/505 | Hostname | OS / Arch | INSTALL | BUILD | BUILD BIN | ||||||||||||
| DiffBind 3.8.4 (landing page) Rory Stark
| kjohnson | macOS 13.0 Ventura / arm64 | OK | OK | OK | ||||||||||||
| Package 127/505 | Hostname | OS / Arch | INSTALL | BUILD | BUILD BIN | ||||||||||||
| diffHic 1.30.0 (landing page) Aaron Lun
| kjohnson | macOS 13.0 Ventura / arm64 | OK | OK | OK | ||||||||||||
| Package 128/505 | Hostname | OS / Arch | INSTALL | BUILD | BUILD BIN | ||||||||||||
| diffUTR 1.6.0 (landing page) Pierre-Luc Germain
| kjohnson | macOS 13.0 Ventura / arm64 | OK | OK | OK | ||||||||||||
| Package 129/505 | Hostname | OS / Arch | INSTALL | BUILD | BUILD BIN | ||||||||||||
| DirichletMultinomial 1.40.0 (landing page) Martin Morgan
| kjohnson | macOS 13.0 Ventura / arm64 | OK | OK | OK | ||||||||||||
| Package 130/505 | Hostname | OS / Arch | INSTALL | BUILD | BUILD BIN | ||||||||||||
| DMCFB 1.12.0 (landing page) Farhad Shokoohi
| kjohnson | macOS 13.0 Ventura / arm64 | OK | OK | OK | ||||||||||||
| Package 131/505 | Hostname | OS / Arch | INSTALL | BUILD | BUILD BIN | ||||||||||||
| DMCHMM 1.20.0 (landing page) Farhad Shokoohi
| kjohnson | macOS 13.0 Ventura / arm64 | OK | OK | OK | ||||||||||||
| Package 132/505 | Hostname | OS / Arch | INSTALL | BUILD | BUILD BIN | ||||||||||||
| DMRcaller 1.30.0 (landing page) Nicolae Radu Zabet
| kjohnson | macOS 13.0 Ventura / arm64 | OK | OK | OK | ||||||||||||
| Package 133/505 | Hostname | OS / Arch | INSTALL | BUILD | BUILD BIN | ||||||||||||
| DMRcate 2.12.0 (landing page) Tim Peters
| kjohnson | macOS 13.0 Ventura / arm64 | OK | OK | OK | ||||||||||||
| Package 134/505 | Hostname | OS / Arch | INSTALL | BUILD | BUILD BIN | ||||||||||||
| DMRScan 1.20.0 (landing page) Christian M Page
| kjohnson | macOS 13.0 Ventura / arm64 | OK | OK | OK | ||||||||||||
| Package 135/505 | Hostname | OS / Arch | INSTALL | BUILD | BUILD BIN | ||||||||||||
| dmrseq 1.18.1 (landing page) Keegan Korthauer
| kjohnson | macOS 13.0 Ventura / arm64 | OK | OK | OK | ||||||||||||
| Package 136/505 | Hostname | OS / Arch | INSTALL | BUILD | BUILD BIN | ||||||||||||
| DNAfusion 1.0.0 (landing page) Christoffer Trier Maansson
| kjohnson | macOS 13.0 Ventura / arm64 | OK | OK | OK | ||||||||||||
| Package 137/505 | Hostname | OS / Arch | INSTALL | BUILD | BUILD BIN | ||||||||||||
| DominoEffect 1.18.0 (landing page) Marija Buljan
| kjohnson | macOS 13.0 Ventura / arm64 | OK | OK | OK | ||||||||||||
| Package 138/505 | Hostname | OS / Arch | INSTALL | BUILD | BUILD BIN | ||||||||||||
| dpeak 1.10.0 (landing page) Dongjun Chung
| kjohnson | macOS 13.0 Ventura / arm64 | OK | OK | OK | ||||||||||||
| Package 139/505 | Hostname | OS / Arch | INSTALL | BUILD | BUILD BIN | ||||||||||||
| DRIMSeq 1.26.0 (landing page) Malgorzata Nowicka
| kjohnson | macOS 13.0 Ventura / arm64 | OK | OK | OK | ||||||||||||
| Package 140/505 | Hostname | OS / Arch | INSTALL | BUILD | BUILD BIN | ||||||||||||
| DropletUtils 1.18.1 (landing page) Jonathan Griffiths
| kjohnson | macOS 13.0 Ventura / arm64 | OK | OK | OK | ||||||||||||
| Package 141/505 | Hostname | OS / Arch | INSTALL | BUILD | BUILD BIN | ||||||||||||
| dStruct 1.4.0 (landing page) Krishna Choudhary
| kjohnson | macOS 13.0 Ventura / arm64 | OK | OK | OK | ||||||||||||
| Package 142/505 | Hostname | OS / Arch | INSTALL | BUILD | BUILD BIN | ||||||||||||
| easyRNASeq 2.34.0 (landing page) Nicolas Delhomme
| kjohnson | macOS 13.0 Ventura / arm64 | OK | OK | OK | ||||||||||||
| Package 143/505 | Hostname | OS / Arch | INSTALL | BUILD | BUILD BIN | ||||||||||||
| EDASeq 2.32.0 (landing page) Davide Risso
| kjohnson | macOS 13.0 Ventura / arm64 | OK | OK | OK | ||||||||||||
| Package 144/505 | Hostname | OS / Arch | INSTALL | BUILD | BUILD BIN | ||||||||||||
| eisaR 1.10.0 (landing page) Michael Stadler
| kjohnson | macOS 13.0 Ventura / arm64 | OK | OK | OK | ||||||||||||
| Package 145/505 | Hostname | OS / Arch | INSTALL | BUILD | BUILD BIN | ||||||||||||
| ELMER 2.22.0 (landing page) Tiago Chedraoui Silva
| kjohnson | macOS 13.0 Ventura / arm64 | OK | OK | OK | ||||||||||||
| Package 146/505 | Hostname | OS / Arch | INSTALL | BUILD | BUILD BIN | ||||||||||||
| enhancerHomologSearch 1.4.2 (landing page) Jianhong Ou
| kjohnson | macOS 13.0 Ventura / arm64 | OK | OK | OK | ||||||||||||
| Package 147/505 | Hostname | OS / Arch | INSTALL | BUILD | BUILD BIN | ||||||||||||
| ENmix 1.34.02 (landing page) Zongli Xu
| kjohnson | macOS 13.0 Ventura / arm64 | OK | OK | OK | ||||||||||||
| Package 148/505 | Hostname | OS / Arch | INSTALL | BUILD | BUILD BIN | ||||||||||||
| EnrichedHeatmap 1.28.1 (landing page) Zuguang Gu
| kjohnson | macOS 13.0 Ventura / arm64 | OK | OK | OK | ||||||||||||
| Package 149/505 | Hostname | OS / Arch | INSTALL | BUILD | BUILD BIN | ||||||||||||
| enrichTF 1.14.0 (landing page) Zheng Wei
| kjohnson | macOS 13.0 Ventura / arm64 | OK | OK | OK | ||||||||||||
| Package 150/505 | Hostname | OS / Arch | INSTALL | BUILD | BUILD BIN | ||||||||||||
| ensembldb 2.22.0 (landing page) Johannes Rainer
| kjohnson | macOS 13.0 Ventura / arm64 | OK | OK | OK | ||||||||||||
| Package 151/505 | Hostname | OS / Arch | INSTALL | BUILD | BUILD BIN | ||||||||||||
| EpiCompare 1.2.0 (landing page) Sera Choi
| kjohnson | macOS 13.0 Ventura / arm64 | OK | OK | OK | ||||||||||||
| Package 152/505 | Hostname | OS / Arch | INSTALL | BUILD | BUILD BIN | ||||||||||||
| epidecodeR 1.6.0 (landing page) Kandarp Joshi
| kjohnson | macOS 13.0 Ventura / arm64 | OK | OK | OK | ||||||||||||
| Package 153/505 | Hostname | OS / Arch | INSTALL | BUILD | BUILD BIN | ||||||||||||
| epigenomix 1.38.0 (landing page) Hans-Ulrich Klein
| kjohnson | macOS 13.0 Ventura / arm64 | OK | OK | OK | ||||||||||||
| Package 154/505 | Hostname | OS / Arch | INSTALL | BUILD | BUILD BIN | ||||||||||||
| epigraHMM 1.6.4 (landing page) Pedro Baldoni
| kjohnson | macOS 13.0 Ventura / arm64 | OK | OK | OK | ||||||||||||
| Package 155/505 | Hostname | OS / Arch | INSTALL | BUILD | BUILD BIN | ||||||||||||
| epihet 1.14.0 (landing page) Xiaowen Chen
| kjohnson | macOS 13.0 Ventura / arm64 | ERROR | ERROR | skipped | ||||||||||||
| Package 156/505 | Hostname | OS / Arch | INSTALL | BUILD | BUILD BIN | ||||||||||||
| EpiMix 1.0.2 (landing page) Yuanning Zheng
| kjohnson | macOS 13.0 Ventura / arm64 | OK | ERROR | skipped | ||||||||||||
| Package 157/505 | Hostname | OS / Arch | INSTALL | BUILD | BUILD BIN | ||||||||||||
| epimutacions 1.2.0 (landing page) Dolors Pelegri-Siso
| kjohnson | macOS 13.0 Ventura / arm64 | OK | OK | OK | ||||||||||||
| Package 158/505 | Hostname | OS / Arch | INSTALL | BUILD | BUILD BIN | ||||||||||||
| epistack 1.4.0 (landing page) DEVAILLY Guillaume
| kjohnson | macOS 13.0 Ventura / arm64 | OK | OK | OK | ||||||||||||
| Package 159/505 | Hostname | OS / Arch | INSTALL | BUILD | BUILD BIN | ||||||||||||
| EpiTxDb 1.10.0 (landing page) Felix G.M. Ernst
| kjohnson | macOS 13.0 Ventura / arm64 | OK | OK | OK | ||||||||||||
| Package 160/505 | Hostname | OS / Arch | INSTALL | BUILD | BUILD BIN | ||||||||||||
| epivizr 2.28.0 (landing page) Hector Corrada Bravo
| kjohnson | macOS 13.0 Ventura / arm64 | OK | OK | OK | ||||||||||||
| Package 161/505 | Hostname | OS / Arch | INSTALL | BUILD | BUILD BIN | ||||||||||||
| epivizrData 1.26.0 (landing page) Hector Corrada Bravo
| kjohnson | macOS 13.0 Ventura / arm64 | OK | OK | OK | ||||||||||||
| Package 162/505 | Hostname | OS / Arch | INSTALL | BUILD | BUILD BIN | ||||||||||||
| erma 1.14.0 (landing page) VJ Carey
| kjohnson | macOS 13.0 Ventura / arm64 | OK | OK | OK | ||||||||||||
| Package 163/505 | Hostname | OS / Arch | INSTALL | BUILD | BUILD BIN | ||||||||||||
| esATAC 1.20.0 (landing page) Zheng Wei
| kjohnson | macOS 13.0 Ventura / arm64 | OK | OK | OK | ||||||||||||
| Package 164/505 | Hostname | OS / Arch | INSTALL | BUILD | BUILD BIN | ||||||||||||
| EventPointer 3.6.0 (landing page) Juan A. Ferrer-Bonsoms
| kjohnson | macOS 13.0 Ventura / arm64 | OK | OK | OK | ||||||||||||
| Package 165/505 | Hostname | OS / Arch | INSTALL | BUILD | BUILD BIN | ||||||||||||
| ExCluster 1.16.0 (landing page) R. Matthew Tanner
| kjohnson | macOS 13.0 Ventura / arm64 | OK | OK | OK | ||||||||||||
| Package 166/505 | Hostname | OS / Arch | INSTALL | BUILD | BUILD BIN | ||||||||||||
| exomeCopy 1.44.0 (landing page) Michael Love
| kjohnson | macOS 13.0 Ventura / arm64 | OK | OK | OK | ||||||||||||
| Package 167/505 | Hostname | OS / Arch | INSTALL | BUILD | BUILD BIN | ||||||||||||
| exomePeak2 1.10.0 (landing page) Zhen Wei
| kjohnson | macOS 13.0 Ventura / arm64 | OK | OK | OK | ||||||||||||
| Package 168/505 | Hostname | OS / Arch | INSTALL | BUILD | BUILD BIN | ||||||||||||
| extraChIPs 1.2.4 (landing page) Stephen Pederson
| kjohnson | macOS 13.0 Ventura / arm64 | OK | OK | OK | ||||||||||||
| Package 169/505 | Hostname | OS / Arch | INSTALL | BUILD | BUILD BIN | ||||||||||||
| factR 1.0.0 (landing page) Fursham Hamid
| kjohnson | macOS 13.0 Ventura / arm64 | OK | OK | OK | ||||||||||||
| Package 170/505 | Hostname | OS / Arch | INSTALL | BUILD | BUILD BIN | ||||||||||||
| FastqCleaner 1.16.1 (landing page) Leandro Roser
| kjohnson | macOS 13.0 Ventura / arm64 | OK | OK | OK | ||||||||||||
| Package 171/505 | Hostname | OS / Arch | INSTALL | BUILD | BUILD BIN | ||||||||||||
| fastseg 1.44.0 (landing page) Alexander Blume
| kjohnson | macOS 13.0 Ventura / arm64 | OK | OK | OK | ||||||||||||
| Package 172/505 | Hostname | OS / Arch | INSTALL | BUILD | BUILD BIN | ||||||||||||
| fCCAC 1.24.0 (landing page) Pedro Madrigal
| kjohnson | macOS 13.0 Ventura / arm64 | OK | OK | OK | ||||||||||||
| Package 173/505 | Hostname | OS / Arch | INSTALL | BUILD | BUILD BIN | ||||||||||||
| fcScan 1.12.0 (landing page) Pierre Khoueiry
| kjohnson | macOS 13.0 Ventura / arm64 | OK | OK | OK | ||||||||||||
| Package 174/505 | Hostname | OS / Arch | INSTALL | BUILD | BUILD BIN | ||||||||||||
| FilterFFPE 1.8.0 (landing page) Lanying Wei
| kjohnson | macOS 13.0 Ventura / arm64 | OK | OK | OK | ||||||||||||
| Package 175/505 | Hostname | OS / Arch | INSTALL | BUILD | BUILD BIN | ||||||||||||
| FindIT2 1.4.0 (landing page) Guandong Shang
| kjohnson | macOS 13.0 Ventura / arm64 | OK | OK | OK | ||||||||||||
| Package 176/505 | Hostname | OS / Arch | INSTALL | BUILD | BUILD BIN | ||||||||||||
| fishpond 2.4.1 (landing page) Michael Love
| kjohnson | macOS 13.0 Ventura / arm64 | OK | OK | OK | ||||||||||||
| Package 177/505 | Hostname | OS / Arch | INSTALL | BUILD | BUILD BIN | ||||||||||||
| FRASER 1.10.2 (landing page) Christian Mertes
| kjohnson | macOS 13.0 Ventura / arm64 | OK | OK | OK | ||||||||||||
| Package 178/505 | Hostname | OS / Arch | INSTALL | BUILD | BUILD BIN | ||||||||||||
| GA4GHclient 1.22.0 (landing page) Welliton Souza
| kjohnson | macOS 13.0 Ventura / arm64 | OK | OK | OK | ||||||||||||
| Package 179/505 | Hostname | OS / Arch | INSTALL | BUILD | BUILD BIN | ||||||||||||
| gcapc 1.22.0 (landing page) Mingxiang Teng
| kjohnson | macOS 13.0 Ventura / arm64 | OK | OK | OK | ||||||||||||
| Package 180/505 | Hostname | OS / Arch | INSTALL | BUILD | BUILD BIN | ||||||||||||
| genbankr 1.26.0 (landing page) Gabriel Becker
| kjohnson | macOS 13.0 Ventura / arm64 | OK | OK | OK | ||||||||||||
| Package 181/505 | Hostname | OS / Arch | INSTALL | BUILD | BUILD BIN | ||||||||||||
| geneAttribution 1.24.0 (landing page) Arthur Wuster
| kjohnson | macOS 13.0 Ventura / arm64 | OK | OK | OK | ||||||||||||
| Package 182/505 | Hostname | OS / Arch | INSTALL | BUILD | BUILD BIN | ||||||||||||
| GeneGeneInteR 1.24.0 (landing page) Mathieu Emily
| kjohnson | macOS 13.0 Ventura / arm64 | OK | OK | OK | ||||||||||||
| Package 183/505 | Hostname | OS / Arch | INSTALL | BUILD | BUILD BIN | ||||||||||||
| geneRxCluster 1.34.0 (landing page) Charles Berry
| kjohnson | macOS 13.0 Ventura / arm64 | OK | OK | OK | ||||||||||||
| Package 184/505 | Hostname | OS / Arch | INSTALL | BUILD | BUILD BIN | ||||||||||||
| GENESIS 2.28.0 (landing page) Stephanie M. Gogarten
| kjohnson | macOS 13.0 Ventura / arm64 | OK | OK | OK | ||||||||||||
| Package 185/505 | Hostname | OS / Arch | INSTALL | BUILD | BUILD BIN | ||||||||||||
| GeneStructureTools 1.18.0 (landing page) Beth Signal
| kjohnson | macOS 13.0 Ventura / arm64 | OK | OK | OK | ||||||||||||
| Package 186/505 | Hostname | OS / Arch | INSTALL | BUILD | BUILD BIN | ||||||||||||
| genomation 1.30.0 (landing page) Altuna Akalin
| kjohnson | macOS 13.0 Ventura / arm64 | OK | OK | OK | ||||||||||||
| Package 187/505 | Hostname | OS / Arch | INSTALL | BUILD | BUILD BIN | ||||||||||||
| GenomAutomorphism 1.0.3 (landing page) Robersy Sanchez
| kjohnson | macOS 13.0 Ventura / arm64 | OK | OK | OK | ||||||||||||
| Package 188/505 | Hostname | OS / Arch | INSTALL | BUILD | BUILD BIN | ||||||||||||
| GenomeInfoDb 1.34.9 (landing page) Hervé Pagès
| kjohnson | macOS 13.0 Ventura / arm64 | OK | OK | OK | ||||||||||||
| Package 189/505 | Hostname | OS / Arch | INSTALL | BUILD | BUILD BIN | ||||||||||||
| genomeIntervals 1.54.0 (landing page) Julien Gagneur
| kjohnson | macOS 13.0 Ventura / arm64 | OK | OK | OK | ||||||||||||
| Package 190/505 | Hostname | OS / Arch | INSTALL | BUILD | BUILD BIN | ||||||||||||
| GenomicAlignments 1.34.1 (landing page) Hervé Pagès
| kjohnson | macOS 13.0 Ventura / arm64 | OK | OK | OK | ||||||||||||
| Package 191/505 | Hostname | OS / Arch | INSTALL | BUILD | BUILD BIN | ||||||||||||
| GenomicDataCommons 1.22.3 (landing page) Sean Davis
| kjohnson | macOS 13.0 Ventura / arm64 | OK | OK | OK | ||||||||||||
| Package 192/505 | Hostname | OS / Arch | INSTALL | BUILD | BUILD BIN | ||||||||||||
| GenomicDistributions 1.6.0 (landing page) Kristyna Kupkova
| kjohnson | macOS 13.0 Ventura / arm64 | OK | OK | OK | ||||||||||||
| Package 193/505 | Hostname | OS / Arch | INSTALL | BUILD | BUILD BIN | ||||||||||||
| GenomicFeatures 1.50.4 (landing page) H. Pagès
| kjohnson | macOS 13.0 Ventura / arm64 | OK | OK | OK | ||||||||||||
| Package 194/505 | Hostname | OS / Arch | INSTALL | BUILD | BUILD BIN | ||||||||||||
| GenomicFiles 1.34.0 (landing page) Bioconductor Package Maintainer
| kjohnson | macOS 13.0 Ventura / arm64 | OK | OK | OK | ||||||||||||
| Package 195/505 | Hostname | OS / Arch | INSTALL | BUILD | BUILD BIN | ||||||||||||
| GenomicInteractionNodes 1.2.0 (landing page) Jianhong Ou
| kjohnson | macOS 13.0 Ventura / arm64 | OK | OK | OK | ||||||||||||
| Package 196/505 | Hostname | OS / Arch | INSTALL | BUILD | BUILD BIN | ||||||||||||
| GenomicInteractions 1.32.0 (landing page) Liz Ing-Simmons
| kjohnson | macOS 13.0 Ventura / arm64 | OK | OK | OK | ||||||||||||
| Package 197/505 | Hostname | OS / Arch | INSTALL | BUILD | BUILD BIN | ||||||||||||
| GenomicOZone 1.12.0 (landing page) Hua Zhong
| kjohnson | macOS 13.0 Ventura / arm64 | OK | OK | OK | ||||||||||||
| Package 198/505 | Hostname | OS / Arch | INSTALL | BUILD | BUILD BIN | ||||||||||||
| GenomicRanges 1.50.2 (landing page) Hervé Pagès
| kjohnson | macOS 13.0 Ventura / arm64 | OK | OK | OK | ||||||||||||
| Package 199/505 | Hostname | OS / Arch | INSTALL | BUILD | BUILD BIN | ||||||||||||
| GenomicScores 2.10.0 (landing page) Robert Castelo
| kjohnson | macOS 13.0 Ventura / arm64 | OK | OK | OK | ||||||||||||
| Package 200/505 | Hostname | OS / Arch | INSTALL | BUILD | BUILD BIN | ||||||||||||
| GenomicTuples 1.32.0 (landing page) Peter Hickey
| kjohnson | macOS 13.0 Ventura / arm64 | OK | OK | OK | ||||||||||||
| Package 201/505 | Hostname | OS / Arch | INSTALL | BUILD | BUILD BIN | ||||||||||||
| genotypeeval 1.30.0 (landing page) Jennifer Tom
| kjohnson | macOS 13.0 Ventura / arm64 | OK | OK | OK | ||||||||||||
| Package 202/505 | Hostname | OS / Arch | INSTALL | BUILD | BUILD BIN | ||||||||||||
| GenVisR 1.30.0 (landing page) Zachary Skidmore
| kjohnson | macOS 13.0 Ventura / arm64 | OK | OK | OK | ||||||||||||
| Package 203/505 | Hostname | OS / Arch | INSTALL | BUILD | BUILD BIN | ||||||||||||
| ggbio 1.46.0 (landing page) Michael Lawrence
| kjohnson | macOS 13.0 Ventura / arm64 | OK | OK | OK | ||||||||||||
| Package 204/505 | Hostname | OS / Arch | INSTALL | BUILD | BUILD BIN | ||||||||||||
| girafe 1.50.0 (landing page) J. Toedling
| kjohnson | macOS 13.0 Ventura / arm64 | OK | OK | OK | ||||||||||||
| Package 205/505 | Hostname | OS / Arch | INSTALL | BUILD | BUILD BIN | ||||||||||||
| gmapR 1.40.0 (landing page) Michael Lawrence
| kjohnson | macOS 13.0 Ventura / arm64 | ERROR | ERROR | skipped | ||||||||||||
| Package 206/505 | Hostname | OS / Arch | INSTALL | BUILD | BUILD BIN | ||||||||||||
| gmoviz 1.10.0 (landing page) Kathleen Zeglinski
| kjohnson | macOS 13.0 Ventura / arm64 | OK | OK | OK | ||||||||||||
| Package 207/505 | Hostname | OS / Arch | INSTALL | BUILD | BUILD BIN | ||||||||||||
| GOfuncR 1.18.0 (landing page) Steffi Grote
| kjohnson | macOS 13.0 Ventura / arm64 | OK | OK | OK | ||||||||||||
| Package 208/505 | Hostname | OS / Arch | INSTALL | BUILD | BUILD BIN | ||||||||||||
| GOpro 1.24.0 (landing page) Lidia Chrabaszcz
| kjohnson | macOS 13.0 Ventura / arm64 | OK | OK | OK | ||||||||||||
| Package 209/505 | Hostname | OS / Arch | INSTALL | BUILD | BUILD BIN | ||||||||||||
| GOTHiC 1.34.0 (landing page) Borbala Mifsud
| kjohnson | macOS 13.0 Ventura / arm64 | OK | OK | OK | ||||||||||||
| Package 210/505 | Hostname | OS / Arch | INSTALL | BUILD | BUILD BIN | ||||||||||||
Sun Ah Kim
| kjohnson | macOS 13.0 Ventura / arm64 | ERROR | ERROR | skipped | ||||||||||||
| Package 211/505 | Hostname | OS / Arch | INSTALL | BUILD | BUILD BIN | ||||||||||||
| groHMM 1.32.0 (landing page) Tulip Nandu
| kjohnson | macOS 13.0 Ventura / arm64 | OK | OK | OK | ||||||||||||
| Package 212/505 | Hostname | OS / Arch | INSTALL | BUILD | BUILD BIN | ||||||||||||
| GSVA 1.46.0 (landing page) Robert Castelo
| kjohnson | macOS 13.0 Ventura / arm64 | OK | OK | OK | ||||||||||||
| Package 213/505 | Hostname | OS / Arch | INSTALL | BUILD | BUILD BIN | ||||||||||||
| gtrellis 1.30.0 (landing page) Zuguang Gu
| kjohnson | macOS 13.0 Ventura / arm64 | OK | OK | OK | ||||||||||||
| Package 214/505 | Hostname | OS / Arch | INSTALL | BUILD | BUILD BIN | ||||||||||||
| GUIDEseq 1.28.0 (landing page) Lihua Julie Zhu
| kjohnson | macOS 13.0 Ventura / arm64 | OK | OK | OK | ||||||||||||
| Package 215/505 | Hostname | OS / Arch | INSTALL | BUILD | BUILD BIN | ||||||||||||
| Gviz 1.42.1 (landing page) Robert Ivanek
| kjohnson | macOS 13.0 Ventura / arm64 | OK | OK | OK | ||||||||||||
| Package 216/505 | Hostname | OS / Arch | INSTALL | BUILD | BUILD BIN | ||||||||||||
| gwascat 2.30.0 (landing page) VJ Carey
| kjohnson | macOS 13.0 Ventura / arm64 | OK | OK | OK | ||||||||||||
| Package 217/505 | Hostname | OS / Arch | INSTALL | BUILD | BUILD BIN | ||||||||||||
| h5vc 2.32.0 (landing page) Paul Theodor Pyl
| kjohnson | macOS 13.0 Ventura / arm64 | OK | OK | OK | ||||||||||||
| Package 218/505 | Hostname | OS / Arch | INSTALL | BUILD | BUILD BIN | ||||||||||||
| HDF5Array 1.26.0 (landing page) Hervé Pagès
| kjohnson | macOS 13.0 Ventura / arm64 | OK | OK | OK | ||||||||||||
| Package 219/505 | Hostname | OS / Arch | INSTALL | BUILD | BUILD BIN | ||||||||||||
| heatmaps 1.22.0 (landing page) Malcolm Perry
| kjohnson | macOS 13.0 Ventura / arm64 | OK | OK | OK | ||||||||||||
| Package 220/505 | Hostname | OS / Arch | INSTALL | BUILD | BUILD BIN | ||||||||||||
| HelloRanges 1.24.0 (landing page) Michael Lawrence
| kjohnson | macOS 13.0 Ventura / arm64 | OK | OK | OK | ||||||||||||
| Package 221/505 | Hostname | OS / Arch | INSTALL | BUILD | BUILD BIN | ||||||||||||
| hermes 1.2.0 (landing page) Daniel Sabanés Bové
| kjohnson | macOS 13.0 Ventura / arm64 | OK | OK | OK | ||||||||||||
| Package 222/505 | Hostname | OS / Arch | INSTALL | BUILD | BUILD BIN | ||||||||||||
| HiCBricks 1.16.0 (landing page) Koustav Pal
| kjohnson | macOS 13.0 Ventura / arm64 | OK | OK | OK | ||||||||||||
| Package 223/505 | Hostname | OS / Arch | INSTALL | BUILD | BUILD BIN | ||||||||||||
| HiCcompare 1.20.0 (landing page) John Stansfield
| kjohnson | macOS 13.0 Ventura / arm64 | OK | OK | OK | ||||||||||||
| Package 224/505 | Hostname | OS / Arch | INSTALL | BUILD | BUILD BIN | ||||||||||||
| HiCDCPlus 1.6.0 (landing page) Merve Sahin
| kjohnson | macOS 13.0 Ventura / arm64 | OK | OK | OK | ||||||||||||
| Package 225/505 | Hostname | OS / Arch | INSTALL | BUILD | BUILD BIN | ||||||||||||
| HiContacts 1.0.0 (landing page) Jacques Serizay
| kjohnson | macOS 13.0 Ventura / arm64 | OK | OK | OK | ||||||||||||
| Package 226/505 | Hostname | OS / Arch | INSTALL | BUILD | BUILD BIN | ||||||||||||
| HilbertCurve 1.28.0 (landing page) Zuguang Gu
| kjohnson | macOS 13.0 Ventura / arm64 | OK | OK | OK | ||||||||||||
| Package 227/505 | Hostname | OS / Arch | INSTALL | BUILD | BUILD BIN | ||||||||||||
| HiTC 1.42.0 (landing page) Nicolas Servant
| kjohnson | macOS 13.0 Ventura / arm64 | OK | OK | OK | ||||||||||||
| Package 228/505 | Hostname | OS / Arch | INSTALL | BUILD | BUILD BIN | ||||||||||||
| hummingbird 1.8.0 (landing page) Eleni Adam
| kjohnson | macOS 13.0 Ventura / arm64 | OK | OK | OK | ||||||||||||
| Package 229/505 | Hostname | OS / Arch | INSTALL | BUILD | BUILD BIN | ||||||||||||
| icetea 1.16.0 (landing page) Vivek Bhardwaj
| kjohnson | macOS 13.0 Ventura / arm64 | OK | OK | OK | ||||||||||||
| Package 230/505 | Hostname | OS / Arch | INSTALL | BUILD | BUILD BIN | ||||||||||||
| ideal 1.22.0 (landing page) Federico Marini
| kjohnson | macOS 13.0 Ventura / arm64 | OK | OK | OK | ||||||||||||
| Package 231/505 | Hostname | OS / Arch | INSTALL | BUILD | BUILD BIN | ||||||||||||
| IdeoViz 1.34.0 (landing page) Shraddha Pai
| kjohnson | macOS 13.0 Ventura / arm64 | OK | OK | OK | ||||||||||||
| Package 232/505 | Hostname | OS / Arch | INSTALL | BUILD | BUILD BIN | ||||||||||||
| idr2d 1.12.0 (landing page) Konstantin Krismer
| kjohnson | macOS 13.0 Ventura / arm64 | OK | OK | OK | ||||||||||||
| Package 233/505 | Hostname | OS / Arch | INSTALL | BUILD | BUILD BIN | ||||||||||||
| IMAS 1.22.0 (landing page) Seonggyun Han
| kjohnson | macOS 13.0 Ventura / arm64 | OK | OK | OK | ||||||||||||
| Package 234/505 | Hostname | OS / Arch | INSTALL | BUILD | BUILD BIN | ||||||||||||
| InPAS 2.6.0 (landing page) Jianhong Ou
| kjohnson | macOS 13.0 Ventura / arm64 | OK | OK | OK | ||||||||||||
| Package 235/505 | Hostname | OS / Arch | INSTALL | BUILD | BUILD BIN | ||||||||||||
| INSPEcT 1.28.0 (landing page) Stefano de Pretis
| kjohnson | macOS 13.0 Ventura / arm64 | OK | OK | OK | ||||||||||||
| Package 236/505 | Hostname | OS / Arch | INSTALL | BUILD | BUILD BIN | ||||||||||||
| InTAD 1.18.0 (landing page) Konstantin Okonechnikov
| kjohnson | macOS 13.0 Ventura / arm64 | OK | OK | OK | ||||||||||||
| Package 237/505 | Hostname | OS / Arch | INSTALL | BUILD | BUILD BIN | ||||||||||||
| intansv 1.38.0 (landing page) Wen Yao
| kjohnson | macOS 13.0 Ventura / arm64 | OK | OK | OK | ||||||||||||
| Package 238/505 | Hostname | OS / Arch | INSTALL | BUILD | BUILD BIN | ||||||||||||
| InteractionSet 1.26.1 (landing page) Aaron Lun
| kjohnson | macOS 13.0 Ventura / arm64 | OK | OK | OK | ||||||||||||
| Package 239/505 | Hostname | OS / Arch | INSTALL | BUILD | BUILD BIN | ||||||||||||
| InteractiveComplexHeatmap 1.6.0 (landing page) Zuguang Gu
| kjohnson | macOS 13.0 Ventura / arm64 | OK | OK | OK | ||||||||||||
| Package 240/505 | Hostname | OS / Arch | INSTALL | BUILD | BUILD BIN | ||||||||||||
| IntEREst 1.22.2 (landing page) Ali Oghabian
| kjohnson | macOS 13.0 Ventura / arm64 | OK | OK | OK | ||||||||||||
| Package 241/505 | Hostname | OS / Arch | INSTALL | BUILD | BUILD BIN | ||||||||||||
| InterMineR 1.20.0 (landing page) InterMine Team
| kjohnson | macOS 13.0 Ventura / arm64 | OK | OK | OK | ||||||||||||
| Package 242/505 | Hostname | OS / Arch | INSTALL | BUILD | BUILD BIN | ||||||||||||
| ipdDb 1.16.0 (landing page) Steffen Klasberg
| kjohnson | macOS 13.0 Ventura / arm64 | OK | OK | OK | ||||||||||||
| Package 243/505 | Hostname | OS / Arch | INSTALL | BUILD | BUILD BIN | ||||||||||||
| iSEEu 1.10.1 (landing page) Kevin Rue-Albrecht
| kjohnson | macOS 13.0 Ventura / arm64 | OK | OK | OK | ||||||||||||
| Package 244/505 | Hostname | OS / Arch | INSTALL | BUILD | BUILD BIN | ||||||||||||
| IsoformSwitchAnalyzeR 1.20.0 (landing page) Kristoffer Vitting-Seerup
| kjohnson | macOS 13.0 Ventura / arm64 | OK | OK | OK | ||||||||||||
| Package 245/505 | Hostname | OS / Arch | INSTALL | BUILD | BUILD BIN | ||||||||||||
| isomiRs 1.26.0 (landing page) Lorena Pantano
| kjohnson | macOS 13.0 Ventura / arm64 | OK | OK | OK | ||||||||||||
| Package 246/505 | Hostname | OS / Arch | INSTALL | BUILD | BUILD BIN | ||||||||||||
| IVAS 2.18.0 (landing page) Seonggyun Han
| kjohnson | macOS 13.0 Ventura / arm64 | OK | OK | OK | ||||||||||||
| Package 247/505 | Hostname | OS / Arch | INSTALL | BUILD | BUILD BIN | ||||||||||||
| IWTomics 1.22.0 (landing page) Marzia A Cremona
| kjohnson | macOS 13.0 Ventura / arm64 | OK | OK | OK | ||||||||||||
| Package 248/505 | Hostname | OS / Arch | INSTALL | BUILD | BUILD BIN | ||||||||||||
| karyoploteR 1.24.0 (landing page) Bernat Gel
| kjohnson | macOS 13.0 Ventura / arm64 | OK | OK | OK | ||||||||||||
| Package 249/505 | Hostname | OS / Arch | INSTALL | BUILD | BUILD BIN | ||||||||||||
| katdetectr 1.0.0 (landing page) Daan Hazelaar
| kjohnson | macOS 13.0 Ventura / arm64 | OK | OK | OK | ||||||||||||
| Package 250/505 | Hostname | OS / Arch | INSTALL | BUILD | BUILD BIN | ||||||||||||
| kebabs 1.32.0 (landing page) Ulrich Bodenhofer
| kjohnson | macOS 13.0 Ventura / arm64 | OK | OK | OK | ||||||||||||
| Package 251/505 | Hostname | OS / Arch | INSTALL | BUILD | BUILD BIN | ||||||||||||
| LinTInd 1.2.0 (landing page) Luyue Wang
| kjohnson | macOS 13.0 Ventura / arm64 | OK | OK | OK | ||||||||||||
| Package 252/505 | Hostname | OS / Arch | INSTALL | BUILD | BUILD BIN | ||||||||||||
| LOLA 1.28.0 (landing page) Nathan Sheffield
| kjohnson | macOS 13.0 Ventura / arm64 | OK | OK | OK | ||||||||||||
| Package 253/505 | Hostname | OS / Arch | INSTALL | BUILD | BUILD BIN | ||||||||||||
| m6Aboost 1.4.0 (landing page) You Zhou
| kjohnson | macOS 13.0 Ventura / arm64 | OK | OK | OK | ||||||||||||
| Package 254/505 | Hostname | OS / Arch | INSTALL | BUILD | BUILD BIN | ||||||||||||
Ioannis Vardaxis
| kjohnson | macOS 13.0 Ventura / arm64 | ERROR | ERROR | skipped | ||||||||||||
| Package 255/505 | Hostname | OS / Arch | INSTALL | BUILD | BUILD BIN | ||||||||||||
| MADSEQ 1.24.0 (landing page) Yu Kong
| kjohnson | macOS 13.0 Ventura / arm64 | OK | OK | OK | ||||||||||||
| Package 256/505 | Hostname | OS / Arch | INSTALL | BUILD | BUILD BIN | ||||||||||||
| maser 1.16.0 (landing page) Diogo F.T. Veiga
| kjohnson | macOS 13.0 Ventura / arm64 | OK | OK | OK | ||||||||||||
| Package 257/505 | Hostname | OS / Arch | INSTALL | BUILD | BUILD BIN | ||||||||||||
| MatrixRider 1.30.0 (landing page) Elena Grassi
| kjohnson | macOS 13.0 Ventura / arm64 | OK | OK | OK | ||||||||||||
| Package 258/505 | Hostname | OS / Arch | INSTALL | BUILD | BUILD BIN | ||||||||||||
| mCSEA 1.18.0 (landing page) Jordi Martorell-Marugán
| kjohnson | macOS 13.0 Ventura / arm64 | OK | OK | OK | ||||||||||||
| Package 259/505 | Hostname | OS / Arch | INSTALL | BUILD | BUILD BIN | ||||||||||||
| MDTS 1.18.0 (landing page) Jack M.. Fu
| kjohnson | macOS 13.0 Ventura / arm64 | OK | OK | OK | ||||||||||||
| Package 260/505 | Hostname | OS / Arch | INSTALL | BUILD | BUILD BIN | ||||||||||||
| MEAL 1.28.0 (landing page) Xavier Escribà Montagut
| kjohnson | macOS 13.0 Ventura / arm64 | OK | OK | OK | ||||||||||||
| Package 261/505 | Hostname | OS / Arch | INSTALL | BUILD | BUILD BIN | ||||||||||||
| MEDIPS 1.50.0 (landing page) Lukas Chavez
| kjohnson | macOS 13.0 Ventura / arm64 | OK | OK | OK | ||||||||||||
| Package 262/505 | Hostname | OS / Arch | INSTALL | BUILD | BUILD BIN | ||||||||||||
| MesKit 1.8.0 (landing page) Mengni Liu
| kjohnson | macOS 13.0 Ventura / arm64 | OK | OK | OK | ||||||||||||
| Package 263/505 | Hostname | OS / Arch | INSTALL | BUILD | BUILD BIN | ||||||||||||
| metagene 2.30.0 (landing page) Charles Joly Beauparlant
| kjohnson | macOS 13.0 Ventura / arm64 | OK | OK | OK | ||||||||||||
| Package 264/505 | Hostname | OS / Arch | INSTALL | BUILD | BUILD BIN | ||||||||||||
| metagene2 1.14.0 (landing page) Eric Fournier
| kjohnson | macOS 13.0 Ventura / arm64 | OK | OK | OK | ||||||||||||
| Package 265/505 | Hostname | OS / Arch | INSTALL | BUILD | BUILD BIN | ||||||||||||
| metaseqR2 1.10.0 (landing page) Panagiotis Moulos
| kjohnson | macOS 13.0 Ventura / arm64 | OK | OK | OK | ||||||||||||
| Package 266/505 | Hostname | OS / Arch | INSTALL | BUILD | BUILD BIN | ||||||||||||
| MethCP 1.12.0 (landing page) Boying Gong
| kjohnson | macOS 13.0 Ventura / arm64 | OK | OK | OK | ||||||||||||
| Package 267/505 | Hostname | OS / Arch | INSTALL | BUILD | BUILD BIN | ||||||||||||
| methimpute 1.20.0 (landing page) Aaron Taudt
| kjohnson | macOS 13.0 Ventura / arm64 | OK | OK | OK | ||||||||||||
| Package 268/505 | Hostname | OS / Arch | INSTALL | BUILD | BUILD BIN | ||||||||||||
| methInheritSim 1.20.0 (landing page) Pascal Belleau
| kjohnson | macOS 13.0 Ventura / arm64 | OK | OK | OK | ||||||||||||
| Package 269/505 | Hostname | OS / Arch | INSTALL | BUILD | BUILD BIN | ||||||||||||
| MethReg 1.8.0 (landing page) Tiago Silva
| kjohnson | macOS 13.0 Ventura / arm64 | OK | OK | OK | ||||||||||||
| Package 270/505 | Hostname | OS / Arch | INSTALL | BUILD | BUILD BIN | ||||||||||||
| methrix 1.12.0 (landing page) Anand Mayakonda
| kjohnson | macOS 13.0 Ventura / arm64 | OK | OK | OK | ||||||||||||
| Package 271/505 | Hostname | OS / Arch | INSTALL | BUILD | BUILD BIN | ||||||||||||
| methylCC 1.12.0 (landing page) Stephanie C. Hicks
| kjohnson | macOS 13.0 Ventura / arm64 | OK | OK | OK | ||||||||||||
| Package 272/505 | Hostname | OS / Arch | INSTALL | BUILD | BUILD BIN | ||||||||||||
| methylInheritance 1.22.0 (landing page) Astrid Deschênes
| kjohnson | macOS 13.0 Ventura / arm64 | OK | OK | OK | ||||||||||||
| Package 273/505 | Hostname | OS / Arch | INSTALL | BUILD | BUILD BIN | ||||||||||||
| methylKit 1.24.0 (landing page) Altuna Akalin
| kjohnson | macOS 13.0 Ventura / arm64 | OK | OK | OK | ||||||||||||
| Package 274/505 | Hostname | OS / Arch | INSTALL | BUILD | BUILD BIN | ||||||||||||
| methylPipe 1.32.0 (landing page) Kamal Kishore
| kjohnson | macOS 13.0 Ventura / arm64 | OK | OK | OK | ||||||||||||
| Package 275/505 | Hostname | OS / Arch | INSTALL | BUILD | BUILD BIN | ||||||||||||
| MethylSeekR 1.38.0 (landing page) Lukas Burger
| kjohnson | macOS 13.0 Ventura / arm64 | OK | OK | OK | ||||||||||||
| Package 276/505 | Hostname | OS / Arch | INSTALL | BUILD | BUILD BIN | ||||||||||||
| methylSig 1.10.0 (landing page) Raymond G. Cavalcante
| kjohnson | macOS 13.0 Ventura / arm64 | OK | OK | OK | ||||||||||||
| Package 277/505 | Hostname | OS / Arch | INSTALL | BUILD | BUILD BIN | ||||||||||||
| methylumi 2.44.0 (landing page) Sean Davis
| kjohnson | macOS 13.0 Ventura / arm64 | OK | OK | OK | ||||||||||||
| Package 278/505 | Hostname | OS / Arch | INSTALL | BUILD | BUILD BIN | ||||||||||||
| mia 1.6.0 (landing page) Tuomas Borman
| kjohnson | macOS 13.0 Ventura / arm64 | OK | OK | OK | ||||||||||||
| Package 279/505 | Hostname | OS / Arch | INSTALL | BUILD | BUILD BIN | ||||||||||||
| microbiomeMarker 1.4.0 (landing page) Yang Cao
| kjohnson | macOS 13.0 Ventura / arm64 | OK | OK | OK | ||||||||||||
| Package 280/505 | Hostname | OS / Arch | INSTALL | BUILD | BUILD BIN | ||||||||||||
| minfi 1.44.0 (landing page) Kasper Daniel Hansen
| kjohnson | macOS 13.0 Ventura / arm64 | OK | OK | OK | ||||||||||||
| Package 281/505 | Hostname | OS / Arch | INSTALL | BUILD | BUILD BIN | ||||||||||||
| MinimumDistance 1.42.0 (landing page) Robert Scharpf
| kjohnson | macOS 13.0 Ventura / arm64 | OK | OK | OK | ||||||||||||
| Package 282/505 | Hostname | OS / Arch | INSTALL | BUILD | BUILD BIN | ||||||||||||
| MIRA 1.20.0 (landing page) John Lawson
| kjohnson | macOS 13.0 Ventura / arm64 | OK | OK | OK | ||||||||||||
| Package 283/505 | Hostname | OS / Arch | INSTALL | BUILD | BUILD BIN | ||||||||||||
| missMethyl 1.32.1 (landing page) Belinda Phipson
| kjohnson | macOS 13.0 Ventura / arm64 | OK | OK | OK | ||||||||||||
| Package 284/505 | Hostname | OS / Arch | INSTALL | BUILD | BUILD BIN | ||||||||||||
| MMAPPR2 1.12.0 (landing page) Jonathon Hill
| kjohnson | macOS 13.0 Ventura / arm64 | ERROR | ERROR | skipped | ||||||||||||
| Package 285/505 | Hostname | OS / Arch | INSTALL | BUILD | BUILD BIN | ||||||||||||
| Modstrings 1.14.0 (landing page) Felix G.M. Ernst
| kjohnson | macOS 13.0 Ventura / arm64 | OK | OK | OK | ||||||||||||
| Package 286/505 | Hostname | OS / Arch | INSTALL | BUILD | BUILD BIN | ||||||||||||
| monaLisa 1.4.0 (landing page) Michael Stadler
| kjohnson | macOS 13.0 Ventura / arm64 | OK | OK | OK | ||||||||||||
| Package 287/505 | Hostname | OS / Arch | INSTALL | BUILD | BUILD BIN | ||||||||||||
| mosaics 2.36.0 (landing page) Dongjun Chung
| kjohnson | macOS 13.0 Ventura / arm64 | OK | OK | OK | ||||||||||||
| Package 288/505 | Hostname | OS / Arch | INSTALL | BUILD | BUILD BIN | ||||||||||||
| MOSim 1.12.0 (landing page) Carlos Martínez
| kjohnson | macOS 13.0 Ventura / arm64 | OK | OK | OK | ||||||||||||
| Package 289/505 | Hostname | OS / Arch | INSTALL | BUILD | BUILD BIN | ||||||||||||
| Motif2Site 1.2.0 (landing page) Peyman Zarrineh
| kjohnson | macOS 13.0 Ventura / arm64 | OK | OK | OK | ||||||||||||
| Package 290/505 | Hostname | OS / Arch | INSTALL | BUILD | BUILD BIN | ||||||||||||
| motifbreakR 2.12.4 (landing page) Simon Gert Coetzee
| kjohnson | macOS 13.0 Ventura / arm64 | OK | TIMEOUT | skipped | ||||||||||||
| Package 291/505 | Hostname | OS / Arch | INSTALL | BUILD | BUILD BIN | ||||||||||||
| MotifDb 1.40.0 (landing page) Paul Shannon
| kjohnson | macOS 13.0 Ventura / arm64 | OK | OK | OK | ||||||||||||
| Package 292/505 | Hostname | OS / Arch | INSTALL | BUILD | BUILD BIN | ||||||||||||
| motifmatchr 1.20.0 (landing page) Alicia Schep
| kjohnson | macOS 13.0 Ventura / arm64 | OK | OK | OK | ||||||||||||
| Package 293/505 | Hostname | OS / Arch | INSTALL | BUILD | BUILD BIN | ||||||||||||
| MouseFM 1.8.0 (landing page) Matthias Munz
| kjohnson | macOS 13.0 Ventura / arm64 | OK | OK | OK | ||||||||||||
| Package 294/505 | Hostname | OS / Arch | INSTALL | BUILD | BUILD BIN | ||||||||||||
| msa 1.30.1 (landing page) Ulrich Bodenhofer
| kjohnson | macOS 13.0 Ventura / arm64 | OK | OK | OK | ||||||||||||
| Package 295/505 | Hostname | OS / Arch | INSTALL | BUILD | BUILD BIN | ||||||||||||
| MSA2dist 1.2.0 (landing page) Kristian K Ullrich
| kjohnson | macOS 13.0 Ventura / arm64 | OK | OK | OK | ||||||||||||
| Package 296/505 | Hostname | OS / Arch | INSTALL | BUILD | BUILD BIN | ||||||||||||
| MsBackendMassbank 1.6.1 (landing page) RforMassSpectrometry Package Maintainer
| kjohnson | macOS 13.0 Ventura / arm64 | OK | OK | OK | ||||||||||||
| Package 297/505 | Hostname | OS / Arch | INSTALL | BUILD | BUILD BIN | ||||||||||||
| MsBackendMgf 1.6.0 (landing page) RforMassSpectrometry Package Maintainer
| kjohnson | macOS 13.0 Ventura / arm64 | OK | OK | OK | ||||||||||||
| Package 298/505 | Hostname | OS / Arch | INSTALL | BUILD | BUILD BIN | ||||||||||||
| MsBackendMsp 1.2.0 (landing page) Johannes Rainer
| kjohnson | macOS 13.0 Ventura / arm64 | OK | OK | OK | ||||||||||||
| Package 299/505 | Hostname | OS / Arch | INSTALL | BUILD | BUILD BIN | ||||||||||||
| MsBackendRawFileReader 1.4.0 (landing page) Christian Panse
| kjohnson | macOS 13.0 Ventura / arm64 | ERROR | ERROR | skipped | ||||||||||||
| Package 300/505 | Hostname | OS / Arch | INSTALL | BUILD | BUILD BIN | ||||||||||||
| MsExperiment 1.0.0 (landing page) Laurent Gatto
| kjohnson | macOS 13.0 Ventura / arm64 | OK | OK | OK | ||||||||||||
| Package 301/505 | Hostname | OS / Arch | INSTALL | BUILD | BUILD BIN | ||||||||||||
| msgbsR 1.22.0 (landing page) Benjamin Mayne
| kjohnson | macOS 13.0 Ventura / arm64 | OK | OK | OK | ||||||||||||
| Package 302/505 | Hostname | OS / Arch | INSTALL | BUILD | BUILD BIN | ||||||||||||
| MSnbase 2.24.2 (landing page) Laurent Gatto
| kjohnson | macOS 13.0 Ventura / arm64 | OK | OK | OK | ||||||||||||
| Package 303/505 | Hostname | OS / Arch | INSTALL | BUILD | BUILD BIN | ||||||||||||
| MultiAssayExperiment 1.24.0 (landing page) Marcel Ramos
| kjohnson | macOS 13.0 Ventura / arm64 | OK | OK | OK | ||||||||||||
| Package 304/505 | Hostname | OS / Arch | INSTALL | BUILD | BUILD BIN | ||||||||||||
| MultiDataSet 1.26.0 (landing page) Xavier Escribà Montagut
| kjohnson | macOS 13.0 Ventura / arm64 | OK | OK | OK | ||||||||||||
| Package 305/505 | Hostname | OS / Arch | INSTALL | BUILD | BUILD BIN | ||||||||||||
| mumosa 1.6.0 (landing page) Aaron Lun
| kjohnson | macOS 13.0 Ventura / arm64 | OK | OK | OK | ||||||||||||
| Package 306/505 | Hostname | OS / Arch | INSTALL | BUILD | BUILD BIN | ||||||||||||
| MungeSumstats 1.6.0 (landing page) Alan Murphy
| kjohnson | macOS 13.0 Ventura / arm64 | OK | OK | OK | ||||||||||||
| Package 307/505 | Hostname | OS / Arch | INSTALL | BUILD | BUILD BIN | ||||||||||||
| musicatk 1.8.0 (landing page) Aaron Chevalier
| kjohnson | macOS 13.0 Ventura / arm64 | OK | OK | OK | ||||||||||||
| Package 308/505 | Hostname | OS / Arch | INSTALL | BUILD | BUILD BIN | ||||||||||||
| MutationalPatterns 3.8.1 (landing page) Mark van Roosmalen
| kjohnson | macOS 13.0 Ventura / arm64 | OK | OK | OK | ||||||||||||
| Package 309/505 | Hostname | OS / Arch | INSTALL | BUILD | BUILD BIN | ||||||||||||
| NADfinder 1.22.0 (landing page) Jianhong Ou
| kjohnson | macOS 13.0 Ventura / arm64 | OK | OK | OK | ||||||||||||
| Package 310/505 | Hostname | OS / Arch | INSTALL | BUILD | BUILD BIN | ||||||||||||
| NanoStringNCTools 1.6.1 (landing page) Nicole Ortogero
| kjohnson | macOS 13.0 Ventura / arm64 | OK | OK | OK | ||||||||||||
| Package 311/505 | Hostname | OS / Arch | INSTALL | BUILD | BUILD BIN | ||||||||||||
| ncRNAtools 1.8.0 (landing page) Lara Selles Vidal
| kjohnson | macOS 13.0 Ventura / arm64 | OK | OK | OK | ||||||||||||
| Package 312/505 | Hostname | OS / Arch | INSTALL | BUILD | BUILD BIN | ||||||||||||
| netDx 1.10.0 (landing page) Shraddha Pai
| kjohnson | macOS 13.0 Ventura / arm64 | OK | ERROR | skipped | ||||||||||||
| Package 313/505 | Hostname | OS / Arch | INSTALL | BUILD | BUILD BIN | ||||||||||||
| NoRCE 1.10.0 (landing page) Gulden Olgun
| kjohnson | macOS 13.0 Ventura / arm64 | OK | OK | OK | ||||||||||||
| Package 314/505 | Hostname | OS / Arch | INSTALL | BUILD | BUILD BIN | ||||||||||||
| normr 1.24.0 (landing page) Johannes Helmuth
| kjohnson | macOS 13.0 Ventura / arm64 | OK | OK | OK | ||||||||||||
| Package 315/505 | Hostname | OS / Arch | INSTALL | BUILD | BUILD BIN | ||||||||||||
| nucleoSim 1.26.0 (landing page) Astrid Deschênes
| kjohnson | macOS 13.0 Ventura / arm64 | OK | OK | OK | ||||||||||||
| Package 316/505 | Hostname | OS / Arch | INSTALL | BUILD | BUILD BIN | ||||||||||||
| nucleR 2.30.0 (landing page) Alba Sala
| kjohnson | macOS 13.0 Ventura / arm64 | OK | OK | OK | ||||||||||||
| Package 317/505 | Hostname | OS / Arch | INSTALL | BUILD | BUILD BIN | ||||||||||||
| nullranges 1.4.0 (landing page) Michael Love
| kjohnson | macOS 13.0 Ventura / arm64 | OK | OK | OK | ||||||||||||
| Package 318/505 | Hostname | OS / Arch | INSTALL | BUILD | BUILD BIN | ||||||||||||
| NxtIRFcore 1.4.0 (landing page) Alex Chit Hei Wong
| kjohnson | macOS 13.0 Ventura / arm64 | OK | OK | OK | ||||||||||||
| Package 319/505 | Hostname | OS / Arch | INSTALL | BUILD | BUILD BIN | ||||||||||||
| ODER 1.4.0 (landing page) David Zhang
| kjohnson | macOS 13.0 Ventura / arm64 | OK | OK | OK | ||||||||||||
| Package 320/505 | Hostname | OS / Arch | INSTALL | BUILD | BUILD BIN | ||||||||||||
| OGRE 1.2.0 (landing page) Sven Berres
| kjohnson | macOS 13.0 Ventura / arm64 | OK | OK | OK | ||||||||||||
| Package 321/505 | Hostname | OS / Arch | INSTALL | BUILD | BUILD BIN | ||||||||||||
| oligoClasses 1.60.0 (landing page) Benilton Carvalho
| kjohnson | macOS 13.0 Ventura / arm64 | OK | OK | OK | ||||||||||||
| Package 322/505 | Hostname | OS / Arch | INSTALL | BUILD | BUILD BIN | ||||||||||||
| OmaDB 2.14.0 (landing page) Klara Kaleb
| kjohnson | macOS 13.0 Ventura / arm64 | OK | OK | OK | ||||||||||||
| Package 323/505 | Hostname | OS / Arch | INSTALL | BUILD | BUILD BIN | ||||||||||||
| OMICsPCA 1.16.0 (landing page) Subhadeep Das
| kjohnson | macOS 13.0 Ventura / arm64 | OK | OK | OK | ||||||||||||
| Package 324/505 | Hostname | OS / Arch | INSTALL | BUILD | BUILD BIN | ||||||||||||
| oncoscanR 1.0.0 (landing page) Yann Christinat
| kjohnson | macOS 13.0 Ventura / arm64 | OK | OK | OK | ||||||||||||
| Package 325/505 | Hostname | OS / Arch | INSTALL | BUILD | BUILD BIN | ||||||||||||
| openPrimeR 1.20.0 (landing page) Matthias Döring
| kjohnson | macOS 13.0 Ventura / arm64 | OK | OK | OK | ||||||||||||
| Package 326/505 | Hostname | OS / Arch | INSTALL | BUILD | BUILD BIN | ||||||||||||
| ORFik 1.18.2 (landing page) Haakon Tjeldnes
| kjohnson | macOS 13.0 Ventura / arm64 | OK | OK | OK | ||||||||||||
| Package 327/505 | Hostname | OS / Arch | INSTALL | BUILD | BUILD BIN | ||||||||||||
| Organism.dplyr 1.26.0 (landing page) Martin Morgan
| kjohnson | macOS 13.0 Ventura / arm64 | OK | OK | OK | ||||||||||||
| Package 328/505 | Hostname | OS / Arch | INSTALL | BUILD | BUILD BIN | ||||||||||||
| OrganismDbi 1.40.0 (landing page) Bioconductor Package Maintainer
| kjohnson | macOS 13.0 Ventura / arm64 | OK | OK | OK | ||||||||||||
| Package 329/505 | Hostname | OS / Arch | INSTALL | BUILD | BUILD BIN | ||||||||||||
| OTUbase 1.48.0 (landing page) Daniel Beck
| kjohnson | macOS 13.0 Ventura / arm64 | OK | OK | OK | ||||||||||||
| Package 330/505 | Hostname | OS / Arch | INSTALL | BUILD | BUILD BIN | ||||||||||||
| OUTRIDER 1.16.3 (landing page) Christian Mertes
| kjohnson | macOS 13.0 Ventura / arm64 | OK | TIMEOUT | skipped | ||||||||||||
| Package 331/505 | Hostname | OS / Arch | INSTALL | BUILD | BUILD BIN | ||||||||||||
| packFinder 1.10.0 (landing page) Jack Gisby
| kjohnson | macOS 13.0 Ventura / arm64 | OK | OK | OK | ||||||||||||
| Package 332/505 | Hostname | OS / Arch | INSTALL | BUILD | BUILD BIN | ||||||||||||
| panelcn.mops 1.20.0 (landing page) Gundula Povysil
| kjohnson | macOS 13.0 Ventura / arm64 | OK | OK | OK | ||||||||||||
| Package 333/505 | Hostname | OS / Arch | INSTALL | BUILD | BUILD BIN | ||||||||||||
| pcaExplorer 2.24.0 (landing page) Federico Marini
| kjohnson | macOS 13.0 Ventura / arm64 | OK | OK | OK | ||||||||||||
| Package 334/505 | Hostname | OS / Arch | INSTALL | BUILD | BUILD BIN | ||||||||||||
| pdInfoBuilder 1.62.0 (landing page) Benilton Carvalho
| kjohnson | macOS 13.0 Ventura / arm64 | OK | OK | OK | ||||||||||||
| Package 335/505 | Hostname | OS / Arch | INSTALL | BUILD | BUILD BIN | ||||||||||||
| pepStat 1.32.0 (landing page) Gregory C Imholte
| kjohnson | macOS 13.0 Ventura / arm64 | OK | OK | OK | ||||||||||||
| Package 336/505 | Hostname | OS / Arch | INSTALL | BUILD | BUILD BIN | ||||||||||||
| periodicDNA 1.8.0 (landing page) Jacques Serizay
| kjohnson | macOS 13.0 Ventura / arm64 | OK | OK | OK | ||||||||||||
| Package 337/505 | Hostname | OS / Arch | INSTALL | BUILD | BUILD BIN | ||||||||||||
| PhIPData 1.6.0 (landing page) Athena Chen
| kjohnson | macOS 13.0 Ventura / arm64 | OK | OK | OK | ||||||||||||
| Package 338/505 | Hostname | OS / Arch | INSTALL | BUILD | BUILD BIN | ||||||||||||
| Pi 2.10.0 (landing page) Hai Fang
| kjohnson | macOS 13.0 Ventura / arm64 | OK | OK | OK | ||||||||||||
| Package 339/505 | Hostname | OS / Arch | INSTALL | BUILD | BUILD BIN | ||||||||||||
| PICS 2.42.0 (landing page) Renan Sauteraud
| kjohnson | macOS 13.0 Ventura / arm64 | OK | OK | OK | ||||||||||||
| Package 340/505 | Hostname | OS / Arch | INSTALL | BUILD | BUILD BIN | ||||||||||||
| PING 2.42.0 (landing page) Renan Sauteraud
| kjohnson | macOS 13.0 Ventura / arm64 | OK | OK | OK | ||||||||||||
| Package 341/505 | Hostname | OS / Arch | INSTALL | BUILD | BUILD BIN | ||||||||||||
| plethy 1.36.0 (landing page) Daniel Bottomly
| kjohnson | macOS 13.0 Ventura / arm64 | OK | OK | OK | ||||||||||||
| Package 342/505 | Hostname | OS / Arch | INSTALL | BUILD | BUILD BIN | ||||||||||||
| plotgardener 1.4.2 (landing page) Nicole Kramer
| kjohnson | macOS 13.0 Ventura / arm64 | OK | OK | OK | ||||||||||||
| Package 343/505 | Hostname | OS / Arch | INSTALL | BUILD | BUILD BIN | ||||||||||||
| plyranges 1.18.0 (landing page) Stuart Lee
| kjohnson | macOS 13.0 Ventura / arm64 | OK | OK | OK | ||||||||||||
| Package 344/505 | Hostname | OS / Arch | INSTALL | BUILD | BUILD BIN | ||||||||||||
| podkat 1.30.0 (landing page) Ulrich Bodenhofer
| kjohnson | macOS 13.0 Ventura / arm64 | OK | OK | OK | ||||||||||||
| Package 345/505 | Hostname | OS / Arch | INSTALL | BUILD | BUILD BIN | ||||||||||||
| polyester 1.34.0 (landing page) Jack Fu
| kjohnson | macOS 13.0 Ventura / arm64 | OK | OK | OK | ||||||||||||
| Package 346/505 | Hostname | OS / Arch | INSTALL | BUILD | BUILD BIN | ||||||||||||
| pqsfinder 2.14.1 (landing page) Jiri Hon
| kjohnson | macOS 13.0 Ventura / arm64 | OK | OK | OK | ||||||||||||
| Package 347/505 | Hostname | OS / Arch | INSTALL | BUILD | BUILD BIN | ||||||||||||
| pram 1.14.0 (landing page) Peng Liu
| kjohnson | macOS 13.0 Ventura / arm64 | OK | OK | OK | ||||||||||||
| Package 348/505 | Hostname | OS / Arch | INSTALL | BUILD | BUILD BIN | ||||||||||||
| prebs 1.38.0 (landing page) Karolis Uziela
| kjohnson | macOS 13.0 Ventura / arm64 | OK | OK | OK | ||||||||||||
| Package 349/505 | Hostname | OS / Arch | INSTALL | BUILD | BUILD BIN | ||||||||||||
| preciseTAD 1.8.0 (landing page) Mikhail Dozmorov
| kjohnson | macOS 13.0 Ventura / arm64 | OK | OK | OK | ||||||||||||
| Package 350/505 | Hostname | OS / Arch | INSTALL | BUILD | BUILD BIN | ||||||||||||
| PrecisionTrialDrawer 1.14.0 (landing page) Giorgio Melloni
| kjohnson | macOS 13.0 Ventura / arm64 | OK | ERROR | skipped | ||||||||||||
| Package 351/505 | Hostname | OS / Arch | INSTALL | BUILD | BUILD BIN | ||||||||||||
| primirTSS 1.16.0 (landing page) Pumin Li
| kjohnson | macOS 13.0 Ventura / arm64 | OK | OK | OK | ||||||||||||
| Package 352/505 | Hostname | OS / Arch | INSTALL | BUILD | BUILD BIN | ||||||||||||
| proActiv 1.8.0 (landing page) Joseph Lee
| kjohnson | macOS 13.0 Ventura / arm64 | OK | OK | OK | ||||||||||||
| Package 353/505 | Hostname | OS / Arch | INSTALL | BUILD | BUILD BIN | ||||||||||||
| proBAMr 1.32.0 (landing page) Xiaojing Wang
| kjohnson | macOS 13.0 Ventura / arm64 | OK | OK | OK | ||||||||||||
| Package 354/505 | Hostname | OS / Arch | INSTALL | BUILD | BUILD BIN | ||||||||||||
| profileplyr 1.14.1 (landing page) Tom Carroll
| kjohnson | macOS 13.0 Ventura / arm64 | OK | OK | OK | ||||||||||||
| Package 355/505 | Hostname | OS / Arch | INSTALL | BUILD | BUILD BIN | ||||||||||||
| ProteoDisco 1.4.0 (landing page) Job van Riet
| kjohnson | macOS 13.0 Ventura / arm64 | OK | OK | OK | ||||||||||||
| Package 356/505 | Hostname | OS / Arch | INSTALL | BUILD | BUILD BIN | ||||||||||||
| PureCN 2.4.0 (landing page) Markus Riester
| kjohnson | macOS 13.0 Ventura / arm64 | OK | OK | OK | ||||||||||||
| Package 357/505 | Hostname | OS / Arch | INSTALL | BUILD | BUILD BIN | ||||||||||||
| Pviz 1.32.0 (landing page) Renan Sauteraud
| kjohnson | macOS 13.0 Ventura / arm64 | OK | OK | OK | ||||||||||||
| Package 358/505 | Hostname | OS / Arch | INSTALL | BUILD | BUILD BIN | ||||||||||||
| QDNAseq 1.34.0 (landing page) Daoud Sie
| kjohnson | macOS 13.0 Ventura / arm64 | OK | OK | OK | ||||||||||||
| Package 359/505 | Hostname | OS / Arch | INSTALL | BUILD | BUILD BIN | ||||||||||||
| QFeatures 1.8.0 (landing page) Laurent Gatto
| kjohnson | macOS 13.0 Ventura / arm64 | OK | OK | OK | ||||||||||||
| Package 360/505 | Hostname | OS / Arch | INSTALL | BUILD | BUILD BIN | ||||||||||||
| qpgraph 2.32.2 (landing page) Robert Castelo
| kjohnson | macOS 13.0 Ventura / arm64 | OK | OK | OK | ||||||||||||
| Package 361/505 | Hostname | OS / Arch | INSTALL | BUILD | BUILD BIN | ||||||||||||
| qPLEXanalyzer 1.16.1 (landing page) Ashley Sawle
| kjohnson | macOS 13.0 Ventura / arm64 | OK | OK | OK | ||||||||||||
| Package 362/505 | Hostname | OS / Arch | INSTALL | BUILD | BUILD BIN | ||||||||||||
| qsea 1.24.0 (landing page) Matthias Lienhard
| kjohnson | macOS 13.0 Ventura / arm64 | OK | OK | OK | ||||||||||||
| Package 363/505 | Hostname | OS / Arch | INSTALL | BUILD | BUILD BIN | ||||||||||||
| QuasR 1.38.0 (landing page) Michael Stadler
| kjohnson | macOS 13.0 Ventura / arm64 | OK | OK | OK | ||||||||||||
| Package 364/505 | Hostname | OS / Arch | INSTALL | BUILD | BUILD BIN | ||||||||||||
| R3CPET 1.30.0 (landing page) Mohamed Nadhir Djekidel
| kjohnson | macOS 13.0 Ventura / arm64 | OK | OK | OK | ||||||||||||
| Package 365/505 | Hostname | OS / Arch | INSTALL | BUILD | BUILD BIN | ||||||||||||
| r3Cseq 1.44.0 (landing page) Supat Thongjuea
| kjohnson | macOS 13.0 Ventura / arm64 | OK | OK | OK | ||||||||||||
| Package 366/505 | Hostname | OS / Arch | INSTALL | BUILD | BUILD BIN | ||||||||||||
| R453Plus1Toolbox 1.48.0 (landing page) Hans-Ulrich Klein
| kjohnson | macOS 13.0 Ventura / arm64 | OK | OK | OK | ||||||||||||
| Package 367/505 | Hostname | OS / Arch | INSTALL | BUILD | BUILD BIN | ||||||||||||
| RaggedExperiment 1.22.0 (landing page) Marcel Ramos
| kjohnson | macOS 13.0 Ventura / arm64 | OK | OK | OK | ||||||||||||
| Package 368/505 | Hostname | OS / Arch | INSTALL | BUILD | BUILD BIN | ||||||||||||
| ramr 1.6.0 (landing page) Oleksii Nikolaienko
| kjohnson | macOS 13.0 Ventura / arm64 | OK | OK | OK | ||||||||||||
| Package 369/505 | Hostname | OS / Arch | INSTALL | BUILD | BUILD BIN | ||||||||||||
| RareVariantVis 2.26.0 (landing page) Tomasz Stokowy
| kjohnson | macOS 13.0 Ventura / arm64 | OK | OK | OK | ||||||||||||
| Package 370/505 | Hostname | OS / Arch | INSTALL | BUILD | BUILD BIN | ||||||||||||
Jonathan Cairns
| kjohnson | macOS 13.0 Ventura / arm64 | OK | OK | OK | ||||||||||||
| Package 371/505 | Hostname | OS / Arch | INSTALL | BUILD | BUILD BIN | ||||||||||||
| RCAS 1.24.0 (landing page) Bora Uyar
| kjohnson | macOS 13.0 Ventura / arm64 | OK | OK | OK | ||||||||||||
| Package 372/505 | Hostname | OS / Arch | INSTALL | BUILD | BUILD BIN | ||||||||||||
| rCGH 1.28.0 (landing page) Frederic Commo
| kjohnson | macOS 13.0 Ventura / arm64 | OK | OK | OK | ||||||||||||
| Package 373/505 | Hostname | OS / Arch | INSTALL | BUILD | BUILD BIN | ||||||||||||
| recount 1.24.1 (landing page) Leonardo Collado-Torres
| kjohnson | macOS 13.0 Ventura / arm64 | OK | ERROR | skipped | ||||||||||||
| Package 374/505 | Hostname | OS / Arch | INSTALL | BUILD | BUILD BIN | ||||||||||||
| recoup 1.26.0 (landing page) Panagiotis Moulos
| kjohnson | macOS 13.0 Ventura / arm64 | OK | OK | OK | ||||||||||||
| Package 375/505 | Hostname | OS / Arch | INSTALL | BUILD | BUILD BIN | ||||||||||||
| REDseq 1.44.0 (landing page) Lihua Julie Zhu
| kjohnson | macOS 13.0 Ventura / arm64 | OK | OK | OK | ||||||||||||
| Package 376/505 | Hostname | OS / Arch | INSTALL | BUILD | BUILD BIN | ||||||||||||
| regioneR 1.30.0 (landing page) Bernat Gel
| kjohnson | macOS 13.0 Ventura / arm64 | OK | OK | OK | ||||||||||||
| Package 377/505 | Hostname | OS / Arch | INSTALL | BUILD | BUILD BIN | ||||||||||||
| regutools 1.10.0 (landing page) Joselyn Chavez
| kjohnson | macOS 13.0 Ventura / arm64 | OK | OK | OK | ||||||||||||
| Package 378/505 | Hostname | OS / Arch | INSTALL | BUILD | BUILD BIN | ||||||||||||
| REMP 1.22.0 (landing page) Yinan Zheng
| kjohnson | macOS 13.0 Ventura / arm64 | OK | OK | OK | ||||||||||||
| Package 379/505 | Hostname | OS / Arch | INSTALL | BUILD | BUILD BIN | ||||||||||||
| Repitools 1.44.0 (landing page) Mark Robinson
| kjohnson | macOS 13.0 Ventura / arm64 | OK | OK | OK | ||||||||||||
| Package 380/505 | Hostname | OS / Arch | INSTALL | BUILD | BUILD BIN | ||||||||||||
| ReportingTools 2.38.0 (landing page) Jason A. Hackney
| kjohnson | macOS 13.0 Ventura / arm64 | OK | OK | OK | ||||||||||||
| Package 381/505 | Hostname | OS / Arch | INSTALL | BUILD | BUILD BIN | ||||||||||||
| RepViz 1.14.0 (landing page) Thomas Faux, Asta Laiho
| kjohnson | macOS 13.0 Ventura / arm64 | OK | OK | OK | ||||||||||||
| Package 382/505 | Hostname | OS / Arch | INSTALL | BUILD | BUILD BIN | ||||||||||||
| RESOLVE 1.0.0 (landing page) Luca De Sano
| kjohnson | macOS 13.0 Ventura / arm64 | OK | OK | OK | ||||||||||||
| Package 383/505 | Hostname | OS / Arch | INSTALL | BUILD | BUILD BIN | ||||||||||||
| rfaRm 1.10.2 (landing page) Lara Selles Vidal
| kjohnson | macOS 13.0 Ventura / arm64 | OK | TIMEOUT | skipped | ||||||||||||
| Package 384/505 | Hostname | OS / Arch | INSTALL | BUILD | BUILD BIN | ||||||||||||
| rfPred 1.36.0 (landing page) Hugo Varet
| kjohnson | macOS 13.0 Ventura / arm64 | OK | OK | OK | ||||||||||||
| Package 385/505 | Hostname | OS / Arch | INSTALL | BUILD | BUILD BIN | ||||||||||||
| rGADEM 2.46.0 (landing page) Arnaud Droit
| kjohnson | macOS 13.0 Ventura / arm64 | OK | OK | OK | ||||||||||||
| Package 386/505 | Hostname | OS / Arch | INSTALL | BUILD | BUILD BIN | ||||||||||||
| RgnTX 1.0.0 (landing page) Yue Wang
| kjohnson | macOS 13.0 Ventura / arm64 | OK | OK | OK | ||||||||||||
| Package 387/505 | Hostname | OS / Arch | INSTALL | BUILD | BUILD BIN | ||||||||||||
| rGREAT 2.0.2 (landing page) Zuguang Gu
| kjohnson | macOS 13.0 Ventura / arm64 | OK | OK | OK | ||||||||||||
| Package 388/505 | Hostname | OS / Arch | INSTALL | BUILD | BUILD BIN | ||||||||||||
| RiboCrypt 1.4.0 (landing page) Michal Swirski
| kjohnson | macOS 13.0 Ventura / arm64 | OK | OK | OK | ||||||||||||
| Package 389/505 | Hostname | OS / Arch | INSTALL | BUILD | BUILD BIN | ||||||||||||
| RiboDiPA 1.6.0 (landing page) Ji-Ping Wang
| kjohnson | macOS 13.0 Ventura / arm64 | OK | OK | OK | ||||||||||||
| Package 390/505 | Hostname | OS / Arch | INSTALL | BUILD | BUILD BIN | ||||||||||||
| RiboProfiling 1.28.0 (landing page) A. Popa
| kjohnson | macOS 13.0 Ventura / arm64 | OK | OK | OK | ||||||||||||
| Package 391/505 | Hostname | OS / Arch | INSTALL | BUILD | BUILD BIN | ||||||||||||
| riboSeqR 1.32.0 (landing page) Thomas J. Hardcastle
| kjohnson | macOS 13.0 Ventura / arm64 | OK | OK | OK | ||||||||||||
| Package 392/505 | Hostname | OS / Arch | INSTALL | BUILD | BUILD BIN | ||||||||||||
| ribosomeProfilingQC 1.10.0 (landing page) Jianhong Ou
| kjohnson | macOS 13.0 Ventura / arm64 | OK | OK | OK | ||||||||||||
| Package 393/505 | Hostname | OS / Arch | INSTALL | BUILD | BUILD BIN | ||||||||||||
| RIPAT 1.8.0 (landing page) Min-Jeong Baek
| kjohnson | macOS 13.0 Ventura / arm64 | OK | OK | OK | ||||||||||||
| Package 394/505 | Hostname | OS / Arch | INSTALL | BUILD | BUILD BIN | ||||||||||||
| RJMCMCNucleosomes 1.22.0 (landing page) Astrid Deschênes
| kjohnson | macOS 13.0 Ventura / arm64 | OK | OK | OK | ||||||||||||
| Package 395/505 | Hostname | OS / Arch | INSTALL | BUILD | BUILD BIN | ||||||||||||
| rnaEditr 1.8.0 (landing page) Lanyu Zhang
| kjohnson | macOS 13.0 Ventura / arm64 | OK | OK | OK | ||||||||||||
| Package 396/505 | Hostname | OS / Arch | INSTALL | BUILD | BUILD BIN | ||||||||||||
| RNAmodR 1.12.0 (landing page) Felix G.M. Ernst
| kjohnson | macOS 13.0 Ventura / arm64 | OK | OK | OK | ||||||||||||
| Package 397/505 | Hostname | OS / Arch | INSTALL | BUILD | BUILD BIN | ||||||||||||
| RNAmodR.AlkAnilineSeq 1.12.0 (landing page) Felix G.M. Ernst
| kjohnson | macOS 13.0 Ventura / arm64 | OK | OK | OK | ||||||||||||
| Package 398/505 | Hostname | OS / Arch | INSTALL | BUILD | BUILD BIN | ||||||||||||
| RNAmodR.ML 1.12.0 (landing page) Felix G.M. Ernst
| kjohnson | macOS 13.0 Ventura / arm64 | OK | OK | OK | ||||||||||||
| Package 399/505 | Hostname | OS / Arch | INSTALL | BUILD | BUILD BIN | ||||||||||||
| RNAmodR.RiboMethSeq 1.12.0 (landing page) Felix G.M. Ernst
| kjohnson | macOS 13.0 Ventura / arm64 | OK | OK | OK | ||||||||||||
| Package 400/505 | Hostname | OS / Arch | INSTALL | BUILD | BUILD BIN | ||||||||||||
| RnBeads 2.16.0 (landing page) Fabian Mueller
| kjohnson | macOS 13.0 Ventura / arm64 | OK | OK | OK | ||||||||||||
| Package 401/505 | Hostname | OS / Arch | INSTALL | BUILD | BUILD BIN | ||||||||||||
| roar 1.34.0 (landing page) Elena Grassi
| kjohnson | macOS 13.0 Ventura / arm64 | OK | OK | OK | ||||||||||||
| Package 402/505 | Hostname | OS / Arch | INSTALL | BUILD | BUILD BIN | ||||||||||||
| rprimer 1.2.0 (landing page) Sofia Persson
| kjohnson | macOS 13.0 Ventura / arm64 | OK | OK | OK | ||||||||||||
| Package 403/505 | Hostname | OS / Arch | INSTALL | BUILD | BUILD BIN | ||||||||||||
| Rqc 1.32.0 (landing page) Welliton Souza
| kjohnson | macOS 13.0 Ventura / arm64 | OK | OK | OK | ||||||||||||
| Package 404/505 | Hostname | OS / Arch | INSTALL | BUILD | BUILD BIN | ||||||||||||
| Rsamtools 2.14.0 (landing page) Bioconductor Package Maintainer
| kjohnson | macOS 13.0 Ventura / arm64 | OK | OK | OK | ||||||||||||
| Package 405/505 | Hostname | OS / Arch | INSTALL | BUILD | BUILD BIN | ||||||||||||
| RSVSim 1.38.0 (landing page) Christoph Bartenhagen
| kjohnson | macOS 13.0 Ventura / arm64 | OK | OK | OK | ||||||||||||
| Package 406/505 | Hostname | OS / Arch | INSTALL | BUILD | BUILD BIN | ||||||||||||
| RTN 2.22.1 (landing page) Mauro Castro
| kjohnson | macOS 13.0 Ventura / arm64 | OK | OK | OK | ||||||||||||
| Package 407/505 | Hostname | OS / Arch | INSTALL | BUILD | BUILD BIN | ||||||||||||
| rtracklayer 1.58.0 (landing page) Michael Lawrence
| kjohnson | macOS 13.0 Ventura / arm64 | OK | OK | OK | ||||||||||||
| Package 408/505 | Hostname | OS / Arch | INSTALL | BUILD | BUILD BIN | ||||||||||||
| sarks 1.10.0 (landing page) Dennis Wylie
| kjohnson | macOS 13.0 Ventura / arm64 | OK | OK | OK | ||||||||||||
| Package 409/505 | Hostname | OS / Arch | INSTALL | BUILD | BUILD BIN | ||||||||||||
| Scale4C 1.20.0 (landing page) Carolin Walter
| kjohnson | macOS 13.0 Ventura / arm64 | OK | OK | OK | ||||||||||||
| Package 410/505 | Hostname | OS / Arch | INSTALL | BUILD | BUILD BIN | ||||||||||||
| SCAN.UPC 2.40.0 (landing page) Stephen R. Piccolo
| kjohnson | macOS 13.0 Ventura / arm64 | OK | OK | OK | ||||||||||||
| Package 411/505 | Hostname | OS / Arch | INSTALL | BUILD | BUILD BIN | ||||||||||||
| scanMiR 1.4.0 (landing page) Fridolin Gross
| kjohnson | macOS 13.0 Ventura / arm64 | OK | OK | OK | ||||||||||||
| Package 412/505 | Hostname | OS / Arch | INSTALL | BUILD | BUILD BIN | ||||||||||||
| scanMiRApp 1.4.0 (landing page) Pierre-Luc Germain
| kjohnson | macOS 13.0 Ventura / arm64 | OK | OK | OK | ||||||||||||
| Package 413/505 | Hostname | OS / Arch | INSTALL | BUILD | BUILD BIN | ||||||||||||
| SCANVIS 1.12.0 (landing page) Phaedra Agius
| kjohnson | macOS 13.0 Ventura / arm64 | OK | OK | OK | ||||||||||||
| Package 414/505 | Hostname | OS / Arch | INSTALL | BUILD | BUILD BIN | ||||||||||||
| SCArray 1.6.0 (landing page) Xiuwen Zheng
| kjohnson | macOS 13.0 Ventura / arm64 | OK | OK | OK | ||||||||||||
| Package 415/505 | Hostname | OS / Arch | INSTALL | BUILD | BUILD BIN | ||||||||||||
| scDblFinder 1.12.0 (landing page) Pierre-Luc Germain
| kjohnson | macOS 13.0 Ventura / arm64 | OK | OK | OK | ||||||||||||
| Package 416/505 | Hostname | OS / Arch | INSTALL | BUILD | BUILD BIN | ||||||||||||
| scHOT 1.10.0 (landing page) Shila Ghazanfar
| kjohnson | macOS 13.0 Ventura / arm64 | OK | OK | OK | ||||||||||||
| Package 417/505 | Hostname | OS / Arch | INSTALL | BUILD | BUILD BIN | ||||||||||||
| SCOPE 1.10.0 (landing page) Rujin Wang
| kjohnson | macOS 13.0 Ventura / arm64 | OK | OK | OK | ||||||||||||
| Package 418/505 | Hostname | OS / Arch | INSTALL | BUILD | BUILD BIN | ||||||||||||
| scPipe 1.20.6 (landing page) Shian Su
| kjohnson | macOS 13.0 Ventura / arm64 | OK | OK | OK | ||||||||||||
| Package 419/505 | Hostname | OS / Arch | INSTALL | BUILD | BUILD BIN | ||||||||||||
| segmenter 1.4.0 (landing page) Mahmoud Ahmed
| kjohnson | macOS 13.0 Ventura / arm64 | OK | OK | OK | ||||||||||||
| Package 420/505 | Hostname | OS / Arch | INSTALL | BUILD | BUILD BIN | ||||||||||||
| segmentSeq 2.32.0 (landing page) Thomas J. Hardcastle
| kjohnson | macOS 13.0 Ventura / arm64 | OK | OK | OK | ||||||||||||
| Package 421/505 | Hostname | OS / Arch | INSTALL | BUILD | BUILD BIN | ||||||||||||
| SeqArray 1.38.0 (landing page) Xiuwen Zheng
| kjohnson | macOS 13.0 Ventura / arm64 | OK | OK | OK | ||||||||||||
| Package 422/505 | Hostname | OS / Arch | INSTALL | BUILD | BUILD BIN | ||||||||||||
| seqCAT 1.20.0 (landing page) Erik Fasterius
| kjohnson | macOS 13.0 Ventura / arm64 | OK | OK | OK | ||||||||||||
| Package 423/505 | Hostname | OS / Arch | INSTALL | BUILD | BUILD BIN | ||||||||||||
| seqPattern 1.30.0 (landing page) Vanja Haberle
| kjohnson | macOS 13.0 Ventura / arm64 | OK | OK | OK | ||||||||||||
| Package 424/505 | Hostname | OS / Arch | INSTALL | BUILD | BUILD BIN | ||||||||||||
| seqsetvis 1.18.1 (landing page) Joseph R Boyd
| kjohnson | macOS 13.0 Ventura / arm64 | OK | OK | OK | ||||||||||||
| Package 425/505 | Hostname | OS / Arch | INSTALL | BUILD | BUILD BIN | ||||||||||||
| SeqSQC 1.20.0 (landing page) Qian Liu
| kjohnson | macOS 13.0 Ventura / arm64 | OK | OK | OK | ||||||||||||
| Package 426/505 | Hostname | OS / Arch | INSTALL | BUILD | BUILD BIN | ||||||||||||
| SeqVarTools 1.36.0 (landing page) Stephanie M. Gogarten
| kjohnson | macOS 13.0 Ventura / arm64 | OK | OK | OK | ||||||||||||
| Package 427/505 | Hostname | OS / Arch | INSTALL | BUILD | BUILD BIN | ||||||||||||
| sesame 1.16.1 (landing page) Wanding Zhou
| kjohnson | macOS 13.0 Ventura / arm64 | OK | OK | OK | ||||||||||||
| Package 428/505 | Hostname | OS / Arch | INSTALL | BUILD | BUILD BIN | ||||||||||||
| sevenC 1.18.0 (landing page) Jonas Ibn-Salem
| kjohnson | macOS 13.0 Ventura / arm64 | OK | OK | OK | ||||||||||||
| Package 429/505 | Hostname | OS / Arch | INSTALL | BUILD | BUILD BIN | ||||||||||||
| SGSeq 1.32.0 (landing page) Leonard Goldstein
| kjohnson | macOS 13.0 Ventura / arm64 | OK | OK | OK | ||||||||||||
| Package 430/505 | Hostname | OS / Arch | INSTALL | BUILD | BUILD BIN | ||||||||||||
| ShortRead 1.56.1 (landing page) Bioconductor Package Maintainer
| kjohnson | macOS 13.0 Ventura / arm64 | OK | OK | OK | ||||||||||||
| Package 431/505 | Hostname | OS / Arch | INSTALL | BUILD | BUILD BIN | ||||||||||||
| SICtools 1.28.0 (landing page) Xiaobin Xing
| kjohnson | macOS 13.0 Ventura / arm64 | OK | OK | OK | ||||||||||||
| Package 432/505 | Hostname | OS / Arch | INSTALL | BUILD | BUILD BIN | ||||||||||||
| signeR 2.0.2 (landing page) Renan Valieris
| kjohnson | macOS 13.0 Ventura / arm64 | OK | OK | OK | ||||||||||||
| Package 433/505 | Hostname | OS / Arch | INSTALL | BUILD | BUILD BIN | ||||||||||||
| signifinder 1.0.0 (landing page) Stefania Pirrotta
| kjohnson | macOS 13.0 Ventura / arm64 | OK | OK | OK | ||||||||||||
| Package 434/505 | Hostname | OS / Arch | INSTALL | BUILD | BUILD BIN | ||||||||||||
| SimFFPE 1.10.0 (landing page) Lanying Wei
| kjohnson | macOS 13.0 Ventura / arm64 | OK | OK | OK | ||||||||||||
| Package 435/505 | Hostname | OS / Arch | INSTALL | BUILD | BUILD BIN | ||||||||||||
| single 1.2.0 (landing page) Rocio Espada
| kjohnson | macOS 13.0 Ventura / arm64 | OK | OK | OK | ||||||||||||
| Package 436/505 | Hostname | OS / Arch | INSTALL | BUILD | BUILD BIN | ||||||||||||
| SingleMoleculeFootprinting 1.6.0 (landing page) Guido Barzaghi
| kjohnson | macOS 13.0 Ventura / arm64 | OK | OK | OK | ||||||||||||
| Package 437/505 | Hostname | OS / Arch | INSTALL | BUILD | BUILD BIN | ||||||||||||
| sitadela 1.6.0 (landing page) Panagiotis Moulos
| kjohnson | macOS 13.0 Ventura / arm64 | OK | OK | OK | ||||||||||||
| Package 438/505 | Hostname | OS / Arch | INSTALL | BUILD | BUILD BIN | ||||||||||||
| SMITE 1.26.0 (landing page) Neil Ari Wijetunga
| kjohnson | macOS 13.0 Ventura / arm64 | OK | OK | OK | ||||||||||||
| Package 439/505 | Hostname | OS / Arch | INSTALL | BUILD | BUILD BIN | ||||||||||||
| snapcount 1.10.0 (landing page) Rone Charles
| kjohnson | macOS 13.0 Ventura / arm64 | OK | OK | OK | ||||||||||||
| Package 440/505 | Hostname | OS / Arch | INSTALL | BUILD | BUILD BIN | ||||||||||||
| SNPhood 1.28.0 (landing page) Christian Arnold
| kjohnson | macOS 13.0 Ventura / arm64 | OK | OK | OK | ||||||||||||
| Package 441/505 | Hostname | OS / Arch | INSTALL | BUILD | BUILD BIN | ||||||||||||
| soGGi 1.30.0 (landing page) Tom Carroll
| kjohnson | macOS 13.0 Ventura / arm64 | OK | OK | OK | ||||||||||||
| Package 442/505 | Hostname | OS / Arch | INSTALL | BUILD | BUILD BIN | ||||||||||||
| SomaticSignatures 2.34.0 (landing page) Julian Gehring
| kjohnson | macOS 13.0 Ventura / arm64 | OK | OK | OK | ||||||||||||
| Package 443/505 | Hostname | OS / Arch | INSTALL | BUILD | BUILD BIN | ||||||||||||
| SparseSignatures 2.8.0 (landing page) Luca De Sano
| kjohnson | macOS 13.0 Ventura / arm64 | OK | OK | OK | ||||||||||||
| Package 444/505 | Hostname | OS / Arch | INSTALL | BUILD | BUILD BIN | ||||||||||||
| spatzie 1.4.0 (landing page) Jennifer Hammelman
| kjohnson | macOS 13.0 Ventura / arm64 | OK | OK | OK | ||||||||||||
| Package 445/505 | Hostname | OS / Arch | INSTALL | BUILD | BUILD BIN | ||||||||||||
| Spectra 1.8.3 (landing page) RforMassSpectrometry Package Maintainer
| kjohnson | macOS 13.0 Ventura / arm64 | OK | OK | OK | ||||||||||||
| Package 446/505 | Hostname | OS / Arch | INSTALL | BUILD | BUILD BIN | ||||||||||||
| spicyR 1.10.7 (landing page) Ellis Patrick
| kjohnson | macOS 13.0 Ventura / arm64 | OK | OK | OK | ||||||||||||
| Package 447/505 | Hostname | OS / Arch | INSTALL | BUILD | BUILD BIN | ||||||||||||
| spiky 1.4.0 (landing page) Tim Triche
| kjohnson | macOS 13.0 Ventura / arm64 | OK | OK | OK | ||||||||||||
| Package 448/505 | Hostname | OS / Arch | INSTALL | BUILD | BUILD BIN | ||||||||||||
| SpliceWiz 1.0.4 (landing page) Alex Chit Hei Wong
| kjohnson | macOS 13.0 Ventura / arm64 | OK | OK | OK | ||||||||||||
| Package 449/505 | Hostname | OS / Arch | INSTALL | BUILD | BUILD BIN | ||||||||||||
| SplicingGraphs 1.38.0 (landing page) H. Pagès
| kjohnson | macOS 13.0 Ventura / arm64 | OK | OK | OK | ||||||||||||
| Package 450/505 | Hostname | OS / Arch | INSTALL | BUILD | BUILD BIN | ||||||||||||
| SPLINTER 1.24.0 (landing page) Diana Low
| kjohnson | macOS 13.0 Ventura / arm64 | OK | OK | OK | ||||||||||||
| Package 451/505 | Hostname | OS / Arch | INSTALL | BUILD | BUILD BIN | ||||||||||||
| srnadiff 1.18.2 (landing page) Zytnicki Matthias
| kjohnson | macOS 13.0 Ventura / arm64 | OK | OK | OK | ||||||||||||
| Package 452/505 | Hostname | OS / Arch | INSTALL | BUILD | BUILD BIN | ||||||||||||
| STAN 2.26.2 (landing page) Rafael Campos-Martin
| kjohnson | macOS 13.0 Ventura / arm64 | OK | OK | OK | ||||||||||||
| Package 453/505 | Hostname | OS / Arch | INSTALL | BUILD | BUILD BIN | ||||||||||||
| strandCheckR 1.16.0 (landing page) Thu-Hien To
| kjohnson | macOS 13.0 Ventura / arm64 | OK | OK | OK | ||||||||||||
| Package 454/505 | Hostname | OS / Arch | INSTALL | BUILD | BUILD BIN | ||||||||||||
| Structstrings 1.14.0 (landing page) Felix G.M. Ernst
| kjohnson | macOS 13.0 Ventura / arm64 | OK | OK | OK | ||||||||||||
| Package 455/505 | Hostname | OS / Arch | INSTALL | BUILD | BUILD BIN | ||||||||||||
| StructuralVariantAnnotation 1.14.1 (landing page) Daniel Cameron
| kjohnson | macOS 13.0 Ventura / arm64 | OK | OK | OK | ||||||||||||
| Package 456/505 | Hostname | OS / Arch | INSTALL | BUILD | BUILD BIN | ||||||||||||
| SummarizedExperiment 1.28.0 (landing page) Hervé Pagès
| kjohnson | macOS 13.0 Ventura / arm64 | OK | OK | OK | ||||||||||||
| Package 457/505 | Hostname | OS / Arch | INSTALL | BUILD | BUILD BIN | ||||||||||||
| SynExtend 1.10.2 (landing page) Nicholas Cooley
| kjohnson | macOS 13.0 Ventura / arm64 | OK | OK | OK | ||||||||||||
| Package 458/505 | Hostname | OS / Arch | INSTALL | BUILD | BUILD BIN | ||||||||||||
| TAPseq 1.10.0 (landing page) Andreas R. Gschwind
| kjohnson | macOS 13.0 Ventura / arm64 | OK | OK | OK | ||||||||||||
| Package 459/505 | Hostname | OS / Arch | INSTALL | BUILD | BUILD BIN | ||||||||||||
| target 1.12.0 (landing page) Mahmoud Ahmed
| kjohnson | macOS 13.0 Ventura / arm64 | OK | OK | OK | ||||||||||||
| Package 460/505 | Hostname | OS / Arch | INSTALL | BUILD | BUILD BIN | ||||||||||||
| TarSeqQC 1.28.0 (landing page) Gabriela Merino
| kjohnson | macOS 13.0 Ventura / arm64 | OK | OK | OK | ||||||||||||
| Package 461/505 | Hostname | OS / Arch | INSTALL | BUILD | BUILD BIN | ||||||||||||
| TCGAbiolinks 2.26.0 (landing page) Tiago Chedraoui Silva
| kjohnson | macOS 13.0 Ventura / arm64 | OK | TIMEOUT | skipped | ||||||||||||
| Package 462/505 | Hostname | OS / Arch | INSTALL | BUILD | BUILD BIN | ||||||||||||
| TCGAutils 1.18.0 (landing page) Marcel Ramos
| kjohnson | macOS 13.0 Ventura / arm64 | OK | ERROR | skipped | ||||||||||||
| Package 463/505 | Hostname | OS / Arch | INSTALL | BUILD | BUILD BIN | ||||||||||||
| TCseq 1.22.6 (landing page) Mengjun Wu
| kjohnson | macOS 13.0 Ventura / arm64 | OK | OK | OK | ||||||||||||
| Package 464/505 | Hostname | OS / Arch | INSTALL | BUILD | BUILD BIN | ||||||||||||
| TEQC 4.20.0 (landing page) Sarah Bonnin
| kjohnson | macOS 13.0 Ventura / arm64 | OK | OK | OK | ||||||||||||
| Package 465/505 | Hostname | OS / Arch | INSTALL | BUILD | BUILD BIN | ||||||||||||
| TFBSTools 1.36.0 (landing page) Ge Tan
| kjohnson | macOS 13.0 Ventura / arm64 | OK | OK | OK | ||||||||||||
| Package 466/505 | Hostname | OS / Arch | INSTALL | BUILD | BUILD BIN | ||||||||||||
| TFEA.ChIP 1.18.0 (landing page) Laura Puente Santamaría
| kjohnson | macOS 13.0 Ventura / arm64 | OK | OK | OK | ||||||||||||
| Package 467/505 | Hostname | OS / Arch | INSTALL | BUILD | BUILD BIN | ||||||||||||
| TFHAZ 1.20.0 (landing page) Gaia Ceddia
| kjohnson | macOS 13.0 Ventura / arm64 | OK | OK | OK | ||||||||||||
| Package 468/505 | Hostname | OS / Arch | INSTALL | BUILD | BUILD BIN | ||||||||||||
| TitanCNA 1.36.0 (landing page) Gavin Ha
| kjohnson | macOS 13.0 Ventura / arm64 | OK | OK | OK | ||||||||||||
| Package 469/505 | Hostname | OS / Arch | INSTALL | BUILD | BUILD BIN | ||||||||||||
| TnT 1.20.0 (landing page) Jialin Ma
| kjohnson | macOS 13.0 Ventura / arm64 | OK | OK | OK | ||||||||||||
| Package 470/505 | Hostname | OS / Arch | INSTALL | BUILD | BUILD BIN | ||||||||||||
| tracktables 1.32.0 (landing page) Tom Carroll
| kjohnson | macOS 13.0 Ventura / arm64 | OK | OK | OK | ||||||||||||
| Package 471/505 | Hostname | OS / Arch | INSTALL | BUILD | BUILD BIN | ||||||||||||
| trackViewer 1.34.0 (landing page) Jianhong Ou
| kjohnson | macOS 13.0 Ventura / arm64 | OK | OK | OK | ||||||||||||
| Package 472/505 | Hostname | OS / Arch | INSTALL | BUILD | BUILD BIN | ||||||||||||
| transcriptR 1.26.0 (landing page) Armen R. Karapetyan
| kjohnson | macOS 13.0 Ventura / arm64 | OK | OK | OK | ||||||||||||
| Package 473/505 | Hostname | OS / Arch | INSTALL | BUILD | BUILD BIN | ||||||||||||
| TransView 1.42.0 (landing page) Julius Muller
| kjohnson | macOS 13.0 Ventura / arm64 | OK | OK | OK | ||||||||||||
| Package 474/505 | Hostname | OS / Arch | INSTALL | BUILD | BUILD BIN | ||||||||||||
| traseR 1.28.0 (landing page) li chen
| kjohnson | macOS 13.0 Ventura / arm64 | OK | OK | OK | ||||||||||||
| Package 475/505 | Hostname | OS / Arch | INSTALL | BUILD | BUILD BIN | ||||||||||||
| TreeSummarizedExperiment 2.6.0 (landing page) Ruizhu Huang
| kjohnson | macOS 13.0 Ventura / arm64 | OK | OK | OK | ||||||||||||
| Package 476/505 | Hostname | OS / Arch | INSTALL | BUILD | BUILD BIN | ||||||||||||
| TRESS 1.4.0 (landing page) Zhenxing Guo
| kjohnson | macOS 13.0 Ventura / arm64 | OK | OK | OK | ||||||||||||
| Package 477/505 | Hostname | OS / Arch | INSTALL | BUILD | BUILD BIN | ||||||||||||
| tricycle 1.6.0 (landing page) Shijie Zheng
| kjohnson | macOS 13.0 Ventura / arm64 | OK | OK | OK | ||||||||||||
| Package 478/505 | Hostname | OS / Arch | INSTALL | BUILD | BUILD BIN | ||||||||||||
| triplex 1.38.0 (landing page) Jiri Hon
| kjohnson | macOS 13.0 Ventura / arm64 | OK | OK | OK | ||||||||||||
| Package 479/505 | Hostname | OS / Arch | INSTALL | BUILD | BUILD BIN | ||||||||||||
| tRNA 1.16.1 (landing page) Felix GM Ernst
| kjohnson | macOS 13.0 Ventura / arm64 | OK | OK | OK | ||||||||||||
| Package 480/505 | Hostname | OS / Arch | INSTALL | BUILD | BUILD BIN | ||||||||||||
| tRNAdbImport 1.16.0 (landing page) Felix G.M. Ernst
| kjohnson | macOS 13.0 Ventura / arm64 | OK | OK | OK | ||||||||||||
| Package 481/505 | Hostname | OS / Arch | INSTALL | BUILD | BUILD BIN | ||||||||||||
| tRNAscanImport 1.18.0 (landing page) Felix G.M. Ernst
| kjohnson | macOS 13.0 Ventura / arm64 | OK | OK | OK | ||||||||||||
| Package 482/505 | Hostname | OS / Arch | INSTALL | BUILD | BUILD BIN | ||||||||||||
| tscR 1.10.0 (landing page) Fernando Pérez-Sanz
| kjohnson | macOS 13.0 Ventura / arm64 | ERROR | ERROR | skipped | ||||||||||||
| Package 483/505 | Hostname | OS / Arch | INSTALL | BUILD | BUILD BIN | ||||||||||||
| TVTB 1.24.0 (landing page) Kevin Rue-Albrecht
| kjohnson | macOS 13.0 Ventura / arm64 | OK | OK | OK | ||||||||||||
| Package 484/505 | Hostname | OS / Arch | INSTALL | BUILD | BUILD BIN | ||||||||||||
| txcutr 1.4.0 (landing page) Mervin Fansler
| kjohnson | macOS 13.0 Ventura / arm64 | OK | OK | OK | ||||||||||||
| Package 485/505 | Hostname | OS / Arch | INSTALL | BUILD | BUILD BIN | ||||||||||||
| tximeta 1.16.1 (landing page) Michael Love
| kjohnson | macOS 13.0 Ventura / arm64 | OK | OK | OK | ||||||||||||
| Package 486/505 | Hostname | OS / Arch | INSTALL | BUILD | BUILD BIN | ||||||||||||
| UMI4Cats 1.8.1 (landing page) Mireia Ramos-Rodriguez
| kjohnson | macOS 13.0 Ventura / arm64 | OK | OK | OK | ||||||||||||
| Package 487/505 | Hostname | OS / Arch | INSTALL | BUILD | BUILD BIN | ||||||||||||
| Uniquorn 2.18.0 (landing page) 'Raik Otto'
| kjohnson | macOS 13.0 Ventura / arm64 | OK | OK | OK | ||||||||||||
| Package 488/505 | Hostname | OS / Arch | INSTALL | BUILD | BUILD BIN | ||||||||||||
| universalmotif 1.16.0 (landing page) Benjamin Jean-Marie Tremblay
| kjohnson | macOS 13.0 Ventura / arm64 | OK | OK | OK | ||||||||||||
| Package 489/505 | Hostname | OS / Arch | INSTALL | BUILD | BUILD BIN | ||||||||||||
| VanillaICE 1.60.0 (landing page) Robert Scharpf
| kjohnson | macOS 13.0 Ventura / arm64 | OK | OK | OK | ||||||||||||
| Package 490/505 | Hostname | OS / Arch | INSTALL | BUILD | BUILD BIN | ||||||||||||
| VarCon 1.6.0 (landing page) Johannes Ptok
| kjohnson | macOS 13.0 Ventura / arm64 | OK | OK | OK | ||||||||||||
| Package 491/505 | Hostname | OS / Arch | INSTALL | BUILD | BUILD BIN | ||||||||||||
| VariantAnnotation 1.44.1 (landing page) Bioconductor Package Maintainer
| kjohnson | macOS 13.0 Ventura / arm64 | OK | OK | OK | ||||||||||||
| Package 492/505 | Hostname | OS / Arch | INSTALL | BUILD | BUILD BIN | ||||||||||||
| VariantExperiment 1.12.0 (landing page) Qian Liu
| kjohnson | macOS 13.0 Ventura / arm64 | OK | OK | OK | ||||||||||||
| Package 493/505 | Hostname | OS / Arch | INSTALL | BUILD | BUILD BIN | ||||||||||||
| VariantFiltering 1.34.0 (landing page) Robert Castelo
| kjohnson | macOS 13.0 Ventura / arm64 | OK | ERROR | skipped | ||||||||||||
| Package 494/505 | Hostname | OS / Arch | INSTALL | BUILD | BUILD BIN | ||||||||||||
| VariantTools 1.40.0 (landing page) Michael Lawrence
| kjohnson | macOS 13.0 Ventura / arm64 | OK | OK | OK | ||||||||||||
| Package 495/505 | Hostname | OS / Arch | INSTALL | BUILD | BUILD BIN | ||||||||||||
| VaSP 1.10.0 (landing page) Huihui Yu
| kjohnson | macOS 13.0 Ventura / arm64 | OK | OK | OK | ||||||||||||
| Package 496/505 | Hostname | OS / Arch | INSTALL | BUILD | BUILD BIN | ||||||||||||
| VDJdive 1.0.0 (landing page) Kelly Street
| kjohnson | macOS 13.0 Ventura / arm64 | OK | OK | OK | ||||||||||||
| Package 497/505 | Hostname | OS / Arch | INSTALL | BUILD | BUILD BIN | ||||||||||||
| VplotR 1.8.0 (landing page) Jacques Serizay
| kjohnson | macOS 13.0 Ventura / arm64 | OK | OK | OK | ||||||||||||
| Package 498/505 | Hostname | OS / Arch | INSTALL | BUILD | BUILD BIN | ||||||||||||
| wavClusteR 2.32.0 (landing page) Federico Comoglio
| kjohnson | macOS 13.0 Ventura / arm64 | OK | OK | OK | ||||||||||||
| Package 499/505 | Hostname | OS / Arch | INSTALL | BUILD | BUILD BIN | ||||||||||||
| wiggleplotr 1.22.0 (landing page) Kaur Alasoo
| kjohnson | macOS 13.0 Ventura / arm64 | OK | OK | OK | ||||||||||||
| Package 500/505 | Hostname | OS / Arch | INSTALL | BUILD | BUILD BIN | ||||||||||||
Renan Sauteraud
| kjohnson | macOS 13.0 Ventura / arm64 | OK | ERROR | skipped | ||||||||||||
| Package 501/505 | Hostname | OS / Arch | INSTALL | BUILD | BUILD BIN | ||||||||||||
| xcms 3.20.0 (landing page) Steffen Neumann
| kjohnson | macOS 13.0 Ventura / arm64 | OK | OK | OK | ||||||||||||
| Package 502/505 | Hostname | OS / Arch | INSTALL | BUILD | BUILD BIN | ||||||||||||
| xcore 1.2.0 (landing page) Maciej Migdał
| kjohnson | macOS 13.0 Ventura / arm64 | OK | ERROR | skipped | ||||||||||||
| Package 503/505 | Hostname | OS / Arch | INSTALL | BUILD | BUILD BIN | ||||||||||||
| XNAString 1.6.0 (landing page) Marianna Plucinska
| kjohnson | macOS 13.0 Ventura / arm64 | OK | OK | OK | ||||||||||||
| Package 504/505 | Hostname | OS / Arch | INSTALL | BUILD | BUILD BIN | ||||||||||||
| XVector 0.38.0 (landing page) Hervé Pagès
| kjohnson | macOS 13.0 Ventura / arm64 | OK | OK | OK | ||||||||||||
| Package 505/505 | Hostname | OS / Arch | INSTALL | BUILD | BUILD BIN | ||||||||||||
| yamss 1.24.0 (landing page) Leslie Myint
| kjohnson | macOS 13.0 Ventura / arm64 | OK | OK | OK | ||||||||||||