| Back to Mac ARM64 build report for BioC 3.16 |
|
This page was generated on 2023-04-19 11:01:56 -0400 (Wed, 19 Apr 2023).
| Hostname | OS | Arch (*) | R version | Installed pkgs |
|---|---|---|---|---|
| kjohnson | macOS 13.0 Ventura | arm64 | 4.2.2 (2022-10-31) -- "Innocent and Trusting" | 4256 |
| Click on any hostname to see more info about the system (e.g. compilers) (*) as reported by 'uname -p', except on Windows and Mac OS X | ||||
|
To the developers/maintainers of the msgbsR package: Make sure to use the following settings in order to reproduce any error or warning you see on this page. |
| Package 1273/2183 | Hostname | OS / Arch | INSTALL | BUILD | BUILD BIN | ||||||||
| msgbsR 1.22.0 (landing page) Benjamin Mayne
| kjohnson | macOS 13.0 Ventura / arm64 | OK | OK | OK | ||||||||
| Package: msgbsR |
| Version: 1.22.0 |
| Command: /Library/Frameworks/R.framework/Resources/bin/R CMD build --keep-empty-dirs --no-resave-data msgbsR |
| StartedAt: 2023-04-17 17:01:34 -0400 (Mon, 17 Apr 2023) |
| EndedAt: 2023-04-17 17:05:54 -0400 (Mon, 17 Apr 2023) |
| EllapsedTime: 259.6 seconds |
| RetCode: 0 |
| Status: OK |
| PackageFile: msgbsR_1.22.0.tar.gz |
| PackageFileSize: 15.25 MiB |
##############################################################################
##############################################################################
###
### Running command:
###
### /Library/Frameworks/R.framework/Resources/bin/R CMD build --keep-empty-dirs --no-resave-data msgbsR
###
##############################################################################
##############################################################################
* checking for file ‘msgbsR/DESCRIPTION’ ... OK
* preparing ‘msgbsR’:
* checking DESCRIPTION meta-information ... OK
* installing the package to build vignettes
* creating vignettes ... OK
* checking for LF line-endings in source and make files and shell scripts
* checking for empty or unneeded directories
* looking to see if a ‘data/datalist’ file should be added
NB: this package now depends on R (>= 3.5.0)
WARNING: Added dependency on R >= 3.5.0 because serialized objects in
serialize/load version 3 cannot be read in older versions of R.
File(s) containing such objects:
‘msgbsR/data/cuts.rda’ ‘msgbsR/data/ratdata.rda’
‘msgbsR/data/ratdata2.rda’
* building ‘msgbsR_1.22.0.tar.gz’