| Back to Mac ARM64 build report for BioC 3.16 |
|
This page was generated on 2023-04-19 11:01:59 -0400 (Wed, 19 Apr 2023).
| Hostname | OS | Arch (*) | R version | Installed pkgs |
|---|---|---|---|---|
| kjohnson | macOS 13.0 Ventura | arm64 | 4.2.2 (2022-10-31) -- "Innocent and Trusting" | 4256 |
| Click on any hostname to see more info about the system (e.g. compilers) (*) as reported by 'uname -p', except on Windows and Mac OS X | ||||
|
To the developers/maintainers of the VDJdive package: Make sure to use the following settings in order to reproduce any error or warning you see on this page. |
| Package 2140/2183 | Hostname | OS / Arch | INSTALL | BUILD | BUILD BIN | ||||||||
| VDJdive 1.0.0 (landing page) Kelly Street
| kjohnson | macOS 13.0 Ventura / arm64 | OK | OK | OK | ||||||||
| Package: VDJdive |
| Version: 1.0.0 |
| Command: rm -rf VDJdive.buildbin-libdir && mkdir VDJdive.buildbin-libdir && /Users/biocbuild/BBS/utils/build-universal.sh VDJdive_1.0.0.tar.gz /Library/Frameworks/R.framework/Resources/bin/R VDJdive.buildbin-libdir |
| StartedAt: 2023-04-18 20:25:48 -0400 (Tue, 18 Apr 2023) |
| EndedAt: 2023-04-18 20:26:28 -0400 (Tue, 18 Apr 2023) |
| EllapsedTime: 39.3 seconds |
| RetCode: 0 |
| Status: OK |
| PackageFile: VDJdive_1.0.0.tgz |
| PackageFileSize: 776.7 KiB |
############################################################################## ############################################################################## ### ### Running command: ### ### rm -rf VDJdive.buildbin-libdir && mkdir VDJdive.buildbin-libdir && /Users/biocbuild/BBS/utils/build-universal.sh VDJdive_1.0.0.tar.gz /Library/Frameworks/R.framework/Resources/bin/R VDJdive.buildbin-libdir ### ############################################################################## ############################################################################## >>>>>>> >>>>>>> INSTALLATION WITH 'R CMD INSTALL --preclean --no-multiarch --library=VDJdive.buildbin-libdir VDJdive_1.0.0.tar.gz' >>>>>>> * installing *source* package ‘VDJdive’ ... ** using non-staged installation via StagedInstall field ** R ** data ** inst ** byte-compile and prepare package for lazy loading ** help *** installing help indices *** copying figures ** building package indices ** installing vignettes ** testing if installed package can be loaded * DONE (VDJdive)