| Back to Mac ARM64 build report for BioC 3.16 |
|
This page was generated on 2023-04-19 11:01:54 -0400 (Wed, 19 Apr 2023).
| Hostname | OS | Arch (*) | R version | Installed pkgs |
|---|---|---|---|---|
| kjohnson | macOS 13.0 Ventura | arm64 | 4.2.2 (2022-10-31) -- "Innocent and Trusting" | 4256 |
| Click on any hostname to see more info about the system (e.g. compilers) (*) as reported by 'uname -p', except on Windows and Mac OS X | ||||
|
To the developers/maintainers of the DirichletMultinomial package: Make sure to use the following settings in order to reproduce any error or warning you see on this page. |
| Package 544/2183 | Hostname | OS / Arch | INSTALL | BUILD | BUILD BIN | ||||||||
| DirichletMultinomial 1.40.0 (landing page) Martin Morgan
| kjohnson | macOS 13.0 Ventura / arm64 | OK | OK | OK | ||||||||
| Package: DirichletMultinomial |
| Version: 1.40.0 |
| Command: rm -rf DirichletMultinomial.buildbin-libdir && mkdir DirichletMultinomial.buildbin-libdir && /Users/biocbuild/BBS/utils/build-universal.sh DirichletMultinomial_1.40.0.tar.gz /Library/Frameworks/R.framework/Resources/bin/R DirichletMultinomial.buildbin-libdir |
| StartedAt: 2023-04-18 15:17:16 -0400 (Tue, 18 Apr 2023) |
| EndedAt: 2023-04-18 15:17:42 -0400 (Tue, 18 Apr 2023) |
| EllapsedTime: 26.5 seconds |
| RetCode: 0 |
| Status: OK |
| PackageFile: DirichletMultinomial_1.40.0.tgz |
| PackageFileSize: 812.5 KiB |
##############################################################################
##############################################################################
###
### Running command:
###
### rm -rf DirichletMultinomial.buildbin-libdir && mkdir DirichletMultinomial.buildbin-libdir && /Users/biocbuild/BBS/utils/build-universal.sh DirichletMultinomial_1.40.0.tar.gz /Library/Frameworks/R.framework/Resources/bin/R DirichletMultinomial.buildbin-libdir
###
##############################################################################
##############################################################################
>>>>>>>
>>>>>>> INSTALLATION WITH 'R CMD INSTALL --preclean --no-multiarch --library=DirichletMultinomial.buildbin-libdir DirichletMultinomial_1.40.0.tar.gz'
>>>>>>>
* installing *source* package ‘DirichletMultinomial’ ...
** using staged installation
** libs
clang -arch arm64 -I"/Library/Frameworks/R.framework/Resources/include" -DNDEBUG -I/opt/R/arm64/include `gsl-config --cflags` -DR_DIRICHLETMULTINOMIAL -fPIC -falign-functions=64 -Wall -g -O2 -c R_init_DirichletMultinomial.c -o R_init_DirichletMultinomial.o
clang -arch arm64 -I"/Library/Frameworks/R.framework/Resources/include" -DNDEBUG -I/opt/R/arm64/include `gsl-config --cflags` -DR_DIRICHLETMULTINOMIAL -fPIC -falign-functions=64 -Wall -g -O2 -c dirichlet_fit.c -o dirichlet_fit.o
clang -arch arm64 -I"/Library/Frameworks/R.framework/Resources/include" -DNDEBUG -I/opt/R/arm64/include `gsl-config --cflags` -DR_DIRICHLETMULTINOMIAL -fPIC -falign-functions=64 -Wall -g -O2 -c dirichlet_fit_main.c -o dirichlet_fit_main.o
dirichlet_fit_main.c:542:17: warning: variable 'status' set but not used [-Wunused-but-set-variable]
int signum, status;
^
1 warning generated.
clang -arch arm64 -dynamiclib -Wl,-headerpad_max_install_names -undefined dynamic_lookup -single_module -multiply_defined suppress -L/Library/Frameworks/R.framework/Resources/lib -L/opt/R/arm64/lib -o DirichletMultinomial.so R_init_DirichletMultinomial.o dirichlet_fit.o dirichlet_fit_main.o -L/usr/local/lib -lgsl -lgslcblas -F/Library/Frameworks/R.framework/.. -framework R -Wl,-framework -Wl,CoreFoundation
ld: warning: -undefined dynamic_lookup may not work with chained fixups
installing to /Volumes/External/bbs-3.16-bioc-m1/meat/DirichletMultinomial.buildbin-libdir/00LOCK-DirichletMultinomial/00new/DirichletMultinomial/libs
** R
** data
** inst
** byte-compile and prepare package for lazy loading
** help
*** installing help indices
** building package indices
** installing vignettes
** testing if installed package can be loaded from temporary location
** checking absolute paths in shared objects and dynamic libraries
** testing if installed package can be loaded from final location
** testing if installed package keeps a record of temporary installation path
* DONE (DirichletMultinomial)
>>>>>>>
>>>>>>> FIXING LINKS FOR DirichletMultinomial.buildbin-libdir/DirichletMultinomial/libs/DirichletMultinomial.so
>>>>>>>
install_name_tool -change "/opt/R/arm64/lib/libgcc_s.1.1.dylib" "/Library/Frameworks/R.framework/Versions/4.2-arm64/Resources/lib/libgcc_s.1.1.dylib" "DirichletMultinomial.buildbin-libdir/DirichletMultinomial/libs/DirichletMultinomial.so"
install_name_tool -change "/opt/R/arm64/lib/libgfortran.5.dylib" "/Library/Frameworks/R.framework/Versions/4.2-arm64/Resources/lib/libgfortran.5.dylib" "DirichletMultinomial.buildbin-libdir/DirichletMultinomial/libs/DirichletMultinomial.so"
install_name_tool -change "/opt/R/arm64/lib/libquadmath.0.dylib" "/Library/Frameworks/R.framework/Versions/4.2-arm64/Resources/lib/libquadmath.0.dylib" "DirichletMultinomial.buildbin-libdir/DirichletMultinomial/libs/DirichletMultinomial.so"