| Back to Mac ARM64 build report for BioC 3.16 |
|
This page was generated on 2023-04-19 11:01:56 -0400 (Wed, 19 Apr 2023).
| Hostname | OS | Arch (*) | R version | Installed pkgs |
|---|---|---|---|---|
| kjohnson | macOS 13.0 Ventura | arm64 | 4.2.2 (2022-10-31) -- "Innocent and Trusting" | 4256 |
| Click on any hostname to see more info about the system (e.g. compilers) (*) as reported by 'uname -p', except on Windows and Mac OS X | ||||
|
To the developers/maintainers of the motifbreakR package: Make sure to use the following settings in order to reproduce any error or warning you see on this page. |
| Package 1254/2183 | Hostname | OS / Arch | INSTALL | BUILD | BUILD BIN | ||||||||
| motifbreakR 2.12.4 (landing page) Simon Gert Coetzee
| kjohnson | macOS 13.0 Ventura / arm64 | OK | TIMEOUT | skipped | ||||||||
| Package: motifbreakR |
| Version: 2.12.4 |
| Command: /Library/Frameworks/R.framework/Resources/bin/R CMD build --keep-empty-dirs --no-resave-data motifbreakR |
| StartedAt: 2023-04-17 16:21:33 -0400 (Mon, 17 Apr 2023) |
| EndedAt: 2023-04-17 17:01:34 -0400 (Mon, 17 Apr 2023) |
| EllapsedTime: 2401.1 seconds |
| RetCode: None |
| Status: TIMEOUT |
| PackageFile: None |
| PackageFileSize: NA |
############################################################################## ############################################################################## ### ### Running command: ### ### /Library/Frameworks/R.framework/Resources/bin/R CMD build --keep-empty-dirs --no-resave-data motifbreakR ### ############################################################################## ############################################################################## * checking for file ‘motifbreakR/DESCRIPTION’ ... OK * preparing ‘motifbreakR’: * checking DESCRIPTION meta-information ... OK * installing the package to build vignettes * creating vignettes ...