| Back to Mac ARM64 build report for BioC 3.16 | 
 | 
This page was generated on 2023-04-19 11:01:53 -0400 (Wed, 19 Apr 2023).
| Hostname | OS | Arch (*) | R version | Installed pkgs | 
|---|---|---|---|---|
| kjohnson | macOS 13.0 Ventura | arm64 | 4.2.2 (2022-10-31) -- "Innocent and Trusting" | 4256 | 
| Click on any hostname to see more info about the system (e.g. compilers) (*) as reported by 'uname -p', except on Windows and Mac OS X | ||||
| To the developers/maintainers of the BUSpaRse package: Make sure to use the following settings in order to reproduce any error or warning you see on this page. | 
| Package 240/2183 | Hostname | OS / Arch | INSTALL | BUILD | BUILD BIN | ||||||||
| BUSpaRse 1.12.2  (landing page) Lambda Moses 
 | kjohnson | macOS 13.0 Ventura / arm64 | OK | OK | OK |  | |||||||
| Package: BUSpaRse | 
| Version: 1.12.2 | 
| Command: rm -rf BUSpaRse.buildbin-libdir && mkdir BUSpaRse.buildbin-libdir && /Users/biocbuild/BBS/utils/build-universal.sh BUSpaRse_1.12.2.tar.gz /Library/Frameworks/R.framework/Resources/bin/R BUSpaRse.buildbin-libdir | 
| StartedAt: 2023-04-18 14:09:15 -0400 (Tue, 18 Apr 2023) | 
| EndedAt: 2023-04-18 14:12:23 -0400 (Tue, 18 Apr 2023) | 
| EllapsedTime: 187.5 seconds | 
| RetCode: 0 | 
| Status: OK | 
| PackageFile: BUSpaRse_1.12.2.tgz | 
| PackageFileSize: 821.2 KiB | 
##############################################################################
##############################################################################
###
### Running command:
###
###   rm -rf BUSpaRse.buildbin-libdir && mkdir BUSpaRse.buildbin-libdir && /Users/biocbuild/BBS/utils/build-universal.sh BUSpaRse_1.12.2.tar.gz /Library/Frameworks/R.framework/Resources/bin/R BUSpaRse.buildbin-libdir
###
##############################################################################
##############################################################################
>>>>>>> 
>>>>>>> INSTALLATION WITH 'R CMD INSTALL --preclean --no-multiarch --library=BUSpaRse.buildbin-libdir BUSpaRse_1.12.2.tar.gz'
>>>>>>> 
* installing *source* package ‘BUSpaRse’ ...
** using staged installation
** libs
clang++ -arch arm64 -std=gnu++11 -I"/Library/Frameworks/R.framework/Resources/include" -DNDEBUG  -I'/Library/Frameworks/R.framework/Versions/4.2-arm64/Resources/library/Rcpp/include' -I'/Library/Frameworks/R.framework/Versions/4.2-arm64/Resources/library/RcppArmadillo/include' -I'/Library/Frameworks/R.framework/Versions/4.2-arm64/Resources/library/RcppProgress/include' -I'/Library/Frameworks/R.framework/Versions/4.2-arm64/Resources/library/BH/include' -I/opt/R/arm64/include   -fPIC  -falign-functions=64 -Wall -g -O2  -c RcppExports.cpp -o RcppExports.o
In file included from RcppExports.cpp:4:
In file included from /Library/Frameworks/R.framework/Versions/4.2-arm64/Resources/library/RcppArmadillo/include/RcppArmadillo.h:29:
In file included from /Library/Frameworks/R.framework/Versions/4.2-arm64/Resources/library/RcppArmadillo/include/RcppArmadillo/interface/RcppArmadilloForward.h:25:
In file included from /Library/Frameworks/R.framework/Versions/4.2-arm64/Resources/library/Rcpp/include/RcppCommon.h:168:
/Library/Frameworks/R.framework/Versions/4.2-arm64/Resources/library/Rcpp/include/Rcpp/internal/r_coerce.h:255:7: warning: 'sprintf' is deprecated: This function is provided for compatibility reasons only.  Due to security concerns inherent in the design of sprintf(3), it is highly recommended that you use snprintf(3) instead. [-Wdeprecated-declarations]
    ::sprintf(buff, "%02x", from);
      ^
/Library/Developer/CommandLineTools/SDKs/MacOSX.sdk/usr/include/stdio.h:188:1: note: 'sprintf' has been explicitly marked deprecated here
__deprecated_msg("This function is provided for compatibility reasons only.  Due to security concerns inherent in the design of sprintf(3), it is highly recommended that you use snprintf(3) instead.")
^
/Library/Developer/CommandLineTools/SDKs/MacOSX.sdk/usr/include/sys/cdefs.h:215:48: note: expanded from macro '__deprecated_msg'
        #define __deprecated_msg(_msg) __attribute__((__deprecated__(_msg)))
                                                      ^
1 warning generated.
clang++ -arch arm64 -std=gnu++11 -I"/Library/Frameworks/R.framework/Resources/include" -DNDEBUG  -I'/Library/Frameworks/R.framework/Versions/4.2-arm64/Resources/library/Rcpp/include' -I'/Library/Frameworks/R.framework/Versions/4.2-arm64/Resources/library/RcppArmadillo/include' -I'/Library/Frameworks/R.framework/Versions/4.2-arm64/Resources/library/RcppProgress/include' -I'/Library/Frameworks/R.framework/Versions/4.2-arm64/Resources/library/BH/include' -I/opt/R/arm64/include   -fPIC  -falign-functions=64 -Wall -g -O2  -c fill_cell_gene.cpp -o fill_cell_gene.o
In file included from fill_cell_gene.cpp:7:
In file included from /Library/Frameworks/R.framework/Versions/4.2-arm64/Resources/library/RcppArmadillo/include/RcppArmadillo.h:29:
In file included from /Library/Frameworks/R.framework/Versions/4.2-arm64/Resources/library/RcppArmadillo/include/RcppArmadillo/interface/RcppArmadilloForward.h:25:
In file included from /Library/Frameworks/R.framework/Versions/4.2-arm64/Resources/library/Rcpp/include/RcppCommon.h:168:
/Library/Frameworks/R.framework/Versions/4.2-arm64/Resources/library/Rcpp/include/Rcpp/internal/r_coerce.h:255:7: warning: 'sprintf' is deprecated: This function is provided for compatibility reasons only.  Due to security concerns inherent in the design of sprintf(3), it is highly recommended that you use snprintf(3) instead. [-Wdeprecated-declarations]
    ::sprintf(buff, "%02x", from);
      ^
/Library/Developer/CommandLineTools/SDKs/MacOSX.sdk/usr/include/stdio.h:188:1: note: 'sprintf' has been explicitly marked deprecated here
__deprecated_msg("This function is provided for compatibility reasons only.  Due to security concerns inherent in the design of sprintf(3), it is highly recommended that you use snprintf(3) instead.")
^
/Library/Developer/CommandLineTools/SDKs/MacOSX.sdk/usr/include/sys/cdefs.h:215:48: note: expanded from macro '__deprecated_msg'
        #define __deprecated_msg(_msg) __attribute__((__deprecated__(_msg)))
                                                      ^
In file included from fill_cell_gene.cpp:16:
In file included from /Library/Frameworks/R.framework/Versions/4.2-arm64/Resources/library/BH/include/boost/tokenizer.hpp:20:
In file included from /Library/Frameworks/R.framework/Versions/4.2-arm64/Resources/library/BH/include/boost/token_iterator.hpp:24:
In file included from /Library/Frameworks/R.framework/Versions/4.2-arm64/Resources/library/BH/include/boost/token_functions.hpp:44:
In file included from /Library/Frameworks/R.framework/Versions/4.2-arm64/Resources/library/BH/include/boost/throw_exception.hpp:24:
/Library/Frameworks/R.framework/Versions/4.2-arm64/Resources/library/BH/include/boost/assert/source_location.hpp:75:14: warning: 'sprintf' is deprecated: This function is provided for compatibility reasons only.  Due to security concerns inherent in the design of sprintf(3), it is highly recommended that you use snprintf(3) instead. [-Wdeprecated-declarations]
        std::sprintf( buffer, ":%ld", static_cast<long>( line() ) );
             ^
/Library/Developer/CommandLineTools/SDKs/MacOSX.sdk/usr/include/stdio.h:188:1: note: 'sprintf' has been explicitly marked deprecated here
__deprecated_msg("This function is provided for compatibility reasons only.  Due to security concerns inherent in the design of sprintf(3), it is highly recommended that you use snprintf(3) instead.")
^
/Library/Developer/CommandLineTools/SDKs/MacOSX.sdk/usr/include/sys/cdefs.h:215:48: note: expanded from macro '__deprecated_msg'
        #define __deprecated_msg(_msg) __attribute__((__deprecated__(_msg)))
                                                      ^
In file included from fill_cell_gene.cpp:16:
In file included from /Library/Frameworks/R.framework/Versions/4.2-arm64/Resources/library/BH/include/boost/tokenizer.hpp:20:
In file included from /Library/Frameworks/R.framework/Versions/4.2-arm64/Resources/library/BH/include/boost/token_iterator.hpp:24:
In file included from /Library/Frameworks/R.framework/Versions/4.2-arm64/Resources/library/BH/include/boost/token_functions.hpp:44:
In file included from /Library/Frameworks/R.framework/Versions/4.2-arm64/Resources/library/BH/include/boost/throw_exception.hpp:24:
/Library/Frameworks/R.framework/Versions/4.2-arm64/Resources/library/BH/include/boost/assert/source_location.hpp:80:18: warning: 'sprintf' is deprecated: This function is provided for compatibility reasons only.  Due to security concerns inherent in the design of sprintf(3), it is highly recommended that you use snprintf(3) instead. [-Wdeprecated-declarations]
            std::sprintf( buffer, ":%ld", static_cast<long>( column() ) );
                 ^
/Library/Developer/CommandLineTools/SDKs/MacOSX.sdk/usr/include/stdio.h:188:1: note: 'sprintf' has been explicitly marked deprecated here
__deprecated_msg("This function is provided for compatibility reasons only.  Due to security concerns inherent in the design of sprintf(3), it is highly recommended that you use snprintf(3) instead.")
^
/Library/Developer/CommandLineTools/SDKs/MacOSX.sdk/usr/include/sys/cdefs.h:215:48: note: expanded from macro '__deprecated_msg'
        #define __deprecated_msg(_msg) __attribute__((__deprecated__(_msg)))
                                                      ^
3 warnings generated.
clang++ -arch arm64 -std=gnu++11 -dynamiclib -Wl,-headerpad_max_install_names -undefined dynamic_lookup -single_module -multiply_defined suppress -L/Library/Frameworks/R.framework/Resources/lib -L/opt/R/arm64/lib -o BUSpaRse.so RcppExports.o fill_cell_gene.o -L/Library/Frameworks/R.framework/Resources/lib -lRlapack -L/Library/Frameworks/R.framework/Resources/lib -lRblas -L/opt/R/arm64/gfortran/lib/gcc/aarch64-apple-darwin20.6.0/12.0.1 -L/opt/R/arm64/gfortran/lib -lgfortran -lemutls_w -lquadmath -F/Library/Frameworks/R.framework/.. -framework R -Wl,-framework -Wl,CoreFoundation
ld: warning: -undefined dynamic_lookup may not work with chained fixups
ld: warning: could not create compact unwind for ___emutls_get_address: registers 23 and 24 not saved contiguously in frame
installing to /Volumes/External/bbs-3.16-bioc-m1/meat/BUSpaRse.buildbin-libdir/00LOCK-BUSpaRse/00new/BUSpaRse/libs
** R
** data
*** moving datasets to lazyload DB
** inst
** byte-compile and prepare package for lazy loading
** help
*** installing help indices
** building package indices
** installing vignettes
** testing if installed package can be loaded from temporary location
** checking absolute paths in shared objects and dynamic libraries
** testing if installed package can be loaded from final location
** testing if installed package keeps a record of temporary installation path
* DONE (BUSpaRse)
>>>>>>> 
>>>>>>> FIXING LINKS FOR BUSpaRse.buildbin-libdir/BUSpaRse/libs/BUSpaRse.so
>>>>>>> 
install_name_tool -change "/opt/R/arm64/lib/libgcc_s.1.1.dylib" "/Library/Frameworks/R.framework/Versions/4.2-arm64/Resources/lib/libgcc_s.1.1.dylib" "BUSpaRse.buildbin-libdir/BUSpaRse/libs/BUSpaRse.so"
install_name_tool -change "/opt/R/arm64/lib/libgfortran.5.dylib" "/Library/Frameworks/R.framework/Versions/4.2-arm64/Resources/lib/libgfortran.5.dylib" "BUSpaRse.buildbin-libdir/BUSpaRse/libs/BUSpaRse.so"
install_name_tool -change "/opt/R/arm64/lib/libquadmath.0.dylib" "/Library/Frameworks/R.framework/Versions/4.2-arm64/Resources/lib/libquadmath.0.dylib" "BUSpaRse.buildbin-libdir/BUSpaRse/libs/BUSpaRse.so"
install_name_tool -change "/opt/R/arm64/gfortran/lib/libgfortran.5.dylib" "/Library/Frameworks/R.framework/Versions/4.2-arm64/Resources/lib/libgfortran.5.dylib" "BUSpaRse.buildbin-libdir/BUSpaRse/libs/BUSpaRse.so"
install_name_tool -change "/opt/R/arm64/gfortran/lib/libquadmath.0.dylib" "/Library/Frameworks/R.framework/Versions/4.2-arm64/Resources/lib/libquadmath.0.dylib" "BUSpaRse.buildbin-libdir/BUSpaRse/libs/BUSpaRse.so"