| Back to Mac ARM64 build report for BioC 3.16 |
|
This page was generated on 2023-04-19 11:01:53 -0400 (Wed, 19 Apr 2023).
| Hostname | OS | Arch (*) | R version | Installed pkgs |
|---|---|---|---|---|
| kjohnson | macOS 13.0 Ventura | arm64 | 4.2.2 (2022-10-31) -- "Innocent and Trusting" | 4256 |
| Click on any hostname to see more info about the system (e.g. compilers) (*) as reported by 'uname -p', except on Windows and Mac OS X | ||||
|
To the developers/maintainers of the ASpediaFI package: Make sure to use the following settings in order to reproduce any error or warning you see on this page. |
| Package 86/2183 | Hostname | OS / Arch | INSTALL | BUILD | BUILD BIN | ||||||||
| ASpediaFI 1.12.0 (landing page) Doyeong Yu
| kjohnson | macOS 13.0 Ventura / arm64 | ERROR | ERROR | skipped | ||||||||
| Package: ASpediaFI |
| Version: 1.12.0 |
| Command: /Library/Frameworks/R.framework/Resources/bin/R CMD build --keep-empty-dirs --no-resave-data ASpediaFI |
| StartedAt: 2023-04-16 20:12:01 -0400 (Sun, 16 Apr 2023) |
| EndedAt: 2023-04-16 20:12:03 -0400 (Sun, 16 Apr 2023) |
| EllapsedTime: 2.2 seconds |
| RetCode: 1 |
| Status: ERROR |
| PackageFile: None |
| PackageFileSize: NA |
##############################################################################
##############################################################################
###
### Running command:
###
### /Library/Frameworks/R.framework/Resources/bin/R CMD build --keep-empty-dirs --no-resave-data ASpediaFI
###
##############################################################################
##############################################################################
* checking for file ‘ASpediaFI/DESCRIPTION’ ... OK
* preparing ‘ASpediaFI’:
* checking DESCRIPTION meta-information ... OK
* installing the package to build vignettes
-----------------------------------
ERROR: dependency ‘mGSZ’ is not available for package ‘ASpediaFI’
* removing ‘/private/tmp/Rtmp8pwCtU/Rinst23842a87bbf4/ASpediaFI’
-----------------------------------
ERROR: package installation failed