Back to Multiple platform build/check report for BioC 3.22:   simplified   long
ABCDEF[G]HIJKLMNOPQRSTUVWXYZ

This page was generated on 2025-11-12 11:57 -0500 (Wed, 12 Nov 2025).

HostnameOSArch (*)R versionInstalled pkgs
nebbiolo2Linux (Ubuntu 24.04.3 LTS)x86_644.5.1 Patched (2025-08-23 r88802) -- "Great Square Root" 4902
taishanLinux (openEuler 24.03 LTS)aarch644.5.0 (2025-04-11) -- "How About a Twenty-Six" 4668
Click on any hostname to see more info about the system (e.g. compilers)      (*) as reported by 'uname -p', except on Windows and Mac OS X

All results for package GenomicFeatures


To the developers/maintainers of the GenomicFeatures package:
- Allow up to 24 hours (and sometimes 48 hours) for your latest push to git@git.bioconductor.org:packages/GenomicFeatures.git to reflect on this report. See Troubleshooting Build Report for more information.
- Use the following Renviron settings to reproduce errors and warnings.
- If 'R CMD check' started to fail recently on the Linux builder(s) over a missing dependency, add the missing dependency to 'Suggests:' in your DESCRIPTION file. See Renviron.bioc for more information.

raw results

Package 845/2361HostnameOS / ArchINSTALLBUILDCHECKBUILD BIN
GenomicFeatures 1.62.0  (landing page)
H. Pagès
Snapshot Date: 2025-11-11 13:45 -0500 (Tue, 11 Nov 2025)
git_url: https://git.bioconductor.org/packages/GenomicFeatures
git_branch: RELEASE_3_22
git_last_commit: f4dfd41
git_last_commit_date: 2025-10-29 14:16:45 -0500 (Wed, 29 Oct 2025)
nebbiolo2Linux (Ubuntu 24.04.3 LTS) / x86_64  OK    OK    OK  UNNEEDED, same version is already published
taishanLinux (openEuler 24.03 LTS) / aarch64  OK    OK    OK  



Results for Bioconductor software packages that depend directly on package GenomicFeatures

QUICK STATSOS / ArchINSTALLBUILDCHECKBUILD BIN
nebbiolo2Linux (Ubuntu 24.04.3 LTS) / x86_64
01141
012130
092299
taishanLinux (openEuler 24.03 LTS) / aarch64
02140
014128
1122194
Package 1/142HostnameOS / ArchINSTALLBUILDCHECKBUILD BIN
AllelicImbalance 1.48.0  (landing page)
Jesper R Gadin
git_last_commit: 556446f
git_last_commit_date: 2025-10-29 10:16:36 -0500
nebbiolo2Linux (Ubuntu 24.04.3 LTS) / x86_64  OK    OK    OK  UNNEEDED, same version is already published
taishanLinux (openEuler 24.03 LTS) / aarch64  OK    OK    OK  
Package 2/142HostnameOS / ArchINSTALLBUILDCHECKBUILD BIN
AnnotationHubData 1.40.0  (landing page)
Bioconductor Package Maintainer
git_last_commit: 077effd
git_last_commit_date: 2025-10-29 10:27:35 -0500
nebbiolo2Linux (Ubuntu 24.04.3 LTS) / x86_64  OK    OK    WARNINGS  UNNEEDED, same version is already published
taishanLinux (openEuler 24.03 LTS) / aarch64  OK    OK    WARNINGS  
Package 3/142HostnameOS / ArchINSTALLBUILDCHECKBUILD BIN
annotatr 1.36.0  (landing page)
Raymond G. Cavalcante
git_last_commit: 6850c77
git_last_commit_date: 2025-10-29 10:35:13 -0500
nebbiolo2Linux (Ubuntu 24.04.3 LTS) / x86_64  OK    OK    OK  UNNEEDED, same version is already published
taishanLinux (openEuler 24.03 LTS) / aarch64  OK    OK    OK  
Package 4/142HostnameOS / ArchINSTALLBUILDCHECKBUILD BIN
APAlyzer 1.24.0  (landing page)
Ruijia Wang
git_last_commit: d565f62
git_last_commit_date: 2025-10-29 10:53:34 -0500
nebbiolo2Linux (Ubuntu 24.04.3 LTS) / x86_64  OK    OK    ERROR  
taishanLinux (openEuler 24.03 LTS) / aarch64  OK    OK    ERROR  
Package 5/142HostnameOS / ArchINSTALLBUILDCHECKBUILD BIN
appreci8R 1.28.0  (landing page)
Sarah Sandmann
git_last_commit: 43ec6e7
git_last_commit_date: 2025-10-29 10:46:18 -0500
nebbiolo2Linux (Ubuntu 24.04.3 LTS) / x86_64  OK    OK    OK  UNNEEDED, same version is already published
taishanLinux (openEuler 24.03 LTS) / aarch64  OK    OK    OK  
Package 6/142HostnameOS / ArchINSTALLBUILDCHECKBUILD BIN
ASpli 2.20.0  (landing page)
Ariel Chernomoretz
git_last_commit: 3c6d496
git_last_commit_date: 2025-10-29 10:33:32 -0500
nebbiolo2Linux (Ubuntu 24.04.3 LTS) / x86_64  OK    OK    WARNINGS  UNNEEDED, same version is already published
taishanLinux (openEuler 24.03 LTS) / aarch64  OK    OK    WARNINGS  
Package 7/142HostnameOS / ArchINSTALLBUILDCHECKBUILD BIN
atena 1.16.0  (landing page)
Robert Castelo
git_last_commit: 93211ad
git_last_commit_date: 2025-10-29 11:12:14 -0500
nebbiolo2Linux (Ubuntu 24.04.3 LTS) / x86_64  OK    OK    OK  UNNEEDED, same version is already published
taishanLinux (openEuler 24.03 LTS) / aarch64  OK    OK    ERROR  
Package 8/142HostnameOS / ArchINSTALLBUILDCHECKBUILD BIN
bambu 3.12.0  (landing page)
Ying Chen
git_last_commit: 4b0b622
git_last_commit_date: 2025-10-29 11:03:46 -0500
nebbiolo2Linux (Ubuntu 24.04.3 LTS) / x86_64  OK    OK    OK  UNNEEDED, same version is already published
taishanLinux (openEuler 24.03 LTS) / aarch64  OK    OK    OK  
Package 9/142HostnameOS / ArchINSTALLBUILDCHECKBUILD BIN
BgeeCall 1.26.0  (landing page)
Julien Wollbrett
git_last_commit: 0d3bcb0
git_last_commit_date: 2025-10-29 10:56:16 -0500
nebbiolo2Linux (Ubuntu 24.04.3 LTS) / x86_64  OK    OK    OK  UNNEEDED, same version is already published
taishanLinux (openEuler 24.03 LTS) / aarch64  OK    OK    ERROR  
Package 10/142HostnameOS / ArchINSTALLBUILDCHECKBUILD BIN
BindingSiteFinder 2.8.0  (landing page)
Mirko Brüggemann
git_last_commit: 74a4d9c
git_last_commit_date: 2025-10-29 11:10:55 -0500
nebbiolo2Linux (Ubuntu 24.04.3 LTS) / x86_64  OK    OK    OK  UNNEEDED, same version is already published
taishanLinux (openEuler 24.03 LTS) / aarch64  OK    OK    ERROR  
Package 11/142HostnameOS / ArchINSTALLBUILDCHECKBUILD BIN
biovizBase 1.58.0  (landing page)
Michael Lawrence
git_last_commit: 1f6087b
git_last_commit_date: 2025-10-29 10:09:04 -0500
nebbiolo2Linux (Ubuntu 24.04.3 LTS) / x86_64  OK    OK    WARNINGS  UNNEEDED, same version is already published
taishanLinux (openEuler 24.03 LTS) / aarch64  OK    OK    WARNINGS  
Package 12/142HostnameOS / ArchINSTALLBUILDCHECKBUILD BIN
bumphunter 1.52.0  (landing page)
Tamilselvi Guharaj
git_last_commit: 2f99897
git_last_commit_date: 2025-10-29 10:13:01 -0500
nebbiolo2Linux (Ubuntu 24.04.3 LTS) / x86_64  OK    OK    OK  UNNEEDED, same version is already published
taishanLinux (openEuler 24.03 LTS) / aarch64  OK    OK    OK  
Package 13/142HostnameOS / ArchINSTALLBUILDCHECKBUILD BIN
BUSpaRse 1.24.0  (landing page)
Lambda Moses
git_last_commit: 757e3e4
git_last_commit_date: 2025-10-29 10:53:52 -0500
nebbiolo2Linux (Ubuntu 24.04.3 LTS) / x86_64  OK    OK    OK  UNNEEDED, same version is already published
taishanLinux (openEuler 24.03 LTS) / aarch64  OK    OK    OK  
Package 14/142HostnameOS / ArchINSTALLBUILDCHECKBUILD BIN
CAGEfightR 1.30.0  (landing page)
Malte Thodberg
git_last_commit: eda75c3
git_last_commit_date: 2025-10-29 10:45:17 -0500
nebbiolo2Linux (Ubuntu 24.04.3 LTS) / x86_64  OK    OK    OK  UNNEEDED, same version is already published
taishanLinux (openEuler 24.03 LTS) / aarch64  OK    OK    OK  
Package 15/142HostnameOS / ArchINSTALLBUILDCHECKBUILD BIN
CAGEr 2.16.0  (landing page)
Charles Plessy
git_last_commit: b717389
git_last_commit_date: 2025-10-29 10:13:45 -0500
nebbiolo2Linux (Ubuntu 24.04.3 LTS) / x86_64  OK    OK    OK  UNNEEDED, same version is already published
taishanLinux (openEuler 24.03 LTS) / aarch64  OK    OK    OK  
Package 16/142HostnameOS / ArchINSTALLBUILDCHECKBUILD BIN
casper 2.44.0  (landing page)
David Rossell
git_last_commit: 9f5a6ac
git_last_commit_date: 2025-10-29 10:13:21 -0500
nebbiolo2Linux (Ubuntu 24.04.3 LTS) / x86_64  OK    OK    WARNINGS  UNNEEDED, same version is already published
taishanLinux (openEuler 24.03 LTS) / aarch64  OK    OK    WARNINGS  
Package 17/142HostnameOS / ArchINSTALLBUILDCHECKBUILD BIN
chevreulProcess 1.2.0  (landing page)
Kevin Stachelek
git_last_commit: a07dc13
git_last_commit_date: 2025-10-29 11:34:17 -0500
nebbiolo2Linux (Ubuntu 24.04.3 LTS) / x86_64  OK    OK    OK  UNNEEDED, same version is already published
taishanLinux (openEuler 24.03 LTS) / aarch64  OK    OK    OK  
Package 18/142HostnameOS / ArchINSTALLBUILDCHECKBUILD BIN
ChIPpeakAnno 3.44.0  (landing page)
Jianhong Ou
git_last_commit: 2b855fa
git_last_commit_date: 2025-10-29 10:03:18 -0500
nebbiolo2Linux (Ubuntu 24.04.3 LTS) / x86_64  OK    OK    OK  UNNEEDED, same version is already published
taishanLinux (openEuler 24.03 LTS) / aarch64  OK    OK    OK  
Package 19/142HostnameOS / ArchINSTALLBUILDCHECKBUILD BIN
ChIPQC 1.46.0  (landing page)
Tom Carroll , Rory Stark
git_last_commit: bf87702
git_last_commit_date: 2025-10-29 10:18:53 -0500
nebbiolo2Linux (Ubuntu 24.04.3 LTS) / x86_64  ERROR    ERROR  skipped
taishanLinux (openEuler 24.03 LTS) / aarch64  OK    OK    OK  
Package 20/142HostnameOS / ArchINSTALLBUILDCHECKBUILD BIN
ChIPseeker 1.46.1  (landing page)
Guangchuang Yu
git_last_commit: c9031f6
git_last_commit_date: 2025-11-04 09:21:39 -0500
nebbiolo2Linux (Ubuntu 24.04.3 LTS) / x86_64  OK    OK    OK  UNNEEDED, same version is already published
taishanLinux (openEuler 24.03 LTS) / aarch64  OK    OK    OK  
Package 21/142HostnameOS / ArchINSTALLBUILDCHECKBUILD BIN
Cogito 1.16.0  (landing page)
Annika Bürger
git_last_commit: 2320bbf
git_last_commit_date: 2025-10-29 11:13:02 -0500
nebbiolo2Linux (Ubuntu 24.04.3 LTS) / x86_64  OK    OK    OK  UNNEEDED, same version is already published
taishanLinux (openEuler 24.03 LTS) / aarch64  OK    OK    OK  
Package 22/142HostnameOS / ArchINSTALLBUILDCHECKBUILD BIN
compEpiTools 1.44.0  (landing page)
Mattia Furlan
git_last_commit: 75ae4a8
git_last_commit_date: 2025-10-29 10:20:59 -0500
nebbiolo2Linux (Ubuntu 24.04.3 LTS) / x86_64  OK    OK    OK  UNNEEDED, same version is already published
taishanLinux (openEuler 24.03 LTS) / aarch64  OK    OK    OK  
Package 23/142HostnameOS / ArchINSTALLBUILDCHECKBUILD BIN
consensusDE 1.28.0  (landing page)
Ashley J. Waardenberg
git_last_commit: 7c6b138
git_last_commit_date: 2025-10-29 10:48:35 -0500
nebbiolo2Linux (Ubuntu 24.04.3 LTS) / x86_64  OK    OK    OK  UNNEEDED, same version is already published
taishanLinux (openEuler 24.03 LTS) / aarch64  OK    OK    OK  
Package 24/142HostnameOS / ArchINSTALLBUILDCHECKBUILD BIN
cpvSNP 1.42.0  (landing page)
Caitlin McHugh
git_last_commit: 31700af
git_last_commit_date: 2025-10-29 10:23:10 -0500
nebbiolo2Linux (Ubuntu 24.04.3 LTS) / x86_64  OK    OK    OK  UNNEEDED, same version is already published
taishanLinux (openEuler 24.03 LTS) / aarch64  OK    OK    OK  
Package 25/142HostnameOS / ArchINSTALLBUILDCHECKBUILD BIN
crisprDesign 1.12.0  (landing page)
Jean-Philippe Fortin
git_last_commit: 143c0ce
git_last_commit_date: 2025-10-29 11:17:54 -0500
nebbiolo2Linux (Ubuntu 24.04.3 LTS) / x86_64  OK    OK    OK  UNNEEDED, same version is already published
taishanLinux (openEuler 24.03 LTS) / aarch64  OK    OK    OK  
Package 26/142HostnameOS / ArchINSTALLBUILDCHECKBUILD BIN
CRISPRseek 1.50.0  (landing page)
Lihua Julie Zhu
git_last_commit: fd2babc
git_last_commit_date: 2025-10-29 10:17:22 -0500
nebbiolo2Linux (Ubuntu 24.04.3 LTS) / x86_64  OK    OK    OK  UNNEEDED, same version is already published
taishanLinux (openEuler 24.03 LTS) / aarch64  OK    OK    OK  
Package 27/142HostnameOS / ArchINSTALLBUILDCHECKBUILD BIN
crisprViz 1.12.0  (landing page)
Jean-Philippe Fortin
git_last_commit: 3153352
git_last_commit_date: 2025-10-29 11:18:46 -0500
nebbiolo2Linux (Ubuntu 24.04.3 LTS) / x86_64  OK    OK    OK  UNNEEDED, same version is already published
taishanLinux (openEuler 24.03 LTS) / aarch64  OK    OK    OK  
Package 28/142HostnameOS / ArchINSTALLBUILDCHECKBUILD BIN
crupR 1.2.0  (landing page)
Persia Akbari Omgba
git_last_commit: 01667b7
git_last_commit_date: 2025-10-29 11:36:29 -0500
nebbiolo2Linux (Ubuntu 24.04.3 LTS) / x86_64  OK    OK    OK  UNNEEDED, same version is already published
taishanLinux (openEuler 24.03 LTS) / aarch64  OK    OK    OK  
Package 29/142HostnameOS / ArchINSTALLBUILDCHECKBUILD BIN
CSSQ 1.22.0  (landing page)
Fan Lab at Georgia Institute of Technology
git_last_commit: 8bbe42d
git_last_commit_date: 2025-10-29 10:56:02 -0500
nebbiolo2Linux (Ubuntu 24.04.3 LTS) / x86_64  OK    OK    OK  UNNEEDED, same version is already published
taishanLinux (openEuler 24.03 LTS) / aarch64  OK    OK    OK  
Package 30/142HostnameOS / ArchINSTALLBUILDCHECKBUILD BIN
customProDB 1.50.0  (landing page)
Xiaojing Wang
git_last_commit: e4b2f17
git_last_commit_date: 2025-10-29 10:15:09 -0500
nebbiolo2Linux (Ubuntu 24.04.3 LTS) / x86_64  OK    OK    ERROR  
taishanLinux (openEuler 24.03 LTS) / aarch64  OK    OK    ERROR  
Package 31/142HostnameOS / ArchINSTALLBUILDCHECKBUILD BIN
Damsel 1.6.0  (landing page)
Caitlin Page
git_last_commit: a70f6d8
git_last_commit_date: 2025-10-29 11:29:38 -0500
nebbiolo2Linux (Ubuntu 24.04.3 LTS) / x86_64  OK    OK    WARNINGS  UNNEEDED, same version is already published
taishanLinux (openEuler 24.03 LTS) / aarch64  OK    OK    WARNINGS  
Package 32/142HostnameOS / ArchINSTALLBUILDCHECKBUILD BIN
decompTumor2Sig 2.26.0  (landing page)
Rosario M. Piro
git_last_commit: 1228e7c
git_last_commit_date: 2025-10-29 10:49:06 -0500
nebbiolo2Linux (Ubuntu 24.04.3 LTS) / x86_64  OK    OK    OK  UNNEEDED, same version is already published
taishanLinux (openEuler 24.03 LTS) / aarch64  OK    OK    OK  
Package 33/142HostnameOS / ArchINSTALLBUILDCHECKBUILD BIN
DegNorm 1.20.0  (landing page)
Ji-Ping Wang
git_last_commit: cca8a9e
git_last_commit_date: 2025-10-29 10:59:52 -0500
nebbiolo2Linux (Ubuntu 24.04.3 LTS) / x86_64  OK    OK    OK  UNNEEDED, same version is already published
taishanLinux (openEuler 24.03 LTS) / aarch64  OK    OK    OK  
Package 34/142HostnameOS / ArchINSTALLBUILDCHECKBUILD BIN
derfinder 1.44.0  (landing page)
Leonardo Collado-Torres
git_last_commit: 7fd222b
git_last_commit_date: 2025-10-29 10:21:48 -0500
nebbiolo2Linux (Ubuntu 24.04.3 LTS) / x86_64  OK    OK    OK  UNNEEDED, same version is already published
taishanLinux (openEuler 24.03 LTS) / aarch64  OK    OK    OK  
Package 35/142HostnameOS / ArchINSTALLBUILDCHECKBUILD BIN
derfinderPlot 1.44.0  (landing page)
Leonardo Collado-Torres
git_last_commit: 84ed2cb
git_last_commit_date: 2025-10-29 10:21:51 -0500
nebbiolo2Linux (Ubuntu 24.04.3 LTS) / x86_64  OK    OK    OK  UNNEEDED, same version is already published
taishanLinux (openEuler 24.03 LTS) / aarch64  OK    OK    OK  
Package 36/142HostnameOS / ArchINSTALLBUILDCHECKBUILD BIN
DNAfusion 1.12.0  (landing page)
Christoffer Trier Maansson
git_last_commit: 7226d68
git_last_commit_date: 2025-10-29 11:19:47 -0500
nebbiolo2Linux (Ubuntu 24.04.3 LTS) / x86_64  OK    OK    OK  UNNEEDED, same version is already published
taishanLinux (openEuler 24.03 LTS) / aarch64  OK    OK    OK  
Package 37/142HostnameOS / ArchINSTALLBUILDCHECKBUILD BIN
doubletrouble 1.10.0  (landing page)
Fabrício Almeida-Silva
git_last_commit: 555edc5
git_last_commit_date: 2025-10-29 11:20:05 -0500
nebbiolo2Linux (Ubuntu 24.04.3 LTS) / x86_64  OK    OK    OK  UNNEEDED, same version is already published
taishanLinux (openEuler 24.03 LTS) / aarch64  OK    OK    OK  
Package 38/142HostnameOS / ArchINSTALLBUILDCHECKBUILD BIN
EDASeq 2.44.0  (landing page)
Davide Risso
git_last_commit: e7a4a13
git_last_commit_date: 2025-10-29 10:08:53 -0500
nebbiolo2Linux (Ubuntu 24.04.3 LTS) / x86_64  OK    OK    OK  UNNEEDED, same version is already published
taishanLinux (openEuler 24.03 LTS) / aarch64  OK    OK    OK  
Package 39/142HostnameOS / ArchINSTALLBUILDCHECKBUILD BIN
ELMER 2.34.0  (landing page)
Tiago Chedraoui Silva
git_last_commit: 908554d
git_last_commit_date: 2025-10-29 10:26:17 -0500
nebbiolo2Linux (Ubuntu 24.04.3 LTS) / x86_64  OK    ERROR  skipped
taishanLinux (openEuler 24.03 LTS) / aarch64  OK    ERROR  skipped
Package 40/142HostnameOS / ArchINSTALLBUILDCHECKBUILD BIN
ELViS 1.2.0  (landing page)
Jin-Young Lee
git_last_commit: c2a03f6
git_last_commit_date: 2025-10-29 11:34:26 -0500
nebbiolo2Linux (Ubuntu 24.04.3 LTS) / x86_64  OK    OK    OK  UNNEEDED, same version is already published
taishanLinux (openEuler 24.03 LTS) / aarch64  OK    OK    OK  
Package 41/142HostnameOS / ArchINSTALLBUILDCHECKBUILD BIN
ensembldb 2.34.0  (landing page)
Johannes Rainer
git_last_commit: a13967b
git_last_commit_date: 2025-10-29 10:24:50 -0500
nebbiolo2Linux (Ubuntu 24.04.3 LTS) / x86_64  OK    OK    OK  UNNEEDED, same version is already published
taishanLinux (openEuler 24.03 LTS) / aarch64  OK    OK    OK  
Package 42/142HostnameOS / ArchINSTALLBUILDCHECKBUILD BIN
EpiMix 1.12.0  (landing page)
Yuanning Zheng
git_last_commit: 36341ff
git_last_commit_date: 2025-10-29 11:17:43 -0500
nebbiolo2Linux (Ubuntu 24.04.3 LTS) / x86_64  OK    OK    OK  UNNEEDED, same version is already published
taishanLinux (openEuler 24.03 LTS) / aarch64  OK    OK    OK  
Package 43/142HostnameOS / ArchINSTALLBUILDCHECKBUILD BIN
epimutacions 1.14.0  (landing page)
Dolors Pelegri-Siso
git_last_commit: b56f6f9
git_last_commit_date: 2025-10-29 11:16:20 -0500
nebbiolo2Linux (Ubuntu 24.04.3 LTS) / x86_64  OK    OK    OK  UNNEEDED, same version is already published
taishanLinux (openEuler 24.03 LTS) / aarch64  OK    OK    OK  
Package 44/142HostnameOS / ArchINSTALLBUILDCHECKBUILD BIN
EpiTxDb 1.22.0  (landing page)
Felix G.M. Ernst
git_last_commit: 54a3d69
git_last_commit_date: 2025-10-29 10:57:35 -0500
nebbiolo2Linux (Ubuntu 24.04.3 LTS) / x86_64  OK    OK    OK  UNNEEDED, same version is already published
taishanLinux (openEuler 24.03 LTS) / aarch64  OK    OK    OK  
Package 45/142HostnameOS / ArchINSTALLBUILDCHECKBUILD BIN
epivizrData 1.38.0  (landing page)
Hector Corrada Bravo
git_last_commit: c56a41a
git_last_commit_date: 2025-10-29 10:32:07 -0500
nebbiolo2Linux (Ubuntu 24.04.3 LTS) / x86_64  OK    OK    OK  UNNEEDED, same version is already published
taishanLinux (openEuler 24.03 LTS) / aarch64  OK    OK    OK  
Package 46/142HostnameOS / ArchINSTALLBUILDCHECKBUILD BIN
epivizrStandalone 1.38.0  (landing page)
Hector Corrada Bravo
git_last_commit: 4274fcb
git_last_commit_date: 2025-10-29 10:32:19 -0500
nebbiolo2Linux (Ubuntu 24.04.3 LTS) / x86_64  OK    OK    WARNINGS  UNNEEDED, same version is already published
taishanLinux (openEuler 24.03 LTS) / aarch64  OK    OK    WARNINGS  
Package 47/142HostnameOS / ArchINSTALLBUILDCHECKBUILD BIN
esATAC 1.32.0  (landing page)
Zheng Wei
git_last_commit: 6d7ce39
git_last_commit_date: 2025-10-29 10:42:12 -0500
nebbiolo2Linux (Ubuntu 24.04.3 LTS) / x86_64  OK    OK    OK  UNNEEDED, same version is already published
taishanLinux (openEuler 24.03 LTS) / aarch64  OK    OK    OK  
Package 48/142HostnameOS / ArchINSTALLBUILDCHECKBUILD BIN
EventPointer 3.18.0  (landing page)
Juan A. Ferrer-Bonsoms
git_last_commit: 816a09d
git_last_commit_date: 2025-10-29 10:37:08 -0500
nebbiolo2Linux (Ubuntu 24.04.3 LTS) / x86_64  OK    OK    OK  UNNEEDED, same version is already published
taishanLinux (openEuler 24.03 LTS) / aarch64  OK    OK    OK  
Package 49/142HostnameOS / ArchINSTALLBUILDCHECKBUILD BIN
factR 1.12.0  (landing page)
Fursham Hamid
git_last_commit: 1edd734
git_last_commit_date: 2025-10-29 11:17:33 -0500
nebbiolo2Linux (Ubuntu 24.04.3 LTS) / x86_64  OK    ERROR  skipped
taishanLinux (openEuler 24.03 LTS) / aarch64  OK    OK    OK  
Package 50/142HostnameOS / ArchINSTALLBUILDCHECKBUILD BIN
FindIT2 1.16.0  (landing page)
Guandong Shang
git_last_commit: 4bef48e
git_last_commit_date: 2025-10-29 11:10:30 -0500
nebbiolo2Linux (Ubuntu 24.04.3 LTS) / x86_64  OK    OK    OK  UNNEEDED, same version is already published
taishanLinux (openEuler 24.03 LTS) / aarch64  OK    OK    OK  
Package 51/142HostnameOS / ArchINSTALLBUILDCHECKBUILD BIN
FLAMES 2.4.1  (landing page)
Changqing Wang
git_last_commit: 41bbd55
git_last_commit_date: 2025-10-31 01:50:56 -0500
nebbiolo2Linux (Ubuntu 24.04.3 LTS) / x86_64  OK    OK    OK  UNNEEDED, same version is already published
taishanLinux (openEuler 24.03 LTS) / aarch64  ERROR    ERROR  skipped
Package 52/142HostnameOS / ArchINSTALLBUILDCHECKBUILD BIN
FRASER 2.6.0  (landing page)
Christian Mertes
git_last_commit: b8faec2
git_last_commit_date: 2025-10-29 10:58:54 -0500
nebbiolo2Linux (Ubuntu 24.04.3 LTS) / x86_64  OK    OK    OK  UNNEEDED, same version is already published
taishanLinux (openEuler 24.03 LTS) / aarch64  OK    OK    OK  
Package 53/142HostnameOS / ArchINSTALLBUILDCHECKBUILD BIN
GA4GHshiny 1.32.0  (landing page)
Welliton Souza
git_last_commit: 8463ac1
git_last_commit_date: 2025-10-29 10:38:44 -0500
nebbiolo2Linux (Ubuntu 24.04.3 LTS) / x86_64  OK    OK    OK  UNNEEDED, same version is already published
taishanLinux (openEuler 24.03 LTS) / aarch64  OK    OK    OK  
Package 54/142HostnameOS / ArchINSTALLBUILDCHECKBUILD BIN
gDNAx 1.8.0  (landing page)
Robert Castelo
git_last_commit: b09db45
git_last_commit_date: 2025-10-29 11:24:57 -0500
nebbiolo2Linux (Ubuntu 24.04.3 LTS) / x86_64  OK    ERROR  skipped
taishanLinux (openEuler 24.03 LTS) / aarch64  OK    OK    OK  
Package 55/142HostnameOS / ArchINSTALLBUILDCHECKBUILD BIN
geneAttribution 1.36.0  (landing page)
Arthur Wuster
git_last_commit: 3e52d75
git_last_commit_date: 2025-10-29 10:34:06 -0500
nebbiolo2Linux (Ubuntu 24.04.3 LTS) / x86_64  OK    OK    OK  UNNEEDED, same version is already published
taishanLinux (openEuler 24.03 LTS) / aarch64  OK    OK    OK  
Package 56/142HostnameOS / ArchINSTALLBUILDCHECKBUILD BIN
GenomicInteractionNodes 1.14.0  (landing page)
Jianhong Ou
git_last_commit: d3ee518
git_last_commit_date: 2025-10-29 11:16:22 -0500
nebbiolo2Linux (Ubuntu 24.04.3 LTS) / x86_64  OK    OK    OK  UNNEEDED, same version is already published
taishanLinux (openEuler 24.03 LTS) / aarch64  OK    OK    OK  
Package 57/142HostnameOS / ArchINSTALLBUILDCHECKBUILD BIN
GenomicPlot 1.8.0  (landing page)
Shuye Pu
git_last_commit: e9ce4a7
git_last_commit_date: 2025-10-29 11:24:51 -0500
nebbiolo2Linux (Ubuntu 24.04.3 LTS) / x86_64  OK    OK    OK  UNNEEDED, same version is already published
taishanLinux (openEuler 24.03 LTS) / aarch64  OK    OK    OK  
Package 58/142HostnameOS / ArchINSTALLBUILDCHECKBUILD BIN
GenVisR 1.42.0  (landing page)
Zachary Skidmore
git_last_commit: aa50f04
git_last_commit_date: 2025-10-29 10:29:36 -0500
nebbiolo2Linux (Ubuntu 24.04.3 LTS) / x86_64  OK    OK    ERROR  
taishanLinux (openEuler 24.03 LTS) / aarch64  OK    OK    ERROR  
Package 59/142HostnameOS / ArchINSTALLBUILDCHECKBUILD BIN
ggbio 1.58.0  (landing page)
Michael Lawrence
git_last_commit: 678f10e
git_last_commit_date: 2025-10-29 10:09:27 -0500
nebbiolo2Linux (Ubuntu 24.04.3 LTS) / x86_64  OK    OK    WARNINGS  UNNEEDED, same version is already published
taishanLinux (openEuler 24.03 LTS) / aarch64  OK    OK    WARNINGS  
Package 60/142HostnameOS / ArchINSTALLBUILDCHECKBUILD BIN
gINTomics 1.6.0  (landing page)
Angelo Velle
git_last_commit: d433a6d
git_last_commit_date: 2025-10-29 11:30:01 -0500
nebbiolo2Linux (Ubuntu 24.04.3 LTS) / x86_64  OK    OK    OK  NO, package depends on 'OmnipathR' which is not available
taishanLinux (openEuler 24.03 LTS) / aarch64  OK    OK    OK  
Package 61/142HostnameOS / ArchINSTALLBUILDCHECKBUILD BIN
gmapR 1.52.0  (landing page)
Michael Lawrence
git_last_commit: 10d6080
git_last_commit_date: 2025-10-29 10:11:34 -0500
nebbiolo2Linux (Ubuntu 24.04.3 LTS) / x86_64  OK    ERROR  skipped
taishanLinux (openEuler 24.03 LTS) / aarch64  OK    ERROR  skipped
Package 62/142HostnameOS / ArchINSTALLBUILDCHECKBUILD BIN
gmoviz 1.22.0  (landing page)
Kathleen Zeglinski
git_last_commit: 64c2454
git_last_commit_date: 2025-10-29 10:57:48 -0500
nebbiolo2Linux (Ubuntu 24.04.3 LTS) / x86_64  OK    OK    OK  UNNEEDED, same version is already published
taishanLinux (openEuler 24.03 LTS) / aarch64  OK    OK    OK  
Package 63/142HostnameOS / ArchINSTALLBUILDCHECKBUILD BIN
goseq 1.62.0  (landing page)
Federico Marini
git_last_commit: e3ed9b9
git_last_commit_date: 2025-10-29 10:04:46 -0500
nebbiolo2Linux (Ubuntu 24.04.3 LTS) / x86_64  OK    OK    OK  UNNEEDED, same version is already published
taishanLinux (openEuler 24.03 LTS) / aarch64  OK    OK    OK  
Package 64/142HostnameOS / ArchINSTALLBUILDCHECKBUILD BIN
GSReg 1.44.0  (landing page)
Bahman Afsari , Elana J. Fertig
git_last_commit: 142159e
git_last_commit_date: 2025-10-29 10:20:24 -0500
nebbiolo2Linux (Ubuntu 24.04.3 LTS) / x86_64  OK    OK    WARNINGS  UNNEEDED, same version is already published
taishanLinux (openEuler 24.03 LTS) / aarch64  OK    OK    WARNINGS  
Package 65/142HostnameOS / ArchINSTALLBUILDCHECKBUILD BIN
GUIDEseq 1.40.0  (landing page)
Lihua Julie Zhu
git_last_commit: 45a0042
git_last_commit_date: 2025-10-29 10:28:16 -0500
nebbiolo2Linux (Ubuntu 24.04.3 LTS) / x86_64  OK    OK    OK  UNNEEDED, same version is already published
taishanLinux (openEuler 24.03 LTS) / aarch64  OK    OK    OK  
Package 66/142HostnameOS / ArchINSTALLBUILDCHECKBUILD BIN
Guitar 2.26.0  (landing page)
Jia Meng
git_last_commit: 4c03ea8
git_last_commit_date: 2025-10-29 10:27:57 -0500
nebbiolo2Linux (Ubuntu 24.04.3 LTS) / x86_64  OK    OK    OK  UNNEEDED, same version is already published
taishanLinux (openEuler 24.03 LTS) / aarch64  OK    OK    OK  
Package 67/142HostnameOS / ArchINSTALLBUILDCHECKBUILD BIN
Gviz 1.54.0  (landing page)
Robert Ivanek
git_last_commit: 05ebfa6
git_last_commit_date: 2025-10-29 10:10:17 -0500
nebbiolo2Linux (Ubuntu 24.04.3 LTS) / x86_64  OK    OK    OK  UNNEEDED, same version is already published
taishanLinux (openEuler 24.03 LTS) / aarch64  OK    OK    OK  
Package 68/142HostnameOS / ArchINSTALLBUILDCHECKBUILD BIN
gwascat 2.42.0  (landing page)
VJ Carey
git_last_commit: 5ae3745
git_last_commit_date: 2025-10-29 10:10:23 -0500
nebbiolo2Linux (Ubuntu 24.04.3 LTS) / x86_64  OK    OK    OK  UNNEEDED, same version is already published
taishanLinux (openEuler 24.03 LTS) / aarch64  OK    ERROR  skipped
Package 69/142HostnameOS / ArchINSTALLBUILDCHECKBUILD BIN
HelloRanges 1.36.0  (landing page)
Michael Lawrence
git_last_commit: 8035909
git_last_commit_date: 2025-10-29 10:35:10 -0500
nebbiolo2Linux (Ubuntu 24.04.3 LTS) / x86_64  OK    OK    OK  UNNEEDED, same version is already published
taishanLinux (openEuler 24.03 LTS) / aarch64  OK    OK    OK  
Package 70/142HostnameOS / ArchINSTALLBUILDCHECKBUILD BIN
HiLDA 1.24.0  (landing page)
Zhi Yang
git_last_commit: 6a179d6
git_last_commit_date: 2025-10-29 10:53:14 -0500
nebbiolo2Linux (Ubuntu 24.04.3 LTS) / x86_64  OK    OK    OK  UNNEEDED, same version is already published
taishanLinux (openEuler 24.03 LTS) / aarch64  ERROR    ERROR  skipped
Package 71/142HostnameOS / ArchINSTALLBUILDCHECKBUILD BIN
icetea 1.28.0  (landing page)
Vivek Bhardwaj
git_last_commit: f7f280d
git_last_commit_date: 2025-10-29 10:45:57 -0500
nebbiolo2Linux (Ubuntu 24.04.3 LTS) / x86_64  OK    OK    WARNINGS  UNNEEDED, same version is already published
taishanLinux (openEuler 24.03 LTS) / aarch64  OK    OK    WARNINGS  
Package 72/142HostnameOS / ArchINSTALLBUILDCHECKBUILD BIN
IMAS 1.34.0  (landing page)
Seonggyun Han
git_last_commit: ec268ac
git_last_commit_date: 2025-10-29 10:38:10 -0500
nebbiolo2Linux (Ubuntu 24.04.3 LTS) / x86_64  OK    ERROR  skipped
taishanLinux (openEuler 24.03 LTS) / aarch64  OK    ERROR  skipped
Package 73/142HostnameOS / ArchINSTALLBUILDCHECKBUILD BIN
InPAS 2.18.0  (landing page)
Jianhong Ou
git_last_commit: b015763
git_last_commit_date: 2025-10-29 10:24:45 -0500
nebbiolo2Linux (Ubuntu 24.04.3 LTS) / x86_64  OK    OK    WARNINGS  UNNEEDED, same version is already published
taishanLinux (openEuler 24.03 LTS) / aarch64  OK    OK    WARNINGS  
Package 74/142HostnameOS / ArchINSTALLBUILDCHECKBUILD BIN
INSPEcT 1.40.0  (landing page)
Stefano de Pretis
git_last_commit: c9f5ce1
git_last_commit_date: 2025-10-29 10:26:37 -0500
nebbiolo2Linux (Ubuntu 24.04.3 LTS) / x86_64  OK    OK    OK  UNNEEDED, same version is already published
taishanLinux (openEuler 24.03 LTS) / aarch64  OK    OK    OK  
Package 75/142HostnameOS / ArchINSTALLBUILDCHECKBUILD BIN
IntEREst 1.34.0  (landing page)
Ali Oghabian
git_last_commit: 8a4b0c3
git_last_commit_date: 2025-10-29 10:37:18 -0500
nebbiolo2Linux (Ubuntu 24.04.3 LTS) / x86_64  OK    OK    OK  UNNEEDED, same version is already published
taishanLinux (openEuler 24.03 LTS) / aarch64  OK    OK    OK  
Package 76/142HostnameOS / ArchINSTALLBUILDCHECKBUILD BIN
IVAS 2.30.0  (landing page)
Seonggyun Han
git_last_commit: 5aaa72a
git_last_commit_date: 2025-10-29 10:23:46 -0500
nebbiolo2Linux (Ubuntu 24.04.3 LTS) / x86_64  OK    OK    WARNINGS  UNNEEDED, same version is already published
taishanLinux (openEuler 24.03 LTS) / aarch64  OK    OK    WARNINGS  
Package 77/142HostnameOS / ArchINSTALLBUILDCHECKBUILD BIN
karyoploteR 1.36.0  (landing page)
Bernat Gel
git_last_commit: 50652ef
git_last_commit_date: 2025-10-29 10:36:38 -0500
nebbiolo2Linux (Ubuntu 24.04.3 LTS) / x86_64  OK    OK    OK  UNNEEDED, same version is already published
taishanLinux (openEuler 24.03 LTS) / aarch64  OK    OK    OK  
Package 78/142HostnameOS / ArchINSTALLBUILDCHECKBUILD BIN
lumi 2.62.0  (landing page)
Lei Huang
git_last_commit: 1123e59
git_last_commit_date: 2025-10-29 09:58:49 -0500
nebbiolo2Linux (Ubuntu 24.04.3 LTS) / x86_64  OK    OK    WARNINGS  UNNEEDED, same version is already published
taishanLinux (openEuler 24.03 LTS) / aarch64  OK    OK    WARNINGS  
Package 79/142HostnameOS / ArchINSTALLBUILDCHECKBUILD BIN
magpie 1.10.0  (landing page)
Daoyu Duan
git_last_commit: 0afc3bf
git_last_commit_date: 2025-10-29 11:21:48 -0500
nebbiolo2Linux (Ubuntu 24.04.3 LTS) / x86_64  OK    OK    WARNINGS  UNNEEDED, same version is already published
taishanLinux (openEuler 24.03 LTS) / aarch64  OK    OK    WARNINGS  
Package 80/142HostnameOS / ArchINSTALLBUILDCHECKBUILD BIN
mCSEA 1.30.0  (landing page)
Jordi Martorell-Marugán
git_last_commit: 3144485
git_last_commit_date: 2025-10-29 10:42:49 -0500
nebbiolo2Linux (Ubuntu 24.04.3 LTS) / x86_64  OK    ERROR  skipped
taishanLinux (openEuler 24.03 LTS) / aarch64  OK    ERROR  skipped
Package 81/142HostnameOS / ArchINSTALLBUILDCHECKBUILD BIN
metaseqR2 1.22.0  (landing page)
Panagiotis Moulos
git_last_commit: e5e7809
git_last_commit_date: 2025-10-29 10:59:18 -0500
nebbiolo2Linux (Ubuntu 24.04.3 LTS) / x86_64  OK    ERROR  skipped
taishanLinux (openEuler 24.03 LTS) / aarch64  OK    OK    ERROR  
Package 82/142HostnameOS / ArchINSTALLBUILDCHECKBUILD BIN
methylumi 2.56.0  (landing page)
Sean Davis
git_last_commit: baf2fdd
git_last_commit_date: 2025-10-29 10:02:53 -0500
nebbiolo2Linux (Ubuntu 24.04.3 LTS) / x86_64  OK    OK    OK  UNNEEDED, same version is already published
taishanLinux (openEuler 24.03 LTS) / aarch64  OK    OK    OK  
Package 83/142HostnameOS / ArchINSTALLBUILDCHECKBUILD BIN
msgbsR 1.34.0  (landing page)
Benjamin Mayne
git_last_commit: 1016b01
git_last_commit_date: 2025-10-29 10:38:42 -0500
nebbiolo2Linux (Ubuntu 24.04.3 LTS) / x86_64  OK    OK    OK  UNNEEDED, same version is already published
taishanLinux (openEuler 24.03 LTS) / aarch64  OK    OK    OK  
Package 84/142HostnameOS / ArchINSTALLBUILDCHECKBUILD BIN
multicrispr 1.20.0  (landing page)
Aditya Bhagwat
git_last_commit: 1e84407
git_last_commit_date: 2025-10-29 10:59:55 -0500
nebbiolo2Linux (Ubuntu 24.04.3 LTS) / x86_64  OK    OK    OK  UNNEEDED, same version is already published
taishanLinux (openEuler 24.03 LTS) / aarch64  OK    OK    OK  
Package 85/142HostnameOS / ArchINSTALLBUILDCHECKBUILD BIN
musicatk 2.4.0  (landing page)
Joshua D. Campbell
git_last_commit: a2d2204
git_last_commit_date: 2025-10-29 11:03:52 -0500
nebbiolo2Linux (Ubuntu 24.04.3 LTS) / x86_64  OK    OK    OK  UNNEEDED, same version is already published
taishanLinux (openEuler 24.03 LTS) / aarch64  OK    OK    OK  
Package 86/142HostnameOS / ArchINSTALLBUILDCHECKBUILD BIN
mygene 1.46.0  (landing page)
Adam Mark, Cyrus Afrasiabi, Chunlei Wu
git_last_commit: 7e59021
git_last_commit_date: 2025-10-29 10:22:57 -0500
nebbiolo2Linux (Ubuntu 24.04.3 LTS) / x86_64  OK    OK    OK  UNNEEDED, same version is already published
taishanLinux (openEuler 24.03 LTS) / aarch64  OK    OK    OK  
Package 87/142HostnameOS / ArchINSTALLBUILDCHECKBUILD BIN
NoRCE 1.22.0  (landing page)
Gulden Olgun
git_last_commit: 355a24c
git_last_commit_date: 2025-10-29 10:57:38 -0500
nebbiolo2Linux (Ubuntu 24.04.3 LTS) / x86_64  OK    OK    OK  UNNEEDED, same version is already published
taishanLinux (openEuler 24.03 LTS) / aarch64  OK    OK    OK  
Package 88/142HostnameOS / ArchINSTALLBUILDCHECKBUILD BIN
ORFik 1.30.0  (landing page)
Haakon Tjeldnes
git_last_commit: b860267
git_last_commit_date: 2025-10-29 10:45:22 -0500
nebbiolo2Linux (Ubuntu 24.04.3 LTS) / x86_64  OK    OK    ERROR  
taishanLinux (openEuler 24.03 LTS) / aarch64  OK    OK    OK  
Package 89/142HostnameOS / ArchINSTALLBUILDCHECKBUILD BIN
Organism.dplyr 1.38.0  (landing page)
Martin Morgan
git_last_commit: d022acf
git_last_commit_date: 2025-10-29 10:37:10 -0500
nebbiolo2Linux (Ubuntu 24.04.3 LTS) / x86_64  OK    OK    ERROR  
taishanLinux (openEuler 24.03 LTS) / aarch64  OK    OK    ERROR  
Package 90/142HostnameOS / ArchINSTALLBUILDCHECKBUILD BIN
OrganismDbi 1.52.0  (landing page)
Bioconductor Package Maintainer
git_last_commit: bd13a8e
git_last_commit_date: 2025-10-29 10:12:00 -0500
nebbiolo2Linux (Ubuntu 24.04.3 LTS) / x86_64  OK    OK    OK  UNNEEDED, same version is already published
taishanLinux (openEuler 24.03 LTS) / aarch64  OK    OK    OK  
Package 91/142HostnameOS / ArchINSTALLBUILDCHECKBUILD BIN
OUTRIDER 1.28.0  (landing page)
Christian Mertes
git_last_commit: 5a0b0f3
git_last_commit_date: 2025-10-29 10:46:21 -0500
nebbiolo2Linux (Ubuntu 24.04.3 LTS) / x86_64  OK    OK    OK  UNNEEDED, same version is already published
taishanLinux (openEuler 24.03 LTS) / aarch64  OK    OK    OK  
Package 92/142HostnameOS / ArchINSTALLBUILDCHECKBUILD BIN
OutSplice 1.10.0  (landing page)
Theresa Guo
git_last_commit: 394473e
git_last_commit_date: 2025-10-29 11:23:03 -0500
nebbiolo2Linux (Ubuntu 24.04.3 LTS) / x86_64  OK    OK    OK  UNNEEDED, same version is already published
taishanLinux (openEuler 24.03 LTS) / aarch64  OK    OK    OK  
Package 93/142HostnameOS / ArchINSTALLBUILDCHECKBUILD BIN
proActiv 1.20.0  (landing page)
Joseph Lee
git_last_commit: 69c3302
git_last_commit_date: 2025-10-29 11:02:09 -0500
nebbiolo2Linux (Ubuntu 24.04.3 LTS) / x86_64  OK    OK    OK  UNNEEDED, same version is already published
taishanLinux (openEuler 24.03 LTS) / aarch64  OK    OK    OK  
Package 94/142HostnameOS / ArchINSTALLBUILDCHECKBUILD BIN
proBAMr 1.44.0  (landing page)
Xiaojing Wang
git_last_commit: 90383eb
git_last_commit_date: 2025-10-29 10:22:01 -0500
nebbiolo2Linux (Ubuntu 24.04.3 LTS) / x86_64  OK    OK    OK  UNNEEDED, same version is already published
taishanLinux (openEuler 24.03 LTS) / aarch64  OK    OK    OK  
Package 95/142HostnameOS / ArchINSTALLBUILDCHECKBUILD BIN
profileplyr 1.26.0  (landing page)
Tom Carroll , Doug Barrows
git_last_commit: b8113ee
git_last_commit_date: 2025-10-29 10:51:25 -0500
nebbiolo2Linux (Ubuntu 24.04.3 LTS) / x86_64  OK    OK    OK  NO, package depends on 'soGGi' which is not available
taishanLinux (openEuler 24.03 LTS) / aarch64  OK    OK    OK  
Package 96/142HostnameOS / ArchINSTALLBUILDCHECKBUILD BIN
ProteoDisco 1.16.0  (landing page)
Job van Riet
git_last_commit: d4be16c
git_last_commit_date: 2025-10-29 11:11:51 -0500
nebbiolo2Linux (Ubuntu 24.04.3 LTS) / x86_64  OK    OK    WARNINGS  UNNEEDED, same version is already published
taishanLinux (openEuler 24.03 LTS) / aarch64  OK    OK    TIMEOUT  
Package 97/142HostnameOS / ArchINSTALLBUILDCHECKBUILD BIN
PureCN 2.16.0  (landing page)
Markus Riester
git_last_commit: c7ace8b
git_last_commit_date: 2025-10-29 10:31:57 -0500
nebbiolo2Linux (Ubuntu 24.04.3 LTS) / x86_64  OK    OK    OK  UNNEEDED, same version is already published
taishanLinux (openEuler 24.03 LTS) / aarch64  OK    OK    OK  
Package 98/142HostnameOS / ArchINSTALLBUILDCHECKBUILD BIN
qpgraph 2.44.0  (landing page)
Robert Castelo
git_last_commit: 7de7e0c
git_last_commit_date: 2025-10-29 10:02:10 -0500
nebbiolo2Linux (Ubuntu 24.04.3 LTS) / x86_64  OK    OK    OK  UNNEEDED, same version is already published
taishanLinux (openEuler 24.03 LTS) / aarch64  OK    OK    OK  
Package 99/142HostnameOS / ArchINSTALLBUILDCHECKBUILD BIN
QuasR 1.50.0  (landing page)
Michael Stadler
git_last_commit: 3274f2d
git_last_commit_date: 2025-10-29 10:13:16 -0500
nebbiolo2Linux (Ubuntu 24.04.3 LTS) / x86_64  OK    OK    WARNINGS  UNNEEDED, same version is already published
taishanLinux (openEuler 24.03 LTS) / aarch64  OK    OK    WARNINGS  
Package 100/142HostnameOS / ArchINSTALLBUILDCHECKBUILD BIN
raer 1.8.0  (landing page)
Kent Riemondy
git_last_commit: 1e83c0c
git_last_commit_date: 2025-10-29 11:26:05 -0500
nebbiolo2Linux (Ubuntu 24.04.3 LTS) / x86_64  OK    OK    OK  UNNEEDED, same version is already published
taishanLinux (openEuler 24.03 LTS) / aarch64  OK    ERROR  skipped
Package 101/142HostnameOS / ArchINSTALLBUILDCHECKBUILD BIN
RareVariantVis 2.38.0  (landing page)
Tomasz Stokowy
git_last_commit: 883a165
git_last_commit_date: 2025-10-29 10:26:20 -0500
nebbiolo2Linux (Ubuntu 24.04.3 LTS) / x86_64  OK    OK    OK  UNNEEDED, same version is already published
taishanLinux (openEuler 24.03 LTS) / aarch64  OK    OK    OK  
Package 102/142HostnameOS / ArchINSTALLBUILDCHECKBUILD BIN
RCAS 1.36.0  (landing page)
Bora Uyar
git_last_commit: 780ed18
git_last_commit_date: 2025-10-29 10:33:22 -0500
nebbiolo2Linux (Ubuntu 24.04.3 LTS) / x86_64  OK    OK    OK  UNNEEDED, same version is already published
taishanLinux (openEuler 24.03 LTS) / aarch64  OK    OK    OK  
Package 103/142HostnameOS / ArchINSTALLBUILDCHECKBUILD BIN
rCGH 1.40.0  (landing page)
Frederic Commo
git_last_commit: 2a97521
git_last_commit_date: 2025-10-29 10:26:46 -0500
nebbiolo2Linux (Ubuntu 24.04.3 LTS) / x86_64  OK    OK    OK  UNNEEDED, same version is already published
taishanLinux (openEuler 24.03 LTS) / aarch64  OK    OK    OK  
Package 104/142HostnameOS / ArchINSTALLBUILDCHECKBUILD BIN
recoup 1.38.0  (landing page)
Panagiotis Moulos
git_last_commit: 7728d2d
git_last_commit_date: 2025-10-29 10:31:02 -0500
nebbiolo2Linux (Ubuntu 24.04.3 LTS) / x86_64  OK    OK    OK  UNNEEDED, same version is already published
taishanLinux (openEuler 24.03 LTS) / aarch64  OK    OK    OK  
Package 105/142HostnameOS / ArchINSTALLBUILDCHECKBUILD BIN
RgnTX 1.12.0  (landing page)
Yue Wang
git_last_commit: 6613ae3
git_last_commit_date: 2025-10-29 11:17:15 -0500
nebbiolo2Linux (Ubuntu 24.04.3 LTS) / x86_64  OK    ERROR  skipped
taishanLinux (openEuler 24.03 LTS) / aarch64  OK    ERROR  skipped
Package 106/142HostnameOS / ArchINSTALLBUILDCHECKBUILD BIN
rGREAT 2.12.1  (landing page)
Zuguang Gu
git_last_commit: 274c72d
git_last_commit_date: 2025-11-05 05:02:16 -0500
nebbiolo2Linux (Ubuntu 24.04.3 LTS) / x86_64  OK    OK    OK  UNNEEDED, same version is already published
taishanLinux (openEuler 24.03 LTS) / aarch64  OK    OK    OK  
Package 107/142HostnameOS / ArchINSTALLBUILDCHECKBUILD BIN
RiboCrypt 1.16.0  (landing page)
Michal Swirski
git_last_commit: e202b8e
git_last_commit_date: 2025-10-29 11:13:40 -0500
nebbiolo2Linux (Ubuntu 24.04.3 LTS) / x86_64  OK    OK    OK  UNNEEDED, same version is already published
taishanLinux (openEuler 24.03 LTS) / aarch64  OK    OK    OK  
Package 108/142HostnameOS / ArchINSTALLBUILDCHECKBUILD BIN
RiboDiPA 1.18.0  (landing page)
Ji-Ping Wang
git_last_commit: 44db22f
git_last_commit_date: 2025-10-29 11:05:49 -0500
nebbiolo2Linux (Ubuntu 24.04.3 LTS) / x86_64  OK    OK    OK  UNNEEDED, same version is already published
taishanLinux (openEuler 24.03 LTS) / aarch64  OK    OK    OK  
Package 109/142HostnameOS / ArchINSTALLBUILDCHECKBUILD BIN
RiboProfiling 1.40.0  (landing page)
A. Popa
git_last_commit: 43cc4ee
git_last_commit_date: 2025-10-29 10:28:21 -0500
nebbiolo2Linux (Ubuntu 24.04.3 LTS) / x86_64  OK    ERROR  skipped
taishanLinux (openEuler 24.03 LTS) / aarch64  OK    ERROR  skipped
Package 110/142HostnameOS / ArchINSTALLBUILDCHECKBUILD BIN
ribosomeProfilingQC 1.22.0  (landing page)
Jianhong Ou
git_last_commit: d8ce3bd
git_last_commit_date: 2025-10-29 10:57:03 -0500
nebbiolo2Linux (Ubuntu 24.04.3 LTS) / x86_64  OK    OK    OK  UNNEEDED, same version is already published
taishanLinux (openEuler 24.03 LTS) / aarch64  OK    OK    OK  
Package 111/142HostnameOS / ArchINSTALLBUILDCHECKBUILD BIN
RITAN 1.34.0  (landing page)
Michael Zimmermann
git_last_commit: 0863028
git_last_commit_date: 2025-10-29 10:38:39 -0500
nebbiolo2Linux (Ubuntu 24.04.3 LTS) / x86_64  OK    OK    WARNINGS  UNNEEDED, same version is already published
taishanLinux (openEuler 24.03 LTS) / aarch64  OK    OK    WARNINGS  
Package 112/142HostnameOS / ArchINSTALLBUILDCHECKBUILD BIN
RNAmodR 1.24.0  (landing page)
Felix G.M. Ernst
git_last_commit: 683b357
git_last_commit_date: 2025-10-29 10:52:38 -0500
nebbiolo2Linux (Ubuntu 24.04.3 LTS) / x86_64  OK    OK    OK  UNNEEDED, same version is already published
taishanLinux (openEuler 24.03 LTS) / aarch64  OK    OK    OK  
Package 113/142HostnameOS / ArchINSTALLBUILDCHECKBUILD BIN
SARC 1.8.0  (landing page)
Krutik Patel
git_last_commit: 5ccc1f5
git_last_commit_date: 2025-10-29 11:24:25 -0500
nebbiolo2Linux (Ubuntu 24.04.3 LTS) / x86_64  OK    OK    ERROR  
taishanLinux (openEuler 24.03 LTS) / aarch64  OK    OK    ERROR  
Package 114/142HostnameOS / ArchINSTALLBUILDCHECKBUILD BIN
saseR 1.6.0  (landing page)
Alexandre Segers
git_last_commit: 8ee3ecc
git_last_commit_date: 2025-10-29 11:27:12 -0500
nebbiolo2Linux (Ubuntu 24.04.3 LTS) / x86_64  OK    OK    WARNINGS  UNNEEDED, same version is already published
taishanLinux (openEuler 24.03 LTS) / aarch64  OK    OK    WARNINGS  
Package 115/142HostnameOS / ArchINSTALLBUILDCHECKBUILD BIN
scanMiRApp 1.16.0  (landing page)
Pierre-Luc Germain
git_last_commit: bd87b89
git_last_commit_date: 2025-10-29 11:11:11 -0500
nebbiolo2Linux (Ubuntu 24.04.3 LTS) / x86_64  OK    OK    OK  UNNEEDED, same version is already published
taishanLinux (openEuler 24.03 LTS) / aarch64  OK    OK    OK  
Package 116/142HostnameOS / ArchINSTALLBUILDCHECKBUILD BIN
scruff 1.28.0  (landing page)
Zhe Wang
git_last_commit: 085152e
git_last_commit_date: 2025-10-29 10:46:27 -0500
nebbiolo2Linux (Ubuntu 24.04.3 LTS) / x86_64  OK    OK    OK  UNNEEDED, same version is already published
taishanLinux (openEuler 24.03 LTS) / aarch64  OK    OK    OK  
Package 117/142HostnameOS / ArchINSTALLBUILDCHECKBUILD BIN
SGSeq 1.44.0  (landing page)
Leonard Goldstein
git_last_commit: 2a90d1b
git_last_commit_date: 2025-10-29 10:22:27 -0500
nebbiolo2Linux (Ubuntu 24.04.3 LTS) / x86_64  OK    OK    OK  UNNEEDED, same version is already published
taishanLinux (openEuler 24.03 LTS) / aarch64  OK    OK    OK  
Package 118/142HostnameOS / ArchINSTALLBUILDCHECKBUILD BIN
sitadela 1.18.0  (landing page)
Panagiotis Moulos
git_last_commit: 84fdb44
git_last_commit_date: 2025-10-29 11:07:04 -0500
nebbiolo2Linux (Ubuntu 24.04.3 LTS) / x86_64  OK    OK    OK  UNNEEDED, same version is already published
taishanLinux (openEuler 24.03 LTS) / aarch64  OK    OK    ERROR  
Package 119/142HostnameOS / ArchINSTALLBUILDCHECKBUILD BIN
spatzie 1.16.0  (landing page)
Jennifer Hammelman
git_last_commit: 7892310
git_last_commit_date: 2025-10-29 11:11:08 -0500
nebbiolo2Linux (Ubuntu 24.04.3 LTS) / x86_64  OK    OK    ERROR  
taishanLinux (openEuler 24.03 LTS) / aarch64  OK    OK    ERROR  
Package 120/142HostnameOS / ArchINSTALLBUILDCHECKBUILD BIN
SPICEY 1.0.0  (landing page)
Georgina Fuentes-Páez
git_last_commit: 625bc2e
git_last_commit_date: 2025-10-29 11:37:52 -0500
nebbiolo2Linux (Ubuntu 24.04.3 LTS) / x86_64  OK    OK    OK  UNNEEDED, same version is already published
taishanLinux (openEuler 24.03 LTS) / aarch64  OK    OK    OK  
Package 121/142HostnameOS / ArchINSTALLBUILDCHECKBUILD BIN
SplicingGraphs 1.50.1  (landing page)
H. Pagès
git_last_commit: 02123b2
git_last_commit_date: 2025-11-02 12:50:45 -0500
nebbiolo2Linux (Ubuntu 24.04.3 LTS) / x86_64  OK    OK    WARNINGS  UNNEEDED, same version is already published
taishanLinux (openEuler 24.03 LTS) / aarch64  OK    OK    WARNINGS  
Package 122/142HostnameOS / ArchINSTALLBUILDCHECKBUILD BIN
SPLINTER 1.36.0  (landing page)
Diana Low
git_last_commit: 00c62ac
git_last_commit_date: 2025-10-29 10:34:37 -0500
nebbiolo2Linux (Ubuntu 24.04.3 LTS) / x86_64  OK    OK    OK  UNNEEDED, same version is already published
taishanLinux (openEuler 24.03 LTS) / aarch64  OK    ERROR  skipped
Package 123/142HostnameOS / ArchINSTALLBUILDCHECKBUILD BIN
srnadiff 1.30.0  (landing page)
Zytnicki Matthias
git_last_commit: 809d1c9
git_last_commit_date: 2025-10-29 10:43:01 -0500
nebbiolo2Linux (Ubuntu 24.04.3 LTS) / x86_64  OK    OK    WARNINGS  UNNEEDED, same version is already published
taishanLinux (openEuler 24.03 LTS) / aarch64  OK    OK    WARNINGS  
Package 124/142HostnameOS / ArchINSTALLBUILDCHECKBUILD BIN
StructuralVariantAnnotation 1.26.0  (landing page)
Daniel Cameron
git_last_commit: 328c319
git_last_commit_date: 2025-10-29 10:52:25 -0500
nebbiolo2Linux (Ubuntu 24.04.3 LTS) / x86_64  OK    OK    OK  UNNEEDED, same version is already published
taishanLinux (openEuler 24.03 LTS) / aarch64  OK    OK    OK  
Package 125/142HostnameOS / ArchINSTALLBUILDCHECKBUILD BIN
svaNUMT 1.16.0  (landing page)
Ruining Dong
git_last_commit: 87701e2
git_last_commit_date: 2025-10-29 11:10:38 -0500
nebbiolo2Linux (Ubuntu 24.04.3 LTS) / x86_64  OK    OK    OK  UNNEEDED, same version is already published
taishanLinux (openEuler 24.03 LTS) / aarch64  OK    OK    OK  
Package 126/142HostnameOS / ArchINSTALLBUILDCHECKBUILD BIN
svaRetro 1.16.0  (landing page)
Ruining Dong
git_last_commit: 11afdf0
git_last_commit_date: 2025-10-29 11:11:45 -0500
nebbiolo2Linux (Ubuntu 24.04.3 LTS) / x86_64  OK    ERROR  skipped
taishanLinux (openEuler 24.03 LTS) / aarch64  OK    ERROR  skipped
Package 127/142HostnameOS / ArchINSTALLBUILDCHECKBUILD BIN
TAPseq 1.22.0  (landing page)
Andreas R. Gschwind
git_last_commit: d0aad39
git_last_commit_date: 2025-10-29 10:57:19 -0500
nebbiolo2Linux (Ubuntu 24.04.3 LTS) / x86_64  OK    OK    WARNINGS  UNNEEDED, same version is already published
taishanLinux (openEuler 24.03 LTS) / aarch64  OK    OK    WARNINGS  
Package 128/142HostnameOS / ArchINSTALLBUILDCHECKBUILD BIN
TCGAutils 1.30.0  (landing page)
Marcel Ramos
git_last_commit: 4195bdf
git_last_commit_date: 2025-10-29 10:45:09 -0500
nebbiolo2Linux (Ubuntu 24.04.3 LTS) / x86_64  OK    OK    ERROR  
taishanLinux (openEuler 24.03 LTS) / aarch64  OK    ERROR  skipped
Package 129/142HostnameOS / ArchINSTALLBUILDCHECKBUILD BIN
TFEA.ChIP 1.30.0  (landing page)
Yosra Berrouayel
git_last_commit: 228e5ca
git_last_commit_date: 2025-10-29 10:42:32 -0500
nebbiolo2Linux (Ubuntu 24.04.3 LTS) / x86_64  OK    OK    OK  UNNEEDED, same version is already published
taishanLinux (openEuler 24.03 LTS) / aarch64  OK    OK    OK  
Package 130/142HostnameOS / ArchINSTALLBUILDCHECKBUILD BIN
trackViewer 1.46.0  (landing page)
Jianhong Ou
git_last_commit: 7f9ba3a
git_last_commit_date: 2025-10-29 10:17:52 -0500
nebbiolo2Linux (Ubuntu 24.04.3 LTS) / x86_64  OK    OK    OK  UNNEEDED, same version is already published
taishanLinux (openEuler 24.03 LTS) / aarch64  OK    OK    OK  
Package 131/142HostnameOS / ArchINSTALLBUILDCHECKBUILD BIN
transcriptR 1.38.0  (landing page)
Armen R. Karapetyan
git_last_commit: 15da834
git_last_commit_date: 2025-10-29 10:29:09 -0500
nebbiolo2Linux (Ubuntu 24.04.3 LTS) / x86_64  OK    OK    ERROR  
taishanLinux (openEuler 24.03 LTS) / aarch64  OK    OK    ERROR  
Package 132/142HostnameOS / ArchINSTALLBUILDCHECKBUILD BIN
transmogR 1.6.0  (landing page)
Stevie Pederson
git_last_commit: 7065211
git_last_commit_date: 2025-10-29 11:27:49 -0500
nebbiolo2Linux (Ubuntu 24.04.3 LTS) / x86_64  OK    OK    OK  UNNEEDED, same version is already published
taishanLinux (openEuler 24.03 LTS) / aarch64  OK    OK    OK  
Package 133/142HostnameOS / ArchINSTALLBUILDCHECKBUILD BIN
TRESS 1.16.0  (landing page)
Zhenxing Guo
git_last_commit: b61dd31
git_last_commit_date: 2025-10-29 11:12:49 -0500
nebbiolo2Linux (Ubuntu 24.04.3 LTS) / x86_64  OK    OK    OK  UNNEEDED, same version is already published
taishanLinux (openEuler 24.03 LTS) / aarch64  OK    OK    OK  
Package 134/142HostnameOS / ArchINSTALLBUILDCHECKBUILD BIN
txcutr 1.16.0  (landing page)
Mervin Fansler
git_last_commit: c2ea2a8
git_last_commit_date: 2025-10-29 11:13:37 -0500
nebbiolo2Linux (Ubuntu 24.04.3 LTS) / x86_64  OK    OK    OK  UNNEEDED, same version is already published
taishanLinux (openEuler 24.03 LTS) / aarch64  OK    OK    OK  
Package 135/142HostnameOS / ArchINSTALLBUILDCHECKBUILD BIN
txdbmaker 1.6.0  (landing page)
H. Pagès
git_last_commit: eed71e0
git_last_commit_date: 2025-10-29 13:57:16 -0500
nebbiolo2Linux (Ubuntu 24.04.3 LTS) / x86_64  OK    OK    OK  UNNEEDED, same version is already published
taishanLinux (openEuler 24.03 LTS) / aarch64  OK    OK    OK  
Package 136/142HostnameOS / ArchINSTALLBUILDCHECKBUILD BIN
tximeta 1.28.0  (landing page)
Michael Love
git_last_commit: 4479514
git_last_commit_date: 2025-10-29 10:47:16 -0500
nebbiolo2Linux (Ubuntu 24.04.3 LTS) / x86_64  OK    OK    OK  UNNEEDED, same version is already published
taishanLinux (openEuler 24.03 LTS) / aarch64  OK    OK    OK  
Package 137/142HostnameOS / ArchINSTALLBUILDCHECKBUILD BIN
Ularcirc 1.28.0  (landing page)
David Humphreys
git_last_commit: e6f04b4
git_last_commit_date: 2025-10-29 10:45:47 -0500
nebbiolo2Linux (Ubuntu 24.04.3 LTS) / x86_64  OK    OK    WARNINGS  UNNEEDED, same version is already published
taishanLinux (openEuler 24.03 LTS) / aarch64  OK    OK    WARNINGS  
Package 138/142HostnameOS / ArchINSTALLBUILDCHECKBUILD BIN
UMI4Cats 1.20.0  (landing page)
Mireia Ramos-Rodriguez
git_last_commit: ddc6b2d
git_last_commit_date: 2025-10-29 11:01:19 -0500
nebbiolo2Linux (Ubuntu 24.04.3 LTS) / x86_64  OK    OK    OK  UNNEEDED, same version is already published
taishanLinux (openEuler 24.03 LTS) / aarch64  OK    OK    OK  
Package 139/142HostnameOS / ArchINSTALLBUILDCHECKBUILD BIN
VariantAnnotation 1.56.0  (landing page)
Bioconductor Package Maintainer
git_last_commit: dc8ecd1
git_last_commit_date: 2025-10-29 10:08:24 -0500
nebbiolo2Linux (Ubuntu 24.04.3 LTS) / x86_64  OK    OK    WARNINGS  UNNEEDED, same version is already published
taishanLinux (openEuler 24.03 LTS) / aarch64  OK    OK    WARNINGS  
Package 140/142HostnameOS / ArchINSTALLBUILDCHECKBUILD BIN
VariantFiltering 1.46.0  (landing page)
Robert Castelo
git_last_commit: 958023b
git_last_commit_date: 2025-10-29 10:19:08 -0500
nebbiolo2Linux (Ubuntu 24.04.3 LTS) / x86_64  OK    OK    OK  UNNEEDED, same version is already published
taishanLinux (openEuler 24.03 LTS) / aarch64  OK    OK    OK  
Package 141/142HostnameOS / ArchINSTALLBUILDCHECKBUILD BIN
VariantTools 1.52.0  (landing page)
Michael Lawrence
git_last_commit: a3304e5
git_last_commit_date: 2025-10-29 10:12:36 -0500
nebbiolo2Linux (Ubuntu 24.04.3 LTS) / x86_64  OK    ERROR  skipped
taishanLinux (openEuler 24.03 LTS) / aarch64  OK    ERROR  skipped
Package 142/142HostnameOS / ArchINSTALLBUILDCHECKBUILD BIN
wavClusteR 2.44.0  (landing page)
Federico Comoglio
git_last_commit: 767728a
git_last_commit_date: 2025-10-29 10:19:49 -0500
nebbiolo2Linux (Ubuntu 24.04.3 LTS) / x86_64  OK    OK    OK  UNNEEDED, same version is already published
taishanLinux (openEuler 24.03 LTS) / aarch64  OK    OK    OK