| Back to Multiple platform build/check report for BioC 3.22: simplified long |
|
This page was generated on 2025-11-12 11:58 -0500 (Wed, 12 Nov 2025).
| Hostname | OS | Arch (*) | R version | Installed pkgs |
|---|---|---|---|---|
| nebbiolo2 | Linux (Ubuntu 24.04.3 LTS) | x86_64 | 4.5.1 Patched (2025-08-23 r88802) -- "Great Square Root" | 4902 |
| taishan | Linux (openEuler 24.03 LTS) | aarch64 | 4.5.0 (2025-04-11) -- "How About a Twenty-Six" | 4668 |
| Click on any hostname to see more info about the system (e.g. compilers) (*) as reported by 'uname -p', except on Windows and Mac OS X | ||||
| Package 2243/2361 | Hostname | OS / Arch | INSTALL | BUILD | CHECK | BUILD BIN | ||||||||
| trackViewer 1.46.0 (landing page) Jianhong Ou
| nebbiolo2 | Linux (Ubuntu 24.04.3 LTS) / x86_64 | OK | OK | OK | |||||||||
| taishan | Linux (openEuler 24.03 LTS) / aarch64 | OK | OK | OK | ||||||||||
|
To the developers/maintainers of the trackViewer package: - Allow up to 24 hours (and sometimes 48 hours) for your latest push to git@git.bioconductor.org:packages/trackViewer.git to reflect on this report. See Troubleshooting Build Report for more information. - Use the following Renviron settings to reproduce errors and warnings. - If 'R CMD check' started to fail recently on the Linux builder(s) over a missing dependency, add the missing dependency to 'Suggests:' in your DESCRIPTION file. See Renviron.bioc for more information. |
| Package: trackViewer |
| Version: 1.46.0 |
| Command: /home/biocbuild/bbs-3.22-bioc/R/bin/R CMD check --install=check:trackViewer.install-out.txt --library=/home/biocbuild/bbs-3.22-bioc/R/site-library --timings trackViewer_1.46.0.tar.gz |
| StartedAt: 2025-11-12 05:04:53 -0500 (Wed, 12 Nov 2025) |
| EndedAt: 2025-11-12 05:26:34 -0500 (Wed, 12 Nov 2025) |
| EllapsedTime: 1301.3 seconds |
| RetCode: 0 |
| Status: OK |
| CheckDir: trackViewer.Rcheck |
| Warnings: 0 |
##############################################################################
##############################################################################
###
### Running command:
###
### /home/biocbuild/bbs-3.22-bioc/R/bin/R CMD check --install=check:trackViewer.install-out.txt --library=/home/biocbuild/bbs-3.22-bioc/R/site-library --timings trackViewer_1.46.0.tar.gz
###
##############################################################################
##############################################################################
* using log directory ‘/home/biocbuild/bbs-3.22-bioc/meat/trackViewer.Rcheck’
* using R version 4.5.1 Patched (2025-08-23 r88802)
* using platform: x86_64-pc-linux-gnu
* R was compiled by
gcc (Ubuntu 13.3.0-6ubuntu2~24.04) 13.3.0
GNU Fortran (Ubuntu 13.3.0-6ubuntu2~24.04) 13.3.0
* running under: Ubuntu 24.04.3 LTS
* using session charset: UTF-8
* checking for file ‘trackViewer/DESCRIPTION’ ... OK
* checking extension type ... Package
* this is package ‘trackViewer’ version ‘1.46.0’
* package encoding: UTF-8
* checking package namespace information ... OK
* checking package dependencies ... OK
* checking if this is a source package ... OK
* checking if there is a namespace ... OK
* checking for hidden files and directories ... OK
* checking for portable file names ... OK
* checking for sufficient/correct file permissions ... OK
* checking whether package ‘trackViewer’ can be installed ... OK
* checking installed package size ... OK
* checking package directory ... OK
* checking ‘build’ directory ... OK
* checking DESCRIPTION meta-information ... OK
* checking top-level files ... OK
* checking for left-over files ... OK
* checking index information ... OK
* checking package subdirectories ... OK
* checking code files for non-ASCII characters ... OK
* checking R files for syntax errors ... OK
* checking whether the package can be loaded ... OK
* checking whether the package can be loaded with stated dependencies ... OK
* checking whether the package can be unloaded cleanly ... OK
* checking whether the namespace can be loaded with stated dependencies ... OK
* checking whether the namespace can be unloaded cleanly ... OK
* checking loading without being on the library search path ... OK
* checking dependencies in R code ... OK
* checking S3 generic/method consistency ... OK
* checking replacement functions ... OK
* checking foreign function calls ... OK
* checking R code for possible problems ... OK
* checking Rd files ... OK
* checking Rd metadata ... OK
* checking Rd cross-references ... OK
* checking for missing documentation entries ... OK
* checking for code/documentation mismatches ... OK
* checking Rd \usage sections ... OK
* checking Rd contents ... OK
* checking for unstated dependencies in examples ... OK
* checking files in ‘vignettes’ ... OK
* checking examples ... OK
Examples with CPU (user + system) or elapsed time > 5s
user system elapsed
trackViewer-package 27.814 0.245 28.061
browseTracks 15.093 0.467 15.563
viewTracks 15.294 0.103 15.398
geneModelFromTxdb 14.870 0.466 15.338
parseWIG 14.926 0.061 14.989
viewGene 12.346 0.087 12.434
* checking for unstated dependencies in ‘tests’ ... OK
* checking tests ...
Running ‘runTests.R’
OK
* checking for unstated dependencies in vignettes ... OK
* checking package vignettes ... OK
* checking re-building of vignette outputs ... OK
* checking PDF version of manual ... OK
* DONE
Status: OK
trackViewer.Rcheck/00install.out
############################################################################## ############################################################################## ### ### Running command: ### ### /home/biocbuild/bbs-3.22-bioc/R/bin/R CMD INSTALL trackViewer ### ############################################################################## ############################################################################## * installing to library ‘/home/biocbuild/bbs-3.22-bioc/R/site-library’ * installing *source* package ‘trackViewer’ ... ** this is package ‘trackViewer’ version ‘1.46.0’ ** using staged installation ** R ** inst ** byte-compile and prepare package for lazy loading ** help *** installing help indices ** building package indices ** installing vignettes ** testing if installed package can be loaded from temporary location ** testing if installed package can be loaded from final location ** testing if installed package keeps a record of temporary installation path * DONE (trackViewer)
trackViewer.Rcheck/tests/runTests.Rout
R version 4.5.1 Patched (2025-08-23 r88802) -- "Great Square Root"
Copyright (C) 2025 The R Foundation for Statistical Computing
Platform: x86_64-pc-linux-gnu
R is free software and comes with ABSOLUTELY NO WARRANTY.
You are welcome to redistribute it under certain conditions.
Type 'license()' or 'licence()' for distribution details.
R is a collaborative project with many contributors.
Type 'contributors()' for more information and
'citation()' on how to cite R or R packages in publications.
Type 'demo()' for some demos, 'help()' for on-line help, or
'help.start()' for an HTML browser interface to help.
Type 'q()' to quit R.
> require("trackViewer") || stop("unable to load Package:trackViewer")
Loading required package: trackViewer
Loading required package: GenomicRanges
Loading required package: stats4
Loading required package: BiocGenerics
Loading required package: generics
Attaching package: 'generics'
The following objects are masked from 'package:base':
as.difftime, as.factor, as.ordered, intersect, is.element, setdiff,
setequal, union
Attaching package: 'BiocGenerics'
The following objects are masked from 'package:stats':
IQR, mad, sd, var, xtabs
The following objects are masked from 'package:base':
Filter, Find, Map, Position, Reduce, anyDuplicated, aperm, append,
as.data.frame, basename, cbind, colnames, dirname, do.call,
duplicated, eval, evalq, get, grep, grepl, is.unsorted, lapply,
mapply, match, mget, order, paste, pmax, pmax.int, pmin, pmin.int,
rank, rbind, rownames, sapply, saveRDS, table, tapply, unique,
unsplit, which.max, which.min
Loading required package: S4Vectors
Attaching package: 'S4Vectors'
The following object is masked from 'package:utils':
findMatches
The following objects are masked from 'package:base':
I, expand.grid, unname
Loading required package: IRanges
Loading required package: Seqinfo
Loading required package: grid
[1] TRUE
> require("RUnit") || stop("unable to load Package:RUnit")
Loading required package: RUnit
[1] TRUE
> BiocGenerics:::testPackage("trackViewer")
RUNIT TEST PROTOCOL -- Wed Nov 12 05:13:31 2025
***********************************************
Number of test functions: 2
Number of errors: 0
Number of failures: 0
1 Test Suite :
trackViewer RUnit Tests - 2 test functions, 0 errors, 0 failures
Number of test functions: 2
Number of errors: 0
Number of failures: 0
>
> proc.time()
user system elapsed
16.305 0.816 17.112
trackViewer.Rcheck/trackViewer-Ex.timings
| name | user | system | elapsed | |
| ARA | 2.664 | 0.196 | 2.863 | |
| GIoperator | 0.416 | 0.031 | 0.447 | |
| GRoperator | 1.960 | 0.002 | 1.963 | |
| addArrowMark | 0.012 | 0.000 | 0.012 | |
| addGuideLine | 0.003 | 0.000 | 0.004 | |
| addInteractionAnnotation | 0.273 | 0.000 | 0.274 | |
| browseTracks | 15.093 | 0.467 | 15.563 | |
| coverageGR | 0.203 | 0.000 | 0.203 | |
| dandelion.plot | 2.176 | 0.003 | 2.179 | |
| geneModelFromTxdb | 14.870 | 0.466 | 15.338 | |
| geneTrack | 4.205 | 0.637 | 4.846 | |
| getCurTrackViewport | 0.003 | 0.000 | 0.003 | |
| getGeneIDsFromTxDb | 1.864 | 0.062 | 1.926 | |
| getLocation | 2.309 | 0.041 | 2.350 | |
| gi2track | 0.043 | 0.001 | 0.045 | |
| gieStain | 0.003 | 0.001 | 0.004 | |
| ideogramPlot | 0 | 0 | 0 | |
| importBam | 0.296 | 0.013 | 0.309 | |
| importData | 3.019 | 0.108 | 3.127 | |
| importGInteractions | 0.298 | 0.001 | 0.301 | |
| importScSeqScore | 0 | 0 | 0 | |
| importScore | 0.573 | 0.001 | 0.574 | |
| listChromosomes | 0.011 | 0.001 | 0.012 | |
| listNormalizations | 0.013 | 0.001 | 0.013 | |
| listResolutions | 0.004 | 0.000 | 0.004 | |
| loadIdeogram | 0 | 0 | 0 | |
| lolliplot | 0.964 | 0.002 | 0.967 | |
| optimizeStyle | 0.552 | 0.000 | 0.552 | |
| parse2GRanges | 0.010 | 0.001 | 0.011 | |
| parseWIG | 14.926 | 0.061 | 14.989 | |
| plotGRanges | 1.502 | 0.000 | 1.502 | |
| plotIdeo | 0 | 0 | 0 | |
| plotOneIdeo | 0 | 0 | 0 | |
| reduce-GInteractions-method | 0 | 0 | 0 | |
| trackStyle-class | 0.045 | 0.000 | 0.046 | |
| trackViewer-package | 27.814 | 0.245 | 28.061 | |
| trackViewerStyle-class | 0 | 0 | 0 | |
| viewGene | 12.346 | 0.087 | 12.434 | |
| viewTracks | 15.294 | 0.103 | 15.398 | |