Back to Multiple platform build/check report for BioC 3.22:   simplified   long
ABCDEFGH[I]JKLMNOPQRSTUVWXYZ

This page was generated on 2025-11-01 12:03 -0400 (Sat, 01 Nov 2025).

HostnameOSArch (*)R versionInstalled pkgs
nebbiolo2Linux (Ubuntu 24.04.3 LTS)x86_644.5.1 Patched (2025-08-23 r88802) -- "Great Square Root" 4901
lconwaymacOS 12.7.6 Montereyx86_644.5.1 Patched (2025-09-10 r88807) -- "Great Square Root" 4691
kjohnson3macOS 13.7.7 Venturaarm644.5.1 Patched (2025-09-10 r88807) -- "Great Square Root" 4637
Click on any hostname to see more info about the system (e.g. compilers)      (*) as reported by 'uname -p', except on Windows and Mac OS X

Package 1064/2361HostnameOS / ArchINSTALLBUILDCHECKBUILD BIN
INSPEcT 1.40.0  (landing page)
Stefano de Pretis
Snapshot Date: 2025-10-31 13:45 -0400 (Fri, 31 Oct 2025)
git_url: https://git.bioconductor.org/packages/INSPEcT
git_branch: RELEASE_3_22
git_last_commit: c9f5ce1
git_last_commit_date: 2025-10-29 10:26:37 -0400 (Wed, 29 Oct 2025)
nebbiolo2Linux (Ubuntu 24.04.3 LTS) / x86_64  OK    OK    OK  UNNEEDED, same version is already published
lconwaymacOS 12.7.6 Monterey / x86_64  OK    OK    OK    OK  UNNEEDED, same version is already published
kjohnson3macOS 13.7.7 Ventura / arm64  OK    OK    OK    OK  UNNEEDED, same version is already published


CHECK results for INSPEcT on nebbiolo2

To the developers/maintainers of the INSPEcT package:
- Allow up to 24 hours (and sometimes 48 hours) for your latest push to git@git.bioconductor.org:packages/INSPEcT.git to reflect on this report. See Troubleshooting Build Report for more information.
- Use the following Renviron settings to reproduce errors and warnings.
- If 'R CMD check' started to fail recently on the Linux builder(s) over a missing dependency, add the missing dependency to 'Suggests:' in your DESCRIPTION file. See Renviron.bioc for more information.

raw results


Summary

Package: INSPEcT
Version: 1.40.0
Command: /home/biocbuild/bbs-3.22-bioc/R/bin/R CMD check --install=check:INSPEcT.install-out.txt --library=/home/biocbuild/bbs-3.22-bioc/R/site-library --timings INSPEcT_1.40.0.tar.gz
StartedAt: 2025-11-01 00:47:50 -0400 (Sat, 01 Nov 2025)
EndedAt: 2025-11-01 01:06:17 -0400 (Sat, 01 Nov 2025)
EllapsedTime: 1107.2 seconds
RetCode: 0
Status:   OK  
CheckDir: INSPEcT.Rcheck
Warnings: 0

Command output

##############################################################################
##############################################################################
###
### Running command:
###
###   /home/biocbuild/bbs-3.22-bioc/R/bin/R CMD check --install=check:INSPEcT.install-out.txt --library=/home/biocbuild/bbs-3.22-bioc/R/site-library --timings INSPEcT_1.40.0.tar.gz
###
##############################################################################
##############################################################################


* using log directory ‘/home/biocbuild/bbs-3.22-bioc/meat/INSPEcT.Rcheck’
* using R version 4.5.1 Patched (2025-08-23 r88802)
* using platform: x86_64-pc-linux-gnu
* R was compiled by
    gcc (Ubuntu 13.3.0-6ubuntu2~24.04) 13.3.0
    GNU Fortran (Ubuntu 13.3.0-6ubuntu2~24.04) 13.3.0
* running under: Ubuntu 24.04.3 LTS
* using session charset: UTF-8
* checking for file ‘INSPEcT/DESCRIPTION’ ... OK
* checking extension type ... Package
* this is package ‘INSPEcT’ version ‘1.40.0’
* checking package namespace information ... OK
* checking package dependencies ... OK
* checking if this is a source package ... OK
* checking if there is a namespace ... OK
* checking for hidden files and directories ... OK
* checking for portable file names ... OK
* checking for sufficient/correct file permissions ... OK
* checking whether package ‘INSPEcT’ can be installed ... OK
* checking installed package size ... INFO
  installed size is  7.1Mb
  sub-directories of 1Mb or more:
    R      1.8Mb
    data   2.8Mb
* checking package directory ... OK
* checking ‘build’ directory ... OK
* checking DESCRIPTION meta-information ... OK
* checking top-level files ... OK
* checking for left-over files ... OK
* checking index information ... OK
* checking package subdirectories ... OK
* checking code files for non-ASCII characters ... OK
* checking R files for syntax errors ... OK
* checking whether the package can be loaded ... OK
* checking whether the package can be loaded with stated dependencies ... OK
* checking whether the package can be unloaded cleanly ... OK
* checking whether the namespace can be loaded with stated dependencies ... OK
* checking whether the namespace can be unloaded cleanly ... OK
* checking loading without being on the library search path ... OK
* checking dependencies in R code ... OK
* checking S3 generic/method consistency ... OK
* checking replacement functions ... OK
* checking foreign function calls ... OK
* checking R code for possible problems ... NOTE
output_pars: no visible global function definition for ‘plot.new’
plotSingleRNADynamic: no visible global function definition for ‘lines’
Undefined global functions or variables:
  lines plot.new
Consider adding
  importFrom("graphics", "lines", "plot.new")
to your NAMESPACE file.
* checking Rd files ... OK
* checking Rd metadata ... OK
* checking Rd cross-references ... NOTE
Found the following Rd file(s) with Rd \link{} targets missing package
anchors:
  INSPEcT-class.Rd: featureNames
Please provide package anchors for all Rd \link{} targets not in the
package itself and the base packages.
* checking for missing documentation entries ... OK
* checking for code/documentation mismatches ... OK
* checking Rd \usage sections ... OK
* checking Rd contents ... OK
* checking for unstated dependencies in examples ... OK
* checking contents of ‘data’ directory ... OK
* checking data for non-ASCII characters ... OK
* checking data for ASCII and uncompressed saves ... OK
* checking files in ‘vignettes’ ... OK
* checking examples ... OK
Examples with CPU (user + system) or elapsed time > 5s
                                  user system elapsed
makeSimDataset                  73.960  0.329  74.288
modelRates                      38.609  0.150  38.759
quantifyExpressionsFromBAMs     29.527  0.056  29.589
INSPEcT_diffsteady-class        27.558  0.630  28.188
rocCurve                        25.219  0.040  25.258
makeSimModel                    25.090  0.067  25.158
rocThresholds                   24.797  0.160  24.958
plotMA                          24.056  0.135  24.189
compareSteady                   22.809  0.295  23.104
quantifyExpressionsFromTrCounts 15.601  0.000  15.601
processingDelay                 14.384  0.104  14.489
newINSPEcT                      13.878  0.046  13.926
inspectFromPCR                   6.563  0.052   6.617
makeOscillatorySimModel          5.833  0.071   5.905
compareSteadyNoNascent           5.234  0.074   5.308
* checking for unstated dependencies in vignettes ... OK
* checking package vignettes ... OK
* checking re-building of vignette outputs ... OK
* checking PDF version of manual ... OK
* DONE

Status: 2 NOTEs
See
  ‘/home/biocbuild/bbs-3.22-bioc/meat/INSPEcT.Rcheck/00check.log’
for details.


Installation output

INSPEcT.Rcheck/00install.out

##############################################################################
##############################################################################
###
### Running command:
###
###   /home/biocbuild/bbs-3.22-bioc/R/bin/R CMD INSTALL INSPEcT
###
##############################################################################
##############################################################################


* installing to library ‘/home/biocbuild/bbs-3.22-bioc/R/site-library’
* installing *source* package ‘INSPEcT’ ...
** this is package ‘INSPEcT’ version ‘1.40.0’
** using staged installation
** R
** data
** inst
** byte-compile and prepare package for lazy loading
** help
*** installing help indices
** building package indices
** installing vignettes
** testing if installed package can be loaded from temporary location
** testing if installed package can be loaded from final location
** testing if installed package keeps a record of temporary installation path
* DONE (INSPEcT)

Tests output


Example timings

INSPEcT.Rcheck/INSPEcT-Ex.timings

nameusersystemelapsed
AIC-INSPEcT-method0.1860.0090.195
Extract0.3550.0050.360
INSPEcT_diffsteady-class27.558 0.63028.188
calculateRatePvals0.2200.0010.222
chisqmodel0.1870.0000.187
chisqtest0.1850.0000.185
combine0.3420.0050.347
compareSteady22.809 0.29523.104
compareSteadyNoNascent5.2340.0745.308
convergence0.1890.0010.191
geneClass0.2230.0040.226
inHeatmap0.2210.0000.221
inspectFromPCR6.5630.0526.617
labeledSF0.1850.0090.193
logLik0.1860.0040.190
makeModelRates0.2210.0040.226
makeOscillatorySimModel5.8330.0715.905
makeSimDataset73.960 0.32974.288
makeSimModel25.090 0.06725.158
modelRates38.609 0.15038.759
modelRatesNF4.1770.0324.210
modelSelection0.1870.0030.190
modelingParams0.1880.0010.188
nGenes0.1870.0030.190
nTpts0.1870.0010.189
newINSPEcT13.878 0.04613.926
plotGene0.2280.0020.230
plotMA24.056 0.13524.189
processingDelay14.384 0.10414.489
quantifyExpressionsFromBAMs29.527 0.05629.589
quantifyExpressionsFromTrCounts15.601 0.00015.601
ratePvals0.1850.0010.186
ratesFirstGuess0.1850.0010.186
ratesFirstGuessVar0.1870.0000.187
removeModel0.280.000.28
rocCurve25.219 0.04025.258
rocThresholds24.797 0.16024.958
split0.2760.0050.280
tpts0.1850.0020.187
viewConfidenceIntervals0.1860.0020.188
viewModelRates0.1860.0010.187