| Back to Multiple platform build/check report for BioC 3.22: simplified long |
|
This page was generated on 2025-11-06 12:00 -0500 (Thu, 06 Nov 2025).
| Hostname | OS | Arch (*) | R version | Installed pkgs |
|---|---|---|---|---|
| nebbiolo2 | Linux (Ubuntu 24.04.3 LTS) | x86_64 | 4.5.1 Patched (2025-08-23 r88802) -- "Great Square Root" | 4902 |
| kjohnson3 | macOS 13.7.7 Ventura | arm64 | 4.5.1 Patched (2025-09-10 r88807) -- "Great Square Root" | 4638 |
| Click on any hostname to see more info about the system (e.g. compilers) (*) as reported by 'uname -p', except on Windows and Mac OS X | ||||
| Package 1429/2361 | Hostname | OS / Arch | INSTALL | BUILD | CHECK | BUILD BIN | ||||||||
| musicatk 2.4.0 (landing page) Joshua D. Campbell
| nebbiolo2 | Linux (Ubuntu 24.04.3 LTS) / x86_64 | OK | OK | OK | |||||||||
| kjohnson3 | macOS 13.7.7 Ventura / arm64 | OK | OK | OK | OK | |||||||||
|
To the developers/maintainers of the musicatk package: - Allow up to 24 hours (and sometimes 48 hours) for your latest push to git@git.bioconductor.org:packages/musicatk.git to reflect on this report. See Troubleshooting Build Report for more information. - Use the following Renviron settings to reproduce errors and warnings. - If 'R CMD check' started to fail recently on the Linux builder(s) over a missing dependency, add the missing dependency to 'Suggests:' in your DESCRIPTION file. See Renviron.bioc for more information. |
| Package: musicatk |
| Version: 2.4.0 |
| Command: /home/biocbuild/bbs-3.22-bioc/R/bin/R CMD check --install=check:musicatk.install-out.txt --library=/home/biocbuild/bbs-3.22-bioc/R/site-library --timings musicatk_2.4.0.tar.gz |
| StartedAt: 2025-11-06 02:06:47 -0500 (Thu, 06 Nov 2025) |
| EndedAt: 2025-11-06 02:25:24 -0500 (Thu, 06 Nov 2025) |
| EllapsedTime: 1117.2 seconds |
| RetCode: 0 |
| Status: OK |
| CheckDir: musicatk.Rcheck |
| Warnings: 0 |
##############################################################################
##############################################################################
###
### Running command:
###
### /home/biocbuild/bbs-3.22-bioc/R/bin/R CMD check --install=check:musicatk.install-out.txt --library=/home/biocbuild/bbs-3.22-bioc/R/site-library --timings musicatk_2.4.0.tar.gz
###
##############################################################################
##############################################################################
* using log directory ‘/home/biocbuild/bbs-3.22-bioc/meat/musicatk.Rcheck’
* using R version 4.5.1 Patched (2025-08-23 r88802)
* using platform: x86_64-pc-linux-gnu
* R was compiled by
gcc (Ubuntu 13.3.0-6ubuntu2~24.04) 13.3.0
GNU Fortran (Ubuntu 13.3.0-6ubuntu2~24.04) 13.3.0
* running under: Ubuntu 24.04.3 LTS
* using session charset: UTF-8
* checking for file ‘musicatk/DESCRIPTION’ ... OK
* checking extension type ... Package
* this is package ‘musicatk’ version ‘2.4.0’
* package encoding: UTF-8
* checking package namespace information ... OK
* checking package dependencies ... INFO
Imports includes 44 non-default packages.
Importing from so many packages makes the package vulnerable to any of
them becoming unavailable. Move as many as possible to Suggests and
use conditionally.
* checking if this is a source package ... OK
* checking if there is a namespace ... OK
* checking for hidden files and directories ... OK
* checking for portable file names ... OK
* checking for sufficient/correct file permissions ... OK
* checking whether package ‘musicatk’ can be installed ... OK
* checking installed package size ... OK
* checking package directory ... OK
* checking ‘build’ directory ... OK
* checking DESCRIPTION meta-information ... OK
* checking top-level files ... OK
* checking for left-over files ... OK
* checking index information ... OK
* checking package subdirectories ... OK
* checking code files for non-ASCII characters ... OK
* checking R files for syntax errors ... OK
* checking whether the package can be loaded ... OK
* checking whether the package can be loaded with stated dependencies ... OK
* checking whether the package can be unloaded cleanly ... OK
* checking whether the namespace can be loaded with stated dependencies ... OK
* checking whether the namespace can be unloaded cleanly ... OK
* checking loading without being on the library search path ... OK
* checking dependencies in R code ... OK
* checking S3 generic/method consistency ... OK
* checking replacement functions ... OK
* checking foreign function calls ... OK
* checking R code for possible problems ... OK
* checking Rd files ... OK
* checking Rd metadata ... OK
* checking Rd cross-references ... NOTE
Found the following Rd file(s) with Rd \link{} targets missing package
anchors:
add_flank_to_variants.Rd: BSgenome-class
build_standard_table.Rd: BSgenome-class
create_musica_from_variants.Rd: BSgenome-class
create_sbs192_table.Rd: BSgenome-class
create_sbs96_table.Rd: BSgenome-class
extract_variants.Rd: CollapsedVCF-class, ExpandedVCF-class, MAF-class
variants.Rd: data.table-class
Please provide package anchors for all Rd \link{} targets not in the
package itself and the base packages.
* checking for missing documentation entries ... OK
* checking for code/documentation mismatches ... OK
* checking Rd \usage sections ... OK
* checking Rd contents ... OK
* checking for unstated dependencies in examples ... OK
* checking contents of ‘data’ directory ... OK
* checking data for non-ASCII characters ... OK
* checking LazyData ... OK
* checking data for ASCII and uncompressed saves ... OK
* checking files in ‘vignettes’ ... OK
* checking examples ... OK
Examples with CPU (user + system) or elapsed time > 5s
user system elapsed
plot_k_comparison 216.470 9.795 226.260
compare_k_vals 189.384 14.351 203.802
build_standard_table 7.423 0.439 7.862
plot_cluster 5.663 0.371 6.045
create_umap 5.201 0.535 5.747
plot_umap 5.120 0.157 5.287
* checking for unstated dependencies in ‘tests’ ... OK
* checking tests ...
Running ‘testthat.R’
OK
* checking for unstated dependencies in vignettes ... OK
* checking package vignettes ... OK
* checking re-building of vignette outputs ... OK
* checking PDF version of manual ... OK
* DONE
Status: 1 NOTE
See
‘/home/biocbuild/bbs-3.22-bioc/meat/musicatk.Rcheck/00check.log’
for details.
musicatk.Rcheck/00install.out
############################################################################## ############################################################################## ### ### Running command: ### ### /home/biocbuild/bbs-3.22-bioc/R/bin/R CMD INSTALL musicatk ### ############################################################################## ############################################################################## * installing to library ‘/home/biocbuild/bbs-3.22-bioc/R/site-library’ * installing *source* package ‘musicatk’ ... ** this is package ‘musicatk’ version ‘2.4.0’ ** using staged installation ** R ** data *** moving datasets to lazyload DB ** inst ** byte-compile and prepare package for lazy loading ** help *** installing help indices ** building package indices ** installing vignettes ** testing if installed package can be loaded from temporary location ** testing if installed package can be loaded from final location ** testing if installed package keeps a record of temporary installation path * DONE (musicatk)
musicatk.Rcheck/tests/testthat.Rout
R version 4.5.1 Patched (2025-08-23 r88802) -- "Great Square Root"
Copyright (C) 2025 The R Foundation for Statistical Computing
Platform: x86_64-pc-linux-gnu
R is free software and comes with ABSOLUTELY NO WARRANTY.
You are welcome to redistribute it under certain conditions.
Type 'license()' or 'licence()' for distribution details.
R is a collaborative project with many contributors.
Type 'contributors()' for more information and
'citation()' on how to cite R or R packages in publications.
Type 'demo()' for some demos, 'help()' for on-line help, or
'help.start()' for an HTML browser interface to help.
Type 'q()' to quit R.
> library("testthat")
> library("musicatk")
Loading required package: NMF
Loading required package: registry
Loading required package: rngtools
Loading required package: cluster
NMF - BioConductor layer [OK] | Shared memory capabilities [NO: bigmemory] | Cores 2/2
To enable shared memory capabilities, try: install.extras('
NMF
')
Attaching package: 'NMF'
The following object is masked from 'package:generics':
fit
The following object is masked from 'package:testthat':
compare
>
> test_check("musicatk")
[ FAIL 0 | WARN 2 | SKIP 0 | PASS 41 ]
[ FAIL 0 | WARN 2 | SKIP 0 | PASS 41 ]
>
> proc.time()
user system elapsed
22.347 1.171 23.514
musicatk.Rcheck/musicatk-Ex.timings
| name | user | system | elapsed | |
| add_flank_to_variants | 2.881 | 0.265 | 3.146 | |
| add_result | 0.054 | 0.012 | 0.065 | |
| add_variant_type | 0.014 | 0.004 | 0.019 | |
| annotate_replication_strand | 0.231 | 0.023 | 0.255 | |
| annotate_transcript_strand | 3.216 | 0.180 | 3.397 | |
| annotate_variant_length | 0.010 | 0.001 | 0.012 | |
| annotate_variant_type | 0.002 | 0.000 | 0.003 | |
| auto_predict_grid | 1.770 | 0.003 | 1.773 | |
| build_custom_table | 2.809 | 0.030 | 2.839 | |
| build_standard_table | 7.423 | 0.439 | 7.862 | |
| built_tables | 0.001 | 0.000 | 0.001 | |
| cluster_exposure | 0.019 | 0.001 | 0.020 | |
| combine_count_tables | 3.009 | 0.124 | 3.133 | |
| combine_predict_grid | 0.440 | 0.003 | 0.443 | |
| compare_cosmic_v2 | 3.343 | 0.050 | 3.393 | |
| compare_cosmic_v3 | 2.254 | 0.143 | 2.397 | |
| compare_k_vals | 189.384 | 14.351 | 203.802 | |
| compare_results | 2.524 | 0.173 | 2.700 | |
| cosmic_v2_subtype_map | 0.001 | 0.000 | 0.001 | |
| create_musica_from_counts | 0.002 | 0.002 | 0.004 | |
| create_musica_from_variants | 0.760 | 0.128 | 0.865 | |
| create_umap | 5.201 | 0.535 | 5.747 | |
| credible_intervals | 0.003 | 0.000 | 0.002 | |
| discover_signatures | 0.674 | 0.047 | 0.720 | |
| drop_annotation | 0.002 | 0.000 | 0.002 | |
| exposure_differential_analysis | 0.010 | 0.000 | 0.011 | |
| exposures | 0.015 | 0.002 | 0.018 | |
| extract_count_tables | 0.003 | 0.001 | 0.004 | |
| extract_variants | 4.006 | 0.131 | 4.096 | |
| extract_variants_from_maf | 0.115 | 0.003 | 0.094 | |
| extract_variants_from_maf_file | 0.107 | 0.001 | 0.084 | |
| extract_variants_from_matrix | 0.118 | 0.002 | 0.096 | |
| extract_variants_from_vcf | 0.624 | 0.031 | 0.655 | |
| extract_variants_from_vcf_file | 0.446 | 0.024 | 0.470 | |
| generate_result_grid | 0.363 | 0.028 | 0.390 | |
| get_modality | 0.005 | 0.000 | 0.005 | |
| get_model | 0.003 | 0.001 | 0.004 | |
| get_result_list_entry | 0.003 | 0.002 | 0.005 | |
| hyperparameter | 0.002 | 0.000 | 0.002 | |
| k_select | 1.294 | 0.047 | 1.341 | |
| metrics | 0.000 | 0.002 | 0.003 | |
| modality | 0.001 | 0.001 | 0.002 | |
| model_id | 0.002 | 0.000 | 0.002 | |
| musicatk | 0 | 0 | 0 | |
| name_signatures | 0.032 | 0.000 | 0.032 | |
| num_signatures | 0.002 | 0.000 | 0.002 | |
| other_parameters | 0.001 | 0.001 | 0.002 | |
| parameter | 0.001 | 0.001 | 0.001 | |
| pipe | 0.003 | 0.000 | 0.002 | |
| plot_cluster | 5.663 | 0.371 | 6.045 | |
| plot_differential_analysis | 0.340 | 0.026 | 0.366 | |
| plot_exposures | 0.423 | 0.019 | 0.442 | |
| plot_heatmap | 0.711 | 0.022 | 0.734 | |
| plot_k_comparison | 216.470 | 9.795 | 226.260 | |
| plot_sample_counts | 0.706 | 0.010 | 0.716 | |
| plot_sample_reconstruction_error | 1.017 | 0.001 | 1.018 | |
| plot_signatures | 0.998 | 0.021 | 1.018 | |
| plot_umap | 5.120 | 0.157 | 5.287 | |
| predict_exposure | 1.061 | 0.067 | 1.128 | |
| rc | 0.003 | 0.000 | 0.003 | |
| result_list | 0.002 | 0.001 | 0.003 | |
| samp_annot | 0.006 | 0.000 | 0.006 | |
| sample_names | 0.002 | 0.001 | 0.002 | |
| select_genome | 0 | 0 | 0 | |
| signatures | 0.017 | 0.001 | 0.018 | |
| subset_musica_by_annotation | 0.003 | 0.002 | 0.005 | |
| subset_musica_by_counts | 0.007 | 0.001 | 0.009 | |
| subset_variant_by_type | 0.004 | 0.001 | 0.005 | |
| subset_variants_by_samples | 0.003 | 0.002 | 0.004 | |
| table_selected | 0.001 | 0.000 | 0.002 | |
| tables | 0.001 | 0.002 | 0.004 | |
| umap | 0.001 | 0.000 | 0.002 | |
| variants | 0.004 | 0.000 | 0.004 | |