Back to Multiple platform build/check report for BioC 3.22:   simplified   long
ABC[D]EFGHIJKLMNOPQRSTUVWXYZ

This page was generated on 2025-11-12 11:57 -0500 (Wed, 12 Nov 2025).

HostnameOSArch (*)R versionInstalled pkgs
nebbiolo2Linux (Ubuntu 24.04.3 LTS)x86_644.5.1 Patched (2025-08-23 r88802) -- "Great Square Root" 4902
taishanLinux (openEuler 24.03 LTS)aarch644.5.0 (2025-04-11) -- "How About a Twenty-Six" 4668
Click on any hostname to see more info about the system (e.g. compilers)      (*) as reported by 'uname -p', except on Windows and Mac OS X

Package 624/2361HostnameOS / ArchINSTALLBUILDCHECKBUILD BIN
doubletrouble 1.10.0  (landing page)
Fabrício Almeida-Silva
Snapshot Date: 2025-11-11 13:45 -0500 (Tue, 11 Nov 2025)
git_url: https://git.bioconductor.org/packages/doubletrouble
git_branch: RELEASE_3_22
git_last_commit: 555edc5
git_last_commit_date: 2025-10-29 11:20:05 -0500 (Wed, 29 Oct 2025)
nebbiolo2Linux (Ubuntu 24.04.3 LTS) / x86_64  OK    OK    OK  UNNEEDED, same version is already published
taishanLinux (openEuler 24.03 LTS) / aarch64  OK    OK    OK  


CHECK results for doubletrouble on nebbiolo2

To the developers/maintainers of the doubletrouble package:
- Allow up to 24 hours (and sometimes 48 hours) for your latest push to git@git.bioconductor.org:packages/doubletrouble.git to reflect on this report. See Troubleshooting Build Report for more information.
- Use the following Renviron settings to reproduce errors and warnings.
- If 'R CMD check' started to fail recently on the Linux builder(s) over a missing dependency, add the missing dependency to 'Suggests:' in your DESCRIPTION file. See Renviron.bioc for more information.

raw results


Summary

Package: doubletrouble
Version: 1.10.0
Command: /home/biocbuild/bbs-3.22-bioc/R/bin/R CMD check --install=check:doubletrouble.install-out.txt --library=/home/biocbuild/bbs-3.22-bioc/R/site-library --timings doubletrouble_1.10.0.tar.gz
StartedAt: 2025-11-11 23:17:29 -0500 (Tue, 11 Nov 2025)
EndedAt: 2025-11-11 23:23:34 -0500 (Tue, 11 Nov 2025)
EllapsedTime: 365.3 seconds
RetCode: 0
Status:   OK  
CheckDir: doubletrouble.Rcheck
Warnings: 0

Command output

##############################################################################
##############################################################################
###
### Running command:
###
###   /home/biocbuild/bbs-3.22-bioc/R/bin/R CMD check --install=check:doubletrouble.install-out.txt --library=/home/biocbuild/bbs-3.22-bioc/R/site-library --timings doubletrouble_1.10.0.tar.gz
###
##############################################################################
##############################################################################


* using log directory ‘/home/biocbuild/bbs-3.22-bioc/meat/doubletrouble.Rcheck’
* using R version 4.5.1 Patched (2025-08-23 r88802)
* using platform: x86_64-pc-linux-gnu
* R was compiled by
    gcc (Ubuntu 13.3.0-6ubuntu2~24.04) 13.3.0
    GNU Fortran (Ubuntu 13.3.0-6ubuntu2~24.04) 13.3.0
* running under: Ubuntu 24.04.3 LTS
* using session charset: UTF-8
* checking for file ‘doubletrouble/DESCRIPTION’ ... OK
* this is package ‘doubletrouble’ version ‘1.10.0’
* package encoding: UTF-8
* checking package namespace information ... OK
* checking package dependencies ... OK
* checking if this is a source package ... OK
* checking if there is a namespace ... OK
* checking for hidden files and directories ... OK
* checking for portable file names ... OK
* checking for sufficient/correct file permissions ... OK
* checking whether package ‘doubletrouble’ can be installed ... OK
* checking installed package size ... OK
* checking package directory ... OK
* checking ‘build’ directory ... OK
* checking DESCRIPTION meta-information ... OK
* checking top-level files ... OK
* checking for left-over files ... OK
* checking index information ... OK
* checking package subdirectories ... OK
* checking code files for non-ASCII characters ... OK
* checking R files for syntax errors ... OK
* checking whether the package can be loaded ... OK
* checking whether the package can be loaded with stated dependencies ... OK
* checking whether the package can be unloaded cleanly ... OK
* checking whether the namespace can be loaded with stated dependencies ... OK
* checking whether the namespace can be unloaded cleanly ... OK
* checking loading without being on the library search path ... OK
* checking dependencies in R code ... OK
* checking S3 generic/method consistency ... OK
* checking replacement functions ... OK
* checking foreign function calls ... OK
* checking R code for possible problems ... OK
* checking Rd files ... OK
* checking Rd metadata ... OK
* checking Rd cross-references ... OK
* checking for missing documentation entries ... OK
* checking for code/documentation mismatches ... OK
* checking Rd \usage sections ... OK
* checking Rd contents ... OK
* checking for unstated dependencies in examples ... OK
* checking contents of ‘data’ directory ... OK
* checking data for non-ASCII characters ... OK
* checking data for ASCII and uncompressed saves ... OK
* checking files in ‘vignettes’ ... OK
* checking examples ... OK
Examples with CPU (user + system) or elapsed time > 5s
                     user system elapsed
classify_gene_pairs 6.246  0.637   6.883
* checking for unstated dependencies in ‘tests’ ... OK
* checking tests ...
  Running ‘testthat.R’
 OK
* checking for unstated dependencies in vignettes ... OK
* checking package vignettes ... OK
* checking re-building of vignette outputs ... OK
* checking PDF version of manual ... OK
* DONE

Status: OK


Installation output

doubletrouble.Rcheck/00install.out

##############################################################################
##############################################################################
###
### Running command:
###
###   /home/biocbuild/bbs-3.22-bioc/R/bin/R CMD INSTALL doubletrouble
###
##############################################################################
##############################################################################


* installing to library ‘/home/biocbuild/bbs-3.22-bioc/R/site-library’
* installing *source* package ‘doubletrouble’ ...
** this is package ‘doubletrouble’ version ‘1.10.0’
** using staged installation
** R
** data
** inst
** byte-compile and prepare package for lazy loading
** help
*** installing help indices
*** copying figures
** building package indices
** installing vignettes
** testing if installed package can be loaded from temporary location
** testing if installed package can be loaded from final location
** testing if installed package keeps a record of temporary installation path
* DONE (doubletrouble)

Tests output

doubletrouble.Rcheck/tests/testthat.Rout


R version 4.5.1 Patched (2025-08-23 r88802) -- "Great Square Root"
Copyright (C) 2025 The R Foundation for Statistical Computing
Platform: x86_64-pc-linux-gnu

R is free software and comes with ABSOLUTELY NO WARRANTY.
You are welcome to redistribute it under certain conditions.
Type 'license()' or 'licence()' for distribution details.

R is a collaborative project with many contributors.
Type 'contributors()' for more information and
'citation()' on how to cite R or R packages in publications.

Type 'demo()' for some demos, 'help()' for on-line help, or
'help.start()' for an HTML browser interface to help.
Type 'q()' to quit R.

> # This file is part of the standard setup for testthat.
> # It is recommended that you do not modify it.
> #
> # Where should you do additional test configuration?
> # Learn more about the roles of various files in:
> # * https://r-pkgs.org/tests.html
> # * https://testthat.r-lib.org/reference/test_package.html#special-files
> 
> library(testthat)
> library(doubletrouble)
> 
> test_check("doubletrouble")
Loading required package: BiocGenerics
Loading required package: generics

Attaching package: 'generics'

The following objects are masked from 'package:base':

    as.difftime, as.factor, as.ordered, intersect, is.element, setdiff,
    setequal, union


Attaching package: 'BiocGenerics'

The following objects are masked from 'package:stats':

    IQR, mad, sd, var, xtabs

The following objects are masked from 'package:base':

    Filter, Find, Map, Position, Reduce, anyDuplicated, aperm, append,
    as.data.frame, basename, cbind, colnames, dirname, do.call,
    duplicated, eval, evalq, get, grep, grepl, is.unsorted, lapply,
    mapply, match, mget, order, paste, pmax, pmax.int, pmin, pmin.int,
    rank, rbind, rownames, sapply, saveRDS, table, tapply, unique,
    unsplit, which.max, which.min

Loading required package: S4Vectors
Loading required package: stats4

Attaching package: 'S4Vectors'

The following object is masked from 'package:utils':

    findMatches

The following objects are masked from 'package:base':

    I, expand.grid, unname

Loading required package: Seqinfo
Loading required package: GenomicRanges
Loading required package: IRanges
Loading required package: GenomicFeatures
Loading required package: AnnotationDbi
Loading required package: Biobase
Welcome to Bioconductor

    Vignettes contain introductory material; view with
    'browseVignettes()'. To cite Bioconductor, see
    'citation("Biobase")', and for packages 'citation("pkgname")'.


Attaching package: 'txdbmaker'

The following objects are masked from 'package:GenomicFeatures':

    UCSCFeatureDbTableSchema, browseUCSCtrack, getChromInfoFromBiomart,
    makeFDbPackageFromUCSC, makeFeatureDbFromUCSC, makePackageName,
    makeTxDb, makeTxDbFromBiomart, makeTxDbFromEnsembl,
    makeTxDbFromGFF, makeTxDbFromGRanges, makeTxDbFromUCSC,
    makeTxDbPackage, makeTxDbPackageFromBiomart,
    makeTxDbPackageFromUCSC, supportedMiRBaseBuildValues,
    supportedUCSCFeatureDbTables, supportedUCSCFeatureDbTracks,
    supportedUCSCtables

Calculating rates for species 'Scerevisiae'
For species Scerevisiae, the lengths of 1 CDS are not multiples of 3. Removing them...
Bayesian Information Criterion (BIC): 
          E         V
1 -5627.215 -5627.215
2 -4833.369 -4312.906

Top 3 models based on the BIC criterion: 
      V,2       E,2       E,1 
-4312.906 -4833.369 -5627.215 
[ FAIL 0 | WARN 1 | SKIP 0 | PASS 69 ]

[ FAIL 0 | WARN 1 | SKIP 0 | PASS 69 ]
> 
> proc.time()
   user  system elapsed 
 26.807   2.615  29.410 

Example timings

doubletrouble.Rcheck/doubletrouble-Ex.timings

nameusersystemelapsed
cds_scerevisiae0.0040.0010.004
classify_gene_pairs6.2460.6376.883
classify_genes0.0270.0000.027
diamond_inter0.0710.0020.073
diamond_intra0.0400.0010.041
duplicates2counts0.0360.0010.037
find_ks_peaks0.0890.0030.092
fungi_kaks0.0190.0000.019
get_anchors_list2.0380.1382.175
get_intron_counts1.4120.0241.436
get_segmental0.8960.0150.911
get_tandem_proximal0.7510.0200.771
get_transposed1.1520.0421.194
get_transposed_classes2.2190.0312.252
gmax_ks0.1690.0070.174
pairs2kaks2.8170.3273.140
plot_duplicate_freqs0.5040.0600.564
plot_ks_distro0.6980.0840.782
plot_ks_peaks0.4180.0260.445
plot_rates_by_species0.3640.0130.379
split_pairs_by_peak0.4270.0220.451
yeast_annot0.2140.0080.224
yeast_seq0.2480.0110.260