| Back to Multiple platform build/check report for BioC 3.22: simplified long |
|
This page was generated on 2025-11-20 12:03 -0500 (Thu, 20 Nov 2025).
| Hostname | OS | Arch (*) | R version | Installed pkgs |
|---|---|---|---|---|
| nebbiolo2 | Linux (Ubuntu 24.04.3 LTS) | x86_64 | 4.5.2 (2025-10-31) -- "[Not] Part in a Rumble" | 4615 |
| merida1 | macOS 12.7.6 Monterey | x86_64 | 4.5.2 Patched (2025-11-05 r88990) -- "[Not] Part in a Rumble" | 4610 |
| kjohnson1 | macOS 13.7.5 Ventura | arm64 | 4.5.2 Patched (2025-11-04 r88984) -- "[Not] Part in a Rumble" | 4598 |
| taishan | Linux (openEuler 24.03 LTS) | aarch64 | 4.5.0 (2025-04-11) -- "How About a Twenty-Six" | 4668 |
| Click on any hostname to see more info about the system (e.g. compilers) (*) as reported by 'uname -p', except on Windows and Mac OS X | ||||
| Package 776/2361 | Hostname | OS / Arch | INSTALL | BUILD | CHECK | BUILD BIN | ||||||||
| FRASER 2.6.0 (landing page) Christian Mertes
| nebbiolo2 | Linux (Ubuntu 24.04.3 LTS) / x86_64 | OK | OK | OK | |||||||||
| merida1 | macOS 12.7.6 Monterey / x86_64 | OK | OK | TIMEOUT | OK | |||||||||
| kjohnson1 | macOS 13.7.5 Ventura / arm64 | OK | OK | OK | OK | |||||||||
| taishan | Linux (openEuler 24.03 LTS) / aarch64 | OK | OK | OK | ||||||||||
|
To the developers/maintainers of the FRASER package: - Allow up to 24 hours (and sometimes 48 hours) for your latest push to git@git.bioconductor.org:packages/FRASER.git to reflect on this report. See Troubleshooting Build Report for more information. - Use the following Renviron settings to reproduce errors and warnings. - If 'R CMD check' started to fail recently on the Linux builder(s) over a missing dependency, add the missing dependency to 'Suggests:' in your DESCRIPTION file. See Renviron.bioc for more information. |
| Package: FRASER |
| Version: 2.6.0 |
| Command: /home/biocbuild/bbs-3.22-bioc/R/bin/R CMD check --install=check:FRASER.install-out.txt --library=/home/biocbuild/bbs-3.22-bioc/R/site-library --timings FRASER_2.6.0.tar.gz |
| StartedAt: 2025-11-18 04:08:05 -0500 (Tue, 18 Nov 2025) |
| EndedAt: 2025-11-18 04:31:51 -0500 (Tue, 18 Nov 2025) |
| EllapsedTime: 1426.2 seconds |
| RetCode: 0 |
| Status: OK |
| CheckDir: FRASER.Rcheck |
| Warnings: 0 |
##############################################################################
##############################################################################
###
### Running command:
###
### /home/biocbuild/bbs-3.22-bioc/R/bin/R CMD check --install=check:FRASER.install-out.txt --library=/home/biocbuild/bbs-3.22-bioc/R/site-library --timings FRASER_2.6.0.tar.gz
###
##############################################################################
##############################################################################
* using log directory ‘/home/biocbuild/bbs-3.22-bioc/meat/FRASER.Rcheck’
* using R version 4.5.2 (2025-10-31)
* using platform: x86_64-pc-linux-gnu
* R was compiled by
gcc (Ubuntu 13.3.0-6ubuntu2~24.04) 13.3.0
GNU Fortran (Ubuntu 13.3.0-6ubuntu2~24.04) 13.3.0
* running under: Ubuntu 24.04.3 LTS
* using session charset: UTF-8
* checking for file ‘FRASER/DESCRIPTION’ ... OK
* checking extension type ... Package
* this is package ‘FRASER’ version ‘2.6.0’
* package encoding: UTF-8
* checking package namespace information ... OK
* checking package dependencies ... INFO
Imports includes 35 non-default packages.
Importing from so many packages makes the package vulnerable to any of
them becoming unavailable. Move as many as possible to Suggests and
use conditionally.
* checking if this is a source package ... OK
* checking if there is a namespace ... OK
* checking for hidden files and directories ... OK
* checking for portable file names ... OK
* checking for sufficient/correct file permissions ... OK
* checking whether package ‘FRASER’ can be installed ... OK
* used C++ compiler: ‘g++ (Ubuntu 13.3.0-6ubuntu2~24.04) 13.3.0’
* checking installed package size ... INFO
installed size is 7.9Mb
sub-directories of 1Mb or more:
R 1.4Mb
libs 5.5Mb
* checking package directory ... OK
* checking ‘build’ directory ... OK
* checking DESCRIPTION meta-information ... OK
* checking top-level files ... OK
* checking for left-over files ... OK
* checking index information ... OK
* checking package subdirectories ... OK
* checking code files for non-ASCII characters ... OK
* checking R files for syntax errors ... OK
* checking whether the package can be loaded ... OK
* checking whether the package can be loaded with stated dependencies ... OK
* checking whether the package can be unloaded cleanly ... OK
* checking whether the namespace can be loaded with stated dependencies ... OK
* checking whether the namespace can be unloaded cleanly ... OK
* checking loading without being on the library search path ... OK
* checking whether startup messages can be suppressed ... OK
* checking dependencies in R code ... NOTE
Unexported objects imported by ':::' calls:
'S4Vectors:::selectSome' 'ggbio:::.buildFacetsFromArgs'
See the note in ?`:::` about the use of this operator.
* checking S3 generic/method consistency ... OK
* checking replacement functions ... OK
* checking foreign function calls ... OK
* checking R code for possible problems ... NOTE
annotateRangesWithTxDb: no visible binding for global variable
‘include’
calculatePadjValuesOnSubset : <anonymous>: no visible binding for
global variable ‘gene_rowIdx’
estimateBestQ: no visible binding for global variable ‘oht’
hyperParams: no visible binding for global variable ‘oht’
loadFraserDataSet: no visible global function definition for
‘slotNames’
plotEncDimSearch.FRASER: no visible binding for global variable ‘oht’
plotEncDimSearch.FRASER: no visible binding for global variable
‘singular_values’
plotVolcano.FRASER: no visible binding for global variable
‘aberrantLabel’
updateSeqlevelsStyle: no visible binding for global variable
‘NCBI_Genome_Name’
updateSeqlevelsStyle: no visible global function definition for
‘setNames’
updateSeqlevelsStyle: no visible global function definition for
‘seqnames<-’
updateSeqlevelsStyle: no visible binding for global variable
‘UCSC_Genome_Name’
plotEncDimSearch,FraserDataSet: no visible binding for global variable
‘oht’
plotEncDimSearch,FraserDataSet: no visible binding for global variable
‘singular_values’
plotVolcano,FraserDataSet: no visible binding for global variable
‘aberrantLabel’
results,FraserDataSet: no visible binding for global variable ‘padjust’
results,FraserDataSet: no visible binding for global variable
‘pValueGene’
results,FraserDataSet: no visible binding for global variable
‘padjustGene’
Undefined global functions or variables:
NCBI_Genome_Name UCSC_Genome_Name aberrantLabel gene_rowIdx include
oht pValueGene padjust padjustGene seqnames<- setNames
singular_values slotNames
Consider adding
importFrom("methods", "slotNames")
importFrom("stats", "setNames")
to your NAMESPACE file (and ensure that your DESCRIPTION Imports field
contains 'methods').
* checking Rd files ... OK
* checking Rd metadata ... OK
* checking Rd cross-references ... NOTE
Found the following Rd file(s) with Rd \link{} targets missing package
anchors:
plotFunctions.Rd: aberrant
Please provide package anchors for all Rd \link{} targets not in the
package itself and the base packages.
* checking for missing documentation entries ... OK
* checking for code/documentation mismatches ... OK
* checking Rd \usage sections ... OK
* checking Rd contents ... OK
* checking for unstated dependencies in examples ... OK
* checking line endings in C/C++/Fortran sources/headers ... OK
* checking line endings in Makefiles ... OK
* checking compilation flags in Makevars ... OK
* checking for GNU extensions in Makefiles ... OK
* checking for portable use of $(BLAS_LIBS) and $(LAPACK_LIBS) ... OK
* checking use of PKG_*FLAGS in Makefiles ... OK
* checking compiled code ... NOTE
Note: information on .o files is not available
* checking files in ‘vignettes’ ... OK
* checking examples ... OK
Examples with CPU (user + system) or elapsed time > 5s
user system elapsed
plotFunctions 149.167 3.799 152.949
potentialImpactAnnotations 83.166 0.713 83.865
FRASER 37.952 0.520 38.508
injectOutliers 26.669 0.058 25.165
results 22.830 0.062 22.830
annotateRanges 22.540 0.342 103.546
estimateBestQ 19.888 0.140 20.029
mergeExternalData 18.491 0.158 18.636
getter_setter_functions 17.065 0.200 17.235
calculatePSIValues 16.915 0.138 17.025
filtering 16.550 0.130 16.663
fds-methods 16.545 0.110 16.622
subset 15.711 0.873 16.558
createTestFraserDataSet 15.685 0.173 15.825
counts 15.491 0.081 15.529
* checking for unstated dependencies in ‘tests’ ... OK
* checking tests ...
Running ‘testthat.R’
OK
* checking for unstated dependencies in vignettes ... OK
* checking package vignettes ... OK
* checking re-building of vignette outputs ... OK
* checking PDF version of manual ... OK
* DONE
Status: 4 NOTEs
See
‘/home/biocbuild/bbs-3.22-bioc/meat/FRASER.Rcheck/00check.log’
for details.
FRASER.Rcheck/00install.out
############################################################################## ############################################################################## ### ### Running command: ### ### /home/biocbuild/bbs-3.22-bioc/R/bin/R CMD INSTALL FRASER ### ############################################################################## ############################################################################## * installing to library ‘/home/biocbuild/bbs-3.22-bioc/R/site-library’ * installing *source* package ‘FRASER’ ... ** this is package ‘FRASER’ version ‘2.6.0’ ** using staged installation ** libs using C++ compiler: ‘g++ (Ubuntu 13.3.0-6ubuntu2~24.04) 13.3.0’ g++ -std=gnu++17 -I"/home/biocbuild/bbs-3.22-bioc/R/include" -DNDEBUG -I'/home/biocbuild/bbs-3.22-bioc/R/site-library/RcppArmadillo/include' -I'/home/biocbuild/bbs-3.22-bioc/R/site-library/Rcpp/include' -I/usr/local/include -fopenmp -DARMA_DONT_USE_OPENMP -fpic -g -O2 -Wall -Werror=format-security -c RcppExports.cpp -o RcppExports.o g++ -std=gnu++17 -I"/home/biocbuild/bbs-3.22-bioc/R/include" -DNDEBUG -I'/home/biocbuild/bbs-3.22-bioc/R/site-library/RcppArmadillo/include' -I'/home/biocbuild/bbs-3.22-bioc/R/site-library/Rcpp/include' -I/usr/local/include -fopenmp -DARMA_DONT_USE_OPENMP -fpic -g -O2 -Wall -Werror=format-security -c loss_n_gradient_functions.cpp -o loss_n_gradient_functions.o g++ -std=gnu++17 -shared -L/home/biocbuild/bbs-3.22-bioc/R/lib -L/usr/local/lib -o FRASER.so RcppExports.o loss_n_gradient_functions.o -fopenmp -llapack -L/home/biocbuild/bbs-3.22-bioc/R/lib -lRblas -lgfortran -lm -lquadmath -L/home/biocbuild/bbs-3.22-bioc/R/lib -lR installing to /home/biocbuild/bbs-3.22-bioc/R/site-library/00LOCK-FRASER/00new/FRASER/libs ** R ** inst ** byte-compile and prepare package for lazy loading ** help *** installing help indices ** building package indices ** installing vignettes ** testing if installed package can be loaded from temporary location ** checking absolute paths in shared objects and dynamic libraries ** testing if installed package can be loaded from final location ** testing if installed package keeps a record of temporary installation path * DONE (FRASER)
FRASER.Rcheck/tests/testthat.Rout
R version 4.5.2 (2025-10-31) -- "[Not] Part in a Rumble"
Copyright (C) 2025 The R Foundation for Statistical Computing
Platform: x86_64-pc-linux-gnu
R is free software and comes with ABSOLUTELY NO WARRANTY.
You are welcome to redistribute it under certain conditions.
Type 'license()' or 'licence()' for distribution details.
R is a collaborative project with many contributors.
Type 'contributors()' for more information and
'citation()' on how to cite R or R packages in publications.
Type 'demo()' for some demos, 'help()' for on-line help, or
'help.start()' for an HTML browser interface to help.
Type 'q()' to quit R.
> library(testthat)
> library(FRASER)
Loading required package: BiocParallel
Loading required package: Rsamtools
Loading required package: Seqinfo
Loading required package: BiocGenerics
Loading required package: generics
Attaching package: 'generics'
The following objects are masked from 'package:base':
as.difftime, as.factor, as.ordered, intersect, is.element, setdiff,
setequal, union
Attaching package: 'BiocGenerics'
The following objects are masked from 'package:stats':
IQR, mad, sd, var, xtabs
The following objects are masked from 'package:base':
Filter, Find, Map, Position, Reduce, anyDuplicated, aperm, append,
as.data.frame, basename, cbind, colnames, dirname, do.call,
duplicated, eval, evalq, get, grep, grepl, is.unsorted, lapply,
mapply, match, mget, order, paste, pmax, pmax.int, pmin, pmin.int,
rank, rbind, rownames, sapply, saveRDS, table, tapply, unique,
unsplit, which.max, which.min
Loading required package: GenomicRanges
Loading required package: stats4
Loading required package: S4Vectors
Attaching package: 'S4Vectors'
The following object is masked from 'package:utils':
findMatches
The following objects are masked from 'package:base':
I, expand.grid, unname
Loading required package: IRanges
Loading required package: Biostrings
Loading required package: XVector
Attaching package: 'Biostrings'
The following object is masked from 'package:base':
strsplit
Loading required package: SummarizedExperiment
Loading required package: MatrixGenerics
Loading required package: matrixStats
Attaching package: 'MatrixGenerics'
The following objects are masked from 'package:matrixStats':
colAlls, colAnyNAs, colAnys, colAvgsPerRowSet, colCollapse,
colCounts, colCummaxs, colCummins, colCumprods, colCumsums,
colDiffs, colIQRDiffs, colIQRs, colLogSumExps, colMadDiffs,
colMads, colMaxs, colMeans2, colMedians, colMins, colOrderStats,
colProds, colQuantiles, colRanges, colRanks, colSdDiffs, colSds,
colSums2, colTabulates, colVarDiffs, colVars, colWeightedMads,
colWeightedMeans, colWeightedMedians, colWeightedSds,
colWeightedVars, rowAlls, rowAnyNAs, rowAnys, rowAvgsPerColSet,
rowCollapse, rowCounts, rowCummaxs, rowCummins, rowCumprods,
rowCumsums, rowDiffs, rowIQRDiffs, rowIQRs, rowLogSumExps,
rowMadDiffs, rowMads, rowMaxs, rowMeans2, rowMedians, rowMins,
rowOrderStats, rowProds, rowQuantiles, rowRanges, rowRanks,
rowSdDiffs, rowSds, rowSums2, rowTabulates, rowVarDiffs, rowVars,
rowWeightedMads, rowWeightedMeans, rowWeightedMedians,
rowWeightedSds, rowWeightedVars
Loading required package: Biobase
Welcome to Bioconductor
Vignettes contain introductory material; view with
'browseVignettes()'. To cite Bioconductor, see
'citation("Biobase")', and for packages 'citation("pkgname")'.
Attaching package: 'Biobase'
The following object is masked from 'package:MatrixGenerics':
rowMedians
The following objects are masked from 'package:matrixStats':
anyMissing, rowMedians
Attaching package: 'FRASER'
The following object is masked from 'package:Biobase':
samples
> library(TxDb.Hsapiens.UCSC.hg19.knownGene)
Loading required package: GenomicFeatures
Loading required package: AnnotationDbi
> library(org.Hs.eg.db)
>
> # to speed up the testing on windows do it in serial mode
> if(.Platform$OS.type != "unix") {
+ register(SerialParam())
+ }
>
> set.seed(42)
> test_check("FRASER")
Optimal encoding dimension: 2
Optimal encoding dimension: 2
[ FAIL 0 | WARN 2 | SKIP 0 | PASS 109 ]
[ FAIL 0 | WARN 2 | SKIP 0 | PASS 109 ]
>
> proc.time()
user system elapsed
179.656 53.543 178.656
FRASER.Rcheck/FRASER-Ex.timings
| name | user | system | elapsed | |
| FRASER | 37.952 | 0.520 | 38.508 | |
| FraserDataSet | 0.335 | 0.006 | 0.341 | |
| annotateRanges | 22.540 | 0.342 | 103.546 | |
| calculatePSIValues | 16.915 | 0.138 | 17.025 | |
| countRNA | 0.868 | 0.003 | 0.871 | |
| counts | 15.491 | 0.081 | 15.529 | |
| createTestFraserDataSet | 15.685 | 0.173 | 15.825 | |
| estimateBestQ | 19.888 | 0.140 | 20.029 | |
| fds-methods | 16.545 | 0.110 | 16.622 | |
| filtering | 16.550 | 0.130 | 16.663 | |
| getter_setter_functions | 17.065 | 0.200 | 17.235 | |
| injectOutliers | 26.669 | 0.058 | 25.165 | |
| loadFraserDataSet | 0.368 | 0.005 | 0.372 | |
| makeSimulatedFraserDataSet | 3.878 | 0.020 | 3.898 | |
| mergeExternalData | 18.491 | 0.158 | 18.636 | |
| plotFunctions | 149.167 | 3.799 | 152.949 | |
| potentialImpactAnnotations | 83.166 | 0.713 | 83.865 | |
| psiTypes | 0 | 0 | 0 | |
| results | 22.830 | 0.062 | 22.830 | |
| subset | 15.711 | 0.873 | 16.558 | |