| Back to Multiple platform build/check report for BioC 3.22: simplified long | 
  | 
This page was generated on 2025-11-03 12:02 -0500 (Mon, 03 Nov 2025).
| Hostname | OS | Arch (*) | R version | Installed pkgs | 
|---|---|---|---|---|
| nebbiolo2 | Linux (Ubuntu 24.04.3 LTS) | x86_64 | 4.5.1 Patched (2025-08-23 r88802) -- "Great Square Root" | 4902 | 
| lconway | macOS 12.7.6 Monterey | x86_64 | 4.5.1 Patched (2025-09-10 r88807) -- "Great Square Root" | 4692 | 
| kjohnson3 | macOS 13.7.7 Ventura | arm64 | 4.5.1 Patched (2025-09-10 r88807) -- "Great Square Root" | 4638 | 
| Click on any hostname to see more info about the system (e.g. compilers) (*) as reported by 'uname -p', except on Windows and Mac OS X | ||||
| Package 271/2361 | Hostname | OS / Arch | INSTALL | BUILD | CHECK | BUILD BIN | ||||||||
| CAGEfightR 1.30.0  (landing page) Malte Thodberg 
  | nebbiolo2 | Linux (Ubuntu 24.04.3 LTS) / x86_64 | OK | OK | OK | |||||||||
| lconway | macOS 12.7.6 Monterey / x86_64 | OK | OK | OK | OK | |||||||||
| kjohnson3 | macOS 13.7.7 Ventura / arm64 | OK | OK | OK | OK | |||||||||
| 
To the developers/maintainers of the CAGEfightR package: - Allow up to 24 hours (and sometimes 48 hours) for your latest push to git@git.bioconductor.org:packages/CAGEfightR.git to reflect on this report. See Troubleshooting Build Report for more information. - Use the following Renviron settings to reproduce errors and warnings. - If 'R CMD check' started to fail recently on the Linux builder(s) over a missing dependency, add the missing dependency to 'Suggests:' in your DESCRIPTION file. See Renviron.bioc for more information.  | 
| Package: CAGEfightR | 
| Version: 1.30.0 | 
| Command: /home/biocbuild/bbs-3.22-bioc/R/bin/R CMD check --install=check:CAGEfightR.install-out.txt --library=/home/biocbuild/bbs-3.22-bioc/R/site-library --timings CAGEfightR_1.30.0.tar.gz | 
| StartedAt: 2025-11-02 21:57:39 -0500 (Sun, 02 Nov 2025) | 
| EndedAt: 2025-11-02 22:06:43 -0500 (Sun, 02 Nov 2025) | 
| EllapsedTime: 544.6 seconds | 
| RetCode: 0 | 
| Status: OK | 
| CheckDir: CAGEfightR.Rcheck | 
| Warnings: 0 | 
##############################################################################
##############################################################################
###
### Running command:
###
###   /home/biocbuild/bbs-3.22-bioc/R/bin/R CMD check --install=check:CAGEfightR.install-out.txt --library=/home/biocbuild/bbs-3.22-bioc/R/site-library --timings CAGEfightR_1.30.0.tar.gz
###
##############################################################################
##############################################################################
* using log directory ‘/home/biocbuild/bbs-3.22-bioc/meat/CAGEfightR.Rcheck’
* using R version 4.5.1 Patched (2025-08-23 r88802)
* using platform: x86_64-pc-linux-gnu
* R was compiled by
    gcc (Ubuntu 13.3.0-6ubuntu2~24.04) 13.3.0
    GNU Fortran (Ubuntu 13.3.0-6ubuntu2~24.04) 13.3.0
* running under: Ubuntu 24.04.3 LTS
* using session charset: UTF-8
* checking for file ‘CAGEfightR/DESCRIPTION’ ... OK
* checking extension type ... Package
* this is package ‘CAGEfightR’ version ‘1.30.0’
* package encoding: UTF-8
* checking package namespace information ... OK
* checking package dependencies ... OK
* checking if this is a source package ... OK
* checking if there is a namespace ... OK
* checking for hidden files and directories ... OK
* checking for portable file names ... OK
* checking for sufficient/correct file permissions ... OK
* checking whether package ‘CAGEfightR’ can be installed ... OK
* checking installed package size ... OK
* checking package directory ... OK
* checking ‘build’ directory ... OK
* checking DESCRIPTION meta-information ... OK
* checking top-level files ... OK
* checking for left-over files ... OK
* checking index information ... OK
* checking package subdirectories ... OK
* checking code files for non-ASCII characters ... OK
* checking R files for syntax errors ... OK
* checking whether the package can be loaded ... OK
* checking whether the package can be loaded with stated dependencies ... OK
* checking whether the package can be unloaded cleanly ... OK
* checking whether the namespace can be loaded with stated dependencies ... OK
* checking whether the namespace can be unloaded cleanly ... OK
* checking loading without being on the library search path ... OK
* checking whether startup messages can be suppressed ... OK
* checking dependencies in R code ... OK
* checking S3 generic/method consistency ... OK
* checking replacement functions ... OK
* checking foreign function calls ... OK
* checking R code for possible problems ... OK
* checking Rd files ... OK
* checking Rd metadata ... OK
* checking Rd cross-references ... OK
* checking for missing documentation entries ... OK
* checking for code/documentation mismatches ... OK
* checking Rd \usage sections ... OK
* checking Rd contents ... OK
* checking for unstated dependencies in examples ... OK
* checking contents of ‘data’ directory ... OK
* checking data for non-ASCII characters ... OK
* checking LazyData ... OK
* checking data for ASCII and uncompressed saves ... OK
* checking files in ‘vignettes’ ... OK
* checking examples ... OK
Examples with CPU (user + system) or elapsed time > 5s
           user system elapsed
findLinks 6.134  0.967    6.51
* checking for unstated dependencies in vignettes ... OK
* checking package vignettes ... OK
* checking re-building of vignette outputs ... OK
* checking PDF version of manual ... OK
* DONE
Status: OK
CAGEfightR.Rcheck/00install.out
############################################################################## ############################################################################## ### ### Running command: ### ### /home/biocbuild/bbs-3.22-bioc/R/bin/R CMD INSTALL CAGEfightR ### ############################################################################## ############################################################################## * installing to library ‘/home/biocbuild/bbs-3.22-bioc/R/site-library’ * installing *source* package ‘CAGEfightR’ ... ** this is package ‘CAGEfightR’ version ‘1.30.0’ ** using staged installation ** R ** data *** moving datasets to lazyload DB ** inst ** byte-compile and prepare package for lazy loading ** help *** installing help indices ** building package indices ** installing vignettes ** testing if installed package can be loaded from temporary location ** testing if installed package can be loaded from final location ** testing if installed package keeps a record of temporary installation path * DONE (CAGEfightR)
CAGEfightR.Rcheck/CAGEfightR-Ex.timings
| name | user | system | elapsed | |
| assignGeneID | 3.357 | 0.098 | 3.458 | |
| assignMissingID | 0.884 | 0.004 | 0.888 | |
| assignTxID | 0.784 | 0.007 | 0.791 | |
| assignTxType | 0.001 | 0.000 | 0.001 | |
| balanceBC | 0 | 0 | 0 | |
| balanceD | 0 | 0 | 0 | |
| bwCommonGenome | 0.029 | 0.003 | 0.034 | |
| bwGenomeCompatibility | 0.014 | 0.001 | 0.016 | |
| bwValid | 0.007 | 0.000 | 0.007 | |
| calcBidirectionality | 0.384 | 0.005 | 0.389 | |
| calcComposition | 1.165 | 0.005 | 1.169 | |
| calcPooled | 0.082 | 0.000 | 0.082 | |
| calcShape | 2.166 | 0.055 | 2.221 | |
| calcSupport | 0.088 | 0.005 | 0.093 | |
| calcTPM | 0.106 | 0.003 | 0.109 | |
| calcTotalTags | 0.052 | 0.005 | 0.057 | |
| checkCTSSs | 0.216 | 0.008 | 0.225 | |
| checkPeaked | 0.052 | 0.007 | 0.059 | |
| checkPooled | 0.073 | 0.004 | 0.077 | |
| clusterBidirectionally | 0.000 | 0.000 | 0.001 | |
| clusterUnidirectionally | 1.394 | 0.049 | 1.443 | |
| combineClusters | 0.729 | 0.008 | 0.738 | |
| convertBAM2BigWig | 0.001 | 0.000 | 0.000 | |
| convertBED2BigWig | 0 | 0 | 0 | |
| convertGRanges2GPos | 0.066 | 0.000 | 0.066 | |
| exampleDesign | 0.002 | 0.001 | 0.004 | |
| findLinks | 6.134 | 0.967 | 6.510 | |
| findStretches | 0.331 | 0.051 | 0.382 | |
| quantifyCTSSs | 0 | 0 | 0 | |
| quantifyCTSSs2 | 0.001 | 0.000 | 0.000 | |
| quantifyClusters | 0.328 | 0.066 | 0.394 | |
| quantifyGenes | 1.094 | 0.151 | 1.245 | |
| quickEnhancers | 0.000 | 0.000 | 0.001 | |
| quickGenes | 0 | 0 | 0 | |
| quickTSSs | 0.000 | 0.000 | 0.001 | |
| shapeEntropy | 0 | 0 | 0 | |
| shapeIQR | 0 | 0 | 0 | |
| shapeMean | 0.000 | 0.000 | 0.001 | |
| shapeMultimodality | 0 | 0 | 0 | |
| subsetByBidirectionality | 0.370 | 0.068 | 0.438 | |
| subsetByComposition | 1.043 | 0.028 | 1.071 | |
| subsetBySupport | 0.061 | 0.000 | 0.061 | |
| swapRanges | 0.152 | 0.002 | 0.154 | |
| swapScores | 0.083 | 0.001 | 0.084 | |
| trackBalance | 0.001 | 0.000 | 0.000 | |
| trackCTSS | 3.102 | 0.517 | 3.620 | |
| trackClusters | 2.119 | 0.195 | 2.314 | |
| trackLinks | 0.822 | 0.491 | 1.044 | |
| trimToPeak | 0.755 | 0.125 | 0.880 | |
| trimToPercentiles | 1.953 | 0.159 | 2.112 | |
| tuneTagClustering | 0 | 0 | 0 | |
| utilsAggregateRows | 0.256 | 0.065 | 0.321 | |
| utilsDeStrand | 0.105 | 0.001 | 0.106 | |
| utilsScoreOverlaps | 0.056 | 0.000 | 0.056 | |
| utilsSimplifyTxDb | 0.000 | 0.000 | 0.001 | |