| Back to Multiple platform build/check report for BioC 3.21: simplified long |
|
This page was generated on 2025-10-16 11:38 -0400 (Thu, 16 Oct 2025).
| Hostname | OS | Arch (*) | R version | Installed pkgs |
|---|---|---|---|---|
| nebbiolo1 | Linux (Ubuntu 24.04.3 LTS) | x86_64 | 4.5.1 (2025-06-13) -- "Great Square Root" | 4833 |
| merida1 | macOS 12.7.6 Monterey | x86_64 | 4.5.1 RC (2025-06-05 r88288) -- "Great Square Root" | 4614 |
| kjohnson1 | macOS 13.7.5 Ventura | arm64 | 4.5.1 Patched (2025-06-14 r88325) -- "Great Square Root" | 4555 |
| kunpeng2 | Linux (openEuler 24.03 LTS) | aarch64 | R Under development (unstable) (2025-02-19 r87757) -- "Unsuffered Consequences" | 4586 |
| Click on any hostname to see more info about the system (e.g. compilers) (*) as reported by 'uname -p', except on Windows and Mac OS X | ||||
| Package 266/2341 | Hostname | OS / Arch | INSTALL | BUILD | CHECK | BUILD BIN | ||||||||
| CAGEfightR 1.28.0 (landing page) Malte Thodberg
| nebbiolo1 | Linux (Ubuntu 24.04.3 LTS) / x86_64 | OK | OK | OK | |||||||||
| merida1 | macOS 12.7.6 Monterey / x86_64 | OK | OK | OK | OK | |||||||||
| kjohnson1 | macOS 13.7.5 Ventura / arm64 | OK | OK | OK | OK | |||||||||
| kunpeng2 | Linux (openEuler 24.03 LTS) / aarch64 | OK | OK | OK | ||||||||||
|
To the developers/maintainers of the CAGEfightR package: - Allow up to 24 hours (and sometimes 48 hours) for your latest push to git@git.bioconductor.org:packages/CAGEfightR.git to reflect on this report. See Troubleshooting Build Report for more information. - Use the following Renviron settings to reproduce errors and warnings. - If 'R CMD check' started to fail recently on the Linux builder(s) over a missing dependency, add the missing dependency to 'Suggests:' in your DESCRIPTION file. See Renviron.bioc for more information. |
| Package: CAGEfightR |
| Version: 1.28.0 |
| Command: /Library/Frameworks/R.framework/Resources/bin/R CMD check --install=check:CAGEfightR.install-out.txt --library=/Library/Frameworks/R.framework/Resources/library --no-vignettes --timings CAGEfightR_1.28.0.tar.gz |
| StartedAt: 2025-10-14 00:59:53 -0400 (Tue, 14 Oct 2025) |
| EndedAt: 2025-10-14 01:12:38 -0400 (Tue, 14 Oct 2025) |
| EllapsedTime: 765.0 seconds |
| RetCode: 0 |
| Status: OK |
| CheckDir: CAGEfightR.Rcheck |
| Warnings: 0 |
##############################################################################
##############################################################################
###
### Running command:
###
### /Library/Frameworks/R.framework/Resources/bin/R CMD check --install=check:CAGEfightR.install-out.txt --library=/Library/Frameworks/R.framework/Resources/library --no-vignettes --timings CAGEfightR_1.28.0.tar.gz
###
##############################################################################
##############################################################################
* using log directory ‘/Users/biocbuild/bbs-3.21-bioc/meat/CAGEfightR.Rcheck’
* using R version 4.5.1 RC (2025-06-05 r88288)
* using platform: x86_64-apple-darwin20
* R was compiled by
Apple clang version 14.0.0 (clang-1400.0.29.202)
GNU Fortran (GCC) 14.2.0
* running under: macOS Monterey 12.7.6
* using session charset: UTF-8
* using option ‘--no-vignettes’
* checking for file ‘CAGEfightR/DESCRIPTION’ ... OK
* checking extension type ... Package
* this is package ‘CAGEfightR’ version ‘1.28.0’
* package encoding: UTF-8
* checking package namespace information ... OK
* checking package dependencies ... OK
* checking if this is a source package ... OK
* checking if there is a namespace ... OK
* checking for hidden files and directories ... OK
* checking for portable file names ... OK
* checking for sufficient/correct file permissions ... OK
* checking whether package ‘CAGEfightR’ can be installed ... OK
* checking installed package size ... OK
* checking package directory ... OK
* checking ‘build’ directory ... OK
* checking DESCRIPTION meta-information ... OK
* checking top-level files ... OK
* checking for left-over files ... OK
* checking index information ... OK
* checking package subdirectories ... OK
* checking code files for non-ASCII characters ... OK
* checking R files for syntax errors ... OK
* checking whether the package can be loaded ... OK
* checking whether the package can be loaded with stated dependencies ... OK
* checking whether the package can be unloaded cleanly ... OK
* checking whether the namespace can be loaded with stated dependencies ... OK
* checking whether the namespace can be unloaded cleanly ... OK
* checking whether startup messages can be suppressed ... OK
* checking dependencies in R code ... OK
* checking S3 generic/method consistency ... OK
* checking replacement functions ... OK
* checking foreign function calls ... OK
* checking R code for possible problems ... OK
* checking Rd files ... OK
* checking Rd metadata ... OK
* checking Rd cross-references ... OK
* checking for missing documentation entries ... OK
* checking for code/documentation mismatches ... OK
* checking Rd \usage sections ... OK
* checking Rd contents ... OK
* checking for unstated dependencies in examples ... OK
* checking contents of ‘data’ directory ... OK
* checking data for non-ASCII characters ... OK
* checking LazyData ... OK
* checking data for ASCII and uncompressed saves ... OK
* checking files in ‘vignettes’ ... OK
* checking examples ... OK
Examples with CPU (user + system) or elapsed time > 5s
user system elapsed
findLinks 8.277 1.132 8.709
calcShape 6.055 0.338 6.408
assignGeneID 6.115 0.185 6.906
trackCTSS 5.804 0.333 6.271
trimToPercentiles 5.011 0.091 5.155
* checking for unstated dependencies in vignettes ... OK
* checking package vignettes ... OK
* checking running R code from vignettes ... SKIPPED
* checking re-building of vignette outputs ... SKIPPED
* checking PDF version of manual ... OK
* DONE
Status: OK
CAGEfightR.Rcheck/00install.out
############################################################################## ############################################################################## ### ### Running command: ### ### /Library/Frameworks/R.framework/Resources/bin/R CMD INSTALL CAGEfightR ### ############################################################################## ############################################################################## * installing to library ‘/Library/Frameworks/R.framework/Versions/4.5-x86_64/Resources/library’ * installing *source* package ‘CAGEfightR’ ... ** this is package ‘CAGEfightR’ version ‘1.28.0’ ** using staged installation ** R ** data *** moving datasets to lazyload DB ** inst ** byte-compile and prepare package for lazy loading ** help *** installing help indices ** building package indices ** installing vignettes ** testing if installed package can be loaded from temporary location ** testing if installed package can be loaded from final location ** testing if installed package keeps a record of temporary installation path * DONE (CAGEfightR)
CAGEfightR.Rcheck/CAGEfightR-Ex.timings
| name | user | system | elapsed | |
| assignGeneID | 6.115 | 0.185 | 6.906 | |
| assignMissingID | 1.943 | 0.048 | 2.015 | |
| assignTxID | 1.709 | 0.039 | 1.760 | |
| assignTxType | 0.000 | 0.002 | 0.002 | |
| balanceBC | 0.001 | 0.001 | 0.002 | |
| balanceD | 0.001 | 0.000 | 0.002 | |
| bwCommonGenome | 0.073 | 0.009 | 0.084 | |
| bwGenomeCompatibility | 0.037 | 0.006 | 0.045 | |
| bwValid | 0.016 | 0.005 | 0.022 | |
| calcBidirectionality | 0.934 | 0.024 | 1.019 | |
| calcComposition | 3.670 | 0.068 | 3.879 | |
| calcPooled | 0.205 | 0.029 | 0.260 | |
| calcShape | 6.055 | 0.338 | 6.408 | |
| calcSupport | 0.207 | 0.008 | 0.215 | |
| calcTPM | 0.243 | 0.006 | 0.249 | |
| calcTotalTags | 0.110 | 0.004 | 0.114 | |
| checkCTSSs | 0.517 | 0.009 | 0.527 | |
| checkPeaked | 0.121 | 0.005 | 0.127 | |
| checkPooled | 0.114 | 0.007 | 0.121 | |
| clusterBidirectionally | 0.000 | 0.001 | 0.001 | |
| clusterUnidirectionally | 3.368 | 0.031 | 3.405 | |
| combineClusters | 1.670 | 0.024 | 1.697 | |
| convertBAM2BigWig | 0.000 | 0.000 | 0.001 | |
| convertBED2BigWig | 0.000 | 0.001 | 0.002 | |
| convertGRanges2GPos | 0.154 | 0.001 | 0.156 | |
| exampleDesign | 0.009 | 0.017 | 0.025 | |
| findLinks | 8.277 | 1.132 | 8.709 | |
| findStretches | 0.908 | 0.152 | 1.067 | |
| quantifyCTSSs | 0.000 | 0.002 | 0.002 | |
| quantifyCTSSs2 | 0.001 | 0.002 | 0.002 | |
| quantifyClusters | 0.780 | 0.108 | 0.893 | |
| quantifyGenes | 2.404 | 0.248 | 2.701 | |
| quickEnhancers | 0.000 | 0.000 | 0.001 | |
| quickGenes | 0.000 | 0.000 | 0.001 | |
| quickTSSs | 0.000 | 0.000 | 0.001 | |
| shapeEntropy | 0.001 | 0.000 | 0.001 | |
| shapeIQR | 0.001 | 0.001 | 0.002 | |
| shapeMean | 0.001 | 0.001 | 0.002 | |
| shapeMultimodality | 0.001 | 0.000 | 0.001 | |
| subsetByBidirectionality | 0.918 | 0.047 | 1.106 | |
| subsetByComposition | 2.387 | 0.057 | 2.492 | |
| subsetBySupport | 0.168 | 0.023 | 0.192 | |
| swapRanges | 0.312 | 0.012 | 0.324 | |
| swapScores | 0.189 | 0.010 | 0.200 | |
| trackBalance | 0.000 | 0.001 | 0.001 | |
| trackCTSS | 5.804 | 0.333 | 6.271 | |
| trackClusters | 3.525 | 0.035 | 3.583 | |
| trackLinks | 2.118 | 0.558 | 2.412 | |
| trimToPeak | 2.070 | 0.261 | 2.394 | |
| trimToPercentiles | 5.011 | 0.091 | 5.155 | |
| tuneTagClustering | 0.000 | 0.002 | 0.001 | |
| utilsAggregateRows | 0.791 | 1.162 | 1.976 | |
| utilsDeStrand | 0.244 | 0.007 | 0.252 | |
| utilsScoreOverlaps | 0.148 | 0.002 | 0.154 | |
| utilsSimplifyTxDb | 0.000 | 0.001 | 0.001 | |