Back to Multiple platform build/check report for BioC 3.22:   simplified   long
AB[C]DEFGHIJKLMNOPQRSTUVWXYZ

This page was generated on 2025-11-24 12:03 -0500 (Mon, 24 Nov 2025).

HostnameOSArch (*)R versionInstalled pkgs
nebbiolo2Linux (Ubuntu 24.04.3 LTS)x86_644.5.2 (2025-10-31) -- "[Not] Part in a Rumble" 4873
merida1macOS 12.7.6 Montereyx86_644.5.2 Patched (2025-11-05 r88990) -- "[Not] Part in a Rumble" 4654
kjohnson1macOS 13.7.5 Venturaarm644.5.2 Patched (2025-11-04 r88984) -- "[Not] Part in a Rumble" 4600
taishanLinux (openEuler 24.03 LTS)aarch644.5.0 (2025-04-11) -- "How About a Twenty-Six" 4668
Click on any hostname to see more info about the system (e.g. compilers)      (*) as reported by 'uname -p', except on Windows and Mac OS X

Package 273/2361HostnameOS / ArchINSTALLBUILDCHECKBUILD BIN
CAGEr 2.16.0  (landing page)
Charles Plessy
Snapshot Date: 2025-11-20 15:01 -0500 (Thu, 20 Nov 2025)
git_url: https://git.bioconductor.org/packages/CAGEr
git_branch: RELEASE_3_22
git_last_commit: b717389
git_last_commit_date: 2025-10-29 10:13:45 -0500 (Wed, 29 Oct 2025)
nebbiolo2Linux (Ubuntu 24.04.3 LTS) / x86_64  OK    OK    OK  UNNEEDED, same version is already published
merida1macOS 12.7.6 Monterey / x86_64  OK    OK    OK    OK  UNNEEDED, same version is already published
kjohnson1macOS 13.7.5 Ventura / arm64  OK    OK    OK    OK  UNNEEDED, same version is already published
taishanLinux (openEuler 24.03 LTS) / aarch64  OK    OK    OK  


CHECK results for CAGEr on nebbiolo2

To the developers/maintainers of the CAGEr package:
- Allow up to 24 hours (and sometimes 48 hours) for your latest push to git@git.bioconductor.org:packages/CAGEr.git to reflect on this report. See Troubleshooting Build Report for more information.
- Use the following Renviron settings to reproduce errors and warnings.
- If 'R CMD check' started to fail recently on the Linux builder(s) over a missing dependency, add the missing dependency to 'Suggests:' in your DESCRIPTION file. See Renviron.bioc for more information.

raw results


Summary

Package: CAGEr
Version: 2.16.0
Command: /home/biocbuild/bbs-3.22-bioc/R/bin/R CMD check --install=check:CAGEr.install-out.txt --library=/home/biocbuild/bbs-3.22-bioc/R/site-library --timings CAGEr_2.16.0.tar.gz
StartedAt: 2025-11-20 22:32:00 -0500 (Thu, 20 Nov 2025)
EndedAt: 2025-11-20 22:44:38 -0500 (Thu, 20 Nov 2025)
EllapsedTime: 757.7 seconds
RetCode: 0
Status:   OK  
CheckDir: CAGEr.Rcheck
Warnings: 0

Command output

##############################################################################
##############################################################################
###
### Running command:
###
###   /home/biocbuild/bbs-3.22-bioc/R/bin/R CMD check --install=check:CAGEr.install-out.txt --library=/home/biocbuild/bbs-3.22-bioc/R/site-library --timings CAGEr_2.16.0.tar.gz
###
##############################################################################
##############################################################################


* using log directory ‘/home/biocbuild/bbs-3.22-bioc/meat/CAGEr.Rcheck’
* using R version 4.5.2 (2025-10-31)
* using platform: x86_64-pc-linux-gnu
* R was compiled by
    gcc (Ubuntu 13.3.0-6ubuntu2~24.04) 13.3.0
    GNU Fortran (Ubuntu 13.3.0-6ubuntu2~24.04) 13.3.0
* running under: Ubuntu 24.04.3 LTS
* using session charset: UTF-8
* checking for file ‘CAGEr/DESCRIPTION’ ... OK
* this is package ‘CAGEr’ version ‘2.16.0’
* package encoding: UTF-8
* checking package namespace information ... OK
* checking package dependencies ... INFO
Imports includes 30 non-default packages.
Importing from so many packages makes the package vulnerable to any of
them becoming unavailable.  Move as many as possible to Suggests and
use conditionally.
* checking if this is a source package ... OK
* checking if there is a namespace ... OK
* checking for hidden files and directories ... OK
* checking for portable file names ... OK
* checking for sufficient/correct file permissions ... OK
* checking whether package ‘CAGEr’ can be installed ... OK
* checking installed package size ... OK
* checking package directory ... OK
* checking ‘build’ directory ... OK
* checking DESCRIPTION meta-information ... OK
* checking top-level files ... OK
* checking for left-over files ... OK
* checking index information ... OK
* checking package subdirectories ... OK
* checking code files for non-ASCII characters ... OK
* checking R files for syntax errors ... OK
* checking whether the package can be loaded ... OK
* checking whether the package can be loaded with stated dependencies ... OK
* checking whether the package can be unloaded cleanly ... OK
* checking whether the namespace can be loaded with stated dependencies ... OK
* checking whether the namespace can be unloaded cleanly ... OK
* checking loading without being on the library search path ... OK
* checking dependencies in R code ... OK
* checking S3 generic/method consistency ... OK
* checking replacement functions ... OK
* checking foreign function calls ... OK
* checking R code for possible problems ... OK
* checking Rd files ... OK
* checking Rd metadata ... OK
* checking Rd cross-references ... OK
* checking for missing documentation entries ... OK
* checking for code/documentation mismatches ... OK
* checking Rd \usage sections ... OK
* checking Rd contents ... OK
* checking for unstated dependencies in examples ... OK
* checking contents of ‘data’ directory ... OK
* checking data for non-ASCII characters ... OK
* checking LazyData ... OK
* checking data for ASCII and uncompressed saves ... OK
* checking files in ‘vignettes’ ... OK
* checking examples ... OK
Examples with CPU (user + system) or elapsed time > 5s
                         user system elapsed
paraclu                43.150  0.215  43.365
exportToTrack          36.453  0.227  36.681
scoreShift             21.208  0.139  21.347
aggregateTagClusters   19.350  0.178  19.528
annotateCTSS           12.210  0.074  12.283
quantilePositions      12.048  0.124  12.173
distclu                10.507  0.131  10.638
plotExpressionProfiles  9.209  0.228   9.438
getExpressionProfiles   5.059  0.015   5.074
* checking for unstated dependencies in vignettes ... OK
* checking package vignettes ... OK
* checking re-building of vignette outputs ... OK
* checking PDF version of manual ... OK
* DONE

Status: OK


Installation output

CAGEr.Rcheck/00install.out

##############################################################################
##############################################################################
###
### Running command:
###
###   /home/biocbuild/bbs-3.22-bioc/R/bin/R CMD INSTALL CAGEr
###
##############################################################################
##############################################################################


* installing to library ‘/home/biocbuild/bbs-3.22-bioc/R/site-library’
* installing *source* package ‘CAGEr’ ...
** this is package ‘CAGEr’ version ‘2.16.0’
** using staged installation
** R
** data
*** moving datasets to lazyload DB
** inst
** byte-compile and prepare package for lazy loading
** help
*** installing help indices
** building package indices
** installing vignettes
** testing if installed package can be loaded from temporary location
** testing if installed package can be loaded from final location
** testing if installed package keeps a record of temporary installation path
* DONE (CAGEr)

Tests output


Example timings

CAGEr.Rcheck/CAGEr-Ex.timings

nameusersystemelapsed
CAGEexp-class2.8810.1303.016
CAGEr_Multicore3.7650.0523.818
CTSS-class0.2430.0000.243
CTSScoordinates0.0770.0010.079
CTSSnormalizedTpm0.6930.0350.729
CTSStagCount0.6230.1060.729
CTSStoGenes0.3770.0610.439
CustomConsensusClusters4.5830.0934.676
GeneExpDESeq20.4710.0120.484
GeneExpSE0.0030.0000.004
QuantileWidthFunctions0.1420.0010.143
TSSlogo2.6960.0902.790
aggregateTagClusters19.350 0.17819.528
annotateCTSS12.210 0.07412.283
byCtss0.0150.0000.014
consensusClusters0.1430.0030.146
consensusClustersDESeq21.9830.0011.984
consensusClustersTpm0.0050.0000.006
cumulativeCTSSdistribution3.5480.0493.598
distclu10.507 0.13110.638
dot-ctss_summary_for_clusters0.8520.0000.851
exampleCAGEexp000
exportToTrack36.453 0.22736.681
expressionClasses1.8730.0131.886
filteredCTSSidx0.010.000.01
flagLowExpCTSS0.0350.0000.036
genomeName0.0000.0000.001
getCTSS0.9420.0120.954
getExpressionProfiles5.0590.0155.074
getShiftingPromoters1.9050.0031.907
hanabi0.2250.0030.228
hanabiPlot0.2790.0120.291
import.CAGEscanMolecule000
import.CTSS0.0770.0010.079
import.bam000
import.bedCTSS000
import.bedScore000
import.bedmolecule000
import.bigwig0.3210.0000.320
importPublicData000
inputFiles0.0000.0010.001
inputFilesType0.0010.0000.001
librarySizes0.0010.0000.001
mapStats0.0830.0000.082
mergeCAGEsets2.0860.0192.105
mergeSamples0.4350.0010.436
moleculesGR2CTSS0.1210.0020.123
normalizeTagCount0.4970.0090.484
paraclu43.150 0.21543.365
parseCAGEscanBlocksToGrangeTSS0.0210.0010.022
plotAnnot3.2200.0193.239
plotCorrelation0.2440.0000.244
plotExpressionProfiles9.2090.2289.438
plotInterquantileWidth2.2120.0282.240
plotReverseCumulatives2.6430.0022.584
quantilePositions12.048 0.12412.173
quickEnhancers000
ranges2annot0.3270.0010.328
ranges2genes0.0560.0000.057
ranges2names0.0540.0010.056
resetCAGEexp0.3120.0000.312
rowSums.RleDataFrame0.0210.0000.021
rowsum.RleDataFrame0.0230.0000.023
sampleLabels0.0040.0000.003
scoreShift21.208 0.13921.347
seqNameTotalsSE0.0030.0000.004
setColors0.2910.0000.291
strandInvaders0.5630.0210.570
summariseChrExpr0.3920.0010.394
tagClusters0.3860.0000.387