| Back to Multiple platform build/check report for BioC 3.22: simplified long |
|
This page was generated on 2025-11-11 12:02 -0500 (Tue, 11 Nov 2025).
| Hostname | OS | Arch (*) | R version | Installed pkgs |
|---|---|---|---|---|
| nebbiolo2 | Linux (Ubuntu 24.04.3 LTS) | x86_64 | 4.5.1 Patched (2025-08-23 r88802) -- "Great Square Root" | 4902 |
| kjohnson3 | macOS 13.7.7 Ventura | arm64 | 4.5.1 Patched (2025-09-10 r88807) -- "Great Square Root" | 4638 |
| Click on any hostname to see more info about the system (e.g. compilers) (*) as reported by 'uname -p', except on Windows and Mac OS X | ||||
| Package 535/2361 | Hostname | OS / Arch | INSTALL | BUILD | CHECK | BUILD BIN | ||||||||
| decompTumor2Sig 2.26.0 (landing page) Rosario M. Piro
| nebbiolo2 | Linux (Ubuntu 24.04.3 LTS) / x86_64 | OK | OK | OK | |||||||||
| kjohnson3 | macOS 13.7.7 Ventura / arm64 | OK | TIMEOUT | skipped | skipped | |||||||||
|
To the developers/maintainers of the decompTumor2Sig package: - Allow up to 24 hours (and sometimes 48 hours) for your latest push to git@git.bioconductor.org:packages/decompTumor2Sig.git to reflect on this report. See Troubleshooting Build Report for more information. - Use the following Renviron settings to reproduce errors and warnings. - If 'R CMD check' started to fail recently on the Linux builder(s) over a missing dependency, add the missing dependency to 'Suggests:' in your DESCRIPTION file. See Renviron.bioc for more information. |
| Package: decompTumor2Sig |
| Version: 2.26.0 |
| Command: /home/biocbuild/bbs-3.22-bioc/R/bin/R CMD check --install=check:decompTumor2Sig.install-out.txt --library=/home/biocbuild/bbs-3.22-bioc/R/site-library --timings decompTumor2Sig_2.26.0.tar.gz |
| StartedAt: 2025-11-10 22:55:54 -0500 (Mon, 10 Nov 2025) |
| EndedAt: 2025-11-10 23:06:36 -0500 (Mon, 10 Nov 2025) |
| EllapsedTime: 642.6 seconds |
| RetCode: 0 |
| Status: OK |
| CheckDir: decompTumor2Sig.Rcheck |
| Warnings: 0 |
##############################################################################
##############################################################################
###
### Running command:
###
### /home/biocbuild/bbs-3.22-bioc/R/bin/R CMD check --install=check:decompTumor2Sig.install-out.txt --library=/home/biocbuild/bbs-3.22-bioc/R/site-library --timings decompTumor2Sig_2.26.0.tar.gz
###
##############################################################################
##############################################################################
* using log directory ‘/home/biocbuild/bbs-3.22-bioc/meat/decompTumor2Sig.Rcheck’
* using R version 4.5.1 Patched (2025-08-23 r88802)
* using platform: x86_64-pc-linux-gnu
* R was compiled by
gcc (Ubuntu 13.3.0-6ubuntu2~24.04) 13.3.0
GNU Fortran (Ubuntu 13.3.0-6ubuntu2~24.04) 13.3.0
* running under: Ubuntu 24.04.3 LTS
* using session charset: UTF-8
* checking for file ‘decompTumor2Sig/DESCRIPTION’ ... OK
* checking extension type ... Package
* this is package ‘decompTumor2Sig’ version ‘2.26.0’
* package encoding: UTF-8
* checking package namespace information ... OK
* checking package dependencies ... OK
* checking if this is a source package ... OK
* checking if there is a namespace ... OK
* checking for hidden files and directories ... OK
* checking for portable file names ... OK
* checking for sufficient/correct file permissions ... OK
* checking whether package ‘decompTumor2Sig’ can be installed ... OK
* checking installed package size ... OK
* checking package directory ... OK
* checking ‘build’ directory ... OK
* checking DESCRIPTION meta-information ... OK
* checking top-level files ... OK
* checking for left-over files ... OK
* checking index information ... OK
* checking package subdirectories ... OK
* checking code files for non-ASCII characters ... OK
* checking R files for syntax errors ... OK
* checking whether the package can be loaded ... OK
* checking whether the package can be loaded with stated dependencies ... OK
* checking whether the package can be unloaded cleanly ... OK
* checking whether the namespace can be loaded with stated dependencies ... OK
* checking whether the namespace can be unloaded cleanly ... OK
* checking loading without being on the library search path ... OK
* checking whether startup messages can be suppressed ... OK
* checking dependencies in R code ... OK
* checking S3 generic/method consistency ... OK
* checking replacement functions ... OK
* checking foreign function calls ... OK
* checking R code for possible problems ... OK
* checking Rd files ... OK
* checking Rd metadata ... OK
* checking Rd cross-references ... OK
* checking for missing documentation entries ... OK
* checking for code/documentation mismatches ... OK
* checking Rd \usage sections ... OK
* checking Rd contents ... OK
* checking for unstated dependencies in examples ... OK
* checking files in ‘vignettes’ ... OK
* checking examples ... OK
Examples with CPU (user + system) or elapsed time > 5s
user system elapsed
plotExplainedVariance 63.688 0.816 64.511
convertGenomesFromVRanges 6.372 0.960 7.353
adjustSignaturesForRegionSet 5.093 0.591 6.902
* checking for unstated dependencies in vignettes ... OK
* checking package vignettes ... OK
* checking re-building of vignette outputs ... OK
* checking PDF version of manual ... OK
* DONE
Status: OK
decompTumor2Sig.Rcheck/00install.out
############################################################################## ############################################################################## ### ### Running command: ### ### /home/biocbuild/bbs-3.22-bioc/R/bin/R CMD INSTALL decompTumor2Sig ### ############################################################################## ############################################################################## * installing to library ‘/home/biocbuild/bbs-3.22-bioc/R/site-library’ * installing *source* package ‘decompTumor2Sig’ ... ** this is package ‘decompTumor2Sig’ version ‘2.26.0’ ** using staged installation ** R ** inst ** byte-compile and prepare package for lazy loading ** help *** installing help indices ** building package indices ** installing vignettes ** testing if installed package can be loaded from temporary location ** testing if installed package can be loaded from final location ** testing if installed package keeps a record of temporary installation path * DONE (decompTumor2Sig)
decompTumor2Sig.Rcheck/decompTumor2Sig-Ex.timings
| name | user | system | elapsed | |
| adjustSignaturesForRegionSet | 5.093 | 0.591 | 6.902 | |
| composeGenomesFromExposures | 0.239 | 0.024 | 0.919 | |
| computeExplainedVariance | 0.323 | 0.108 | 1.085 | |
| convertAlexandrov2Shiraishi | 0.108 | 0.014 | 0.757 | |
| convertGenomesFromVRanges | 6.372 | 0.960 | 7.353 | |
| decomposeTumorGenomes | 3.082 | 0.551 | 4.560 | |
| determineSignatureDistances | 0.111 | 0.029 | 0.762 | |
| downgradeShiraishiSignatures | 0.007 | 0.000 | 0.007 | |
| evaluateDecompositionQuality | 0.213 | 0.017 | 0.880 | |
| getGenomesFromMutFeatData | 0.369 | 0.045 | 0.415 | |
| getSignaturesFromEstParam | 0.124 | 0.001 | 0.126 | |
| isAlexandrovSet | 0.075 | 0.017 | 0.790 | |
| isExposureSet | 2.669 | 0.444 | 3.753 | |
| isShiraishiSet | 0.101 | 0.024 | 0.759 | |
| isSignatureSet | 0.098 | 0.007 | 0.748 | |
| mapSignatureSets | 0.197 | 0.019 | 1.031 | |
| plotDecomposedContribution | 0.700 | 0.097 | 1.446 | |
| plotExplainedVariance | 63.688 | 0.816 | 64.511 | |
| plotMutationDistribution | 2.980 | 0.035 | 3.665 | |
| readAlexandrovSignatures | 0.076 | 0.008 | 0.734 | |
| readGenomesFromMPF | 4.284 | 0.664 | 4.949 | |
| readGenomesFromVCF | 3.530 | 0.254 | 3.785 | |
| readShiraishiSignatures | 0.004 | 0.001 | 0.005 | |
| sameSignatureFormat | 0.158 | 0.019 | 0.801 | |