Back to Build/check report for BioC 3.23:   simplified   long
A[B]CDEFGHIJKLMNOPQRSTUVWXYZ

This page was generated on 2025-10-31 08:33 -0400 (Fri, 31 Oct 2025).

HostnameOSArch (*)R versionInstalled pkgs
nebbiolo1Linux (Ubuntu 24.04.3 LTS)x86_64R Under development (unstable) (2025-10-20 r88955) -- "Unsuffered Consequences" 4428
Click on any hostname to see more info about the system (e.g. compilers)      (*) as reported by 'uname -p', except on Windows and Mac OS X

All results for package Biobase


To the developers/maintainers of the Biobase package:
- Allow up to 24 hours (and sometimes 48 hours) for your latest push to git@git.bioconductor.org:packages/Biobase.git to reflect on this report. See Troubleshooting Build Report for more information.
- Use the following Renviron settings to reproduce errors and warnings.
- If 'R CMD check' started to fail recently on the Linux builder(s) over a missing dependency, add the missing dependency to 'Suggests:' in your DESCRIPTION file. See Renviron.bioc for more information.

raw results

Package 177/2321HostnameOS / ArchINSTALLBUILDCHECKBUILD BIN
Biobase 2.71.0  (landing page)
Bioconductor Package Maintainer
Snapshot Date: 2025-10-30 13:40 -0400 (Thu, 30 Oct 2025)
git_url: https://git.bioconductor.org/packages/Biobase
git_branch: devel
git_last_commit: 94f68ab
git_last_commit_date: 2025-10-29 09:23:41 -0400 (Wed, 29 Oct 2025)
nebbiolo1Linux (Ubuntu 24.04.3 LTS) / x86_64  OK    OK    OK  YES



Results for Bioconductor software packages that depend directly on package Biobase

QUICK STATSOS / ArchINSTALLBUILDCHECKBUILD BIN
nebbiolo1Linux (Ubuntu 24.04.3 LTS) / x86_64
045383
0121307
02661220
Package 1/428HostnameOS / ArchINSTALLBUILDCHECKBUILD BIN
a4Base 1.59.0  (landing page)
Laure Cougnaud
git_last_commit: 2ae8314
git_last_commit_date: 2025-10-29 10:07:20 -0400
nebbiolo1Linux (Ubuntu 24.04.3 LTS) / x86_64  OK    OK    ERROR  
Package 2/428HostnameOS / ArchINSTALLBUILDCHECKBUILD BIN
a4Classif 1.59.0  (landing page)
Laure Cougnaud
git_last_commit: 45e0ead
git_last_commit_date: 2025-10-29 10:07:26 -0400
nebbiolo1Linux (Ubuntu 24.04.3 LTS) / x86_64  OK    ERROR  skipped
Package 3/428HostnameOS / ArchINSTALLBUILDCHECKBUILD BIN
a4Core 1.59.0  (landing page)
Laure Cougnaud
git_last_commit: c04f1a7
git_last_commit_date: 2025-10-29 10:07:28 -0400
nebbiolo1Linux (Ubuntu 24.04.3 LTS) / x86_64  OK    OK    OK  YES
Package 4/428HostnameOS / ArchINSTALLBUILDCHECKBUILD BIN
a4Preproc 1.59.0  (landing page)
Laure Cougnaud
git_last_commit: 921a89b
git_last_commit_date: 2025-10-29 10:07:23 -0400
nebbiolo1Linux (Ubuntu 24.04.3 LTS) / x86_64  OK    ERROR  skipped
Package 5/428HostnameOS / ArchINSTALLBUILDCHECKBUILD BIN
ABarray 1.79.0  (landing page)
Yongming Andrew Sun
git_last_commit: 839d701
git_last_commit_date: 2025-10-29 09:58:09 -0400
nebbiolo1Linux (Ubuntu 24.04.3 LTS) / x86_64  OK    OK    OK  YES
Package 6/428HostnameOS / ArchINSTALLBUILDCHECKBUILD BIN
ACE 1.29.0  (landing page)
Jos B Poell
git_last_commit: e5dde82
git_last_commit_date: 2025-10-29 10:46:24 -0400
nebbiolo1Linux (Ubuntu 24.04.3 LTS) / x86_64  OK    OK    OK  NO, package depends on 'QDNAseq' which is not available
Package 7/428HostnameOS / ArchINSTALLBUILDCHECKBUILD BIN
aCGH 1.89.0  (landing page)
Peter Dimitrov
git_last_commit: bbcc194
git_last_commit_date: 2025-10-29 09:55:04 -0400
nebbiolo1Linux (Ubuntu 24.04.3 LTS) / x86_64  OK    OK    OK  YES
Package 8/428HostnameOS / ArchINSTALLBUILDCHECKBUILD BIN
ACME 2.67.0  (landing page)
Sean Davis
git_last_commit: 299474e
git_last_commit_date: 2025-10-29 09:59:16 -0400
nebbiolo1Linux (Ubuntu 24.04.3 LTS) / x86_64  OK    OK    WARNINGS  YES
Package 9/428HostnameOS / ArchINSTALLBUILDCHECKBUILD BIN
adSplit 1.81.0  (landing page)
Claudio Lottaz
git_last_commit: a2e95b4
git_last_commit_date: 2025-10-29 09:57:38 -0400
nebbiolo1Linux (Ubuntu 24.04.3 LTS) / x86_64  OK    ERROR  skipped
Package 10/428HostnameOS / ArchINSTALLBUILDCHECKBUILD BIN
affy 1.89.0  (landing page)
Robert D. Shear
git_last_commit: b2e5a66
git_last_commit_date: 2025-10-29 09:42:08 -0400
nebbiolo1Linux (Ubuntu 24.04.3 LTS) / x86_64  OK    ERROR  skipped
Package 11/428HostnameOS / ArchINSTALLBUILDCHECKBUILD BIN
affycomp 1.87.0  (landing page)
Robert D. Shear
git_last_commit: ec5ab1b
git_last_commit_date: 2025-10-29 09:42:25 -0400
nebbiolo1Linux (Ubuntu 24.04.3 LTS) / x86_64  OK    OK    OK  YES
Package 12/428HostnameOS / ArchINSTALLBUILDCHECKBUILD BIN
affyContam 1.69.0  (landing page)
V. Carey
git_last_commit: 87d41e7
git_last_commit_date: 2025-10-29 10:01:45 -0400
nebbiolo1Linux (Ubuntu 24.04.3 LTS) / x86_64  OK    ERROR  skipped
Package 13/428HostnameOS / ArchINSTALLBUILDCHECKBUILD BIN
affycoretools 1.83.0  (landing page)
James W. MacDonald
git_last_commit: c6a0b37
git_last_commit_date: 2025-10-29 09:57:11 -0400
nebbiolo1Linux (Ubuntu 24.04.3 LTS) / x86_64  ERROR    ERROR  skipped
Package 14/428HostnameOS / ArchINSTALLBUILDCHECKBUILD BIN
affyILM 1.63.0  (landing page)
Myriam Kroll and Fabrice Berger
git_last_commit: bd4e9e3
git_last_commit_date: 2025-10-29 10:05:11 -0400
nebbiolo1Linux (Ubuntu 24.04.3 LTS) / x86_64  OK    ERROR  skipped
Package 15/428HostnameOS / ArchINSTALLBUILDCHECKBUILD BIN
affyPLM 1.87.0  (landing page)
Ben Bolstad
git_last_commit: 53a03e9
git_last_commit_date: 2025-10-29 09:53:58 -0400
nebbiolo1Linux (Ubuntu 24.04.3 LTS) / x86_64  OK    ERROR  skipped
Package 16/428HostnameOS / ArchINSTALLBUILDCHECKBUILD BIN
AGDEX 1.59.0  (landing page)
Cuilan lani Gao
git_last_commit: 8634f30
git_last_commit_date: 2025-10-29 10:09:01 -0400
nebbiolo1Linux (Ubuntu 24.04.3 LTS) / x86_64  OK    OK    OK  NO, package depends on 'GSEABase' which is not available
Package 17/428HostnameOS / ArchINSTALLBUILDCHECKBUILD BIN
AgiMicroRna 2.61.0  (landing page)
Pedro Lopez-Romero
git_last_commit: 75a71a9
git_last_commit_date: 2025-10-29 10:03:34 -0400
nebbiolo1Linux (Ubuntu 24.04.3 LTS) / x86_64  ERROR    ERROR  skipped
Package 18/428HostnameOS / ArchINSTALLBUILDCHECKBUILD BIN
AIMS 1.43.0  (landing page)
Eric R Paquet
git_last_commit: 50f1469
git_last_commit_date: 2025-10-29 10:23:05 -0400
nebbiolo1Linux (Ubuntu 24.04.3 LTS) / x86_64  OK    ERROR  skipped
Package 19/428HostnameOS / ArchINSTALLBUILDCHECKBUILD BIN
altcdfenvs 2.73.0  (landing page)
Laurent Gautier
git_last_commit: 2798b4f
git_last_commit_date: 2025-10-29 09:54:38 -0400
nebbiolo1Linux (Ubuntu 24.04.3 LTS) / x86_64  OK    ERROR  skipped
Package 20/428HostnameOS / ArchINSTALLBUILDCHECKBUILD BIN
ANF 1.33.0  (landing page)
Tianle Ma
git_last_commit: 9a47e06
git_last_commit_date: 2025-10-29 10:41:21 -0400
nebbiolo1Linux (Ubuntu 24.04.3 LTS) / x86_64  OK    OK    OK  YES
Package 21/428HostnameOS / ArchINSTALLBUILDCHECKBUILD BIN
annaffy 1.83.0  (landing page)
Colin A. Smith
git_last_commit: 926f56c
git_last_commit_date: 2025-10-29 09:53:40 -0400
nebbiolo1Linux (Ubuntu 24.04.3 LTS) / x86_64  OK    ERROR  skipped
Package 22/428HostnameOS / ArchINSTALLBUILDCHECKBUILD BIN
annmap 1.53.0  (landing page)
Chris Wirth
git_last_commit: d64521e
git_last_commit_date: 2025-10-29 10:11:14 -0400
nebbiolo1Linux (Ubuntu 24.04.3 LTS) / x86_64  OK    OK    WARNINGS  NO, package depends on 'GenomicRanges' which is not available
Package 23/428HostnameOS / ArchINSTALLBUILDCHECKBUILD BIN
annotate 1.89.0  (landing page)
Bioconductor Package Maintainer
git_last_commit: a7eff2c
git_last_commit_date: 2025-10-29 09:23:46 -0400
nebbiolo1Linux (Ubuntu 24.04.3 LTS) / x86_64  OK    ERROR  skipped
Package 24/428HostnameOS / ArchINSTALLBUILDCHECKBUILD BIN
AnnotationDbi 1.73.0  (landing page)
Bioconductor Package Maintainer
git_last_commit: ecf9140
git_last_commit_date: 2025-10-29 09:58:44 -0400
nebbiolo1Linux (Ubuntu 24.04.3 LTS) / x86_64  OK    ERROR  skipped
Package 25/428HostnameOS / ArchINSTALLBUILDCHECKBUILD BIN
AnnotationForge 1.53.0  (landing page)
Bioconductor Package Maintainer
git_last_commit: a113c77
git_last_commit_date: 2025-10-29 10:11:26 -0400
nebbiolo1Linux (Ubuntu 24.04.3 LTS) / x86_64  OK    ERROR  skipped
Package 26/428HostnameOS / ArchINSTALLBUILDCHECKBUILD BIN
AnnotationHubData 1.41.0  (landing page)
Bioconductor Package Maintainer
git_last_commit: 932837e
git_last_commit_date: 2025-10-29 10:27:35 -0400
nebbiolo1Linux (Ubuntu 24.04.3 LTS) / x86_64  ERROR    ERROR  skipped
Package 27/428HostnameOS / ArchINSTALLBUILDCHECKBUILD BIN
annotationTools 1.85.0  (landing page)
Alexandre Kuhn
git_last_commit: 91c80aa
git_last_commit_date: 2025-10-29 09:59:07 -0400
nebbiolo1Linux (Ubuntu 24.04.3 LTS) / x86_64  OK    OK    OK  YES
Package 28/428HostnameOS / ArchINSTALLBUILDCHECKBUILD BIN
ArrayExpress 1.71.0  (landing page)
Jose Marugan
git_last_commit: 4a25159
git_last_commit_date: 2025-10-29 10:01:28 -0400
nebbiolo1Linux (Ubuntu 24.04.3 LTS) / x86_64  OK    ERROR  skipped
Package 29/428HostnameOS / ArchINSTALLBUILDCHECKBUILD BIN
arrayMvout 1.69.0  (landing page)
V. Carey
git_last_commit: 285aeb3
git_last_commit_date: 2025-10-29 10:01:48 -0400
nebbiolo1Linux (Ubuntu 24.04.3 LTS) / x86_64  ERROR    ERROR  skipped
Package 30/428HostnameOS / ArchINSTALLBUILDCHECKBUILD BIN
arrayQualityMetrics 3.67.0  (landing page)
Mike Smith
git_last_commit: 39eac6d
git_last_commit_date: 2025-10-29 09:59:44 -0400
nebbiolo1Linux (Ubuntu 24.04.3 LTS) / x86_64  OK    ERROR  skipped
Package 31/428HostnameOS / ArchINSTALLBUILDCHECKBUILD BIN
attract 1.63.0  (landing page)
Samuel Zimmerman
git_last_commit: e4f7452
git_last_commit_date: 2025-10-29 10:05:14 -0400
nebbiolo1Linux (Ubuntu 24.04.3 LTS) / x86_64  ERROR    ERROR  skipped
Package 32/428HostnameOS / ArchINSTALLBUILDCHECKBUILD BIN
BAGS 2.51.0  (landing page)
Alejandro Quiroz-Zarate
git_last_commit: 7085f81
git_last_commit_date: 2025-10-29 10:10:06 -0400
nebbiolo1Linux (Ubuntu 24.04.3 LTS) / x86_64  OK    OK    OK  YES
Package 33/428HostnameOS / ArchINSTALLBUILDCHECKBUILD BIN
ballgown 2.43.0  (landing page)
Jack Fu
git_last_commit: dae077a
git_last_commit_date: 2025-10-29 10:20:34 -0400
nebbiolo1Linux (Ubuntu 24.04.3 LTS) / x86_64  OK    OK    OK  NO, package depends on 'GenomicRanges' which is not available
Package 34/428HostnameOS / ArchINSTALLBUILDCHECKBUILD BIN
bandle 1.15.0  (landing page)
Oliver M. Crook
git_last_commit: 36c7c56
git_last_commit_date: 2025-10-29 11:16:12 -0400
nebbiolo1Linux (Ubuntu 24.04.3 LTS) / x86_64  OK    OK    WARNINGS  NO, package depends on 'MSnbase' which is not available
Package 35/428HostnameOS / ArchINSTALLBUILDCHECKBUILD BIN
BASiCS 2.23.0  (landing page)
Catalina Vallejos
git_last_commit: c192aba
git_last_commit_date: 2025-10-29 10:41:03 -0400
nebbiolo1Linux (Ubuntu 24.04.3 LTS) / x86_64  OK    OK    WARNINGS  NO, package depends on 'SingleCellExperiment' which is not available
Package 36/428HostnameOS / ArchINSTALLBUILDCHECKBUILD BIN
BayesKnockdown 1.37.0  (landing page)
William Chad Young
git_last_commit: f1134c1
git_last_commit_date: 2025-10-29 10:33:37 -0400
nebbiolo1Linux (Ubuntu 24.04.3 LTS) / x86_64  OK    OK    OK  YES
Package 37/428HostnameOS / ArchINSTALLBUILDCHECKBUILD BIN
beadarray 2.61.0  (landing page)
Mark Dunning
git_last_commit: 0cd2969
git_last_commit_date: 2025-10-29 09:57:32 -0400
nebbiolo1Linux (Ubuntu 24.04.3 LTS) / x86_64  OK    ERROR  skipped
Package 38/428HostnameOS / ArchINSTALLBUILDCHECKBUILD BIN
BgeeDB 2.37.0  (landing page)
Julien Wollbrett , Julien Roux , Andrea Komljenovic , Frederic Bastian
git_last_commit: ac04c8e
git_last_commit_date: 2025-10-29 10:31:46 -0400
nebbiolo1Linux (Ubuntu 24.04.3 LTS) / x86_64  OK    OK    OK  NO, package depends on 'topGO' which is not available
Package 39/428HostnameOS / ArchINSTALLBUILDCHECKBUILD BIN
BicARE 1.69.0  (landing page)
Pierre Gestraud
git_last_commit: 8dec4bf
git_last_commit_date: 2025-10-29 10:01:51 -0400
nebbiolo1Linux (Ubuntu 24.04.3 LTS) / x86_64  OK    ERROR  skipped
Package 40/428HostnameOS / ArchINSTALLBUILDCHECKBUILD BIN
bigmelon 1.37.0  (landing page)
Leonard C. Schalkwyk
git_last_commit: 142a0e8
git_last_commit_date: 2025-10-29 10:34:27 -0400
nebbiolo1Linux (Ubuntu 24.04.3 LTS) / x86_64  ERROR    ERROR  skipped
Package 41/428HostnameOS / ArchINSTALLBUILDCHECKBUILD BIN
biobroom 1.43.0  (landing page)
John D. Storey and Andrew J. Bass
git_last_commit: 825b1c8
git_last_commit_date: 2025-10-29 10:28:32 -0400
nebbiolo1Linux (Ubuntu 24.04.3 LTS) / x86_64  OK    OK    WARNINGS  YES
Package 42/428HostnameOS / ArchINSTALLBUILDCHECKBUILD BIN
bioCancer 1.39.0  (landing page)
Karim Mezhoud
git_last_commit: 45dcc83
git_last_commit_date: 2025-10-29 10:32:26 -0400
nebbiolo1Linux (Ubuntu 24.04.3 LTS) / x86_64  ERROR    ERROR  skipped
Package 43/428HostnameOS / ArchINSTALLBUILDCHECKBUILD BIN
biocViews 1.79.0  (landing page)
Bioconductor Package Maintainer
git_last_commit: c737240
git_last_commit_date: 2025-10-29 09:57:00 -0400
nebbiolo1Linux (Ubuntu 24.04.3 LTS) / x86_64  OK    OK    OK  YES
Package 44/428HostnameOS / ArchINSTALLBUILDCHECKBUILD BIN
bioDist 1.83.0  (landing page)
Bioconductor Package Maintainer
git_last_commit: 65ed63e
git_last_commit_date: 2025-10-29 09:55:50 -0400
nebbiolo1Linux (Ubuntu 24.04.3 LTS) / x86_64  OK    OK    OK  YES
Package 45/428HostnameOS / ArchINSTALLBUILDCHECKBUILD BIN
BioMVCClass 1.79.0  (landing page)
Elizabeth Whalen
git_last_commit: 901e3c4
git_last_commit_date: 2025-10-29 09:58:24 -0400
nebbiolo1Linux (Ubuntu 24.04.3 LTS) / x86_64  OK    OK    OK  YES
Package 46/428HostnameOS / ArchINSTALLBUILDCHECKBUILD BIN
BioNet 1.71.0  (landing page)
Marcus Dittrich
git_last_commit: 9742714
git_last_commit_date: 2025-10-29 10:05:29 -0400
nebbiolo1Linux (Ubuntu 24.04.3 LTS) / x86_64  OK    ERROR  skipped
Package 47/428HostnameOS / ArchINSTALLBUILDCHECKBUILD BIN
BioQC 1.39.0  (landing page)
Jitao David Zhang
git_last_commit: c2f01e7
git_last_commit_date: 2025-10-29 10:28:57 -0400
nebbiolo1Linux (Ubuntu 24.04.3 LTS) / x86_64  OK    ERROR  skipped
Package 48/428HostnameOS / ArchINSTALLBUILDCHECKBUILD BIN
biosigner 1.39.0  (landing page)
Etienne A. Thevenot
git_last_commit: 65312f0
git_last_commit_date: 2025-10-29 10:30:29 -0400
nebbiolo1Linux (Ubuntu 24.04.3 LTS) / x86_64  OK    ERROR  skipped
Package 49/428HostnameOS / ArchINSTALLBUILDCHECKBUILD BIN
biscuiteer 1.25.0  (landing page)
Jacob Morrison
git_last_commit: c74f865
git_last_commit_date: 2025-10-29 10:55:16 -0400
nebbiolo1Linux (Ubuntu 24.04.3 LTS) / x86_64  ERROR    ERROR  skipped
Package 50/428HostnameOS / ArchINSTALLBUILDCHECKBUILD BIN
BiSeq 1.51.0  (landing page)
Katja Hebestreit
git_last_commit: 6c33e6b
git_last_commit_date: 2025-10-29 10:14:44 -0400
nebbiolo1Linux (Ubuntu 24.04.3 LTS) / x86_64  OK    OK    OK  NO, package depends on 'IRanges' which is not available
Package 51/428HostnameOS / ArchINSTALLBUILDCHECKBUILD BIN
blima 1.45.0  (landing page)
Vojtěch Kulvait
git_last_commit: 171a351
git_last_commit_date: 2025-10-29 10:19:35 -0400
nebbiolo1Linux (Ubuntu 24.04.3 LTS) / x86_64  OK    ERROR  skipped
Package 52/428HostnameOS / ArchINSTALLBUILDCHECKBUILD BIN
BLMA 1.35.0  (landing page)
Van-Dung Pham
git_last_commit: 2a54068
git_last_commit_date: 2025-10-29 10:38:21 -0400
nebbiolo1Linux (Ubuntu 24.04.3 LTS) / x86_64  ERROR    ERROR  skipped
Package 53/428HostnameOS / ArchINSTALLBUILDCHECKBUILD BIN
bnem 1.19.0  (landing page)
Martin Pirkl
git_last_commit: c656bcb
git_last_commit_date: 2025-10-29 11:04:57 -0400
nebbiolo1Linux (Ubuntu 24.04.3 LTS) / x86_64  OK    OK    OK  NO, package depends on 'epiNEM' which is not available
Package 54/428HostnameOS / ArchINSTALLBUILDCHECKBUILD BIN
borealis 1.15.0  (landing page)
Garrett Jenkinson
git_last_commit: f928ff2
git_last_commit_date: 2025-10-29 11:16:27 -0400
nebbiolo1Linux (Ubuntu 24.04.3 LTS) / x86_64  OK    OK    OK  NO, package depends on 'bsseq' which is not available
Package 55/428HostnameOS / ArchINSTALLBUILDCHECKBUILD BIN
BreastSubtypeR 1.3.0  (landing page)
Qiao Yang
git_last_commit: 208bd46
git_last_commit_date: 2025-10-29 11:36:09 -0400
nebbiolo1Linux (Ubuntu 24.04.3 LTS) / x86_64  OK    OK    OK  NO, package depends on 'ComplexHeatmap' which is not available
Package 56/428HostnameOS / ArchINSTALLBUILDCHECKBUILD BIN
BSgenomeForge 1.11.0  (landing page)
Hervé Pagès
git_last_commit: c7d1729
git_last_commit_date: 2025-10-29 14:46:49 -0400
nebbiolo1Linux (Ubuntu 24.04.3 LTS) / x86_64  OK    OK    ERROR  
Package 57/428HostnameOS / ArchINSTALLBUILDCHECKBUILD BIN
bsseq 1.47.0  (landing page)
Kasper Daniel Hansen
git_last_commit: a627872
git_last_commit_date: 2025-10-29 10:11:31 -0400
nebbiolo1Linux (Ubuntu 24.04.3 LTS) / x86_64  OK    OK    ERROR  
Package 58/428HostnameOS / ArchINSTALLBUILDCHECKBUILD BIN
BubbleTree 2.41.0  (landing page)
Todd Creasy , Wei Zhu
git_last_commit: ec3708e
git_last_commit_date: 2025-10-29 10:24:01 -0400
nebbiolo1Linux (Ubuntu 24.04.3 LTS) / x86_64  OK    ERROR  skipped
Package 59/428HostnameOS / ArchINSTALLBUILDCHECKBUILD BIN
CAFE 1.47.0  (landing page)
Sander Bollen
git_last_commit: 6e8ab41
git_last_commit_date: 2025-10-29 10:18:22 -0400
nebbiolo1Linux (Ubuntu 24.04.3 LTS) / x86_64  ERROR    ERROR  skipped
Package 60/428HostnameOS / ArchINSTALLBUILDCHECKBUILD BIN
CAMERA 1.67.0  (landing page)
Steffen Neumann
git_last_commit: 340928f
git_last_commit_date: 2025-10-29 10:02:23 -0400
nebbiolo1Linux (Ubuntu 24.04.3 LTS) / x86_64  OK    OK    WARNINGS  NO, package depends on 'xcms' which is not available
Package 61/428HostnameOS / ArchINSTALLBUILDCHECKBUILD BIN
canceR 1.45.0  (landing page)
Karim Mezhoud
git_last_commit: 2ab2bd4
git_last_commit_date: 2025-10-29 10:24:23 -0400
nebbiolo1Linux (Ubuntu 24.04.3 LTS) / x86_64  ERROR    ERROR  skipped
Package 62/428HostnameOS / ArchINSTALLBUILDCHECKBUILD BIN
cancerclass 1.55.0  (landing page)
Daniel Kosztyla
git_last_commit: 644997a
git_last_commit_date: 2025-10-29 10:11:06 -0400
nebbiolo1Linux (Ubuntu 24.04.3 LTS) / x86_64  OK    OK    OK  YES
Package 63/428HostnameOS / ArchINSTALLBUILDCHECKBUILD BIN
Cardinal 3.13.0  (landing page)
Kylie Ariel Bemis
git_last_commit: 2d83be5
git_last_commit_date: 2025-10-29 10:23:51 -0400
nebbiolo1Linux (Ubuntu 24.04.3 LTS) / x86_64  OK    OK    OK  YES
Package 64/428HostnameOS / ArchINSTALLBUILDCHECKBUILD BIN
casper 2.45.0  (landing page)
David Rossell
git_last_commit: 8f208d9
git_last_commit_date: 2025-10-29 10:13:21 -0400
nebbiolo1Linux (Ubuntu 24.04.3 LTS) / x86_64  ERROR    ERROR  skipped
Package 65/428HostnameOS / ArchINSTALLBUILDCHECKBUILD BIN
Category 2.77.0  (landing page)
Bioconductor Package Maintainer
git_last_commit: 6850286
git_last_commit_date: 2025-10-29 09:56:37 -0400
nebbiolo1Linux (Ubuntu 24.04.3 LTS) / x86_64  OK    ERROR  skipped
Package 66/428HostnameOS / ArchINSTALLBUILDCHECKBUILD BIN
categoryCompare 1.55.0  (landing page)
Robert M. Flight
git_last_commit: 22bf171
git_last_commit_date: 2025-10-29 10:11:00 -0400
nebbiolo1Linux (Ubuntu 24.04.3 LTS) / x86_64  OK    ERROR  skipped
Package 67/428HostnameOS / ArchINSTALLBUILDCHECKBUILD BIN
CCPROMISE 1.37.0  (landing page)
Xueyuan Cao
git_last_commit: e350525
git_last_commit_date: 2025-10-29 10:35:30 -0400
nebbiolo1Linux (Ubuntu 24.04.3 LTS) / x86_64  OK    OK    WARNINGS  NO, package depends on 'PROMISE' which is not available
Package 68/428HostnameOS / ArchINSTALLBUILDCHECKBUILD BIN
CellTrails 1.29.0  (landing page)
Daniel Ellwanger
git_last_commit: 75d815a
git_last_commit_date: 2025-10-29 10:46:02 -0400
nebbiolo1Linux (Ubuntu 24.04.3 LTS) / x86_64  OK    OK    ERROR  
Package 69/428HostnameOS / ArchINSTALLBUILDCHECKBUILD BIN
cfdnakit 1.9.0  (landing page)
Pitithat Puranachot
git_last_commit: 17e7520
git_last_commit_date: 2025-10-29 11:23:56 -0400
nebbiolo1Linux (Ubuntu 24.04.3 LTS) / x86_64  OK    OK    OK  NO, package depends on 'GenomicRanges' which is not available
Package 70/428HostnameOS / ArchINSTALLBUILDCHECKBUILD BIN
CGHbase 1.71.0  (landing page)
Mark van de Wiel
git_last_commit: 709264e
git_last_commit_date: 2025-10-29 10:00:38 -0400
nebbiolo1Linux (Ubuntu 24.04.3 LTS) / x86_64  OK    OK    OK  YES
Package 71/428HostnameOS / ArchINSTALLBUILDCHECKBUILD BIN
CGHcall 2.73.0  (landing page)
Mark van de Wiel
git_last_commit: 0cacd10
git_last_commit_date: 2025-10-29 09:59:47 -0400
nebbiolo1Linux (Ubuntu 24.04.3 LTS) / x86_64  OK    OK    WARNINGS  YES
Package 72/428HostnameOS / ArchINSTALLBUILDCHECKBUILD BIN
CGHnormaliter 1.65.0  (landing page)
Bart P.P. van Houte
git_last_commit: 1dc052d
git_last_commit_date: 2025-10-29 10:03:43 -0400
nebbiolo1Linux (Ubuntu 24.04.3 LTS) / x86_64  OK    OK    OK  YES
Package 73/428HostnameOS / ArchINSTALLBUILDCHECKBUILD BIN
CGHregions 1.69.0  (landing page)
Sjoerd Vosse
git_last_commit: 84741eb
git_last_commit_date: 2025-10-29 10:00:42 -0400
nebbiolo1Linux (Ubuntu 24.04.3 LTS) / x86_64  OK    OK    OK  YES
Package 74/428HostnameOS / ArchINSTALLBUILDCHECKBUILD BIN
ChIPQC 1.47.0  (landing page)
Tom Carroll , Rory Stark
git_last_commit: 8be4dc7
git_last_commit_date: 2025-10-29 10:18:53 -0400
nebbiolo1Linux (Ubuntu 24.04.3 LTS) / x86_64  ERROR    ERROR  skipped
Package 75/428HostnameOS / ArchINSTALLBUILDCHECKBUILD BIN
ChIPXpress 1.55.0  (landing page)
George Wu
git_last_commit: 7be5116
git_last_commit_date: 2025-10-29 10:11:43 -0400
nebbiolo1Linux (Ubuntu 24.04.3 LTS) / x86_64  OK    OK    ERROR  
Package 76/428HostnameOS / ArchINSTALLBUILDCHECKBUILD BIN
ChromHeatMap 1.65.0  (landing page)
Tim F. Rayner
git_last_commit: d47e520
git_last_commit_date: 2025-10-29 10:03:49 -0400
nebbiolo1Linux (Ubuntu 24.04.3 LTS) / x86_64  OK    ERROR  skipped
Package 77/428HostnameOS / ArchINSTALLBUILDCHECKBUILD BIN
cicero 1.29.0  (landing page)
Hannah Pliner
git_last_commit: dcca6ae
git_last_commit_date: 2025-10-29 10:47:55 -0400
nebbiolo1Linux (Ubuntu 24.04.3 LTS) / x86_64  OK    OK    OK  NO, package depends on 'Gviz' which is not available
Package 78/428HostnameOS / ArchINSTALLBUILDCHECKBUILD BIN
clippda 1.61.0  (landing page)
Stephen Nyangoma
git_last_commit: 28950e5
git_last_commit_date: 2025-10-29 10:03:30 -0400
nebbiolo1Linux (Ubuntu 24.04.3 LTS) / x86_64  OK    OK    OK  YES
Package 79/428HostnameOS / ArchINSTALLBUILDCHECKBUILD BIN
clipper 1.51.0  (landing page)
Paolo Martini
git_last_commit: 09e9ef4
git_last_commit_date: 2025-10-29 10:13:24 -0400
nebbiolo1Linux (Ubuntu 24.04.3 LTS) / x86_64  OK    ERROR  skipped
Package 80/428HostnameOS / ArchINSTALLBUILDCHECKBUILD BIN
CluMSID 1.27.0  (landing page)
Tobias Depke
git_last_commit: 4f5bb4a
git_last_commit_date: 2025-10-29 10:49:24 -0400
nebbiolo1Linux (Ubuntu 24.04.3 LTS) / x86_64  OK    OK    WARNINGS  NO, package depends on 'MSnbase' which is not available
Package 81/428HostnameOS / ArchINSTALLBUILDCHECKBUILD BIN
clusterStab 1.83.0  (landing page)
James W. MacDonald
git_last_commit: bf26eed
git_last_commit_date: 2025-10-29 09:56:45 -0400
nebbiolo1Linux (Ubuntu 24.04.3 LTS) / x86_64  OK    OK    OK  YES
Package 82/428HostnameOS / ArchINSTALLBUILDCHECKBUILD BIN
CMA 1.69.0  (landing page)
Roman Hornung
git_last_commit: fdba720
git_last_commit_date: 2025-10-29 10:00:45 -0400
nebbiolo1Linux (Ubuntu 24.04.3 LTS) / x86_64  OK    OK    OK  YES
Package 83/428HostnameOS / ArchINSTALLBUILDCHECKBUILD BIN
cn.farms 1.59.0  (landing page)
Andreas Mitterecker
git_last_commit: cd33296
git_last_commit_date: 2025-10-29 10:07:06 -0400
nebbiolo1Linux (Ubuntu 24.04.3 LTS) / x86_64  OK    OK    OK  NO, package depends on 'oligoClasses' which is not available
Package 84/428HostnameOS / ArchINSTALLBUILDCHECKBUILD BIN
cn.mops 1.57.0  (landing page)
Gundula Povysil
git_last_commit: 79a0901
git_last_commit_date: 2025-10-29 10:09:41 -0400
nebbiolo1Linux (Ubuntu 24.04.3 LTS) / x86_64  OK    OK    OK  NO, package depends on 'GenomicRanges' which is not available
Package 85/428HostnameOS / ArchINSTALLBUILDCHECKBUILD BIN
COCOA 2.25.0  (landing page)
John Lawson
git_last_commit: a245a29
git_last_commit_date: 2025-10-29 10:48:30 -0400
nebbiolo1Linux (Ubuntu 24.04.3 LTS) / x86_64  OK    OK    OK  NO, package depends on 'GenomicRanges' which is not available
Package 86/428HostnameOS / ArchINSTALLBUILDCHECKBUILD BIN
codelink 1.79.0  (landing page)
Diego Diez
git_last_commit: 28ca5f2
git_last_commit_date: 2025-10-29 09:57:29 -0400
nebbiolo1Linux (Ubuntu 24.04.3 LTS) / x86_64  OK    OK    OK  NO, package depends on 'annotate' which is not available
Package 87/428HostnameOS / ArchINSTALLBUILDCHECKBUILD BIN
cogena 1.45.0  (landing page)
Zhilong Jia
git_last_commit: db4e1a0
git_last_commit_date: 2025-10-29 10:25:23 -0400
nebbiolo1Linux (Ubuntu 24.04.3 LTS) / x86_64  OK    OK    WARNINGS  YES
Package 88/428HostnameOS / ArchINSTALLBUILDCHECKBUILD BIN
combi 1.23.0  (landing page)
Stijn Hawinkel
git_last_commit: 29ef8d9
git_last_commit_date: 2025-10-29 10:57:46 -0400
nebbiolo1Linux (Ubuntu 24.04.3 LTS) / x86_64  OK    OK    OK  NO, package depends on 'phyloseq' which is not available
Package 89/428HostnameOS / ArchINSTALLBUILDCHECKBUILD BIN
CompoundDb 1.15.0  (landing page)
Johannes Rainer
git_last_commit: c48af8f
git_last_commit_date: 2025-10-29 11:14:42 -0400
nebbiolo1Linux (Ubuntu 24.04.3 LTS) / x86_64  OK    OK    OK  NO, package depends on 'AnnotationFilter' which is not available
Package 90/428HostnameOS / ArchINSTALLBUILDCHECKBUILD BIN
ConsensusClusterPlus 1.75.0  (landing page)
Matt Wilkerson
git_last_commit: 2632db7
git_last_commit_date: 2025-10-29 10:04:16 -0400
nebbiolo1Linux (Ubuntu 24.04.3 LTS) / x86_64  OK    OK    OK  YES
Package 91/428HostnameOS / ArchINSTALLBUILDCHECKBUILD BIN
consensusDE 1.29.0  (landing page)
Ashley J. Waardenberg
git_last_commit: e69df52
git_last_commit_date: 2025-10-29 10:48:35 -0400
nebbiolo1Linux (Ubuntu 24.04.3 LTS) / x86_64  ERROR    ERROR  skipped
Package 92/428HostnameOS / ArchINSTALLBUILDCHECKBUILD BIN
consensusOV 1.33.0  (landing page)
Benjamin Haibe-Kains
git_last_commit: a478760
git_last_commit_date: 2025-10-29 10:39:32 -0400
nebbiolo1Linux (Ubuntu 24.04.3 LTS) / x86_64  OK    OK    OK  NO, package depends on 'GSVA' which is not available
Package 93/428HostnameOS / ArchINSTALLBUILDCHECKBUILD BIN
convert 1.87.0  (landing page)
Yee Hwa (Jean) Yang
git_last_commit: 3e7aa0d
git_last_commit_date: 2025-10-29 09:54:55 -0400
nebbiolo1Linux (Ubuntu 24.04.3 LTS) / x86_64  OK    OK    OK  YES
Package 94/428HostnameOS / ArchINSTALLBUILDCHECKBUILD BIN
copa 1.79.0  (landing page)
James W. MacDonald
git_last_commit: f78854e
git_last_commit_date: 2025-10-29 09:57:41 -0400
nebbiolo1Linux (Ubuntu 24.04.3 LTS) / x86_64  OK    OK    OK  YES
Package 95/428HostnameOS / ArchINSTALLBUILDCHECKBUILD BIN
coRdon 1.29.0  (landing page)
Anamaria Elek
git_last_commit: f418d09
git_last_commit_date: 2025-10-29 10:46:38 -0400
nebbiolo1Linux (Ubuntu 24.04.3 LTS) / x86_64  OK    OK    OK  NO, package depends on 'Biostrings' which is not available
Package 96/428HostnameOS / ArchINSTALLBUILDCHECKBUILD BIN
CoreGx 2.15.0  (landing page)
Benjamin Haibe-Kains
git_last_commit: e18fa83
git_last_commit_date: 2025-10-29 10:59:21 -0400
nebbiolo1Linux (Ubuntu 24.04.3 LTS) / x86_64  OK    OK    OK  NO, package depends on 'SummarizedExperiment' which is not available
Package 97/428HostnameOS / ArchINSTALLBUILDCHECKBUILD BIN
covEB 1.37.0  (landing page)
C. Pacini
git_last_commit: 68edce5
git_last_commit_date: 2025-10-29 10:32:39 -0400
nebbiolo1Linux (Ubuntu 24.04.3 LTS) / x86_64  OK    OK    OK  YES
Package 98/428HostnameOS / ArchINSTALLBUILDCHECKBUILD BIN
covRNA 1.37.0  (landing page)
Lara Urban
git_last_commit: 041af1b
git_last_commit_date: 2025-10-29 10:32:21 -0400
nebbiolo1Linux (Ubuntu 24.04.3 LTS) / x86_64  OK    OK    OK  NO, package depends on 'genefilter' which is not available
Package 99/428HostnameOS / ArchINSTALLBUILDCHECKBUILD BIN
crlmm 1.69.0  (landing page)
Benilton S Carvalho
git_last_commit: 51993cf
git_last_commit_date: 2025-10-29 10:02:32 -0400
nebbiolo1Linux (Ubuntu 24.04.3 LTS) / x86_64  OK    ERROR  skipped
Package 100/428HostnameOS / ArchINSTALLBUILDCHECKBUILD BIN
cummeRbund 2.53.0  (landing page)
Loyal A. Goff
git_last_commit: 793c3a1
git_last_commit_date: 2025-10-29 10:09:10 -0400
nebbiolo1Linux (Ubuntu 24.04.3 LTS) / x86_64  OK    ERROR  skipped
Package 101/428HostnameOS / ArchINSTALLBUILDCHECKBUILD BIN
cyanoFilter 1.19.0  (landing page)
Oluwafemi Olusoji
git_last_commit: 8ca42f1
git_last_commit_date: 2025-10-29 11:07:55 -0400
nebbiolo1Linux (Ubuntu 24.04.3 LTS) / x86_64  OK    OK    OK  YES
Package 102/428HostnameOS / ArchINSTALLBUILDCHECKBUILD BIN
cycle 1.65.0  (landing page)
Matthias Futschik
git_last_commit: cf91b5c
git_last_commit_date: 2025-10-29 10:03:46 -0400
nebbiolo1Linux (Ubuntu 24.04.3 LTS) / x86_64  OK    OK    OK  NO, package depends on 'Mfuzz' which is not available
Package 103/428HostnameOS / ArchINSTALLBUILDCHECKBUILD BIN
cydar 1.35.0  (landing page)
Aaron Lun
git_last_commit: d8b7be4
git_last_commit_date: 2025-10-29 10:37:34 -0400
nebbiolo1Linux (Ubuntu 24.04.3 LTS) / x86_64  OK    OK    OK  NO, package depends on 'SingleCellExperiment' which is not available
Package 104/428HostnameOS / ArchINSTALLBUILDCHECKBUILD BIN
CytoMDS 1.7.0  (landing page)
Philippe Hauchamps
git_last_commit: 5e6cbd6
git_last_commit_date: 2025-10-29 11:28:49 -0400
nebbiolo1Linux (Ubuntu 24.04.3 LTS) / x86_64  OK    OK    OK  NO, package depends on 'CytoPipeline' which is not available
Package 105/428HostnameOS / ArchINSTALLBUILDCHECKBUILD BIN
CytoML 2.23.0  (landing page)
Mike Jiang
git_last_commit: 8f95dab
git_last_commit_date: 2025-10-29 10:33:02 -0400
nebbiolo1Linux (Ubuntu 24.04.3 LTS) / x86_64  OK    OK    WARNINGS  NO, package depends on 'flowWorkspace' which is not available
Package 106/428HostnameOS / ArchINSTALLBUILDCHECKBUILD BIN
DAPAR 1.43.0  (landing page)
Samuel Wieczorek
git_last_commit: 47a1b73
git_last_commit_date: 2025-10-29 10:28:00 -0400
nebbiolo1Linux (Ubuntu 24.04.3 LTS) / x86_64  OK    OK    ERROR  
Package 107/428HostnameOS / ArchINSTALLBUILDCHECKBUILD BIN
ddCt 1.67.0  (landing page)
Jitao David Zhang
git_last_commit: cd8a4fe
git_last_commit_date: 2025-10-29 10:03:15 -0400
nebbiolo1Linux (Ubuntu 24.04.3 LTS) / x86_64  OK    OK    WARNINGS  YES
Package 108/428HostnameOS / ArchINSTALLBUILDCHECKBUILD BIN
debCAM 1.29.0  (landing page)
Lulu Chen
git_last_commit: 2c79071
git_last_commit_date: 2025-10-29 10:54:19 -0400
nebbiolo1Linux (Ubuntu 24.04.3 LTS) / x86_64  ERROR    ERROR  skipped
Package 109/428HostnameOS / ArchINSTALLBUILDCHECKBUILD BIN
DEGreport 1.47.0  (landing page)
Lorena Pantano
git_last_commit: 792957e
git_last_commit_date: 2025-10-29 10:19:57 -0400
nebbiolo1Linux (Ubuntu 24.04.3 LTS) / x86_64  OK    OK    OK  NO, package depends on 'ComplexHeatmap' which is not available
Package 110/428HostnameOS / ArchINSTALLBUILDCHECKBUILD BIN
DESeq2 1.51.0  (landing page)
Michael Love
git_last_commit: 3323082
git_last_commit_date: 2025-10-29 10:13:48 -0400
nebbiolo1Linux (Ubuntu 24.04.3 LTS) / x86_64  OK    OK    OK  NO, package depends on 'IRanges' which is not available
Package 111/428HostnameOS / ArchINSTALLBUILDCHECKBUILD BIN
destiny 3.25.0  (landing page)
Philipp Angerer
git_last_commit: 424224a
git_last_commit_date: 2025-10-29 11:14:40 -0400
nebbiolo1Linux (Ubuntu 24.04.3 LTS) / x86_64  OK    ERROR  skipped
Package 112/428HostnameOS / ArchINSTALLBUILDCHECKBUILD BIN
DExMA 1.19.0  (landing page)
Juan Antonio Villatoro-García
git_last_commit: f2e6f45
git_last_commit_date: 2025-10-29 11:09:00 -0400
nebbiolo1Linux (Ubuntu 24.04.3 LTS) / x86_64  OK    OK    OK  NO, package depends on 'GEOquery' which is not available
Package 113/428HostnameOS / ArchINSTALLBUILDCHECKBUILD BIN
DEXSeq 1.57.0  (landing page)
Alejandro Reyes
git_last_commit: db6ed7c
git_last_commit_date: 2025-10-29 10:07:54 -0400
nebbiolo1Linux (Ubuntu 24.04.3 LTS) / x86_64  OK    OK    OK  NO, package depends on 'SummarizedExperiment' which is not available
Package 114/428HostnameOS / ArchINSTALLBUILDCHECKBUILD BIN
DFP 1.69.0  (landing page)
Rodrigo Alvarez-Glez
git_last_commit: 5d2534a
git_last_commit_date: 2025-10-29 10:01:13 -0400
nebbiolo1Linux (Ubuntu 24.04.3 LTS) / x86_64  OK    OK    OK  YES
Package 115/428HostnameOS / ArchINSTALLBUILDCHECKBUILD BIN
diggit 1.43.0  (landing page)
Mariano J Alvarez
git_last_commit: ea7ead6
git_last_commit_date: 2025-10-29 10:24:26 -0400
nebbiolo1Linux (Ubuntu 24.04.3 LTS) / x86_64  OK    OK    WARNINGS  YES
Package 116/428HostnameOS / ArchINSTALLBUILDCHECKBUILD BIN
discordant 1.35.0  (landing page)
McGrath Max
git_last_commit: 3702a42
git_last_commit_date: 2025-10-29 10:36:41 -0400
nebbiolo1Linux (Ubuntu 24.04.3 LTS) / x86_64  OK    OK    OK  YES
Package 117/428HostnameOS / ArchINSTALLBUILDCHECKBUILD BIN
doppelgangR 1.39.0  (landing page)
Levi Waldron
git_last_commit: c1614da
git_last_commit_date: 2025-10-29 10:30:40 -0400
nebbiolo1Linux (Ubuntu 24.04.3 LTS) / x86_64  OK    OK    OK  NO, package depends on 'sva' which is not available
Package 118/428HostnameOS / ArchINSTALLBUILDCHECKBUILD BIN
DSS 2.59.0  (landing page)
Hao Wu , Hao Feng
git_last_commit: 78fb7ed
git_last_commit_date: 2025-10-29 10:11:20 -0400
nebbiolo1Linux (Ubuntu 24.04.3 LTS) / x86_64  OK    OK    WARNINGS  NO, package depends on 'bsseq' which is not available
Package 119/428HostnameOS / ArchINSTALLBUILDCHECKBUILD BIN
dyebias 1.71.0  (landing page)
Philip Lijnzaad
git_last_commit: a92f3f9
git_last_commit_date: 2025-10-29 10:02:35 -0400
nebbiolo1Linux (Ubuntu 24.04.3 LTS) / x86_64  OK    OK    OK  YES
Package 120/428HostnameOS / ArchINSTALLBUILDCHECKBUILD BIN
easyRNASeq 2.47.0  (landing page)
Nicolas Delhomme
git_last_commit: 1cb9a73
git_last_commit_date: 2025-10-29 10:10:00 -0400
nebbiolo1Linux (Ubuntu 24.04.3 LTS) / x86_64  OK    OK    ERROR  
Package 121/428HostnameOS / ArchINSTALLBUILDCHECKBUILD BIN
EBarrays 2.75.0  (landing page)
Ming Yuan
git_last_commit: 98d9bf3
git_last_commit_date: 2025-10-29 09:54:31 -0400
nebbiolo1Linux (Ubuntu 24.04.3 LTS) / x86_64  OK    OK    OK  YES
Package 122/428HostnameOS / ArchINSTALLBUILDCHECKBUILD BIN
ecolitk 1.83.0  (landing page)
Laurent Gautier
git_last_commit: 5b8e10e
git_last_commit_date: 2025-10-29 09:54:08 -0400
nebbiolo1Linux (Ubuntu 24.04.3 LTS) / x86_64  OK    ERROR  skipped
Package 123/428HostnameOS / ArchINSTALLBUILDCHECKBUILD BIN
EDASeq 2.45.0  (landing page)
Davide Risso
git_last_commit: 1f147bc
git_last_commit_date: 2025-10-29 10:08:53 -0400
nebbiolo1Linux (Ubuntu 24.04.3 LTS) / x86_64  OK    OK    OK  NO, package depends on 'ShortRead' which is not available
Package 124/428HostnameOS / ArchINSTALLBUILDCHECKBUILD BIN
edge 2.43.0  (landing page)
John D. Storey , Andrew J. Bass
git_last_commit: a6a6076
git_last_commit_date: 2025-10-29 10:25:58 -0400
nebbiolo1Linux (Ubuntu 24.04.3 LTS) / x86_64  OK    OK    OK  NO, package depends on 'sva' which is not available
Package 125/428HostnameOS / ArchINSTALLBUILDCHECKBUILD BIN
EGAD 1.39.0  (landing page)
Sara Ballouz
git_last_commit: 7ee1d10
git_last_commit_date: 2025-10-29 10:32:16 -0400
nebbiolo1Linux (Ubuntu 24.04.3 LTS) / x86_64  OK    OK    WARNINGS  NO, package depends on 'GEOquery' which is not available
Package 126/428HostnameOS / ArchINSTALLBUILDCHECKBUILD BIN
EGSEA 1.39.0  (landing page)
Monther Alhamdoosh
git_last_commit: ea1d07d
git_last_commit_date: 2025-10-29 10:32:11 -0400
nebbiolo1Linux (Ubuntu 24.04.3 LTS) / x86_64  ERROR    ERROR  skipped
Package 127/428HostnameOS / ArchINSTALLBUILDCHECKBUILD BIN
ENmix 1.47.0  (landing page)
Zongli Xu
git_last_commit: 3ce4b4c
git_last_commit_date: 2025-10-29 10:25:39 -0400
nebbiolo1Linux (Ubuntu 24.04.3 LTS) / x86_64  OK    OK    ERROR  
Package 128/428HostnameOS / ArchINSTALLBUILDCHECKBUILD BIN
ensembldb 2.35.0  (landing page)
Johannes Rainer
git_last_commit: a74ca18
git_last_commit_date: 2025-10-29 10:24:50 -0400
nebbiolo1Linux (Ubuntu 24.04.3 LTS) / x86_64  OK    ERROR  skipped
Package 129/428HostnameOS / ArchINSTALLBUILDCHECKBUILD BIN
epigenomix 1.51.0  (landing page)
Hans-Ulrich Klein
git_last_commit: 5563ca4
git_last_commit_date: 2025-10-29 10:13:59 -0400
nebbiolo1Linux (Ubuntu 24.04.3 LTS) / x86_64  OK    OK    OK  NO, package depends on 'IRanges' which is not available
Package 130/428HostnameOS / ArchINSTALLBUILDCHECKBUILD BIN
EpiMix 1.13.0  (landing page)
Yuanning Zheng
git_last_commit: 5408436
git_last_commit_date: 2025-10-29 11:17:43 -0400
nebbiolo1Linux (Ubuntu 24.04.3 LTS) / x86_64  OK    OK    OK  NO, package depends on 'AnnotationHub' which is not available
Package 131/428HostnameOS / ArchINSTALLBUILDCHECKBUILD BIN
epivizrData 1.39.0  (landing page)
Hector Corrada Bravo
git_last_commit: ec95aa6
git_last_commit_date: 2025-10-29 10:32:07 -0400
nebbiolo1Linux (Ubuntu 24.04.3 LTS) / x86_64  ERROR    ERROR  skipped
Package 132/428HostnameOS / ArchINSTALLBUILDCHECKBUILD BIN
esetVis 1.37.0  (landing page)
Laure Cougnaud
git_last_commit: 966da28
git_last_commit_date: 2025-10-29 10:32:49 -0400
nebbiolo1Linux (Ubuntu 24.04.3 LTS) / x86_64  OK    ERROR  skipped
Package 133/428HostnameOS / ArchINSTALLBUILDCHECKBUILD BIN
ExiMiR 2.53.0  (landing page)
Sylvain Gubian
git_last_commit: 6d3b680
git_last_commit_date: 2025-10-29 10:06:33 -0400
nebbiolo1Linux (Ubuntu 24.04.3 LTS) / x86_64  OK    ERROR  skipped
Package 134/428HostnameOS / ArchINSTALLBUILDCHECKBUILD BIN
ExpressionAtlas 2.3.0  (landing page)
Anil Thanki
git_last_commit: a94288f
git_last_commit_date: 2025-10-29 10:30:04 -0400
nebbiolo1Linux (Ubuntu 24.04.3 LTS) / x86_64  OK    OK    OK  NO, package depends on 'SummarizedExperiment' which is not available
Package 135/428HostnameOS / ArchINSTALLBUILDCHECKBUILD BIN
fabia 2.57.0  (landing page)
Andreas Mitterecker
git_last_commit: 2f36a5b
git_last_commit_date: 2025-10-29 10:05:17 -0400
nebbiolo1Linux (Ubuntu 24.04.3 LTS) / x86_64  OK    OK    WARNINGS  YES
Package 136/428HostnameOS / ArchINSTALLBUILDCHECKBUILD BIN
factDesign 1.87.0  (landing page)
Denise Scholtens
git_last_commit: dc551b8
git_last_commit_date: 2025-10-29 09:53:54 -0400
nebbiolo1Linux (Ubuntu 24.04.3 LTS) / x86_64  OK    OK    OK  YES
Package 137/428HostnameOS / ArchINSTALLBUILDCHECKBUILD BIN
fastseg 1.57.0  (landing page)
Alexander Blume
git_last_commit: 15a937a
git_last_commit_date: 2025-10-29 10:09:44 -0400
nebbiolo1Linux (Ubuntu 24.04.3 LTS) / x86_64  OK    OK    OK  NO, package depends on 'GenomicRanges' which is not available
Package 138/428HostnameOS / ArchINSTALLBUILDCHECKBUILD BIN
ffpe 1.55.0  (landing page)
Levi Waldron
git_last_commit: a3c8d6b
git_last_commit_date: 2025-10-29 10:10:29 -0400
nebbiolo1Linux (Ubuntu 24.04.3 LTS) / x86_64  ERROR    ERROR  skipped
Package 139/428HostnameOS / ArchINSTALLBUILDCHECKBUILD BIN
findIPs 1.7.0  (landing page)
Shuo Wang
git_last_commit: e70b87c
git_last_commit_date: 2025-10-29 11:30:10 -0400
nebbiolo1Linux (Ubuntu 24.04.3 LTS) / x86_64  OK    OK    OK  NO, package depends on 'SummarizedExperiment' which is not available
Package 140/428HostnameOS / ArchINSTALLBUILDCHECKBUILD BIN
flowBeads 1.49.0  (landing page)
Nikolas Pontikos
git_last_commit: 01f6eb8
git_last_commit_date: 2025-10-29 10:15:03 -0400
nebbiolo1Linux (Ubuntu 24.04.3 LTS) / x86_64  OK    OK    WARNINGS  YES
Package 141/428HostnameOS / ArchINSTALLBUILDCHECKBUILD BIN
flowClust 3.49.0  (landing page)
Greg Finak , Mike Jiang
git_last_commit: 24bd31c
git_last_commit_date: 2025-10-29 10:00:22 -0400
nebbiolo1Linux (Ubuntu 24.04.3 LTS) / x86_64  OK    OK    WARNINGS  YES
Package 142/428HostnameOS / ArchINSTALLBUILDCHECKBUILD BIN
flowCore 2.23.0  (landing page)
Mike Jiang
git_last_commit: 215e624
git_last_commit_date: 2025-10-29 09:58:38 -0400
nebbiolo1Linux (Ubuntu 24.04.3 LTS) / x86_64  OK    OK    WARNINGS  YES
Package 143/428HostnameOS / ArchINSTALLBUILDCHECKBUILD BIN
flowFP 1.69.0  (landing page)
Herb Holyst , Wade Rogers
git_last_commit: ff6ba06
git_last_commit_date: 2025-10-29 10:03:05 -0400
nebbiolo1Linux (Ubuntu 24.04.3 LTS) / x86_64  OK    OK    OK  YES
Package 144/428HostnameOS / ArchINSTALLBUILDCHECKBUILD BIN
flowMatch 1.47.0  (landing page)
Ariful Azad
git_last_commit: 58dd401
git_last_commit_date: 2025-10-29 10:17:27 -0400
nebbiolo1Linux (Ubuntu 24.04.3 LTS) / x86_64  OK    OK    OK  YES
Package 145/428HostnameOS / ArchINSTALLBUILDCHECKBUILD BIN
flowMeans 1.71.0  (landing page)
Nima Aghaeepour
git_last_commit: b1307fd
git_last_commit_date: 2025-10-29 10:04:53 -0400
nebbiolo1Linux (Ubuntu 24.04.3 LTS) / x86_64  OK    OK    OK  YES
Package 146/428HostnameOS / ArchINSTALLBUILDCHECKBUILD BIN
flowSpecs 1.25.0  (landing page)
Jakob Theorell
git_last_commit: 07a0d9f
git_last_commit_date: 2025-10-29 10:54:23 -0400
nebbiolo1Linux (Ubuntu 24.04.3 LTS) / x86_64  OK    OK    OK  YES
Package 147/428HostnameOS / ArchINSTALLBUILDCHECKBUILD BIN
flowStats 4.23.0  (landing page)
Greg Finak , Mike Jiang
git_last_commit: cc57dce
git_last_commit_date: 2025-10-29 10:02:44 -0400
nebbiolo1Linux (Ubuntu 24.04.3 LTS) / x86_64  OK    OK    WARNINGS  NO, package depends on 'flowWorkspace' which is not available
Package 148/428HostnameOS / ArchINSTALLBUILDCHECKBUILD BIN
flowViz 1.75.0  (landing page)
Mike Jiang
git_last_commit: 0ebf1eb
git_last_commit_date: 2025-10-29 09:58:41 -0400
nebbiolo1Linux (Ubuntu 24.04.3 LTS) / x86_64  OK    OK    OK  YES
Package 149/428HostnameOS / ArchINSTALLBUILDCHECKBUILD BIN
flowWorkspace 4.23.0  (landing page)
Greg Finak , Mike Jiang
git_last_commit: 824996d
git_last_commit_date: 2025-10-29 10:07:43 -0400
nebbiolo1Linux (Ubuntu 24.04.3 LTS) / x86_64  OK    OK    WARNINGS  NO, package depends on 'DelayedArray' which is not available
Package 150/428HostnameOS / ArchINSTALLBUILDCHECKBUILD BIN
FRASER 2.7.0  (landing page)
Christian Mertes
git_last_commit: ecd421c
git_last_commit_date: 2025-10-29 10:58:54 -0400
nebbiolo1Linux (Ubuntu 24.04.3 LTS) / x86_64  ERROR    ERROR  skipped
Package 151/428HostnameOS / ArchINSTALLBUILDCHECKBUILD BIN
frma 1.63.0  (landing page)
Matthew N. McCall
git_last_commit: 06e0f3f
git_last_commit_date: 2025-10-29 10:04:08 -0400
nebbiolo1Linux (Ubuntu 24.04.3 LTS) / x86_64  OK    ERROR  skipped
Package 152/428HostnameOS / ArchINSTALLBUILDCHECKBUILD BIN
frmaTools 1.63.0  (landing page)
Matthew N. McCall
git_last_commit: c003f6b
git_last_commit_date: 2025-10-29 10:04:10 -0400
nebbiolo1Linux (Ubuntu 24.04.3 LTS) / x86_64  OK    ERROR  skipped
Package 153/428HostnameOS / ArchINSTALLBUILDCHECKBUILD BIN
gaga 2.57.0  (landing page)
David Rossell
git_last_commit: f057de3
git_last_commit_date: 2025-10-29 10:00:01 -0400
nebbiolo1Linux (Ubuntu 24.04.3 LTS) / x86_64  OK    OK    WARNINGS  YES
Package 154/428HostnameOS / ArchINSTALLBUILDCHECKBUILD BIN
gCrisprTools 2.17.0  (landing page)
Russell Bainer
git_last_commit: d372d36
git_last_commit_date: 2025-10-29 10:34:14 -0400
nebbiolo1Linux (Ubuntu 24.04.3 LTS) / x86_64  OK    OK    ERROR  
Package 155/428HostnameOS / ArchINSTALLBUILDCHECKBUILD BIN
gcrma 2.83.0  (landing page)
Z. Wu
git_last_commit: 2a7d479
git_last_commit_date: 2025-10-29 09:53:32 -0400
nebbiolo1Linux (Ubuntu 24.04.3 LTS) / x86_64  OK    OK    ERROR  
Package 156/428HostnameOS / ArchINSTALLBUILDCHECKBUILD BIN
gemma.R 3.7.0  (landing page)
Ogan Mancarci
git_last_commit: 8486536
git_last_commit_date: 2025-10-29 11:18:54 -0400
nebbiolo1Linux (Ubuntu 24.04.3 LTS) / x86_64  OK    OK    OK  NO, package depends on 'SummarizedExperiment' which is not available
Package 157/428HostnameOS / ArchINSTALLBUILDCHECKBUILD BIN
geneClassifiers 1.35.0  (landing page)
R Kuiper
git_last_commit: c28693f
git_last_commit_date: 2025-10-29 10:36:50 -0400
nebbiolo1Linux (Ubuntu 24.04.3 LTS) / x86_64  OK    OK    OK  YES
Package 158/428HostnameOS / ArchINSTALLBUILDCHECKBUILD BIN
GeneExpressionSignature 1.57.0  (landing page)
Yang Cao
git_last_commit: 92f29f1
git_last_commit_date: 2025-10-29 10:08:36 -0400
nebbiolo1Linux (Ubuntu 24.04.3 LTS) / x86_64  OK    OK    OK  YES
Package 159/428HostnameOS / ArchINSTALLBUILDCHECKBUILD BIN
genefilter 1.93.0  (landing page)
Bioconductor Package Maintainer
git_last_commit: 434deb9
git_last_commit_date: 2025-10-29 09:41:48 -0400
nebbiolo1Linux (Ubuntu 24.04.3 LTS) / x86_64  OK    OK    ERROR  
Package 160/428HostnameOS / ArchINSTALLBUILDCHECKBUILD BIN
GeneMeta 1.83.0  (landing page)
Bioconductor Package Maintainer
git_last_commit: 810d001
git_last_commit_date: 2025-10-29 09:56:40 -0400
nebbiolo1Linux (Ubuntu 24.04.3 LTS) / x86_64  OK    OK    OK  NO, package depends on 'genefilter' which is not available
Package 161/428HostnameOS / ArchINSTALLBUILDCHECKBUILD BIN
geneplotter 1.89.0  (landing page)
Bioconductor Package Maintainer
git_last_commit: 0a5a7d6
git_last_commit_date: 2025-10-29 09:41:50 -0400
nebbiolo1Linux (Ubuntu 24.04.3 LTS) / x86_64  OK    ERROR  skipped
Package 162/428HostnameOS / ArchINSTALLBUILDCHECKBUILD BIN
geneRecommender 1.83.0  (landing page)
Greg Hather
git_last_commit: 3e25083
git_last_commit_date: 2025-10-29 09:56:28 -0400
nebbiolo1Linux (Ubuntu 24.04.3 LTS) / x86_64  OK    OK    OK  YES
Package 163/428HostnameOS / ArchINSTALLBUILDCHECKBUILD BIN
GeneRegionScan 1.67.0  (landing page)
Lasse Folkersen
git_last_commit: e7590a3
git_last_commit_date: 2025-10-29 10:02:41 -0400
nebbiolo1Linux (Ubuntu 24.04.3 LTS) / x86_64  OK    OK    OK  NO, package depends on 'Biostrings' which is not available
Package 164/428HostnameOS / ArchINSTALLBUILDCHECKBUILD BIN
GeneSelectMMD 2.55.0  (landing page)
Weiliang Qiu
git_last_commit: 6c8a3d6
git_last_commit_date: 2025-10-29 10:02:29 -0400
nebbiolo1Linux (Ubuntu 24.04.3 LTS) / x86_64  OK    OK    WARNINGS  YES
Package 165/428HostnameOS / ArchINSTALLBUILDCHECKBUILD BIN
GENESIS 2.41.0  (landing page)
Stephanie M. Gogarten
git_last_commit: 035a040
git_last_commit_date: 2025-10-29 10:24:42 -0400
nebbiolo1Linux (Ubuntu 24.04.3 LTS) / x86_64  OK    OK    OK  NO, package depends on 'GenomicRanges' which is not available
Package 166/428HostnameOS / ArchINSTALLBUILDCHECKBUILD BIN
geNetClassifier 1.51.0  (landing page)
Sara Aibar
git_last_commit: dd74241
git_last_commit_date: 2025-10-29 10:14:31 -0400
nebbiolo1Linux (Ubuntu 24.04.3 LTS) / x86_64  OK    OK    OK  YES
Package 167/428HostnameOS / ArchINSTALLBUILDCHECKBUILD BIN
GenomicInteractions 1.45.0  (landing page)
Liz Ing-Simmons
git_last_commit: c3eb720
git_last_commit_date: 2025-10-29 10:21:43 -0400
nebbiolo1Linux (Ubuntu 24.04.3 LTS) / x86_64  OK    OK    OK  NO, package depends on 'InteractionSet' which is not available
Package 168/428HostnameOS / ArchINSTALLBUILDCHECKBUILD BIN
GenomicScores 2.23.0  (landing page)
Robert Castelo
git_last_commit: fce182e
git_last_commit_date: 2025-10-29 10:38:07 -0400
nebbiolo1Linux (Ubuntu 24.04.3 LTS) / x86_64  OK    ERROR  skipped
Package 169/428HostnameOS / ArchINSTALLBUILDCHECKBUILD BIN
GenomicSuperSignature 1.19.0  (landing page)
Sehyun Oh
git_last_commit: 7a9c399
git_last_commit_date: 2025-10-29 11:09:57 -0400
nebbiolo1Linux (Ubuntu 24.04.3 LTS) / x86_64  OK    OK    WARNINGS  NO, package depends on 'SummarizedExperiment' which is not available
Package 170/428HostnameOS / ArchINSTALLBUILDCHECKBUILD BIN
GeoDiff 1.17.0  (landing page)
Nicole Ortogero
git_last_commit: 8ca4c17
git_last_commit_date: 2025-10-29 11:13:32 -0400
nebbiolo1Linux (Ubuntu 24.04.3 LTS) / x86_64  OK    OK    OK  NO, package depends on 'GeomxTools' which is not available
Package 171/428HostnameOS / ArchINSTALLBUILDCHECKBUILD BIN
GEOexplorer 1.17.0  (landing page)
Guy Hunt
git_last_commit: d50a784
git_last_commit_date: 2025-10-29 11:11:17 -0400
nebbiolo1Linux (Ubuntu 24.04.3 LTS) / x86_64  OK    OK    ERROR  
Package 172/428HostnameOS / ArchINSTALLBUILDCHECKBUILD BIN
GeomxTools 3.15.0  (landing page)
Maddy Griswold
git_last_commit: 2ccee05
git_last_commit_date: 2025-10-29 11:05:52 -0400
nebbiolo1Linux (Ubuntu 24.04.3 LTS) / x86_64  OK    OK    OK  NO, package depends on 'NanoStringNCTools' which is not available
Package 173/428HostnameOS / ArchINSTALLBUILDCHECKBUILD BIN
GEOquery 2.79.0  (landing page)
Sean Davis
git_last_commit: 05cec56
git_last_commit_date: 2025-10-29 09:57:26 -0400
nebbiolo1Linux (Ubuntu 24.04.3 LTS) / x86_64  OK    OK    WARNINGS  NO, package depends on 'SummarizedExperiment' which is not available
Package 174/428HostnameOS / ArchINSTALLBUILDCHECKBUILD BIN
GEOsubmission 1.63.0  (landing page)
Alexandre Kuhn
git_last_commit: 6bd8c28
git_last_commit_date: 2025-10-29 10:04:59 -0400
nebbiolo1Linux (Ubuntu 24.04.3 LTS) / x86_64  OK    OK    OK  NO, package depends on 'affy' which is not available
Package 175/428HostnameOS / ArchINSTALLBUILDCHECKBUILD BIN
gep2pep 1.31.0  (landing page)
Francesco Napolitano
git_last_commit: 5fcf5d5
git_last_commit_date: 2025-10-29 10:42:15 -0400
nebbiolo1Linux (Ubuntu 24.04.3 LTS) / x86_64  OK    OK    OK  NO, package depends on 'GSEABase' which is not available
Package 176/428HostnameOS / ArchINSTALLBUILDCHECKBUILD BIN
ggbio 1.59.0  (landing page)
Michael Lawrence
git_last_commit: 6c3efb9
git_last_commit_date: 2025-10-29 10:09:27 -0400
nebbiolo1Linux (Ubuntu 24.04.3 LTS) / x86_64  ERROR    ERROR  skipped
Package 177/428HostnameOS / ArchINSTALLBUILDCHECKBUILD BIN
GlobalAncova 4.29.0  (landing page)
Manuela Hummel
git_last_commit: 342275c
git_last_commit_date: 2025-10-29 09:57:03 -0400
nebbiolo1Linux (Ubuntu 24.04.3 LTS) / x86_64  OK    ERROR  skipped
Package 178/428HostnameOS / ArchINSTALLBUILDCHECKBUILD BIN
globaltest 5.65.0  (landing page)
Jelle Goeman
git_last_commit: f1b6690
git_last_commit_date: 2025-10-29 09:55:12 -0400
nebbiolo1Linux (Ubuntu 24.04.3 LTS) / x86_64  OK    ERROR  skipped
Package 179/428HostnameOS / ArchINSTALLBUILDCHECKBUILD BIN
gmapR 1.53.0  (landing page)
Michael Lawrence
git_last_commit: f0b8dac
git_last_commit_date: 2025-10-29 10:11:34 -0400
nebbiolo1Linux (Ubuntu 24.04.3 LTS) / x86_64  OK    ERROR  skipped
Package 180/428HostnameOS / ArchINSTALLBUILDCHECKBUILD BIN
GOexpress 1.45.0  (landing page)
Kevin Rue-Albrecht
git_last_commit: f14e6df
git_last_commit_date: 2025-10-29 10:21:33 -0400
nebbiolo1Linux (Ubuntu 24.04.3 LTS) / x86_64  OK    OK    OK  NO, package depends on 'biomaRt' which is not available
Package 181/428HostnameOS / ArchINSTALLBUILDCHECKBUILD BIN
goProfiles 1.73.0  (landing page)
Alex Sanchez
git_last_commit: f39fe7a
git_last_commit_date: 2025-10-29 10:00:32 -0400
nebbiolo1Linux (Ubuntu 24.04.3 LTS) / x86_64  OK    OK    OK  NO, package depends on 'AnnotationDbi' which is not available
Package 182/428HostnameOS / ArchINSTALLBUILDCHECKBUILD BIN
GOstats 2.77.0  (landing page)
Bioconductor Package Maintainer
git_last_commit: d09aa16
git_last_commit_date: 2025-10-29 09:55:01 -0400
nebbiolo1Linux (Ubuntu 24.04.3 LTS) / x86_64  OK    ERROR  skipped
Package 183/428HostnameOS / ArchINSTALLBUILDCHECKBUILD BIN
GSEABase 1.73.0  (landing page)
Bioconductor Package Maintainer
git_last_commit: 40d4be6
git_last_commit_date: 2025-10-29 09:59:33 -0400
nebbiolo1Linux (Ubuntu 24.04.3 LTS) / x86_64  OK    ERROR  skipped
Package 184/428HostnameOS / ArchINSTALLBUILDCHECKBUILD BIN
GSEABenchmarkeR 1.31.0  (landing page)
Ludwig Geistlinger
git_last_commit: 129d655
git_last_commit_date: 2025-10-29 10:44:06 -0400
nebbiolo1Linux (Ubuntu 24.04.3 LTS) / x86_64  OK    ERROR  skipped
Package 185/428HostnameOS / ArchINSTALLBUILDCHECKBUILD BIN
GSEAlm 1.71.0  (landing page)
Assaf Oron
git_last_commit: 952cfe6
git_last_commit_date: 2025-10-29 10:00:19 -0400
nebbiolo1Linux (Ubuntu 24.04.3 LTS) / x86_64  OK    ERROR  skipped
Package 186/428HostnameOS / ArchINSTALLBUILDCHECKBUILD BIN
GSRI 2.59.0  (landing page)
Julian Gehring
git_last_commit: 6de90a8
git_last_commit_date: 2025-10-29 10:05:02 -0400
nebbiolo1Linux (Ubuntu 24.04.3 LTS) / x86_64  OK    ERROR  skipped
Package 187/428HostnameOS / ArchINSTALLBUILDCHECKBUILD BIN
GSVA 2.5.0  (landing page)
Robert Castelo
git_last_commit: a714c64
git_last_commit_date: 2025-10-29 10:07:40 -0400
nebbiolo1Linux (Ubuntu 24.04.3 LTS) / x86_64  OK    ERROR  skipped
Package 188/428HostnameOS / ArchINSTALLBUILDCHECKBUILD BIN
Gviz 1.55.0  (landing page)
Robert Ivanek
git_last_commit: 6339846
git_last_commit_date: 2025-10-29 10:10:17 -0400
nebbiolo1Linux (Ubuntu 24.04.3 LTS) / x86_64  OK    ERROR  skipped
Package 189/428HostnameOS / ArchINSTALLBUILDCHECKBUILD BIN
GWASTools 1.57.0  (landing page)
Stephanie M. Gogarten
git_last_commit: 224f71a
git_last_commit_date: 2025-10-29 10:09:16 -0400
nebbiolo1Linux (Ubuntu 24.04.3 LTS) / x86_64  OK    OK    OK  YES
Package 190/428HostnameOS / ArchINSTALLBUILDCHECKBUILD BIN
hapFabia 1.53.0  (landing page)
Andreas Mitterecker
git_last_commit: 273bb8f
git_last_commit_date: 2025-10-29 10:12:02 -0400
nebbiolo1Linux (Ubuntu 24.04.3 LTS) / x86_64  OK    OK    WARNINGS  YES
Package 191/428HostnameOS / ArchINSTALLBUILDCHECKBUILD BIN
HELP 1.69.0  (landing page)
Reid F. Thompson
git_last_commit: c8a9b3d
git_last_commit_date: 2025-10-29 10:00:48 -0400
nebbiolo1Linux (Ubuntu 24.04.3 LTS) / x86_64  OK    OK    OK  YES
Package 192/428HostnameOS / ArchINSTALLBUILDCHECKBUILD BIN
HEM 1.83.0  (landing page)
HyungJun Cho
git_last_commit: f81d7e9
git_last_commit_date: 2025-10-29 09:55:07 -0400
nebbiolo1Linux (Ubuntu 24.04.3 LTS) / x86_64  OK    OK    OK  YES
Package 193/428HostnameOS / ArchINSTALLBUILDCHECKBUILD BIN
hermes 1.15.0  (landing page)
Daniel Sabanés Bové
git_last_commit: da21eaa
git_last_commit_date: 2025-10-29 11:14:07 -0400
nebbiolo1Linux (Ubuntu 24.04.3 LTS) / x86_64  OK    OK    OK  NO, package depends on 'SummarizedExperiment' which is not available
Package 194/428HostnameOS / ArchINSTALLBUILDCHECKBUILD BIN
hopach 2.71.0  (landing page)
Katherine S. Pollard
git_last_commit: b2873e5
git_last_commit_date: 2025-10-29 09:55:32 -0400
nebbiolo1Linux (Ubuntu 24.04.3 LTS) / x86_64  OK    OK    OK  YES
Package 195/428HostnameOS / ArchINSTALLBUILDCHECKBUILD BIN
HTqPCR 1.65.0  (landing page)
Matthew N. McCall
git_last_commit: dad1902
git_last_commit_date: 2025-10-29 11:35:16 -0400
nebbiolo1Linux (Ubuntu 24.04.3 LTS) / x86_64  OK    OK    OK  NO, package depends on 'affy' which is not available
Package 196/428HostnameOS / ArchINSTALLBUILDCHECKBUILD BIN
HTSFilter 1.51.0  (landing page)
Andrea Rau
git_last_commit: 675388a
git_last_commit_date: 2025-10-29 10:13:32 -0400
nebbiolo1Linux (Ubuntu 24.04.3 LTS) / x86_64  OK    OK    OK  NO, package depends on 'DESeq2' which is not available
Package 197/428HostnameOS / ArchINSTALLBUILDCHECKBUILD BIN
HybridMTest 1.55.0  (landing page)
Demba Fofana
git_last_commit: 5c8ba0e
git_last_commit_date: 2025-10-29 10:10:34 -0400
nebbiolo1Linux (Ubuntu 24.04.3 LTS) / x86_64  OK    OK    OK  YES
Package 198/428HostnameOS / ArchINSTALLBUILDCHECKBUILD BIN
iBMQ 1.51.0  (landing page)
Greg Imholte
git_last_commit: 2683ae2
git_last_commit_date: 2025-10-29 10:13:07 -0400
nebbiolo1Linux (Ubuntu 24.04.3 LTS) / x86_64  OK    OK    OK  YES
Package 199/428HostnameOS / ArchINSTALLBUILDCHECKBUILD BIN
iCheck 1.41.0  (landing page)
Weiliang Qiu
git_last_commit: da591b3
git_last_commit_date: 2025-10-29 10:28:02 -0400
nebbiolo1Linux (Ubuntu 24.04.3 LTS) / x86_64  ERROR    ERROR  skipped
Package 200/428HostnameOS / ArchINSTALLBUILDCHECKBUILD BIN
IdeoViz 1.47.0  (landing page)
Shraddha Pai
git_last_commit: 847e77c
git_last_commit_date: 2025-10-29 10:21:58 -0400
nebbiolo1Linux (Ubuntu 24.04.3 LTS) / x86_64  OK    OK    WARNINGS  NO, package depends on 'IRanges' which is not available
Package 201/428HostnameOS / ArchINSTALLBUILDCHECKBUILD BIN
idiogram 1.87.0  (landing page)
Karl J. Dykema
git_last_commit: 495914b
git_last_commit_date: 2025-10-29 09:56:25 -0400
nebbiolo1Linux (Ubuntu 24.04.3 LTS) / x86_64  OK    ERROR  skipped
Package 202/428HostnameOS / ArchINSTALLBUILDCHECKBUILD BIN
infinityFlow 1.21.0  (landing page)
Etienne Becht
git_last_commit: 5790502
git_last_commit_date: 2025-10-29 11:00:49 -0400
nebbiolo1Linux (Ubuntu 24.04.3 LTS) / x86_64  OK    OK    OK  YES
Package 203/428HostnameOS / ArchINSTALLBUILDCHECKBUILD BIN
InPAS 2.19.0  (landing page)
Jianhong Ou
git_last_commit: 5b899e7
git_last_commit_date: 2025-10-29 10:24:45 -0400
nebbiolo1Linux (Ubuntu 24.04.3 LTS) / x86_64  ERROR    ERROR  skipped
Package 204/428HostnameOS / ArchINSTALLBUILDCHECKBUILD BIN
INSPEcT 1.41.0  (landing page)
Stefano de Pretis
git_last_commit: 54a4fbd
git_last_commit_date: 2025-10-29 10:26:37 -0400
nebbiolo1Linux (Ubuntu 24.04.3 LTS) / x86_64  ERROR    ERROR  skipped
Package 205/428HostnameOS / ArchINSTALLBUILDCHECKBUILD BIN
InTAD 1.31.0  (landing page)
Konstantin Okonechnikov
git_last_commit: c1355bb
git_last_commit_date: 2025-10-29 10:44:46 -0400
nebbiolo1Linux (Ubuntu 24.04.3 LTS) / x86_64  OK    OK    OK  NO, package depends on 'IRanges' which is not available
Package 206/428HostnameOS / ArchINSTALLBUILDCHECKBUILD BIN
isobar 1.57.0  (landing page)
Florian P Breitwieser
git_last_commit: 0225060
git_last_commit_date: 2025-10-29 10:09:30 -0400
nebbiolo1Linux (Ubuntu 24.04.3 LTS) / x86_64  OK    OK    WARNINGS  NO, package depends on 'biomaRt' which is not available
Package 207/428HostnameOS / ArchINSTALLBUILDCHECKBUILD BIN
IsoformSwitchAnalyzeR 2.11.0  (landing page)
Kristoffer Vitting-Seerup
git_last_commit: dc055b6
git_last_commit_date: 2025-10-29 10:38:58 -0400
nebbiolo1Linux (Ubuntu 24.04.3 LTS) / x86_64  OK    OK    ERROR  
Package 208/428HostnameOS / ArchINSTALLBUILDCHECKBUILD BIN
isomiRs 1.39.0  (landing page)
Lorena Pantano
git_last_commit: feed20d
git_last_commit_date: 2025-10-29 10:31:12 -0400
nebbiolo1Linux (Ubuntu 24.04.3 LTS) / x86_64  OK    OK    ERROR  
Package 209/428HostnameOS / ArchINSTALLBUILDCHECKBUILD BIN
iterativeBMA 1.69.0  (landing page)
Ka Yee Yeung
git_last_commit: 01a26fb
git_last_commit_date: 2025-10-29 10:01:03 -0400
nebbiolo1Linux (Ubuntu 24.04.3 LTS) / x86_64  OK    OK    OK  YES
Package 210/428HostnameOS / ArchINSTALLBUILDCHECKBUILD BIN
IVAS 2.31.0  (landing page)
Seonggyun Han
git_last_commit: 0b3f358
git_last_commit_date: 2025-10-29 10:23:46 -0400
nebbiolo1Linux (Ubuntu 24.04.3 LTS) / x86_64  OK    OK    WARNINGS  NO, package depends on 'GenomicFeatures' which is not available
Package 211/428HostnameOS / ArchINSTALLBUILDCHECKBUILD BIN
katdetectr 1.13.0  (landing page)
Daan Hazelaar
git_last_commit: 01624d8
git_last_commit_date: 2025-10-29 11:17:25 -0400
nebbiolo1Linux (Ubuntu 24.04.3 LTS) / x86_64  ERROR    ERROR  skipped
Package 212/428HostnameOS / ArchINSTALLBUILDCHECKBUILD BIN
kissDE 1.31.0  (landing page)
Aurélie Siberchicot
git_last_commit: ba36c2d
git_last_commit_date: 2025-10-29 10:43:14 -0400
nebbiolo1Linux (Ubuntu 24.04.3 LTS) / x86_64  OK    OK    OK  NO, package depends on 'DESeq2' which is not available
Package 213/428HostnameOS / ArchINSTALLBUILDCHECKBUILD BIN
LiquidAssociation 1.65.0  (landing page)
Yen-Yi Ho
git_last_commit: 03aceab
git_last_commit_date: 2025-10-29 10:03:55 -0400
nebbiolo1Linux (Ubuntu 24.04.3 LTS) / x86_64  ERROR    ERROR  skipped
Package 214/428HostnameOS / ArchINSTALLBUILDCHECKBUILD BIN
LRBaseDbi 2.21.0  (landing page)
Koki Tsuyuzaki
git_last_commit: e5322a2
git_last_commit_date: 2025-10-29 10:46:33 -0400
nebbiolo1Linux (Ubuntu 24.04.3 LTS) / x86_64  OK    OK    OK  NO, package depends on 'AnnotationDbi' which is not available
Package 215/428HostnameOS / ArchINSTALLBUILDCHECKBUILD BIN
lumi 2.63.0  (landing page)
Lei Huang
git_last_commit: 692966d
git_last_commit_date: 2025-10-29 09:58:49 -0400
nebbiolo1Linux (Ubuntu 24.04.3 LTS) / x86_64  ERROR    OK    ERROR  
Package 216/428HostnameOS / ArchINSTALLBUILDCHECKBUILD BIN
made4 1.85.0  (landing page)
Aedin Culhane
git_last_commit: 9e87f7f
git_last_commit_date: 2025-10-29 09:56:05 -0400
nebbiolo1Linux (Ubuntu 24.04.3 LTS) / x86_64  OK    OK    OK  NO, package depends on 'SummarizedExperiment' which is not available
Package 217/428HostnameOS / ArchINSTALLBUILDCHECKBUILD BIN
makecdfenv 1.87.0  (landing page)
James W. MacDonald
git_last_commit: 7eb6d83
git_last_commit_date: 2025-10-29 09:42:16 -0400
nebbiolo1Linux (Ubuntu 24.04.3 LTS) / x86_64  OK    OK    WARNINGS  NO, package depends on 'affy' which is not available
Package 218/428HostnameOS / ArchINSTALLBUILDCHECKBUILD BIN
MAPFX 1.7.0  (landing page)
Hsiao-Chi Liao
git_last_commit: e9f080c
git_last_commit_date: 2025-10-29 11:30:04 -0400
nebbiolo1Linux (Ubuntu 24.04.3 LTS) / x86_64  OK    OK    OK  NO, package depends on 'ComplexHeatmap' which is not available
Package 219/428HostnameOS / ArchINSTALLBUILDCHECKBUILD BIN
maSigPro 1.83.0  (landing page)
Maria Jose Nueda
git_last_commit: 99d470c
git_last_commit_date: 2025-10-29 09:57:06 -0400
nebbiolo1Linux (Ubuntu 24.04.3 LTS) / x86_64  OK    OK    OK  YES
Package 220/428HostnameOS / ArchINSTALLBUILDCHECKBUILD BIN
massiR 1.47.0  (landing page)
Sam Buckberry
git_last_commit: 0501645
git_last_commit_date: 2025-10-29 10:18:27 -0400
nebbiolo1Linux (Ubuntu 24.04.3 LTS) / x86_64  OK    OK    OK  YES
Package 221/428HostnameOS / ArchINSTALLBUILDCHECKBUILD BIN
MAST 1.37.0  (landing page)
Andrew McDavid
git_last_commit: 29ffa2b
git_last_commit_date: 2025-10-29 10:34:54 -0400
nebbiolo1Linux (Ubuntu 24.04.3 LTS) / x86_64  OK    OK    OK  NO, package depends on 'SingleCellExperiment' which is not available
Package 222/428HostnameOS / ArchINSTALLBUILDCHECKBUILD BIN
mastR 1.11.0  (landing page)
Jinjin Chen
git_last_commit: 84f231b
git_last_commit_date: 2025-10-29 11:22:48 -0400
nebbiolo1Linux (Ubuntu 24.04.3 LTS) / x86_64  ERROR    ERROR  skipped
Package 223/428HostnameOS / ArchINSTALLBUILDCHECKBUILD BIN
mBPCR 1.65.0  (landing page)
P.M.V. Rancoita
git_last_commit: 1aad86f
git_last_commit_date: 2025-10-29 10:03:21 -0400
nebbiolo1Linux (Ubuntu 24.04.3 LTS) / x86_64  OK    OK    OK  NO, package depends on 'oligoClasses' which is not available
Package 224/428HostnameOS / ArchINSTALLBUILDCHECKBUILD BIN
MEAL 1.41.0  (landing page)
Xavier Escribà Montagut
git_last_commit: 7b303c8
git_last_commit_date: 2025-10-29 10:28:05 -0400
nebbiolo1Linux (Ubuntu 24.04.3 LTS) / x86_64  ERROR    ERROR  skipped
Package 225/428HostnameOS / ArchINSTALLBUILDCHECKBUILD BIN
MeSHDbi 1.47.0  (landing page)
Koki Tsuyuzaki
git_last_commit: 1fa151c
git_last_commit_date: 2025-10-29 10:19:20 -0400
nebbiolo1Linux (Ubuntu 24.04.3 LTS) / x86_64  OK    OK    OK  NO, package depends on 'AnnotationDbi' which is not available
Package 226/428HostnameOS / ArchINSTALLBUILDCHECKBUILD BIN
metabomxtr 1.45.0  (landing page)
Michael Nodzenski
git_last_commit: 832ac4e
git_last_commit_date: 2025-10-29 10:20:39 -0400
nebbiolo1Linux (Ubuntu 24.04.3 LTS) / x86_64  OK    OK    OK  YES
Package 227/428HostnameOS / ArchINSTALLBUILDCHECKBUILD BIN
metagenomeSeq 1.53.0  (landing page)
Joseph N. Paulson
git_last_commit: 48a74a4
git_last_commit_date: 2025-10-29 10:14:26 -0400
nebbiolo1Linux (Ubuntu 24.04.3 LTS) / x86_64  OK    OK    ERROR  
Package 228/428HostnameOS / ArchINSTALLBUILDCHECKBUILD BIN
metaseqR2 1.23.0  (landing page)
Panagiotis Moulos
git_last_commit: 25b9df1
git_last_commit_date: 2025-10-29 10:59:18 -0400
nebbiolo1Linux (Ubuntu 24.04.3 LTS) / x86_64  OK    OK    OK  NO, package depends on 'DESeq2' which is not available
Package 229/428HostnameOS / ArchINSTALLBUILDCHECKBUILD BIN
MethPed 1.39.0  (landing page)
Helena Carén
git_last_commit: 1e8d04d
git_last_commit_date: 2025-10-29 10:30:27 -0400
nebbiolo1Linux (Ubuntu 24.04.3 LTS) / x86_64  OK    OK    OK  YES
Package 230/428HostnameOS / ArchINSTALLBUILDCHECKBUILD BIN
MethylAid 1.45.0  (landing page)
L.J.Sinke
git_last_commit: 4bb83e1
git_last_commit_date: 2025-10-29 10:19:42 -0400
nebbiolo1Linux (Ubuntu 24.04.3 LTS) / x86_64  OK    ERROR  skipped
Package 231/428HostnameOS / ArchINSTALLBUILDCHECKBUILD BIN
methylCC 1.25.0  (landing page)
Stephanie C. Hicks
git_last_commit: e4eff51
git_last_commit_date: 2025-10-29 10:54:45 -0400
nebbiolo1Linux (Ubuntu 24.04.3 LTS) / x86_64  ERROR    ERROR  skipped
Package 232/428HostnameOS / ArchINSTALLBUILDCHECKBUILD BIN
methylclock 1.17.0  (landing page)
Dolors Pelegri-Siso
git_last_commit: 33c0153
git_last_commit_date: 2025-10-29 11:10:33 -0400
nebbiolo1Linux (Ubuntu 24.04.3 LTS) / x86_64  ERROR    ERROR  skipped
Package 233/428HostnameOS / ArchINSTALLBUILDCHECKBUILD BIN
methylumi 2.57.0  (landing page)
Sean Davis
git_last_commit: dcf4f3c
git_last_commit_date: 2025-10-29 10:02:53 -0400
nebbiolo1Linux (Ubuntu 24.04.3 LTS) / x86_64  ERROR    ERROR  skipped
Package 234/428HostnameOS / ArchINSTALLBUILDCHECKBUILD BIN
mfa 1.33.0  (landing page)
Kieran Campbell
git_last_commit: 5f9d925
git_last_commit_date: 2025-10-29 10:39:09 -0400
nebbiolo1Linux (Ubuntu 24.04.3 LTS) / x86_64  OK    ERROR  skipped
Package 235/428HostnameOS / ArchINSTALLBUILDCHECKBUILD BIN
Mfuzz 2.71.0  (landing page)
Matthias Futschik
git_last_commit: f44a57a
git_last_commit_date: 2025-10-29 09:57:35 -0400
nebbiolo1Linux (Ubuntu 24.04.3 LTS) / x86_64  OK    OK    OK  NO, package depends on 'tkWidgets' which is not available
Package 236/428HostnameOS / ArchINSTALLBUILDCHECKBUILD BIN
MiChip 1.65.0  (landing page)
Jonathon Blake
git_last_commit: 5d190b4
git_last_commit_date: 2025-10-29 10:03:27 -0400
nebbiolo1Linux (Ubuntu 24.04.3 LTS) / x86_64  OK    OK    OK  YES
Package 237/428HostnameOS / ArchINSTALLBUILDCHECKBUILD BIN
microbiomeDASim 1.25.0  (landing page)
Justin Williams
git_last_commit: 5e863d9
git_last_commit_date: 2025-10-29 10:54:08 -0400
nebbiolo1Linux (Ubuntu 24.04.3 LTS) / x86_64  OK    OK    OK  NO, package depends on 'phyloseq' which is not available
Package 238/428HostnameOS / ArchINSTALLBUILDCHECKBUILD BIN
microbiomeExplorer 1.21.0  (landing page)
Janina Reeder
git_last_commit: 6045c09
git_last_commit_date: 2025-10-29 11:03:17 -0400
nebbiolo1Linux (Ubuntu 24.04.3 LTS) / x86_64  OK    OK    OK  NO, package depends on 'metagenomeSeq' which is not available
Package 239/428HostnameOS / ArchINSTALLBUILDCHECKBUILD BIN
mimager 1.35.0  (landing page)
Aaron Wolen
git_last_commit: 86a8e49
git_last_commit_date: 2025-10-29 10:36:18 -0400
nebbiolo1Linux (Ubuntu 24.04.3 LTS) / x86_64  OK    ERROR  skipped
Package 240/428HostnameOS / ArchINSTALLBUILDCHECKBUILD BIN
MineICA 1.51.0  (landing page)
Anne Biton
git_last_commit: b926f54
git_last_commit_date: 2025-10-29 10:13:40 -0400
nebbiolo1Linux (Ubuntu 24.04.3 LTS) / x86_64  ERROR    ERROR  skipped
Package 241/428HostnameOS / ArchINSTALLBUILDCHECKBUILD BIN
minfi 1.57.0  (landing page)
Kasper Daniel Hansen
git_last_commit: 36249fb
git_last_commit_date: 2025-10-29 10:09:18 -0400
nebbiolo1Linux (Ubuntu 24.04.3 LTS) / x86_64  OK    ERROR  skipped
Package 242/428HostnameOS / ArchINSTALLBUILDCHECKBUILD BIN
MinimumDistance 1.55.0  (landing page)
Robert Scharpf
git_last_commit: 3e07ba2
git_last_commit_date: 2025-10-29 10:10:57 -0400
nebbiolo1Linux (Ubuntu 24.04.3 LTS) / x86_64  ERROR    ERROR  skipped
Package 243/428HostnameOS / ArchINSTALLBUILDCHECKBUILD BIN
MiPP 1.83.0  (landing page)
Sukwoo Kim
git_last_commit: b118e70
git_last_commit_date: 2025-10-29 09:56:22 -0400
nebbiolo1Linux (Ubuntu 24.04.3 LTS) / x86_64  OK    OK    OK  YES
Package 244/428HostnameOS / ArchINSTALLBUILDCHECKBUILD BIN
MIRA 1.33.0  (landing page)
John Lawson
git_last_commit: 0ed001d
git_last_commit_date: 2025-10-29 10:41:11 -0400
nebbiolo1Linux (Ubuntu 24.04.3 LTS) / x86_64  OK    OK    OK  NO, package depends on 'IRanges' which is not available
Package 245/428HostnameOS / ArchINSTALLBUILDCHECKBUILD BIN
MiRaGE 1.53.0  (landing page)
Y-h. Taguchi
git_last_commit: 700ec14
git_last_commit_date: 2025-10-29 10:11:09 -0400
nebbiolo1Linux (Ubuntu 24.04.3 LTS) / x86_64  OK    ERROR  skipped
Package 246/428HostnameOS / ArchINSTALLBUILDCHECKBUILD BIN
miRcomp 1.41.0  (landing page)
Matthew N. McCall
git_last_commit: 0114b71
git_last_commit_date: 2025-10-29 10:28:29 -0400
nebbiolo1Linux (Ubuntu 24.04.3 LTS) / x86_64  OK    OK    OK  YES
Package 247/428HostnameOS / ArchINSTALLBUILDCHECKBUILD BIN
miRSM 2.7.0  (landing page)
Junpeng Zhang
git_last_commit: 64db36b
git_last_commit_date: 2025-10-29 10:47:11 -0400
nebbiolo1Linux (Ubuntu 24.04.3 LTS) / x86_64  ERROR    ERROR  skipped
Package 248/428HostnameOS / ArchINSTALLBUILDCHECKBUILD BIN
missMethyl 1.45.0  (landing page)
Belinda Phipson
git_last_commit: 886b656
git_last_commit_date: 2025-10-29 10:20:32 -0400
nebbiolo1Linux (Ubuntu 24.04.3 LTS) / x86_64  ERROR    ERROR  skipped
Package 249/428HostnameOS / ArchINSTALLBUILDCHECKBUILD BIN
MLInterfaces 1.91.0  (landing page)
Vincent Carey
git_last_commit: e9c6af4
git_last_commit_date: 2025-10-29 09:55:18 -0400
nebbiolo1Linux (Ubuntu 24.04.3 LTS) / x86_64  OK    ERROR  skipped
Package 250/428HostnameOS / ArchINSTALLBUILDCHECKBUILD BIN
MLSeq 2.29.0  (landing page)
Gokmen Zararsiz
git_last_commit: b1aac87
git_last_commit_date: 2025-10-29 10:18:29 -0400
nebbiolo1Linux (Ubuntu 24.04.3 LTS) / x86_64  OK    OK    OK  NO, package depends on 'DESeq2' which is not available
Package 251/428HostnameOS / ArchINSTALLBUILDCHECKBUILD BIN
MMDiff2 1.39.0  (landing page)
Gabriele Schweikert
git_last_commit: d528d04
git_last_commit_date: 2025-10-29 10:32:14 -0400
nebbiolo1Linux (Ubuntu 24.04.3 LTS) / x86_64  OK    OK    ERROR  
Package 252/428HostnameOS / ArchINSTALLBUILDCHECKBUILD BIN
mogsa 1.45.0  (landing page)
Chen Meng
git_last_commit: 51a848b
git_last_commit_date: 2025-10-29 10:25:17 -0400
nebbiolo1Linux (Ubuntu 24.04.3 LTS) / x86_64  OK    OK    OK  NO, package depends on 'graphite' which is not available
Package 253/428HostnameOS / ArchINSTALLBUILDCHECKBUILD BIN
monocle 2.39.0  (landing page)
Cole Trapnell
git_last_commit: 1349852
git_last_commit_date: 2025-10-29 10:19:37 -0400
nebbiolo1Linux (Ubuntu 24.04.3 LTS) / x86_64  OK    OK    OK  YES
Package 254/428HostnameOS / ArchINSTALLBUILDCHECKBUILD BIN
Moonlight2R 1.9.0  (landing page)
Matteo Tiberti
git_last_commit: b5e3244
git_last_commit_date: 2025-10-29 11:25:19 -0400
nebbiolo1Linux (Ubuntu 24.04.3 LTS) / x86_64  OK    OK    OK  NO, package depends on 'clusterProfiler' which is not available
Package 255/428HostnameOS / ArchINSTALLBUILDCHECKBUILD BIN
MoonlightR 1.37.0  (landing page)
Matteo Tiberti
git_last_commit: 9303ed6
git_last_commit_date: 2025-10-29 10:35:02 -0400
nebbiolo1Linux (Ubuntu 24.04.3 LTS) / x86_64  OK    OK    OK  NO, package depends on 'SummarizedExperiment' which is not available
Package 256/428HostnameOS / ArchINSTALLBUILDCHECKBUILD BIN
MSnbase 2.37.0  (landing page)
Laurent Gatto
git_last_commit: 3ca1ea4
git_last_commit_date: 2025-10-29 10:06:57 -0400
nebbiolo1Linux (Ubuntu 24.04.3 LTS) / x86_64  OK    OK    OK  NO, package depends on 'PSMatch' which is not available
Package 257/428HostnameOS / ArchINSTALLBUILDCHECKBUILD BIN
MSnID 1.45.0  (landing page)
Vlad Petyuk
git_last_commit: 7607478
git_last_commit_date: 2025-10-29 10:21:36 -0400
nebbiolo1Linux (Ubuntu 24.04.3 LTS) / x86_64  OK    OK    OK  NO, package depends on 'MSnbase' which is not available
Package 258/428HostnameOS / ArchINSTALLBUILDCHECKBUILD BIN
Mulcom 1.61.0  (landing page)
Claudio Isella
git_last_commit: 7d6df9a
git_last_commit_date: 2025-10-29 10:05:38 -0400
nebbiolo1Linux (Ubuntu 24.04.3 LTS) / x86_64  OK    OK    WARNINGS  YES
Package 259/428HostnameOS / ArchINSTALLBUILDCHECKBUILD BIN
MultiAssayExperiment 1.37.0  (landing page)
Marcel Ramos
git_last_commit: bcc9a96
git_last_commit_date: 2025-10-29 10:31:09 -0400
nebbiolo1Linux (Ubuntu 24.04.3 LTS) / x86_64  OK    OK    OK  NO, package depends on 'SummarizedExperiment' which is not available
Package 260/428HostnameOS / ArchINSTALLBUILDCHECKBUILD BIN
MultiDataSet 1.39.0  (landing page)
Xavier Escribà Montagut
git_last_commit: 5045884
git_last_commit_date: 2025-10-29 10:31:59 -0400
nebbiolo1Linux (Ubuntu 24.04.3 LTS) / x86_64  OK    OK    ERROR  
Package 261/428HostnameOS / ArchINSTALLBUILDCHECKBUILD BIN
MultiRNAflow 1.9.0  (landing page)
Rodolphe Loubaton
git_last_commit: 3c2e28d
git_last_commit_date: 2025-10-29 11:24:54 -0400
nebbiolo1Linux (Ubuntu 24.04.3 LTS) / x86_64  OK    OK    OK  NO, package depends on 'Mfuzz' which is not available
Package 262/428HostnameOS / ArchINSTALLBUILDCHECKBUILD BIN
multiscan 1.71.0  (landing page)
Mizanur Khondoker
git_last_commit: 6267e46
git_last_commit_date: 2025-10-29 10:00:57 -0400
nebbiolo1Linux (Ubuntu 24.04.3 LTS) / x86_64  OK    OK    OK  YES
Package 263/428HostnameOS / ArchINSTALLBUILDCHECKBUILD BIN
multtest 2.67.0  (landing page)
Katherine S. Pollard
git_last_commit: 877b1b4
git_last_commit_date: 2025-10-29 09:41:53 -0400
nebbiolo1Linux (Ubuntu 24.04.3 LTS) / x86_64  OK    OK    WARNINGS  YES
Package 264/428HostnameOS / ArchINSTALLBUILDCHECKBUILD BIN
mzR 2.45.0  (landing page)
Steffen Neumann
git_last_commit: b483816
git_last_commit_date: 2025-10-29 10:08:33 -0400
nebbiolo1Linux (Ubuntu 24.04.3 LTS) / x86_64  OK    OK    WARNINGS  YES
Package 265/428HostnameOS / ArchINSTALLBUILDCHECKBUILD BIN
NanoStringDiff 1.41.0  (landing page)
tingting zhai ,hong wang
git_last_commit: b94a57b
git_last_commit_date: 2025-10-29 10:27:11 -0400
nebbiolo1Linux (Ubuntu 24.04.3 LTS) / x86_64  OK    OK    WARNINGS  YES
Package 266/428HostnameOS / ArchINSTALLBUILDCHECKBUILD BIN
NanoStringNCTools 1.19.0  (landing page)
Maddy Griswold
git_last_commit: 47660a8
git_last_commit_date: 2025-10-29 11:05:46 -0400
nebbiolo1Linux (Ubuntu 24.04.3 LTS) / x86_64  OK    OK    OK  NO, package depends on 'Biostrings' which is not available
Package 267/428HostnameOS / ArchINSTALLBUILDCHECKBUILD BIN
NanoTube 1.17.0  (landing page)
Caleb Class
git_last_commit: 6e52811
git_last_commit_date: 2025-10-29 11:10:19 -0400
nebbiolo1Linux (Ubuntu 24.04.3 LTS) / x86_64  OK    OK    OK  NO, package depends on 'fgsea' which is not available
Package 268/428HostnameOS / ArchINSTALLBUILDCHECKBUILD BIN
ncdfFlow 2.57.0  (landing page)
Mike Jiang
git_last_commit: 1d39b7d
git_last_commit_date: 2025-10-29 10:09:38 -0400
nebbiolo1Linux (Ubuntu 24.04.3 LTS) / x86_64  OK    OK    WARNINGS  YES
Package 269/428HostnameOS / ArchINSTALLBUILDCHECKBUILD BIN
NOISeq 2.55.0  (landing page)
Sonia Tarazona
git_last_commit: ad38b2f
git_last_commit_date: 2025-10-29 10:12:33 -0400
nebbiolo1Linux (Ubuntu 24.04.3 LTS) / x86_64  OK    OK    OK  YES
Package 270/428HostnameOS / ArchINSTALLBUILDCHECKBUILD BIN
nondetects 2.41.0  (landing page)
Valeriia Sherina
git_last_commit: 9d43cbc
git_last_commit_date: 2025-10-29 10:18:46 -0400
nebbiolo1Linux (Ubuntu 24.04.3 LTS) / x86_64  OK    OK    OK  NO, package depends on 'HTqPCR' which is not available
Package 271/428HostnameOS / ArchINSTALLBUILDCHECKBUILD BIN
normalize450K 1.39.0  (landing page)
Jonathan Alexander Heiss
git_last_commit: 62981d2
git_last_commit_date: 2025-10-29 10:29:02 -0400
nebbiolo1Linux (Ubuntu 24.04.3 LTS) / x86_64  OK    OK    OK  YES
Package 272/428HostnameOS / ArchINSTALLBUILDCHECKBUILD BIN
NormqPCR 1.57.0  (landing page)
James Perkins
git_last_commit: 0d5f960
git_last_commit_date: 2025-10-29 10:08:19 -0400
nebbiolo1Linux (Ubuntu 24.04.3 LTS) / x86_64  OK    OK    OK  YES
Package 273/428HostnameOS / ArchINSTALLBUILDCHECKBUILD BIN
npGSEA 1.47.0  (landing page)
Jessica Larson
git_last_commit: 3e7356f
git_last_commit_date: 2025-10-29 10:19:10 -0400
nebbiolo1Linux (Ubuntu 24.04.3 LTS) / x86_64  OK    ERROR  skipped
Package 274/428HostnameOS / ArchINSTALLBUILDCHECKBUILD BIN
nucleR 2.43.0  (landing page)
Alba Sala
git_last_commit: 3db28f8
git_last_commit_date: 2025-10-29 10:08:16 -0400
nebbiolo1Linux (Ubuntu 24.04.3 LTS) / x86_64  OK    OK    WARNINGS  NO, package depends on 'Biostrings' which is not available
Package 275/428HostnameOS / ArchINSTALLBUILDCHECKBUILD BIN
octad 1.13.0  (landing page)
E. Chekalin
git_last_commit: 27dcaeb
git_last_commit_date: 2025-10-29 11:19:54 -0400
nebbiolo1Linux (Ubuntu 24.04.3 LTS) / x86_64  OK    OK    OK  NO, package depends on 'RUVSeq' which is not available
Package 276/428HostnameOS / ArchINSTALLBUILDCHECKBUILD BIN
oligo 1.75.0  (landing page)
Benilton Carvalho
git_last_commit: e5c4ecd
git_last_commit_date: 2025-10-29 09:56:42 -0400
nebbiolo1Linux (Ubuntu 24.04.3 LTS) / x86_64  OK    OK    ERROR  
Package 277/428HostnameOS / ArchINSTALLBUILDCHECKBUILD BIN
oligoClasses 1.73.0  (landing page)
Benilton Carvalho and Robert Scharpf
git_last_commit: 924ec0a
git_last_commit_date: 2025-10-29 09:59:50 -0400
nebbiolo1Linux (Ubuntu 24.04.3 LTS) / x86_64  OK    OK    ERROR  
Package 278/428HostnameOS / ArchINSTALLBUILDCHECKBUILD BIN
omicade4 1.51.0  (landing page)
Chen Meng
git_last_commit: 13c6995
git_last_commit_date: 2025-10-29 10:16:27 -0400
nebbiolo1Linux (Ubuntu 24.04.3 LTS) / x86_64  OK    OK    OK  NO, package depends on 'made4' which is not available
Package 279/428HostnameOS / ArchINSTALLBUILDCHECKBUILD BIN
omicRexposome 1.33.0  (landing page)
Xavier Escribà Montagut
git_last_commit: 72cf7a2
git_last_commit_date: 2025-10-29 10:41:13 -0400
nebbiolo1Linux (Ubuntu 24.04.3 LTS) / x86_64  OK    OK    OK  NO, package depends on 'sva' which is not available
Package 280/428HostnameOS / ArchINSTALLBUILDCHECKBUILD BIN
omicsViewer 1.15.0  (landing page)
Chen Meng
git_last_commit: e91edf4
git_last_commit_date: 2025-10-29 11:16:46 -0400
nebbiolo1Linux (Ubuntu 24.04.3 LTS) / x86_64  OK    OK    WARNINGS  NO, package depends on 'fgsea' which is not available
Package 281/428HostnameOS / ArchINSTALLBUILDCHECKBUILD BIN
ontoProc 2.5.0  (landing page)
Vincent Carey
git_last_commit: a09f239
git_last_commit_date: 2025-10-29 19:20:08 -0400
nebbiolo1Linux (Ubuntu 24.04.3 LTS) / x86_64  OK    OK    ERROR  
Package 282/428HostnameOS / ArchINSTALLBUILDCHECKBUILD BIN
openCyto 2.23.0  (landing page)
Mike Jiang
git_last_commit: 11bf474
git_last_commit_date: 2025-10-29 10:16:53 -0400
nebbiolo1Linux (Ubuntu 24.04.3 LTS) / x86_64  OK    OK    WARNINGS  NO, package depends on 'flowWorkspace' which is not available
Package 283/428HostnameOS / ArchINSTALLBUILDCHECKBUILD BIN
oposSOM 2.29.0  (landing page)
Henry Loeffler-Wirth
git_last_commit: 5c4952e
git_last_commit_date: 2025-10-29 10:20:10 -0400
nebbiolo1Linux (Ubuntu 24.04.3 LTS) / x86_64  OK    OK    WARNINGS  NO, package depends on 'biomaRt' which is not available
Package 284/428HostnameOS / ArchINSTALLBUILDCHECKBUILD BIN
oppar 1.39.0  (landing page)
Soroor Hediyeh zadeh
git_last_commit: 168fc6d
git_last_commit_date: 2025-10-29 10:31:41 -0400
nebbiolo1Linux (Ubuntu 24.04.3 LTS) / x86_64  OK    OK    WARNINGS  NO, package depends on 'GSEABase' which is not available
Package 285/428HostnameOS / ArchINSTALLBUILDCHECKBUILD BIN
OrderedList 1.83.0  (landing page)
Claudio Lottaz
git_last_commit: 9b40a29
git_last_commit_date: 2025-10-29 09:58:01 -0400
nebbiolo1Linux (Ubuntu 24.04.3 LTS) / x86_64  OK    OK    OK  YES
Package 286/428HostnameOS / ArchINSTALLBUILDCHECKBUILD BIN
OrganismDbi 1.53.0  (landing page)
Bioconductor Package Maintainer
git_last_commit: bc1c6fc
git_last_commit_date: 2025-10-29 10:12:00 -0400
nebbiolo1Linux (Ubuntu 24.04.3 LTS) / x86_64  ERROR    ERROR  skipped
Package 287/428HostnameOS / ArchINSTALLBUILDCHECKBUILD BIN
OTUbase 1.61.0  (landing page)
Daniel Beck
git_last_commit: 42c921c
git_last_commit_date: 2025-10-29 10:05:45 -0400
nebbiolo1Linux (Ubuntu 24.04.3 LTS) / x86_64  OK    OK    OK  NO, package depends on 'IRanges' which is not available
Package 288/428HostnameOS / ArchINSTALLBUILDCHECKBUILD BIN
PADOG 1.53.0  (landing page)
Adi L. Tarca
git_last_commit: 4e53350
git_last_commit_date: 2025-10-29 10:11:37 -0400
nebbiolo1Linux (Ubuntu 24.04.3 LTS) / x86_64  ERROR    ERROR  skipped
Package 289/428HostnameOS / ArchINSTALLBUILDCHECKBUILD BIN
pandaR 1.43.0  (landing page)
Joseph N. Paulson , Dan Schlauch
git_last_commit: 92841f9
git_last_commit_date: 2025-10-29 10:25:42 -0400
nebbiolo1Linux (Ubuntu 24.04.3 LTS) / x86_64  OK    OK    WARNINGS  YES
Package 290/428HostnameOS / ArchINSTALLBUILDCHECKBUILD BIN
panp 1.81.0  (landing page)
Peter Warren
git_last_commit: a363914
git_last_commit_date: 2025-10-29 09:57:20 -0400
nebbiolo1Linux (Ubuntu 24.04.3 LTS) / x86_64  OK    OK    OK  NO, package depends on 'affy' which is not available
Package 291/428HostnameOS / ArchINSTALLBUILDCHECKBUILD BIN
pcaMethods 2.3.0  (landing page)
Henning Redestig
git_last_commit: 8787174
git_last_commit_date: 2025-10-29 09:58:32 -0400
nebbiolo1Linux (Ubuntu 24.04.3 LTS) / x86_64  OK    OK    OK  YES
Package 292/428HostnameOS / ArchINSTALLBUILDCHECKBUILD BIN
pdInfoBuilder 1.75.0  (landing page)
Benilton Carvalho
git_last_commit: 81fd205
git_last_commit_date: 2025-10-29 09:58:52 -0400
nebbiolo1Linux (Ubuntu 24.04.3 LTS) / x86_64  OK    OK    OK  NO, package depends on 'oligo' which is not available
Package 293/428HostnameOS / ArchINSTALLBUILDCHECKBUILD BIN
pepStat 1.45.0  (landing page)
Gregory C Imholte
git_last_commit: d3092b9
git_last_commit_date: 2025-10-29 10:20:13 -0400
nebbiolo1Linux (Ubuntu 24.04.3 LTS) / x86_64  OK    OK    OK  NO, package depends on 'IRanges' which is not available
Package 294/428HostnameOS / ArchINSTALLBUILDCHECKBUILD BIN
phantasus 1.31.0  (landing page)
Alexey Sergushichev
git_last_commit: 30cb2d9
git_last_commit_date: 2025-10-29 10:44:01 -0400
nebbiolo1Linux (Ubuntu 24.04.3 LTS) / x86_64  OK    OK    ERROR  
Package 295/428HostnameOS / ArchINSTALLBUILDCHECKBUILD BIN
phantasusLite 1.9.0  (landing page)
Alexey Sergushichev
git_last_commit: 8ee7242
git_last_commit_date: 2025-10-29 11:26:10 -0400
nebbiolo1Linux (Ubuntu 24.04.3 LTS) / x86_64  OK    OK    OK  NO, package depends on 'rhdf5client' which is not available
Package 296/428HostnameOS / ArchINSTALLBUILDCHECKBUILD BIN
PharmacoGx 3.15.0  (landing page)
Benjamin Haibe-Kains
git_last_commit: a1fade5
git_last_commit_date: 2025-10-29 10:33:56 -0400
nebbiolo1Linux (Ubuntu 24.04.3 LTS) / x86_64  OK    OK    OK  NO, package depends on 'CoreGx' which is not available
Package 297/428HostnameOS / ArchINSTALLBUILDCHECKBUILD BIN
phenomis 1.13.0  (landing page)
Etienne A. Thevenot
git_last_commit: 2244e33
git_last_commit_date: 2025-10-29 11:18:33 -0400
nebbiolo1Linux (Ubuntu 24.04.3 LTS) / x86_64  OK    OK    OK  NO, package depends on 'SummarizedExperiment' which is not available
Package 298/428HostnameOS / ArchINSTALLBUILDCHECKBUILD BIN
phenoTest 1.59.0  (landing page)
Evarist Planet
git_last_commit: 882e53c
git_last_commit_date: 2025-10-29 10:06:30 -0400
nebbiolo1Linux (Ubuntu 24.04.3 LTS) / x86_64  ERROR    ERROR  skipped
Package 299/428HostnameOS / ArchINSTALLBUILDCHECKBUILD BIN
phyloseq 1.55.0  (landing page)
Paul J. McMurdie
git_last_commit: 3b97933
git_last_commit_date: 2025-10-29 10:10:12 -0400
nebbiolo1Linux (Ubuntu 24.04.3 LTS) / x86_64  OK    OK    WARNINGS  NO, package depends on 'Biostrings' which is not available
Package 300/428HostnameOS / ArchINSTALLBUILDCHECKBUILD BIN
piano 2.27.0  (landing page)
Leif Varemo Wigge
git_last_commit: f61c2c0
git_last_commit_date: 2025-10-29 10:14:36 -0400
nebbiolo1Linux (Ubuntu 24.04.3 LTS) / x86_64  OK    ERROR  skipped
Package 301/428HostnameOS / ArchINSTALLBUILDCHECKBUILD BIN
plgem 1.83.0  (landing page)
Norman Pavelka
git_last_commit: b4e2cd9
git_last_commit_date: 2025-10-29 09:56:13 -0400
nebbiolo1Linux (Ubuntu 24.04.3 LTS) / x86_64  OK    OK    OK  YES
Package 302/428HostnameOS / ArchINSTALLBUILDCHECKBUILD BIN
plier 1.81.0  (landing page)
Crispin Miller
git_last_commit: ed680fc
git_last_commit_date: 2025-10-29 09:55:59 -0400
nebbiolo1Linux (Ubuntu 24.04.3 LTS) / x86_64  OK    OK    WARNINGS  NO, package depends on 'affy' which is not available
Package 303/428HostnameOS / ArchINSTALLBUILDCHECKBUILD BIN
PLPE 1.71.0  (landing page)
Soo-heang Eo
git_last_commit: d88d290
git_last_commit_date: 2025-10-29 10:01:16 -0400
nebbiolo1Linux (Ubuntu 24.04.3 LTS) / x86_64  OK    OK    OK  YES
Package 304/428HostnameOS / ArchINSTALLBUILDCHECKBUILD BIN
PLSDAbatch 1.7.0  (landing page)
Yiwen (Eva) Wang
git_last_commit: 744879e
git_last_commit_date: 2025-10-29 11:26:59 -0400
nebbiolo1Linux (Ubuntu 24.04.3 LTS) / x86_64  OK    OK    OK  NO, package depends on 'TreeSummarizedExperiment' which is not available
Package 305/428HostnameOS / ArchINSTALLBUILDCHECKBUILD BIN
podkat 1.43.0  (landing page)
Ulrich Bodenhofer
git_last_commit: d216a17
git_last_commit_date: 2025-10-29 10:24:59 -0400
nebbiolo1Linux (Ubuntu 24.04.3 LTS) / x86_64  OK    ERROR  skipped
Package 306/428HostnameOS / ArchINSTALLBUILDCHECKBUILD BIN
POWSC 1.19.0  (landing page)
Kenong Su
git_last_commit: b092ca1
git_last_commit_date: 2025-10-29 11:09:11 -0400
nebbiolo1Linux (Ubuntu 24.04.3 LTS) / x86_64  OK    OK    OK  NO, package depends on 'SingleCellExperiment' which is not available
Package 307/428HostnameOS / ArchINSTALLBUILDCHECKBUILD BIN
prebs 1.51.0  (landing page)
Karolis Uziela
git_last_commit: e4fa52e
git_last_commit_date: 2025-10-29 10:14:39 -0400
nebbiolo1Linux (Ubuntu 24.04.3 LTS) / x86_64  OK    ERROR  skipped
Package 308/428HostnameOS / ArchINSTALLBUILDCHECKBUILD BIN
PREDA 1.57.0  (landing page)
Francesco Ferrari
git_last_commit: 082ec94
git_last_commit_date: 2025-10-29 10:08:27 -0400
nebbiolo1Linux (Ubuntu 24.04.3 LTS) / x86_64  OK    OK    WARNINGS  NO, package depends on 'annotate' which is not available
Package 309/428HostnameOS / ArchINSTALLBUILDCHECKBUILD BIN
PrInCE 1.27.0  (landing page)
Michael Skinnider
git_last_commit: bfd792d
git_last_commit_date: 2025-10-29 10:50:32 -0400
nebbiolo1Linux (Ubuntu 24.04.3 LTS) / x86_64  OK    OK    WARNINGS  NO, package depends on 'MSnbase' which is not available
Package 310/428HostnameOS / ArchINSTALLBUILDCHECKBUILD BIN
progeny 1.33.0  (landing page)
Aurélien Dugourd
git_last_commit: 397f983
git_last_commit_date: 2025-10-29 10:41:34 -0400
nebbiolo1Linux (Ubuntu 24.04.3 LTS) / x86_64  OK    OK    OK  YES
Package 311/428HostnameOS / ArchINSTALLBUILDCHECKBUILD BIN
pRoloc 1.51.0  (landing page)
Lisa Breckels
git_last_commit: 26ca27b
git_last_commit_date: 2025-10-29 10:12:55 -0400
nebbiolo1Linux (Ubuntu 24.04.3 LTS) / x86_64  OK    OK    WARNINGS  NO, package depends on 'MSnbase' which is not available
Package 312/428HostnameOS / ArchINSTALLBUILDCHECKBUILD BIN
pRolocGUI 2.21.0  (landing page)
Lisa Breckels
git_last_commit: a013160
git_last_commit_date: 2025-10-29 10:20:16 -0400
nebbiolo1Linux (Ubuntu 24.04.3 LTS) / x86_64  OK    OK    OK  NO, package depends on 'pRoloc' which is not available
Package 313/428HostnameOS / ArchINSTALLBUILDCHECKBUILD BIN
PROMISE 1.63.0  (landing page)
Stan Pounds , Xueyuan Cao
git_last_commit: d65a441
git_last_commit_date: 2025-10-29 10:04:56 -0400
nebbiolo1Linux (Ubuntu 24.04.3 LTS) / x86_64  OK    OK    OK  NO, package depends on 'GSEABase' which is not available
Package 314/428HostnameOS / ArchINSTALLBUILDCHECKBUILD BIN
PRONE 1.5.0  (landing page)
Lis Arend
git_last_commit: cfe6a55
git_last_commit_date: 2025-10-29 11:32:38 -0400
nebbiolo1Linux (Ubuntu 24.04.3 LTS) / x86_64  OK    OK    OK  NO, package depends on 'SummarizedExperiment' which is not available
Package 315/428HostnameOS / ArchINSTALLBUILDCHECKBUILD BIN
PROPS 1.33.0  (landing page)
Lichy Han
git_last_commit: d01cb52
git_last_commit_date: 2025-10-29 10:41:57 -0400
nebbiolo1Linux (Ubuntu 24.04.3 LTS) / x86_64  OK    OK    OK  NO, package depends on 'sva' which is not available
Package 316/428HostnameOS / ArchINSTALLBUILDCHECKBUILD BIN
Prostar 1.43.0  (landing page)
Samuel Wieczorek
git_last_commit: cfb7b6c
git_last_commit_date: 2025-10-29 10:28:08 -0400
nebbiolo1Linux (Ubuntu 24.04.3 LTS) / x86_64  OK    OK    WARNINGS  NO, package depends on 'DAPAR' which is not available
Package 317/428HostnameOS / ArchINSTALLBUILDCHECKBUILD BIN
protGear 1.15.0  (landing page)
Kennedy Mwai
git_last_commit: 1c28da5
git_last_commit_date: 2025-10-29 11:15:59 -0400
nebbiolo1Linux (Ubuntu 24.04.3 LTS) / x86_64  OK    OK    OK  NO, package depends on 'vsn' which is not available
Package 318/428HostnameOS / ArchINSTALLBUILDCHECKBUILD BIN
ptairMS 1.19.0  (landing page)
camille Roquencourt
git_last_commit: 230089f
git_last_commit_date: 2025-10-29 11:07:57 -0400
nebbiolo1Linux (Ubuntu 24.04.3 LTS) / x86_64  OK    OK    WARNINGS  NO, package depends on 'MSnbase' which is not available
Package 319/428HostnameOS / ArchINSTALLBUILDCHECKBUILD BIN
puma 3.53.0  (landing page)
Xuejun Liu
git_last_commit: fdcbc97
git_last_commit_date: 2025-10-29 09:59:30 -0400
nebbiolo1Linux (Ubuntu 24.04.3 LTS) / x86_64  OK    ERROR  skipped
Package 320/428HostnameOS / ArchINSTALLBUILDCHECKBUILD BIN
PureCN 2.17.0  (landing page)
Markus Riester
git_last_commit: 3330cff
git_last_commit_date: 2025-10-29 10:31:57 -0400
nebbiolo1Linux (Ubuntu 24.04.3 LTS) / x86_64  OK    OK    OK  NO, package depends on 'VariantAnnotation' which is not available
Package 321/428HostnameOS / ArchINSTALLBUILDCHECKBUILD BIN
pvac 1.59.0  (landing page)
Jun Lu , Pierre R. Bushel
git_last_commit: 5e7dd13
git_last_commit_date: 2025-10-29 10:06:42 -0400
nebbiolo1Linux (Ubuntu 24.04.3 LTS) / x86_64  OK    ERROR  skipped
Package 322/428HostnameOS / ArchINSTALLBUILDCHECKBUILD BIN
pvca 1.51.0  (landing page)
Jianying LI
git_last_commit: 1b417dc
git_last_commit_date: 2025-10-29 10:12:53 -0400
nebbiolo1Linux (Ubuntu 24.04.3 LTS) / x86_64  OK    OK    OK  NO, package depends on 'vsn' which is not available
Package 323/428HostnameOS / ArchINSTALLBUILDCHECKBUILD BIN
qcmetrics 1.49.0  (landing page)
Laurent Gatto
git_last_commit: c0694fe
git_last_commit_date: 2025-10-29 10:16:56 -0400
nebbiolo1Linux (Ubuntu 24.04.3 LTS) / x86_64  OK    OK    OK  YES
Package 324/428HostnameOS / ArchINSTALLBUILDCHECKBUILD BIN
QDNAseq 1.47.0  (landing page)
Daoud Sie
git_last_commit: 2bb3c9e
git_last_commit_date: 2025-10-29 10:18:34 -0400
nebbiolo1Linux (Ubuntu 24.04.3 LTS) / x86_64  OK    OK    OK  NO, package depends on 'Seqinfo' which is not available
Package 325/428HostnameOS / ArchINSTALLBUILDCHECKBUILD BIN
QFeatures 1.21.0  (landing page)
Laurent Gatto
git_last_commit: 9863a56
git_last_commit_date: 2025-10-29 11:01:30 -0400
nebbiolo1Linux (Ubuntu 24.04.3 LTS) / x86_64  OK    OK    OK  NO, package depends on 'MultiAssayExperiment' which is not available
Package 326/428HostnameOS / ArchINSTALLBUILDCHECKBUILD BIN
qpcrNorm 1.69.0  (landing page)
Jessica Mar
git_last_commit: 9244214
git_last_commit_date: 2025-10-29 10:02:38 -0400
nebbiolo1Linux (Ubuntu 24.04.3 LTS) / x86_64  OK    OK    OK  NO, package depends on 'affy' which is not available
Package 327/428HostnameOS / ArchINSTALLBUILDCHECKBUILD BIN
qpgraph 2.45.0  (landing page)
Robert Castelo
git_last_commit: eff82ca
git_last_commit_date: 2025-10-29 10:02:10 -0400
nebbiolo1Linux (Ubuntu 24.04.3 LTS) / x86_64  OK    ERROR  skipped
Package 328/428HostnameOS / ArchINSTALLBUILDCHECKBUILD BIN
qPLEXanalyzer 1.29.0  (landing page)
Ashley Sawle
git_last_commit: d72dc3a
git_last_commit_date: 2025-10-29 10:46:08 -0400
nebbiolo1Linux (Ubuntu 24.04.3 LTS) / x86_64  OK    ERROR  skipped
Package 329/428HostnameOS / ArchINSTALLBUILDCHECKBUILD BIN
quantiseqr 1.19.0  (landing page)
Federico Marini
git_last_commit: 0a7a615
git_last_commit_date: 2025-10-29 11:08:45 -0400
nebbiolo1Linux (Ubuntu 24.04.3 LTS) / x86_64  OK    OK    OK  NO, package depends on 'SummarizedExperiment' which is not available
Package 330/428HostnameOS / ArchINSTALLBUILDCHECKBUILD BIN
quantro 1.45.0  (landing page)
Stephanie Hicks
git_last_commit: 8733992
git_last_commit_date: 2025-10-29 10:20:56 -0400
nebbiolo1Linux (Ubuntu 24.04.3 LTS) / x86_64  OK    OK    OK  NO, package depends on 'minfi' which is not available
Package 331/428HostnameOS / ArchINSTALLBUILDCHECKBUILD BIN
QuasR 1.51.0  (landing page)
Michael Stadler
git_last_commit: 331f3b2
git_last_commit_date: 2025-10-29 10:13:16 -0400
nebbiolo1Linux (Ubuntu 24.04.3 LTS) / x86_64  OK    ERROR  skipped
Package 332/428HostnameOS / ArchINSTALLBUILDCHECKBUILD BIN
qusage 2.45.0  (landing page)
Christopher Bolen
git_last_commit: 6db5ad6
git_last_commit_date: 2025-10-29 10:16:07 -0400
nebbiolo1Linux (Ubuntu 24.04.3 LTS) / x86_64  OK    OK    OK  YES
Package 333/428HostnameOS / ArchINSTALLBUILDCHECKBUILD BIN
R453Plus1Toolbox 1.61.0  (landing page)
Hans-Ulrich Klein
git_last_commit: b396ba9
git_last_commit_date: 2025-10-29 10:06:02 -0400
nebbiolo1Linux (Ubuntu 24.04.3 LTS) / x86_64  OK    ERROR  skipped
Package 334/428HostnameOS / ArchINSTALLBUILDCHECKBUILD BIN
RadioGx 2.15.0  (landing page)
Benjamin Haibe-Kains
git_last_commit: 3cfa0fd
git_last_commit_date: 2025-10-29 11:00:09 -0400
nebbiolo1Linux (Ubuntu 24.04.3 LTS) / x86_64  OK    OK    OK  NO, package depends on 'CoreGx' which is not available
Package 335/428HostnameOS / ArchINSTALLBUILDCHECKBUILD BIN
randPack 1.57.0  (landing page)
Robert Gentleman
git_last_commit: ec45457
git_last_commit_date: 2025-10-29 10:07:56 -0400
nebbiolo1Linux (Ubuntu 24.04.3 LTS) / x86_64  OK    OK    OK  YES
Package 336/428HostnameOS / ArchINSTALLBUILDCHECKBUILD BIN
RbcBook1 1.79.0  (landing page)
Vince Carey
git_last_commit: f5a4884
git_last_commit_date: 2025-10-29 09:58:35 -0400
nebbiolo1Linux (Ubuntu 24.04.3 LTS) / x86_64  OK    OK    WARNINGS  YES
Package 337/428HostnameOS / ArchINSTALLBUILDCHECKBUILD BIN
rbsurv 2.69.0  (landing page)
Soo-heang Eo
git_last_commit: c362232
git_last_commit_date: 2025-10-29 09:59:24 -0400
nebbiolo1Linux (Ubuntu 24.04.3 LTS) / x86_64  OK    OK    OK  YES
Package 338/428HostnameOS / ArchINSTALLBUILDCHECKBUILD BIN
rcellminer 2.33.0  (landing page)
Augustin Luna , Vinodh Rajapakse
git_last_commit: 271ecd1
git_last_commit_date: 2025-10-29 10:24:56 -0400
nebbiolo1Linux (Ubuntu 24.04.3 LTS) / x86_64  OK    OK    WARNINGS  YES
Package 339/428HostnameOS / ArchINSTALLBUILDCHECKBUILD BIN
ReactomeGSA 1.25.0  (landing page)
Johannes Griss
git_last_commit: 473b5b6
git_last_commit_date: 2025-10-29 10:54:21 -0400
nebbiolo1Linux (Ubuntu 24.04.3 LTS) / x86_64  OK    ERROR  skipped
Package 340/428HostnameOS / ArchINSTALLBUILDCHECKBUILD BIN
ReadqPCR 1.57.0  (landing page)
James Perkins
git_last_commit: 8f4627c
git_last_commit_date: 2025-10-29 10:08:05 -0400
nebbiolo1Linux (Ubuntu 24.04.3 LTS) / x86_64  OK    OK    OK  YES
Package 341/428HostnameOS / ArchINSTALLBUILDCHECKBUILD BIN
ReportingTools 2.51.0  (landing page)
Jason A. Hackney , Gabriel Becker
git_last_commit: ba00f72
git_last_commit_date: 2025-10-29 10:12:14 -0400
nebbiolo1Linux (Ubuntu 24.04.3 LTS) / x86_64  ERROR    ERROR  skipped
Package 342/428HostnameOS / ArchINSTALLBUILDCHECKBUILD BIN
rexposome 1.33.0  (landing page)
Xavier Escribà Montagut
git_last_commit: 089d8b1
git_last_commit_date: 2025-10-29 10:39:53 -0400
nebbiolo1Linux (Ubuntu 24.04.3 LTS) / x86_64  OK    OK    WARNINGS  YES
Package 343/428HostnameOS / ArchINSTALLBUILDCHECKBUILD BIN
RIVER 1.35.0  (landing page)
Yungil Kim
git_last_commit: 24ebc88
git_last_commit_date: 2025-10-29 10:37:54 -0400
nebbiolo1Linux (Ubuntu 24.04.3 LTS) / x86_64  OK    OK    OK  YES
Package 344/428HostnameOS / ArchINSTALLBUILDCHECKBUILD BIN
Rmagpie 1.67.0  (landing page)
Camille Maumet
git_last_commit: 531a8ca
git_last_commit_date: 2025-10-29 10:02:50 -0400
nebbiolo1Linux (Ubuntu 24.04.3 LTS) / x86_64  OK    OK    OK  YES
Package 345/428HostnameOS / ArchINSTALLBUILDCHECKBUILD BIN
RMassBank 3.21.0  (landing page)
RMassBank at Eawag
git_last_commit: c946a1f
git_last_commit_date: 2025-10-29 10:11:40 -0400
nebbiolo1Linux (Ubuntu 24.04.3 LTS) / x86_64  OK    OK    OK  NO, package depends on 'ChemmineR' which is not available
Package 346/428HostnameOS / ArchINSTALLBUILDCHECKBUILD BIN
RNAseqCovarImpute 1.9.0  (landing page)
Brennan Baker
git_last_commit: c21a243
git_last_commit_date: 2025-10-29 11:25:57 -0400
nebbiolo1Linux (Ubuntu 24.04.3 LTS) / x86_64  OK    OK    OK  YES
Package 347/428HostnameOS / ArchINSTALLBUILDCHECKBUILD BIN
Rnits 1.45.0  (landing page)
Dipen P. Sangurdekar
git_last_commit: d587459
git_last_commit_date: 2025-10-29 10:21:15 -0400
nebbiolo1Linux (Ubuntu 24.04.3 LTS) / x86_64  OK    OK    WARNINGS  NO, package depends on 'affy' which is not available
Package 348/428HostnameOS / ArchINSTALLBUILDCHECKBUILD BIN
roastgsa 1.9.0  (landing page)
Adria Caballe
git_last_commit: 02f08d7
git_last_commit_date: 2025-10-29 11:24:38 -0400
nebbiolo1Linux (Ubuntu 24.04.3 LTS) / x86_64  OK    ERROR  skipped
Package 349/428HostnameOS / ArchINSTALLBUILDCHECKBUILD BIN
rols 3.7.0  (landing page)
Laurent Gatto
git_last_commit: 22c574a
git_last_commit_date: 2025-10-29 10:11:11 -0400
nebbiolo1Linux (Ubuntu 24.04.3 LTS) / x86_64  OK    ERROR  skipped
Package 350/428HostnameOS / ArchINSTALLBUILDCHECKBUILD BIN
ropls 1.43.0  (landing page)
Etienne A. Thevenot
git_last_commit: 3b278e8
git_last_commit_date: 2025-10-29 10:26:49 -0400
nebbiolo1Linux (Ubuntu 24.04.3 LTS) / x86_64  OK    OK    OK  NO, package depends on 'MultiAssayExperiment' which is not available
Package 351/428HostnameOS / ArchINSTALLBUILDCHECKBUILD BIN
ROTS 2.3.0  (landing page)
Tomi Suomi
git_last_commit: 2d63467
git_last_commit_date: 2025-10-29 10:29:44 -0400
nebbiolo1Linux (Ubuntu 24.04.3 LTS) / x86_64  OK    OK    OK  YES
Package 352/428HostnameOS / ArchINSTALLBUILDCHECKBUILD BIN
rqubic 1.57.0  (landing page)
Jitao David Zhang
git_last_commit: 06f9692
git_last_commit_date: 2025-10-29 10:08:30 -0400
nebbiolo1Linux (Ubuntu 24.04.3 LTS) / x86_64  OK    OK    WARNINGS  YES
Package 353/428HostnameOS / ArchINSTALLBUILDCHECKBUILD BIN
rScudo 1.27.0  (landing page)
Matteo Ciciani
git_last_commit: 29e385c
git_last_commit_date: 2025-10-29 10:49:11 -0400
nebbiolo1Linux (Ubuntu 24.04.3 LTS) / x86_64  OK    OK    OK  NO, package depends on 'SummarizedExperiment' which is not available
Package 354/428HostnameOS / ArchINSTALLBUILDCHECKBUILD BIN
RTCA 1.63.0  (landing page)
Jitao David Zhang
git_last_commit: d713410
git_last_commit_date: 2025-10-29 10:03:37 -0400
nebbiolo1Linux (Ubuntu 24.04.3 LTS) / x86_64  OK    OK    WARNINGS  YES
Package 355/428HostnameOS / ArchINSTALLBUILDCHECKBUILD BIN
RTopper 1.57.0  (landing page)
Luigi Marchionni
git_last_commit: cedb1d4
git_last_commit_date: 2025-10-29 10:08:47 -0400
nebbiolo1Linux (Ubuntu 24.04.3 LTS) / x86_64  OK    OK    OK  YES
Package 356/428HostnameOS / ArchINSTALLBUILDCHECKBUILD BIN
Rtpca 1.21.0  (landing page)
Nils Kurzawa
git_last_commit: 8a9bd91
git_last_commit_date: 2025-10-29 11:00:25 -0400
nebbiolo1Linux (Ubuntu 24.04.3 LTS) / x86_64  OK    OK    OK  YES
Package 357/428HostnameOS / ArchINSTALLBUILDCHECKBUILD BIN
RUVnormalize 1.45.0  (landing page)
Laurent Jacob
git_last_commit: 0a376e3
git_last_commit_date: 2025-10-29 10:20:50 -0400
nebbiolo1Linux (Ubuntu 24.04.3 LTS) / x86_64  OK    OK    OK  YES
Package 358/428HostnameOS / ArchINSTALLBUILDCHECKBUILD BIN
RUVSeq 1.45.0  (landing page)
Davide Risso
git_last_commit: 7e08fb9
git_last_commit_date: 2025-10-29 10:19:52 -0400
nebbiolo1Linux (Ubuntu 24.04.3 LTS) / x86_64  OK    OK    OK  NO, package depends on 'EDASeq' which is not available
Package 359/428HostnameOS / ArchINSTALLBUILDCHECKBUILD BIN
safe 3.51.0  (landing page)
Ludwig Geistlinger
git_last_commit: 2c88a2e
git_last_commit_date: 2025-10-29 09:56:10 -0400
nebbiolo1Linux (Ubuntu 24.04.3 LTS) / x86_64  OK    ERROR  skipped
Package 360/428HostnameOS / ArchINSTALLBUILDCHECKBUILD BIN
SCAN.UPC 2.53.0  (landing page)
Stephen R. Piccolo
git_last_commit: 89643cf
git_last_commit_date: 2025-10-29 10:12:17 -0400
nebbiolo1Linux (Ubuntu 24.04.3 LTS) / x86_64  OK    OK    ERROR  
Package 361/428HostnameOS / ArchINSTALLBUILDCHECKBUILD BIN
scmap 1.33.0  (landing page)
Vladimir Kiselev
git_last_commit: 4fdff8f
git_last_commit_date: 2025-10-29 10:39:19 -0400
nebbiolo1Linux (Ubuntu 24.04.3 LTS) / x86_64  OK    OK    OK  NO, package depends on 'SingleCellExperiment' which is not available
Package 362/428HostnameOS / ArchINSTALLBUILDCHECKBUILD BIN
scTGIF 1.25.0  (landing page)
Koki Tsuyuzaki
git_last_commit: f7ab3ab
git_last_commit_date: 2025-10-29 10:55:37 -0400
nebbiolo1Linux (Ubuntu 24.04.3 LTS) / x86_64  OK    OK    OK  NO, package depends on 'GSEABase' which is not available
Package 363/428HostnameOS / ArchINSTALLBUILDCHECKBUILD BIN
SeqGSEA 1.51.0  (landing page)
Xi Wang
git_last_commit: d9a1c2a
git_last_commit_date: 2025-10-29 10:14:28 -0400
nebbiolo1Linux (Ubuntu 24.04.3 LTS) / x86_64  OK    OK    OK  NO, package depends on 'DESeq2' which is not available
Package 364/428HostnameOS / ArchINSTALLBUILDCHECKBUILD BIN
SeqVarTools 1.49.0  (landing page)
Stephanie M. Gogarten
git_last_commit: 2d4221b
git_last_commit_date: 2025-10-29 10:15:55 -0400
nebbiolo1Linux (Ubuntu 24.04.3 LTS) / x86_64  OK    OK    OK  NO, package depends on 'SeqArray' which is not available
Package 365/428HostnameOS / ArchINSTALLBUILDCHECKBUILD BIN
shinyMethyl 1.47.0  (landing page)
Jean-Philippe Fortin
git_last_commit: 64dff78
git_last_commit_date: 2025-10-29 10:20:21 -0400
nebbiolo1Linux (Ubuntu 24.04.3 LTS) / x86_64  OK    ERROR  skipped
Package 366/428HostnameOS / ArchINSTALLBUILDCHECKBUILD BIN
ShortRead 1.69.0  (landing page)
Bioconductor Package Maintainer
git_last_commit: eeb7d58
git_last_commit_date: 2025-10-29 10:00:34 -0400
nebbiolo1Linux (Ubuntu 24.04.3 LTS) / x86_64  OK    OK    WARNINGS  NO, package depends on 'Biostrings' which is not available
Package 367/428HostnameOS / ArchINSTALLBUILDCHECKBUILD BIN
SigCheck 2.43.0  (landing page)
Rory Stark
git_last_commit: 57c2e1c
git_last_commit_date: 2025-10-29 10:22:19 -0400
nebbiolo1Linux (Ubuntu 24.04.3 LTS) / x86_64  OK    OK    OK  NO, package depends on 'MLInterfaces' which is not available
Package 368/428HostnameOS / ArchINSTALLBUILDCHECKBUILD BIN
siggenes 1.85.0  (landing page)
Holger Schwender
git_last_commit: d3b5d6f
git_last_commit_date: 2025-10-29 09:53:36 -0400
nebbiolo1Linux (Ubuntu 24.04.3 LTS) / x86_64  OK    OK    OK  YES
Package 369/428HostnameOS / ArchINSTALLBUILDCHECKBUILD BIN
SigsPack 1.25.0  (landing page)
Franziska Schumann
git_last_commit: 76511e2
git_last_commit_date: 2025-10-29 10:53:42 -0400
nebbiolo1Linux (Ubuntu 24.04.3 LTS) / x86_64  OK    OK    ERROR  
Package 370/428HostnameOS / ArchINSTALLBUILDCHECKBUILD BIN
sigsquared 1.43.0  (landing page)
UnJin Lee
git_last_commit: 6b1120b
git_last_commit_date: 2025-10-29 10:24:10 -0400
nebbiolo1Linux (Ubuntu 24.04.3 LTS) / x86_64  OK    OK    OK  YES
Package 371/428HostnameOS / ArchINSTALLBUILDCHECKBUILD BIN
singleCellTK 2.21.0  (landing page)
Joshua David Campbell
git_last_commit: 4895b66
git_last_commit_date: 2025-10-29 11:29:49 -0400
nebbiolo1Linux (Ubuntu 24.04.3 LTS) / x86_64  ERROR    ERROR  skipped
Package 372/428HostnameOS / ArchINSTALLBUILDCHECKBUILD BIN
singscore 1.31.0  (landing page)
Malvika Kharbanda
git_last_commit: c86aa46
git_last_commit_date: 2025-10-29 10:45:11 -0400
nebbiolo1Linux (Ubuntu 24.04.3 LTS) / x86_64  OK    OK    OK  NO, package depends on 'GSEABase' which is not available
Package 373/428HostnameOS / ArchINSTALLBUILDCHECKBUILD BIN
sitadela 1.19.0  (landing page)
Panagiotis Moulos
git_last_commit: 45b2af3
git_last_commit_date: 2025-10-29 11:07:04 -0400
nebbiolo1Linux (Ubuntu 24.04.3 LTS) / x86_64  OK    OK    OK  NO, package depends on 'biomaRt' which is not available
Package 374/428HostnameOS / ArchINSTALLBUILDCHECKBUILD BIN
sketchR 1.7.0  (landing page)
Charlotte Soneson
git_last_commit: 25a7083
git_last_commit_date: 2025-10-29 11:28:06 -0400
nebbiolo1Linux (Ubuntu 24.04.3 LTS) / x86_64  OK    OK    OK  NO, package depends on 'DelayedArray' which is not available
Package 375/428HostnameOS / ArchINSTALLBUILDCHECKBUILD BIN
SmartPhos 1.1.0  (landing page)
Shubham Agrawal
git_last_commit: 9abaf07
git_last_commit_date: 2025-10-29 11:38:54 -0400
nebbiolo1Linux (Ubuntu 24.04.3 LTS) / x86_64  OK    OK    OK  NO, package depends on 'MultiAssayExperiment' which is not available
Package 376/428HostnameOS / ArchINSTALLBUILDCHECKBUILD BIN
SMITE 1.39.0  (landing page)
Neil Ari Wijetunga
git_last_commit: cf2f9ae
git_last_commit_date: 2025-10-29 10:29:51 -0400
nebbiolo1Linux (Ubuntu 24.04.3 LTS) / x86_64  ERROR    ERROR  skipped
Package 377/428HostnameOS / ArchINSTALLBUILDCHECKBUILD BIN
SomaticSignatures 2.47.0  (landing page)
Julian Gehring
git_last_commit: 97b6de8
git_last_commit_date: 2025-10-29 10:17:57 -0400
nebbiolo1Linux (Ubuntu 24.04.3 LTS) / x86_64  ERROR    ERROR  skipped
Package 378/428HostnameOS / ArchINSTALLBUILDCHECKBUILD BIN
SpatialDecon 1.21.0  (landing page)
Maddy Griswold
git_last_commit: da636b3
git_last_commit_date: 2025-10-29 11:03:25 -0400
nebbiolo1Linux (Ubuntu 24.04.3 LTS) / x86_64  OK    OK    OK  NO, package depends on 'GeomxTools' which is not available
Package 379/428HostnameOS / ArchINSTALLBUILDCHECKBUILD BIN
SpatialFeatureExperiment 1.13.0  (landing page)
Lambda Moses
git_last_commit: 06f0dbf
git_last_commit_date: 2025-10-29 11:19:11 -0400
nebbiolo1Linux (Ubuntu 24.04.3 LTS) / x86_64  OK    ERROR  skipped
Package 380/428HostnameOS / ArchINSTALLBUILDCHECKBUILD BIN
SpatialOmicsOverlay 1.11.0  (landing page)
Maddy Griswold
git_last_commit: 5b92d66
git_last_commit_date: 2025-10-29 11:22:27 -0400
nebbiolo1Linux (Ubuntu 24.04.3 LTS) / x86_64  OK    OK    OK  NO, package depends on 'GeomxTools' which is not available
Package 381/428HostnameOS / ArchINSTALLBUILDCHECKBUILD BIN
SpeCond 1.65.0  (landing page)
Florence Cavalli
git_last_commit: 3518186
git_last_commit_date: 2025-10-29 10:04:02 -0400
nebbiolo1Linux (Ubuntu 24.04.3 LTS) / x86_64  OK    OK    OK  YES
Package 382/428HostnameOS / ArchINSTALLBUILDCHECKBUILD BIN
SPEM 1.51.0  (landing page)
Xinyi YANG
git_last_commit: 6218bd4
git_last_commit_date: 2025-10-29 10:14:09 -0400
nebbiolo1Linux (Ubuntu 24.04.3 LTS) / x86_64  OK    OK    OK  YES
Package 383/428HostnameOS / ArchINSTALLBUILDCHECKBUILD BIN
spkTools 1.67.0  (landing page)
Matthew N McCall
git_last_commit: ff503f5
git_last_commit_date: 2025-10-29 10:02:14 -0400
nebbiolo1Linux (Ubuntu 24.04.3 LTS) / x86_64  OK    OK    OK  YES
Package 384/428HostnameOS / ArchINSTALLBUILDCHECKBUILD BIN
SplineDV 1.3.0  (landing page)
Shreyan Gupta
git_last_commit: 0bab677
git_last_commit_date: 2025-10-29 11:33:07 -0400
nebbiolo1Linux (Ubuntu 24.04.3 LTS) / x86_64  OK    OK    OK  NO, package depends on 'scuttle' which is not available
Package 385/428HostnameOS / ArchINSTALLBUILDCHECKBUILD BIN
splineTimeR 1.39.0  (landing page)
Herbert Braselmann , Martin Selmansberger
git_last_commit: 2658c19
git_last_commit_date: 2025-10-29 10:29:14 -0400
nebbiolo1Linux (Ubuntu 24.04.3 LTS) / x86_64  OK    OK    OK  NO, package depends on 'GSEABase' which is not available
Package 386/428HostnameOS / ArchINSTALLBUILDCHECKBUILD BIN
SPONGE 1.33.0  (landing page)
Markus List
git_last_commit: 6ba4e2d
git_last_commit_date: 2025-10-29 10:40:24 -0400
nebbiolo1Linux (Ubuntu 24.04.3 LTS) / x86_64  OK    OK    WARNINGS  NO, package depends on 'biomaRt' which is not available
Package 387/428HostnameOS / ArchINSTALLBUILDCHECKBUILD BIN
standR 1.15.0  (landing page)
Ning Liu
git_last_commit: 9a79065
git_last_commit_date: 2025-10-29 11:16:04 -0400
nebbiolo1Linux (Ubuntu 24.04.3 LTS) / x86_64  OK    OK    OK  NO, package depends on 'SpatialExperiment' which is not available
Package 388/428HostnameOS / ArchINSTALLBUILDCHECKBUILD BIN
STATegRa 1.47.0  (landing page)
David Gomez-Cabrero , Núria Planell
git_last_commit: 1932640
git_last_commit_date: 2025-10-29 10:22:24 -0400
nebbiolo1Linux (Ubuntu 24.04.3 LTS) / x86_64  OK    OK    OK  NO, package depends on 'affy' which is not available
Package 389/428HostnameOS / ArchINSTALLBUILDCHECKBUILD BIN
subSeq 1.41.0  (landing page)
Andrew J. Bass , John D. Storey
git_last_commit: 133fac9
git_last_commit_date: 2025-10-29 10:28:35 -0400
nebbiolo1Linux (Ubuntu 24.04.3 LTS) / x86_64  OK    OK    OK  YES
Package 390/428HostnameOS / ArchINSTALLBUILDCHECKBUILD BIN
SummarizedExperiment 1.41.0  (landing page)
Hervé Pagès
git_last_commit: 7a9787c
git_last_commit_date: 2025-10-29 14:49:30 -0400
nebbiolo1Linux (Ubuntu 24.04.3 LTS) / x86_64  OK    OK    ERROR  
Package 391/428HostnameOS / ArchINSTALLBUILDCHECKBUILD BIN
TDbasedUFEadv 1.11.0  (landing page)
Y-h. Taguchi
git_last_commit: 63e0976
git_last_commit_date: 2025-10-29 11:22:02 -0400
nebbiolo1Linux (Ubuntu 24.04.3 LTS) / x86_64  OK    OK    OK  NO, package depends on 'TDbasedUFE' which is not available
Package 392/428HostnameOS / ArchINSTALLBUILDCHECKBUILD BIN
TEQC 4.33.0  (landing page)
Sarah Bonnin
git_last_commit: bd3d4b2
git_last_commit_date: 2025-10-29 10:06:21 -0400
nebbiolo1Linux (Ubuntu 24.04.3 LTS) / x86_64  OK    OK    WARNINGS  NO, package depends on 'IRanges' which is not available
Package 393/428HostnameOS / ArchINSTALLBUILDCHECKBUILD BIN
TFBSTools 1.49.0  (landing page)
Ge Tan
git_last_commit: d5d1319
git_last_commit_date: 2025-10-29 10:16:59 -0400
nebbiolo1Linux (Ubuntu 24.04.3 LTS) / x86_64  OK    OK    ERROR  
Package 394/428HostnameOS / ArchINSTALLBUILDCHECKBUILD BIN
tidyFlowCore 1.5.0  (landing page)
Timothy Keyes
git_last_commit: 1848897
git_last_commit_date: 2025-10-29 11:30:26 -0400
nebbiolo1Linux (Ubuntu 24.04.3 LTS) / x86_64  OK    OK    OK  YES
Package 395/428HostnameOS / ArchINSTALLBUILDCHECKBUILD BIN
tigre 1.65.0  (landing page)
Antti Honkela
git_last_commit: 4b818eb
git_last_commit_date: 2025-10-29 10:04:43 -0400
nebbiolo1Linux (Ubuntu 24.04.3 LTS) / x86_64  OK    ERROR  skipped
Package 396/428HostnameOS / ArchINSTALLBUILDCHECKBUILD BIN
tilingArray 1.89.0  (landing page)
Zhenyu Xu
git_last_commit: 1959ceb
git_last_commit_date: 2025-10-29 09:56:07 -0400
nebbiolo1Linux (Ubuntu 24.04.3 LTS) / x86_64  OK    OK    OK  NO, package depends on 'affy' which is not available
Package 397/428HostnameOS / ArchINSTALLBUILDCHECKBUILD BIN
timecourse 1.83.0  (landing page)
Yu Chuan Tai
git_last_commit: 7b6e6b3
git_last_commit_date: 2025-10-29 09:56:54 -0400
nebbiolo1Linux (Ubuntu 24.04.3 LTS) / x86_64  OK    OK    OK  YES
Package 398/428HostnameOS / ArchINSTALLBUILDCHECKBUILD BIN
TMixClust 1.33.0  (landing page)
Monica Golumbeanu
git_last_commit: d55d2de
git_last_commit_date: 2025-10-29 10:40:16 -0400
nebbiolo1Linux (Ubuntu 24.04.3 LTS) / x86_64  OK    OK    OK  YES
Package 399/428HostnameOS / ArchINSTALLBUILDCHECKBUILD BIN
TnT 1.33.0  (landing page)
Jialin Ma
git_last_commit: a8c1dc4
git_last_commit_date: 2025-10-29 11:31:37 -0400
nebbiolo1Linux (Ubuntu 24.04.3 LTS) / x86_64  OK    OK    OK  NO, package depends on 'GenomicRanges' which is not available
Package 400/428HostnameOS / ArchINSTALLBUILDCHECKBUILD BIN
topdownr 1.33.0  (landing page)
Sebastian Gibb
git_last_commit: 3979e4f
git_last_commit_date: 2025-10-29 10:41:42 -0400
nebbiolo1Linux (Ubuntu 24.04.3 LTS) / x86_64  OK    OK    OK  NO, package depends on 'Biostrings' which is not available
Package 401/428HostnameOS / ArchINSTALLBUILDCHECKBUILD BIN
topGO 2.63.0  (landing page)
Federico Marini
git_last_commit: 35ec429
git_last_commit_date: 2025-10-29 09:59:04 -0400
nebbiolo1Linux (Ubuntu 24.04.3 LTS) / x86_64  OK    ERROR  skipped
Package 402/428HostnameOS / ArchINSTALLBUILDCHECKBUILD BIN
ToxicoGx 2.15.0  (landing page)
Benjamin Haibe-Kains
git_last_commit: 0781b14
git_last_commit_date: 2025-10-29 11:00:15 -0400
nebbiolo1Linux (Ubuntu 24.04.3 LTS) / x86_64  OK    OK    OK  NO, package depends on 'CoreGx' which is not available
Package 403/428HostnameOS / ArchINSTALLBUILDCHECKBUILD BIN
TPP 3.39.0  (landing page)
Dorothee Childs
git_last_commit: e52a5e5
git_last_commit_date: 2025-10-29 10:25:26 -0400
nebbiolo1Linux (Ubuntu 24.04.3 LTS) / x86_64  OK    OK    OK  YES
Package 404/428HostnameOS / ArchINSTALLBUILDCHECKBUILD BIN
tradeSeq 1.25.0  (landing page)
Hector Roux de Bezieux
git_last_commit: 4e78622
git_last_commit_date: 2025-10-29 10:55:42 -0400
nebbiolo1Linux (Ubuntu 24.04.3 LTS) / x86_64  OK    OK    OK  NO, package depends on 'SingleCellExperiment' which is not available
Package 405/428HostnameOS / ArchINSTALLBUILDCHECKBUILD BIN
tRanslatome 1.49.0  (landing page)
Toma Tebaldi , Erik Dassi
git_last_commit: 6b31799
git_last_commit_date: 2025-10-29 10:14:58 -0400
nebbiolo1Linux (Ubuntu 24.04.3 LTS) / x86_64  OK    OK    OK  NO, package depends on 'DESeq2' which is not available
Package 406/428HostnameOS / ArchINSTALLBUILDCHECKBUILD BIN
TTMap 1.33.0  (landing page)
Rachel Jeitziner
git_last_commit: a4bf3ca
git_last_commit_date: 2025-10-29 10:43:09 -0400
nebbiolo1Linux (Ubuntu 24.04.3 LTS) / x86_64  OK    OK    OK  NO, package depends on 'SummarizedExperiment' which is not available
Package 407/428HostnameOS / ArchINSTALLBUILDCHECKBUILD BIN
twilight 1.87.0  (landing page)
Stefanie Senger
git_last_commit: fc4af22
git_last_commit_date: 2025-10-29 09:55:30 -0400
nebbiolo1Linux (Ubuntu 24.04.3 LTS) / x86_64  OK    OK    OK  YES
Package 408/428HostnameOS / ArchINSTALLBUILDCHECKBUILD BIN
txdbmaker 1.7.0  (landing page)
H. Pagès
git_last_commit: 9bfc034
git_last_commit_date: 2025-10-29 14:49:40 -0400
nebbiolo1Linux (Ubuntu 24.04.3 LTS) / x86_64  OK    ERROR  skipped
Package 409/428HostnameOS / ArchINSTALLBUILDCHECKBUILD BIN
UNDO 1.53.0  (landing page)
Niya Wang
git_last_commit: a43bf55
git_last_commit_date: 2025-10-29 10:18:39 -0400
nebbiolo1Linux (Ubuntu 24.04.3 LTS) / x86_64  OK    OK    OK  YES
Package 410/428HostnameOS / ArchINSTALLBUILDCHECKBUILD BIN
UPDhmm 1.7.0  (landing page)
Marta Sevilla
git_last_commit: 031c3fa
git_last_commit_date: 2025-10-29 11:29:26 -0400
nebbiolo1Linux (Ubuntu 24.04.3 LTS) / x86_64  OK    OK    OK  NO, package depends on 'VariantAnnotation' which is not available
Package 411/428HostnameOS / ArchINSTALLBUILDCHECKBUILD BIN
uSORT 1.37.0  (landing page)
Hao Chen
git_last_commit: 8b952fe
git_last_commit_date: 2025-10-29 10:34:29 -0400
nebbiolo1Linux (Ubuntu 24.04.3 LTS) / x86_64  OK    OK    WARNINGS  YES
Package 412/428HostnameOS / ArchINSTALLBUILDCHECKBUILD BIN
VanillaICE 1.73.0  (landing page)
Robert Scharpf
git_last_commit: 22bb99f
git_last_commit_date: 2025-10-29 09:59:52 -0400
nebbiolo1Linux (Ubuntu 24.04.3 LTS) / x86_64  ERROR    ERROR  skipped
Package 413/428HostnameOS / ArchINSTALLBUILDCHECKBUILD BIN
variancePartition 1.41.0  (landing page)
Gabriel E. Hoffman
git_last_commit: 079e2d9
git_last_commit_date: 2025-10-29 10:27:03 -0400
nebbiolo1Linux (Ubuntu 24.04.3 LTS) / x86_64  OK    OK    OK  YES
Package 414/428HostnameOS / ArchINSTALLBUILDCHECKBUILD BIN
VariantAnnotation 1.57.0  (landing page)
Bioconductor Package Maintainer
git_last_commit: 0da7ddb
git_last_commit_date: 2025-10-29 10:08:24 -0400
nebbiolo1Linux (Ubuntu 24.04.3 LTS) / x86_64  OK    ERROR  skipped
Package 415/428HostnameOS / ArchINSTALLBUILDCHECKBUILD BIN
VariantFiltering 1.47.0  (landing page)
Robert Castelo
git_last_commit: 270d88d
git_last_commit_date: 2025-10-29 10:19:08 -0400
nebbiolo1Linux (Ubuntu 24.04.3 LTS) / x86_64  OK    ERROR  skipped
Package 416/428HostnameOS / ArchINSTALLBUILDCHECKBUILD BIN
VariantTools 1.53.0  (landing page)
Michael Lawrence
git_last_commit: 4083347
git_last_commit_date: 2025-10-29 10:12:36 -0400
nebbiolo1Linux (Ubuntu 24.04.3 LTS) / x86_64  OK    ERROR  skipped
Package 417/428HostnameOS / ArchINSTALLBUILDCHECKBUILD BIN
VegaMC 3.49.0  (landing page)
Sandro Morganella
git_last_commit: ad29267
git_last_commit_date: 2025-10-29 10:10:40 -0400
nebbiolo1Linux (Ubuntu 24.04.3 LTS) / x86_64  OK    OK    WARNINGS  NO, package depends on 'biomaRt' which is not available
Package 418/428HostnameOS / ArchINSTALLBUILDCHECKBUILD BIN
vidger 1.31.0  (landing page)
Brandon Monier
git_last_commit: bdddd06
git_last_commit_date: 2025-10-29 10:43:35 -0400
nebbiolo1Linux (Ubuntu 24.04.3 LTS) / x86_64  OK    OK    OK  NO, package depends on 'DESeq2' which is not available
Package 419/428HostnameOS / ArchINSTALLBUILDCHECKBUILD BIN
viper 1.45.0  (landing page)
Mariano J Alvarez
git_last_commit: fbaf77d
git_last_commit_date: 2025-10-29 10:18:41 -0400
nebbiolo1Linux (Ubuntu 24.04.3 LTS) / x86_64  OK    OK    WARNINGS  YES
Package 420/428HostnameOS / ArchINSTALLBUILDCHECKBUILD BIN
vsn 3.79.0  (landing page)
Wolfgang Huber
git_last_commit: c1fc26a
git_last_commit_date: 2025-10-29 09:42:11 -0400
nebbiolo1Linux (Ubuntu 24.04.3 LTS) / x86_64  OK    ERROR  skipped
Package 421/428HostnameOS / ArchINSTALLBUILDCHECKBUILD BIN
vulcan 1.33.0  (landing page)
Federico M. Giorgi
git_last_commit: 2216885
git_last_commit_date: 2025-10-29 10:41:08 -0400
nebbiolo1Linux (Ubuntu 24.04.3 LTS) / x86_64  ERROR    ERROR  skipped
Package 422/428HostnameOS / ArchINSTALLBUILDCHECKBUILD BIN
wateRmelon 2.17.0  (landing page)
Leo C Schalkwyk
git_last_commit: e1ace56
git_last_commit_date: 2025-10-29 10:13:04 -0400
nebbiolo1Linux (Ubuntu 24.04.3 LTS) / x86_64  ERROR    ERROR  skipped
Package 423/428HostnameOS / ArchINSTALLBUILDCHECKBUILD BIN
webbioc 1.83.0  (landing page)
Colin A. Smith
git_last_commit: 8bbf95c
git_last_commit_date: 2025-10-29 09:54:04 -0400
nebbiolo1Linux (Ubuntu 24.04.3 LTS) / x86_64  OK    OK    OK  NO, package depends on 'affy' which is not available
Package 424/428HostnameOS / ArchINSTALLBUILDCHECKBUILD BIN
wpm 1.21.0  (landing page)
Helene Borges
git_last_commit: 2fda63e
git_last_commit_date: 2025-10-29 11:00:38 -0400
nebbiolo1Linux (Ubuntu 24.04.3 LTS) / x86_64  OK    OK    OK  NO, package depends on 'SummarizedExperiment' which is not available
Package 425/428HostnameOS / ArchINSTALLBUILDCHECKBUILD BIN
xcms 4.9.0  (landing page)
Steffen Neumann
git_last_commit: 3321e90
git_last_commit_date: 2025-10-29 09:56:19 -0400
nebbiolo1Linux (Ubuntu 24.04.3 LTS) / x86_64  OK    OK    OK  NO, package depends on 'MSnbase' which is not available
Package 426/428HostnameOS / ArchINSTALLBUILDCHECKBUILD BIN
XDE 2.57.0  (landing page)
Robert Scharpf
git_last_commit: b5fcf9b
git_last_commit_date: 2025-10-29 10:00:04 -0400
nebbiolo1Linux (Ubuntu 24.04.3 LTS) / x86_64  OK    OK    WARNINGS  NO, package depends on 'genefilter' which is not available
Package 427/428HostnameOS / ArchINSTALLBUILDCHECKBUILD BIN
Xeva 1.27.0  (landing page)
Benjamin Haibe-Kains
git_last_commit: ca1a253
git_last_commit_date: 2025-10-29 10:50:21 -0400
nebbiolo1Linux (Ubuntu 24.04.3 LTS) / x86_64  OK    OK    OK  NO, package depends on 'ComplexHeatmap' which is not available
Package 428/428HostnameOS / ArchINSTALLBUILDCHECKBUILD BIN
yarn 1.37.0  (landing page)
Joseph N Paulson
git_last_commit: 1ca2322
git_last_commit_date: 2025-10-29 10:35:35 -0400
nebbiolo1Linux (Ubuntu 24.04.3 LTS) / x86_64  OK    OK    OK  NO, package depends on 'biomaRt' which is not available