| Back to Multiple platform build/check report for BioC 3.22: simplified long |
|
This page was generated on 2025-10-29 12:05 -0400 (Wed, 29 Oct 2025).
| Hostname | OS | Arch (*) | R version | Installed pkgs |
|---|---|---|---|---|
| nebbiolo2 | Linux (Ubuntu 24.04.3 LTS) | x86_64 | 4.5.1 Patched (2025-08-23 r88802) -- "Great Square Root" | 4901 |
| lconway | macOS 12.7.6 Monterey | x86_64 | 4.5.1 Patched (2025-09-10 r88807) -- "Great Square Root" | 4691 |
| kjohnson3 | macOS 13.7.7 Ventura | arm64 | 4.5.1 Patched (2025-09-10 r88807) -- "Great Square Root" | 4637 |
| Click on any hostname to see more info about the system (e.g. compilers) (*) as reported by 'uname -p', except on Windows and Mac OS X | ||||
| Package 2251/2361 | Hostname | OS / Arch | INSTALL | BUILD | CHECK | BUILD BIN | ||||||||
| tRanslatome 1.47.0 (landing page) Toma Tebaldi
| nebbiolo2 | Linux (Ubuntu 24.04.3 LTS) / x86_64 | OK | OK | OK | |||||||||
| lconway | macOS 12.7.6 Monterey / x86_64 | OK | OK | OK | OK | |||||||||
| kjohnson3 | macOS 13.7.7 Ventura / arm64 | OK | OK | OK | OK | |||||||||
|
To the developers/maintainers of the tRanslatome package: - Allow up to 24 hours (and sometimes 48 hours) for your latest push to git@git.bioconductor.org:packages/tRanslatome.git to reflect on this report. See Troubleshooting Build Report for more information. - Use the following Renviron settings to reproduce errors and warnings. - If 'R CMD check' started to fail recently on the Linux builder(s) over a missing dependency, add the missing dependency to 'Suggests:' in your DESCRIPTION file. See Renviron.bioc for more information. |
| Package: tRanslatome |
| Version: 1.47.0 |
| Command: /home/biocbuild/bbs-3.22-bioc/R/bin/R CMD check --install=check:tRanslatome.install-out.txt --library=/home/biocbuild/bbs-3.22-bioc/R/site-library --timings tRanslatome_1.47.0.tar.gz |
| StartedAt: 2025-10-29 04:53:22 -0400 (Wed, 29 Oct 2025) |
| EndedAt: 2025-10-29 04:59:25 -0400 (Wed, 29 Oct 2025) |
| EllapsedTime: 362.4 seconds |
| RetCode: 0 |
| Status: OK |
| CheckDir: tRanslatome.Rcheck |
| Warnings: 0 |
##############################################################################
##############################################################################
###
### Running command:
###
### /home/biocbuild/bbs-3.22-bioc/R/bin/R CMD check --install=check:tRanslatome.install-out.txt --library=/home/biocbuild/bbs-3.22-bioc/R/site-library --timings tRanslatome_1.47.0.tar.gz
###
##############################################################################
##############################################################################
* using log directory ‘/home/biocbuild/bbs-3.22-bioc/meat/tRanslatome.Rcheck’
* using R version 4.5.1 Patched (2025-08-23 r88802)
* using platform: x86_64-pc-linux-gnu
* R was compiled by
gcc (Ubuntu 13.3.0-6ubuntu2~24.04) 13.3.0
GNU Fortran (Ubuntu 13.3.0-6ubuntu2~24.04) 13.3.0
* running under: Ubuntu 24.04.3 LTS
* using session charset: UTF-8
* checking for file ‘tRanslatome/DESCRIPTION’ ... OK
* checking extension type ... Package
* this is package ‘tRanslatome’ version ‘1.47.0’
* checking package namespace information ... OK
* checking package dependencies ... INFO
Depends: includes the non-default packages:
'limma', 'anota', 'DESeq2', 'edgeR', 'RankProd', 'topGO',
'org.Hs.eg.db', 'GOSemSim', 'Heatplus', 'gplots', 'plotrix',
'Biobase'
Adding so many packages to the search path is excessive and importing
selectively is preferable.
* checking if this is a source package ... OK
* checking if there is a namespace ... OK
* checking for hidden files and directories ... OK
* checking for portable file names ... OK
* checking for sufficient/correct file permissions ... OK
* checking whether package ‘tRanslatome’ can be installed ... OK
* checking installed package size ... OK
* checking package directory ... OK
* checking ‘build’ directory ... OK
* checking DESCRIPTION meta-information ... OK
* checking top-level files ... OK
* checking for left-over files ... OK
* checking index information ... OK
* checking package subdirectories ... OK
* checking code files for non-ASCII characters ... OK
* checking R files for syntax errors ... OK
* checking whether the package can be loaded ... OK
* checking whether the package can be loaded with stated dependencies ... OK
* checking whether the package can be unloaded cleanly ... OK
* checking whether the namespace can be loaded with stated dependencies ... OK
* checking whether the namespace can be unloaded cleanly ... OK
* checking loading without being on the library search path ... OK
* checking dependencies in R code ... OK
* checking S3 generic/method consistency ... OK
* checking replacement functions ... OK
* checking foreign function calls ... OK
* checking R code for possible problems ... NOTE
methodLimma: no visible global function definition for ‘lmFit’
methodTTest: no visible global function definition for ‘calcTStatFast’
GOEnrichment,DEGs: no visible global function definition for ‘toTable’
Undefined global functions or variables:
calcTStatFast lmFit toTable
* checking Rd files ... OK
* checking Rd metadata ... OK
* checking Rd cross-references ... OK
* checking for missing documentation entries ... OK
* checking for code/documentation mismatches ... OK
* checking Rd \usage sections ... OK
* checking Rd contents ... OK
* checking for unstated dependencies in examples ... OK
* checking contents of ‘data’ directory ... OK
* checking data for non-ASCII characters ... OK
* checking data for ASCII and uncompressed saves ... OK
* checking files in ‘vignettes’ ... OK
* checking examples ... OK
Examples with CPU (user + system) or elapsed time > 5s
user system elapsed
GOComparison 15.219 0.841 16.062
GOEnrichment 12.705 0.169 12.877
* checking for unstated dependencies in vignettes ... OK
* checking package vignettes ... OK
* checking re-building of vignette outputs ... OK
* checking PDF version of manual ... OK
* DONE
Status: 1 NOTE
See
‘/home/biocbuild/bbs-3.22-bioc/meat/tRanslatome.Rcheck/00check.log’
for details.
tRanslatome.Rcheck/00install.out
############################################################################## ############################################################################## ### ### Running command: ### ### /home/biocbuild/bbs-3.22-bioc/R/bin/R CMD INSTALL tRanslatome ### ############################################################################## ############################################################################## * installing to library ‘/home/biocbuild/bbs-3.22-bioc/R/site-library’ * installing *source* package ‘tRanslatome’ ... ** this is package ‘tRanslatome’ version ‘1.47.0’ ** using staged installation ** R ** data ** byte-compile and prepare package for lazy loading groupGOTerms: GOBPTerm, GOMFTerm, GOCCTerm environments built. ** help *** installing help indices ** building package indices ** installing vignettes ** testing if installed package can be loaded from temporary location groupGOTerms: GOBPTerm, GOMFTerm, GOCCTerm environments built. ** testing if installed package can be loaded from final location groupGOTerms: GOBPTerm, GOMFTerm, GOCCTerm environments built. ** testing if installed package keeps a record of temporary installation path * DONE (tRanslatome)
tRanslatome.Rcheck/tRanslatome-Ex.timings
| name | user | system | elapsed | |
| CVplot | 0.218 | 0.011 | 0.229 | |
| DEGs | 0 | 0 | 0 | |
| DEGs.table | 0.074 | 0.016 | 0.091 | |
| EnrichedSets | 0.001 | 0.000 | 0.001 | |
| FC.threshold | 0.048 | 0.001 | 0.049 | |
| GOComparison | 15.219 | 0.841 | 16.062 | |
| GOEnrichment | 12.705 | 0.169 | 12.877 | |
| GOsets | 0.001 | 0.000 | 0.000 | |
| GOsims | 0 | 0 | 0 | |
| Heatmap | 0.107 | 0.005 | 0.113 | |
| Histogram | 0.050 | 0.003 | 0.054 | |
| IdentityPlot | 0.047 | 0.001 | 0.049 | |
| MAplot | 0.075 | 0.003 | 0.079 | |
| Radar | 0.093 | 0.001 | 0.095 | |
| RegulatoryEnrichment | 1.217 | 0.018 | 1.235 | |
| SDplot | 0.078 | 0.002 | 0.079 | |
| Scatterplot | 0.109 | 0.002 | 0.111 | |
| SimilarityPlot | 0.049 | 0.001 | 0.050 | |
| TranslatomeDataset | 0 | 0 | 0 | |
| average.similarity.scores | 0.049 | 0.000 | 0.049 | |
| computeDEGs | 0.332 | 0.011 | 0.343 | |
| enriched.table | 0.045 | 0.006 | 0.052 | |
| getConditionA | 0.048 | 0.001 | 0.049 | |
| getConditionB | 0.048 | 0.001 | 0.049 | |
| getConditionC | 0.044 | 0.005 | 0.049 | |
| getConditionD | 0.044 | 0.005 | 0.049 | |
| getConditionLabels | 0.047 | 0.002 | 0.049 | |
| getDEGs | 0.048 | 0.001 | 0.050 | |
| getDEGsMethod | 0.046 | 0.003 | 0.049 | |
| getDataType | 0.046 | 0.003 | 0.050 | |
| getExprMatrix | 0.061 | 0.009 | 0.070 | |
| getLevelLabels | 0.046 | 0.003 | 0.049 | |
| identity.matrix | 0.046 | 0.003 | 0.049 | |
| label.condition | 0.047 | 0.002 | 0.049 | |
| label.level.DEGs | 0.047 | 0.002 | 0.049 | |
| label.level.enriched | 0.045 | 0.004 | 0.049 | |
| newTranslatomeDataset | 0.047 | 0.013 | 0.061 | |
| significance.threshold | 0.047 | 0.003 | 0.050 | |
| similarity.matrix | 0.046 | 0.004 | 0.049 | |
| tRanslatomeSampleData | 0.049 | 0.001 | 0.050 | |