| Back to Multiple platform build/check report for BioC 3.22: simplified long |
|
This page was generated on 2025-10-23 12:07 -0400 (Thu, 23 Oct 2025).
| Hostname | OS | Arch (*) | R version | Installed pkgs |
|---|---|---|---|---|
| nebbiolo2 | Linux (Ubuntu 24.04.3 LTS) | x86_64 | 4.5.1 Patched (2025-08-23 r88802) -- "Great Square Root" | 4894 |
| lconway | macOS 12.7.6 Monterey | x86_64 | 4.5.1 Patched (2025-09-10 r88807) -- "Great Square Root" | 4684 |
| kjohnson3 | macOS 13.7.7 Ventura | arm64 | 4.5.1 Patched (2025-09-10 r88807) -- "Great Square Root" | 4629 |
| taishan | Linux (openEuler 24.03 LTS) | aarch64 | 4.5.0 (2025-04-11) -- "How About a Twenty-Six" | 4642 |
| Click on any hostname to see more info about the system (e.g. compilers) (*) as reported by 'uname -p', except on Windows and Mac OS X | ||||
| Package 2245/2355 | Hostname | OS / Arch | INSTALL | BUILD | CHECK | BUILD BIN | ||||||||
| tRanslatome 1.47.0 (landing page) Toma Tebaldi
| nebbiolo2 | Linux (Ubuntu 24.04.3 LTS) / x86_64 | OK | OK | OK | |||||||||
| lconway | macOS 12.7.6 Monterey / x86_64 | OK | OK | OK | OK | |||||||||
| kjohnson3 | macOS 13.7.7 Ventura / arm64 | OK | OK | OK | OK | |||||||||
| taishan | Linux (openEuler 24.03 LTS) / aarch64 | OK | OK | NA | ||||||||||
|
To the developers/maintainers of the tRanslatome package: - Allow up to 24 hours (and sometimes 48 hours) for your latest push to git@git.bioconductor.org:packages/tRanslatome.git to reflect on this report. See Troubleshooting Build Report for more information. - Use the following Renviron settings to reproduce errors and warnings. - If 'R CMD check' started to fail recently on the Linux builder(s) over a missing dependency, add the missing dependency to 'Suggests:' in your DESCRIPTION file. See Renviron.bioc for more information. |
| Package: tRanslatome |
| Version: 1.47.0 |
| Command: /Library/Frameworks/R.framework/Resources/bin/R CMD check --install=check:tRanslatome.install-out.txt --library=/Library/Frameworks/R.framework/Resources/library --no-vignettes --timings tRanslatome_1.47.0.tar.gz |
| StartedAt: 2025-10-22 22:32:08 -0400 (Wed, 22 Oct 2025) |
| EndedAt: 2025-10-22 22:34:15 -0400 (Wed, 22 Oct 2025) |
| EllapsedTime: 126.5 seconds |
| RetCode: 0 |
| Status: OK |
| CheckDir: tRanslatome.Rcheck |
| Warnings: 0 |
##############################################################################
##############################################################################
###
### Running command:
###
### /Library/Frameworks/R.framework/Resources/bin/R CMD check --install=check:tRanslatome.install-out.txt --library=/Library/Frameworks/R.framework/Resources/library --no-vignettes --timings tRanslatome_1.47.0.tar.gz
###
##############################################################################
##############################################################################
* using log directory ‘/Users/biocbuild/bbs-3.22-bioc/meat/tRanslatome.Rcheck’
* using R version 4.5.1 Patched (2025-09-10 r88807)
* using platform: aarch64-apple-darwin20
* R was compiled by
Apple clang version 16.0.0 (clang-1600.0.26.6)
GNU Fortran (GCC) 14.2.0
* running under: macOS Ventura 13.7.7
* using session charset: UTF-8
* using option ‘--no-vignettes’
* checking for file ‘tRanslatome/DESCRIPTION’ ... OK
* checking extension type ... Package
* this is package ‘tRanslatome’ version ‘1.47.0’
* checking package namespace information ... OK
* checking package dependencies ... INFO
Depends: includes the non-default packages:
'limma', 'anota', 'DESeq2', 'edgeR', 'RankProd', 'topGO',
'org.Hs.eg.db', 'GOSemSim', 'Heatplus', 'gplots', 'plotrix',
'Biobase'
Adding so many packages to the search path is excessive and importing
selectively is preferable.
* checking if this is a source package ... OK
* checking if there is a namespace ... OK
* checking for hidden files and directories ... OK
* checking for portable file names ... OK
* checking for sufficient/correct file permissions ... OK
* checking whether package ‘tRanslatome’ can be installed ... OK
* checking installed package size ... OK
* checking package directory ... OK
* checking ‘build’ directory ... OK
* checking DESCRIPTION meta-information ... OK
* checking top-level files ... OK
* checking for left-over files ... OK
* checking index information ... OK
* checking package subdirectories ... OK
* checking code files for non-ASCII characters ... OK
* checking R files for syntax errors ... OK
* checking whether the package can be loaded ... OK
* checking whether the package can be loaded with stated dependencies ... OK
* checking whether the package can be unloaded cleanly ... OK
* checking whether the namespace can be loaded with stated dependencies ... OK
* checking whether the namespace can be unloaded cleanly ... OK
* checking dependencies in R code ... OK
* checking S3 generic/method consistency ... OK
* checking replacement functions ... OK
* checking foreign function calls ... OK
* checking R code for possible problems ... NOTE
methodLimma: no visible global function definition for ‘lmFit’
methodTTest: no visible global function definition for ‘calcTStatFast’
GOEnrichment,DEGs: no visible global function definition for ‘toTable’
Undefined global functions or variables:
calcTStatFast lmFit toTable
* checking Rd files ... OK
* checking Rd metadata ... OK
* checking Rd cross-references ... OK
* checking for missing documentation entries ... OK
* checking for code/documentation mismatches ... OK
* checking Rd \usage sections ... OK
* checking Rd contents ... OK
* checking for unstated dependencies in examples ... OK
* checking contents of ‘data’ directory ... OK
* checking data for non-ASCII characters ... OK
* checking data for ASCII and uncompressed saves ... OK
* checking sizes of PDF files under ‘inst/doc’ ... OK
* checking files in ‘vignettes’ ... OK
* checking examples ... OK
Examples with CPU (user + system) or elapsed time > 5s
user system elapsed
GOComparison 6.881 0.631 7.608
GOEnrichment 5.026 0.149 5.236
* checking for unstated dependencies in vignettes ... OK
* checking package vignettes ... OK
* checking running R code from vignettes ... SKIPPED
* checking re-building of vignette outputs ... SKIPPED
* checking PDF version of manual ... OK
* DONE
Status: 1 NOTE
See
‘/Users/biocbuild/bbs-3.22-bioc/meat/tRanslatome.Rcheck/00check.log’
for details.
tRanslatome.Rcheck/00install.out
############################################################################## ############################################################################## ### ### Running command: ### ### /Library/Frameworks/R.framework/Resources/bin/R CMD INSTALL tRanslatome ### ############################################################################## ############################################################################## * installing to library ‘/Library/Frameworks/R.framework/Versions/4.5-arm64/Resources/library’ * installing *source* package ‘tRanslatome’ ... ** this is package ‘tRanslatome’ version ‘1.47.0’ ** using staged installation ** R ** data ** byte-compile and prepare package for lazy loading groupGOTerms: GOBPTerm, GOMFTerm, GOCCTerm environments built. ** help *** installing help indices ** building package indices ** installing vignettes ** testing if installed package can be loaded from temporary location groupGOTerms: GOBPTerm, GOMFTerm, GOCCTerm environments built. ** testing if installed package can be loaded from final location groupGOTerms: GOBPTerm, GOMFTerm, GOCCTerm environments built. ** testing if installed package keeps a record of temporary installation path * DONE (tRanslatome)
tRanslatome.Rcheck/tRanslatome-Ex.timings
| name | user | system | elapsed | |
| CVplot | 0.039 | 0.003 | 0.043 | |
| DEGs | 0.000 | 0.000 | 0.001 | |
| DEGs.table | 0.039 | 0.040 | 0.079 | |
| EnrichedSets | 0 | 0 | 0 | |
| FC.threshold | 0.024 | 0.002 | 0.025 | |
| GOComparison | 6.881 | 0.631 | 7.608 | |
| GOEnrichment | 5.026 | 0.149 | 5.236 | |
| GOsets | 0.001 | 0.000 | 0.000 | |
| GOsims | 0 | 0 | 0 | |
| Heatmap | 0.057 | 0.003 | 0.059 | |
| Histogram | 0.055 | 0.003 | 0.059 | |
| IdentityPlot | 0.024 | 0.002 | 0.026 | |
| MAplot | 0.033 | 0.003 | 0.036 | |
| Radar | 0.053 | 0.002 | 0.056 | |
| RegulatoryEnrichment | 0.493 | 0.008 | 0.507 | |
| SDplot | 0.032 | 0.003 | 0.036 | |
| Scatterplot | 0.055 | 0.003 | 0.060 | |
| SimilarityPlot | 0.025 | 0.002 | 0.029 | |
| TranslatomeDataset | 0.000 | 0.000 | 0.001 | |
| average.similarity.scores | 0.023 | 0.002 | 0.027 | |
| computeDEGs | 0.082 | 0.003 | 0.085 | |
| enriched.table | 0.025 | 0.006 | 0.032 | |
| getConditionA | 0.024 | 0.003 | 0.029 | |
| getConditionB | 0.024 | 0.002 | 0.027 | |
| getConditionC | 0.024 | 0.002 | 0.026 | |
| getConditionD | 0.024 | 0.003 | 0.027 | |
| getConditionLabels | 0.024 | 0.002 | 0.027 | |
| getDEGs | 0.024 | 0.003 | 0.026 | |
| getDEGsMethod | 0.024 | 0.001 | 0.025 | |
| getDataType | 0.024 | 0.002 | 0.029 | |
| getExprMatrix | 0.031 | 0.022 | 0.074 | |
| getLevelLabels | 0.024 | 0.002 | 0.026 | |
| identity.matrix | 0.024 | 0.002 | 0.026 | |
| label.condition | 0.024 | 0.002 | 0.025 | |
| label.level.DEGs | 0.023 | 0.002 | 0.025 | |
| label.level.enriched | 0.023 | 0.002 | 0.026 | |
| newTranslatomeDataset | 0.024 | 0.002 | 0.027 | |
| significance.threshold | 0.024 | 0.002 | 0.026 | |
| similarity.matrix | 0.055 | 0.006 | 0.065 | |
| tRanslatomeSampleData | 0.025 | 0.002 | 0.028 | |