| Back to Multiple platform build/check report for BioC 3.22: simplified long |
|
This page was generated on 2025-10-24 12:04 -0400 (Fri, 24 Oct 2025).
| Hostname | OS | Arch (*) | R version | Installed pkgs |
|---|---|---|---|---|
| nebbiolo2 | Linux (Ubuntu 24.04.3 LTS) | x86_64 | 4.5.1 Patched (2025-08-23 r88802) -- "Great Square Root" | 4898 |
| lconway | macOS 12.7.6 Monterey | x86_64 | 4.5.1 Patched (2025-09-10 r88807) -- "Great Square Root" | 4688 |
| kjohnson3 | macOS 13.7.7 Ventura | arm64 | 4.5.1 Patched (2025-09-10 r88807) -- "Great Square Root" | 4634 |
| taishan | Linux (openEuler 24.03 LTS) | aarch64 | 4.5.0 (2025-04-11) -- "How About a Twenty-Six" | 4658 |
| Click on any hostname to see more info about the system (e.g. compilers) (*) as reported by 'uname -p', except on Windows and Mac OS X | ||||
| Package 1609/2359 | Hostname | OS / Arch | INSTALL | BUILD | CHECK | BUILD BIN | ||||||||
| plier 1.79.0 (landing page) Crispin Miller
| nebbiolo2 | Linux (Ubuntu 24.04.3 LTS) / x86_64 | OK | OK | WARNINGS | |||||||||
| lconway | macOS 12.7.6 Monterey / x86_64 | OK | OK | WARNINGS | OK | |||||||||
| kjohnson3 | macOS 13.7.7 Ventura / arm64 | OK | OK | WARNINGS | OK | |||||||||
| taishan | Linux (openEuler 24.03 LTS) / aarch64 | OK | OK | NA | ||||||||||
|
To the developers/maintainers of the plier package: - Allow up to 24 hours (and sometimes 48 hours) for your latest push to git@git.bioconductor.org:packages/plier.git to reflect on this report. See Troubleshooting Build Report for more information. - Use the following Renviron settings to reproduce errors and warnings. - If 'R CMD check' started to fail recently on the Linux builder(s) over a missing dependency, add the missing dependency to 'Suggests:' in your DESCRIPTION file. See Renviron.bioc for more information. |
| Package: plier |
| Version: 1.79.0 |
| Command: /home/biocbuild/bbs-3.22-bioc/R/bin/R CMD INSTALL plier |
| StartedAt: 2025-10-23 15:13:00 -0400 (Thu, 23 Oct 2025) |
| EndedAt: 2025-10-23 15:13:04 -0400 (Thu, 23 Oct 2025) |
| EllapsedTime: 4.7 seconds |
| RetCode: 0 |
| Status: OK |
##############################################################################
##############################################################################
###
### Running command:
###
### /home/biocbuild/bbs-3.22-bioc/R/bin/R CMD INSTALL plier
###
##############################################################################
##############################################################################
* installing to library ‘/home/biocbuild/bbs-3.22-bioc/R/site-library’
* installing *source* package ‘plier’ ...
** this is package ‘plier’ version ‘1.79.0’
** using staged installation
** libs
using C++ compiler: ‘g++ (Ubuntu 13.3.0-6ubuntu2~24.04) 13.3.0’
g++ -std=gnu++17 -I"/home/biocbuild/bbs-3.22-bioc/R/include" -DNDEBUG -I/usr/local/include -fpic -g -O2 -Wall -Werror=format-security -c affyplier.cpp -o affyplier.o
g++ -std=gnu++17 -I"/home/biocbuild/bbs-3.22-bioc/R/include" -DNDEBUG -I/usr/local/include -fpic -g -O2 -Wall -Werror=format-security -c plier_impl.cpp -o plier_impl.o
g++ -std=gnu++17 -I"/home/biocbuild/bbs-3.22-bioc/R/include" -DNDEBUG -I/usr/local/include -fpic -g -O2 -Wall -Werror=format-security -c plieralg.cpp -o plieralg.o
plieralg.cpp: In function ‘long int NewtonPlier(plier_data*, double&)’:
plieralg.cpp:905:21: warning: variable ‘icount’ set but not used [-Wunused-but-set-variable]
905 | long count, icount;
| ^~~~~~
plieralg.cpp: At global scope:
plieralg.cpp:49:12: warning: ‘g_ErrorCode’ defined but not used [-Wunused-variable]
49 | static int g_ErrorCode=NoError;
| ^~~~~~~~~~~
plieralg.cpp: In function ‘long int NewtonPlier(plier_data*, double&)’:
plieralg.cpp:1257:31: warning: ‘LogLikelihood’ may be used uninitialized [-Wmaybe-uninitialized]
1257 | output = LogLikelihood/nSize;
| ~~~~~~~~~~~~~^~~~~~
plieralg.cpp:910:16: note: ‘LogLikelihood’ was declared here
910 | double LogLikelihood;
| ^~~~~~~~~~~~~
g++ -std=gnu++17 -I"/home/biocbuild/bbs-3.22-bioc/R/include" -DNDEBUG -I/usr/local/include -fpic -g -O2 -Wall -Werror=format-security -c rwrapper.cpp -o rwrapper.o
rwrapper.cpp: In function ‘void one_probeset(bool*, double*, double*, double*, double*, double*, double*, double*, double*, int*, double*, int*, bool*, bool*, bool*, double*, double*, int*, int*, int*, long int*, double*, double*, double*, double*, int*)’:
rwrapper.cpp:192:12: warning: ‘void operator delete(void*, std::size_t)’ called on pointer returned from a mismatched allocation function [-Wmismatched-new-delete]
192 | delete pm_ptr;
| ^~~~~~
rwrapper.cpp:151:44: note: returned from ‘void* operator new [](std::size_t)’
151 | double **pm_ptr = new double *[*num_exp];
| ^
rwrapper.cpp:193:12: warning: ‘void operator delete(void*, std::size_t)’ called on pointer returned from a mismatched allocation function [-Wmismatched-new-delete]
193 | delete mm_ptr;
| ^~~~~~
rwrapper.cpp:152:44: note: returned from ‘void* operator new [](std::size_t)’
152 | double **mm_ptr = new double *[*num_exp];
| ^
rwrapper.cpp:194:12: warning: ‘void operator delete(void*, std::size_t)’ called on pointer returned from a mismatched allocation function [-Wmismatched-new-delete]
194 | delete rpct;
| ^~~~
rwrapper.cpp:159:39: note: returned from ‘void* operator new [](std::size_t)’
159 | long *rpct = new long [*num_exp]; /* the API expects a long array that it wants to delete itself (replicate). We have an int array that R owns so we need to create the long one here, but let the API handle the clean up. Which is nice. */
| ^
g++ -std=gnu++17 -shared -L/home/biocbuild/bbs-3.22-bioc/R/lib -L/usr/local/lib -o plier.so affyplier.o plier_impl.o plieralg.o rwrapper.o -L/home/biocbuild/bbs-3.22-bioc/R/lib -lR
installing to /home/biocbuild/bbs-3.22-bioc/R/site-library/00LOCK-plier/00new/plier/libs
** R
** byte-compile and prepare package for lazy loading
** help
*** installing help indices
** building package indices
** testing if installed package can be loaded from temporary location
** checking absolute paths in shared objects and dynamic libraries
** testing if installed package can be loaded from final location
** testing if installed package keeps a record of temporary installation path
* DONE (plier)