Back to Multiple platform build/check report for BioC 3.22:   simplified   long
ABC[D]EFGHIJKLMNOPQRSTUVWXYZ

This page was generated on 2025-10-15 12:03 -0400 (Wed, 15 Oct 2025).

HostnameOSArch (*)R versionInstalled pkgs
nebbiolo2Linux (Ubuntu 24.04.3 LTS)x86_644.5.1 Patched (2025-08-23 r88802) -- "Great Square Root" 4866
lconwaymacOS 12.7.6 Montereyx86_644.5.1 Patched (2025-09-10 r88807) -- "Great Square Root" 4653
kjohnson3macOS 13.7.7 Venturaarm644.5.1 Patched (2025-09-10 r88807) -- "Great Square Root" 4598
taishanLinux (openEuler 24.03 LTS)aarch644.5.0 (2025-04-11) -- "How About a Twenty-Six" 4610
Click on any hostname to see more info about the system (e.g. compilers)      (*) as reported by 'uname -p', except on Windows and Mac OS X

Package 518/2346HostnameOS / ArchINSTALLBUILDCHECKBUILD BIN
DAPAR 1.41.0  (landing page)
Samuel Wieczorek
Snapshot Date: 2025-10-14 13:45 -0400 (Tue, 14 Oct 2025)
git_url: https://git.bioconductor.org/packages/DAPAR
git_branch: devel
git_last_commit: c47beab
git_last_commit_date: 2025-04-15 10:53:48 -0400 (Tue, 15 Apr 2025)
nebbiolo2Linux (Ubuntu 24.04.3 LTS) / x86_64  OK    OK    OK  UNNEEDED, same version is already published
lconwaymacOS 12.7.6 Monterey / x86_64  OK    OK    OK    OK  UNNEEDED, same version is already published
kjohnson3macOS 13.7.7 Ventura / arm64  OK    OK    OK    OK  UNNEEDED, same version is already published
taishanLinux (openEuler 24.03 LTS) / aarch64  OK    OK    OK  


CHECK results for DAPAR on nebbiolo2

To the developers/maintainers of the DAPAR package:
- Allow up to 24 hours (and sometimes 48 hours) for your latest push to git@git.bioconductor.org:packages/DAPAR.git to reflect on this report. See Troubleshooting Build Report for more information.
- Use the following Renviron settings to reproduce errors and warnings.
- If 'R CMD check' started to fail recently on the Linux builder(s) over a missing dependency, add the missing dependency to 'Suggests:' in your DESCRIPTION file. See Renviron.bioc for more information.

raw results


Summary

Package: DAPAR
Version: 1.41.0
Command: /home/biocbuild/bbs-3.22-bioc/R/bin/R CMD check --install=check:DAPAR.install-out.txt --library=/home/biocbuild/bbs-3.22-bioc/R/site-library --timings DAPAR_1.41.0.tar.gz
StartedAt: 2025-10-14 22:59:16 -0400 (Tue, 14 Oct 2025)
EndedAt: 2025-10-14 23:08:53 -0400 (Tue, 14 Oct 2025)
EllapsedTime: 576.7 seconds
RetCode: 0
Status:   OK  
CheckDir: DAPAR.Rcheck
Warnings: 0

Command output

##############################################################################
##############################################################################
###
### Running command:
###
###   /home/biocbuild/bbs-3.22-bioc/R/bin/R CMD check --install=check:DAPAR.install-out.txt --library=/home/biocbuild/bbs-3.22-bioc/R/site-library --timings DAPAR_1.41.0.tar.gz
###
##############################################################################
##############################################################################


* using log directory ‘/home/biocbuild/bbs-3.22-bioc/meat/DAPAR.Rcheck’
* using R version 4.5.1 Patched (2025-08-23 r88802)
* using platform: x86_64-pc-linux-gnu
* R was compiled by
    gcc (Ubuntu 13.3.0-6ubuntu2~24.04) 13.3.0
    GNU Fortran (Ubuntu 13.3.0-6ubuntu2~24.04) 13.3.0
* running under: Ubuntu 24.04.3 LTS
* using session charset: UTF-8
* checking for file ‘DAPAR/DESCRIPTION’ ... OK
* checking extension type ... Package
* this is package ‘DAPAR’ version ‘1.41.0’
* package encoding: UTF-8
* checking package namespace information ... OK
* checking package dependencies ... INFO
Vignette dependency required without any vignettes: ‘knitr’
* checking if this is a source package ... OK
* checking if there is a namespace ... OK
* checking for hidden files and directories ... OK
* checking for portable file names ... OK
* checking for sufficient/correct file permissions ... OK
* checking whether package ‘DAPAR’ can be installed ... OK
* checking installed package size ... OK
* checking package directory ... OK
* checking DESCRIPTION meta-information ... OK
* checking top-level files ... OK
* checking for left-over files ... OK
* checking index information ... OK
* checking package subdirectories ... OK
* checking code files for non-ASCII characters ... OK
* checking R files for syntax errors ... OK
* checking whether the package can be loaded ... OK
* checking whether the package can be loaded with stated dependencies ... OK
* checking whether the package can be unloaded cleanly ... OK
* checking whether the namespace can be loaded with stated dependencies ... OK
* checking whether the namespace can be unloaded cleanly ... OK
* checking loading without being on the library search path ... OK
* checking whether startup messages can be suppressed ... OK
* checking dependencies in R code ... OK
* checking S3 generic/method consistency ... OK
* checking replacement functions ... OK
* checking foreign function calls ... OK
* checking R code for possible problems ... NOTE
Check_Dataset_Validity: no visible global function definition for
  ‘exprs’
OWAnova: no visible global function definition for ‘aov’
aggregateIterParallel: no visible binding for global variable ‘cond’
averageIntensities: no visible binding for global variable ‘condition’
averageIntensities: no visible binding for global variable ‘feature’
averageIntensities: no visible binding for global variable ‘intensity’
createMSnset: no visible global function definition for
  ‘installed.packages’
createMSnset: no visible binding for global variable ‘Prostar.loc’
createMSnset2: no visible global function definition for
  ‘installed.packages’
createMSnset2: no visible binding for global variable ‘Prostar.loc’
diffAnaVolcanoplot_rCharts: no visible binding for global variable ‘x’
diffAnaVolcanoplot_rCharts: no visible binding for global variable ‘y’
diffAnaVolcanoplot_rCharts: no visible binding for global variable ‘g’
display.CC.visNet: no visible binding for global variable
  ‘layout_nicely’
getTextForGOAnalysis: no visible binding for global variable
  ‘textGOParams’
getTextForGOAnalysis: no visible binding for global variable ‘input’
globalAdjPval: no visible global function definition for ‘stack’
heatmapForMissingValues: no visible binding for global variable ‘par’
limmaCompleteTest: no visible binding for global variable ‘A’
limmaCompleteTest: no visible binding for global variable ‘B’
limmaCompleteTest: no visible binding for global variable ‘P.Value’
pepa.test: no visible global function definition for ‘nodes<-’
testAnovaModels : <anonymous>: no visible global function definition
  for ‘TukeyHSD’
visualizeClusters: no visible binding for global variable
  ‘adjusted_pvalues’
visualizeClusters: no visible binding for global variable ‘Condition’
visualizeClusters: no visible binding for global variable ‘Intensity’
visualizeClusters: no visible binding for global variable
  ‘FDR_threshold’
visualizeClusters: no visible binding for global variable ‘feature’
wrapperClassic1wayAnova: no visible binding for global variable
  ‘Pr(>F)1’
wrapperRunClustering: no visible global function definition for ‘str_c’
Undefined global functions or variables:
  A B Condition FDR_threshold Intensity P.Value Pr(>F)1 Prostar.loc
  TukeyHSD adjusted_pvalues aov cond condition exprs feature g input
  installed.packages intensity layout_nicely nodes<- par stack str_c
  textGOParams x y
Consider adding
  importFrom("graphics", "par")
  importFrom("stats", "TukeyHSD", "aov")
  importFrom("utils", "installed.packages", "stack")
to your NAMESPACE file.
* checking Rd files ... OK
* checking Rd metadata ... OK
* checking Rd cross-references ... OK
* checking for missing documentation entries ... OK
* checking for code/documentation mismatches ... OK
* checking Rd \usage sections ... OK
* checking Rd contents ... OK
* checking for unstated dependencies in examples ... OK
* checking examples ... OK
Examples with CPU (user + system) or elapsed time > 5s
                                   user system elapsed
wrapper.compareNormalizationD_HC 46.227 13.779  61.157
wrapper.dapar.impute.mi          14.707  0.424  15.145
barplotEnrichGO_HC                7.240  0.619   7.892
group_GO                          6.284  0.241   6.658
scatterplotEnrichGO_HC            5.947  0.252   6.642
enrich_GO                         5.487  0.209   6.223
* checking for unstated dependencies in ‘tests’ ... OK
* checking tests ...
  Running ‘testthat.R’
 OK
* checking PDF version of manual ... OK
* DONE

Status: 1 NOTE
See
  ‘/home/biocbuild/bbs-3.22-bioc/meat/DAPAR.Rcheck/00check.log’
for details.


Installation output

DAPAR.Rcheck/00install.out

##############################################################################
##############################################################################
###
### Running command:
###
###   /home/biocbuild/bbs-3.22-bioc/R/bin/R CMD INSTALL DAPAR
###
##############################################################################
##############################################################################


* installing to library ‘/home/biocbuild/bbs-3.22-bioc/R/site-library’
* installing *source* package ‘DAPAR’ ...
** this is package ‘DAPAR’ version ‘1.41.0’
** using staged installation
** R
** inst
** byte-compile and prepare package for lazy loading
** help
*** installing help indices
** building package indices
** testing if installed package can be loaded from temporary location
** testing if installed package can be loaded from final location
** testing if installed package keeps a record of temporary installation path
* DONE (DAPAR)

Tests output

DAPAR.Rcheck/tests/testthat.Rout


R version 4.5.1 Patched (2025-08-23 r88802) -- "Great Square Root"
Copyright (C) 2025 The R Foundation for Statistical Computing
Platform: x86_64-pc-linux-gnu

R is free software and comes with ABSOLUTELY NO WARRANTY.
You are welcome to redistribute it under certain conditions.
Type 'license()' or 'licence()' for distribution details.

R is a collaborative project with many contributors.
Type 'contributors()' for more information and
'citation()' on how to cite R or R packages in publications.

Type 'demo()' for some demos, 'help()' for on-line help, or
'help.start()' for an HTML browser interface to help.
Type 'q()' to quit R.

> library(testthat)
> library(DAPAR)

This is the 'DAPAR' version 1.41.0.

  To get started, visit
    http://www.prostar-proteomics.org/


> 
> test_check("DAPAR")

 Iterations: 

 1 / 1  - Imputation MNAR OK - 
Imputation MCAR in progress - 
3 % - 6 % - 9 % - 12 % - 15 % - 18 % - 21 % - 24 % - 27 % - 30 % - 33 % - 36 % - 39 % - 42 % - 45 % - 48 % - 51 % - 54 % - 57 % - 60 % - 63 % - 66 % - 69 % - 72 % - 75 % - 78 % - 81 % - 84 % - 87 % - 90 % - 93 % - 96 % - 99 % - 
 Iterations: 

 1 / 1  - Imputation MNAR OK - 
Imputation MCAR in progress - 
3 % - 6 % - 9 % - 12 % - 15 % - 18 % - 21 % - 24 % - 27 % - 30 % - 33 % - 36 % - 39 % - 42 % - 45 % - 48 % - 51 % - 54 % - 57 % - 60 % - 63 % - 66 % - 69 % - 72 % - 75 % - 78 % - 81 % - 84 % - 87 % - 90 % - 93 % - 96 % - 99 % - 
 Imputation in condition  1 ...
 In progress: 10 % - 20 % - 30 % - 40 % - 50 % - 60 % - 70 % - 80 % - 90 % - 100 % - 
 Imputation in condition  2 ...
 In progress: 10 % - 20 % - 30 % - 40 % - 50 % - 60 % - 70 % - 80 % - 90 % - 100 % - [ FAIL 0 | WARN 17 | SKIP 0 | PASS 66 ]

[ FAIL 0 | WARN 17 | SKIP 0 | PASS 66 ]
> 
> proc.time()
   user  system elapsed 
 32.365   1.363  33.722 

Example timings

DAPAR.Rcheck/DAPAR-Ex.timings

nameusersystemelapsed
AggregateMetacell0.6120.0120.625
BuildAdjacencyMatrix0.4810.0090.490
BuildColumnToProteinDataset0.5520.0090.560
BuildMetaCell0.6810.0090.691
CVDistD_HC3.1060.0523.177
Children0.0050.0000.005
CountPep0.5210.0150.537
ExtendPalette0.0260.0020.028
GOAnalysisSave000
GetCC3.0350.1143.148
GetColorsForConditions0.4390.0060.444
GetDetailedNbPeptides0.4560.0130.469
GetDetailedNbPeptidesUsed0.0000.0000.001
GetIndices_BasedOnConditions0.4750.0080.483
GetIndices_MetacellFiltering0.4710.0050.476
GetIndices_WholeLine0.4580.0080.465
GetIndices_WholeMatrix0.4590.0220.481
GetKeyId0.450.010.46
GetMatAdj0.4960.0170.514
GetMetacell000
GetMetacellTags0.4570.0120.470
GetNbPeptidesUsed0.470.010.48
GetNbTags000
GetSoftAvailables0.0000.0000.001
GetTypeofData0.4450.0130.458
Get_AllComparisons0.2720.0050.279
GlobalQuantileAlignment0.4680.0120.482
GraphPepProt0.4600.0240.484
LH0000
LH0.lm000
LH1000
LH1.lm000
LOESS1.1720.0211.194
MeanCentering0.4720.0210.493
MetaCellFiltering0.6210.0120.633
MetacellFilteringScope000
Metacell_DIA_NN0.4650.0090.474
Metacell_generic0.3820.0040.386
Metacell_maxquant0.4240.0000.423
Metacell_proline0.3740.0020.376
NumericalFiltering0.4750.0110.486
NumericalgetIndicesOfLinesToRemove0.4530.0070.460
OWAnova0.0060.0000.006
QuantileCentering0.4710.0090.479
SetCC2.6320.1182.750
SetMatAdj0.4830.0110.494
Set_POV_MEC_tags0.4540.0070.462
StringBasedFiltering0.4740.0090.483
StringBasedFiltering20.4670.0090.476
SumByColumns1.2230.1251.347
SymFilteringOperators0.0010.0000.000
UpdateMetacellAfterImputation0.4590.0110.469
aggregateIter0.5900.0080.597
aggregateIterParallel000
aggregateMean0.5320.0070.539
aggregateSum0.5460.0090.554
aggregateTopn0.5110.0100.521
applyAnovasOnProteins0.1360.0040.139
averageIntensities0.4690.0420.513
barplotEnrichGO_HC7.2400.6197.892
barplotGroupGO_HC4.1170.2564.382
boxPlotD_HC0.2830.0240.309
buildGraph1.7450.0541.800
check.conditions0.4290.0080.436
check.design0.4230.0070.431
checkClusterability3.5401.0064.577
classic1wayAnova0.0000.0000.001
compareNormalizationD_HC0.1660.0090.175
compute.selection.table0.7220.0580.791
compute_t_tests1.2780.1021.475
corrMatrixD_HC0.6550.0210.721
createMSnset2.0360.0822.189
createMSnset21.9660.0422.032
dapar_hc_ExportMenu0.1880.0240.232
dapar_hc_chart0.0810.0100.098
deleteLinesFromIndices0.7790.0170.807
densityPlotD_HC2.7020.7363.569
diffAnaComputeAdjustedPValues0.2230.0170.241
diffAnaComputeFDR000
diffAnaGetSignificant0.3100.0310.342
diffAnaSave0.3040.0210.325
diffAnaVolcanoplot0.2560.0130.324
diffAnaVolcanoplot_rCharts0.4240.0490.550
display.CC.visNet1.9670.0952.312
enrich_GO5.4870.2096.223
finalizeAggregation000
findMECBlock0.8140.0120.843
formatHSDResults000
formatLimmaResult0.2050.0100.218
formatPHResults0.0010.0000.000
formatPHTResults000
fudge2LRT000
get.pep.prot.cc1.8040.0182.020
getDesignLevel0.6580.0150.687
getIndicesConditions0.7310.0130.744
getIndicesOfLinesToRemove0.7260.0120.762
getListNbValuesInLines0.6950.0070.702
getNumberOf0.7060.0140.721
getNumberOfEmptyLines0.7250.0140.750
getPourcentageOfMV0.6760.0140.717
getProcessingInfo0.5220.0100.531
getProteinsStats0.5690.0180.601
getQuantile4Imp0.1390.0040.162
getTextForAggregation0.0000.0000.001
getTextForAnaDiff0.0000.0000.001
getTextForFiltering0.0010.0000.000
getTextForGOAnalysis000
getTextForHypothesisTest000
getTextForNewDataset0.0020.0000.002
getTextForNormalization0.0000.0000.001
getTextForpeptideImputation0.0010.0000.000
getTextForproteinImputation000
globalAdjPval0.5760.0300.651
group_GO6.2840.2416.658
hc_logFC_DensityPlot0.9260.1721.099
hc_mvTypePlot21.3200.1731.509
heatmapD1.2680.0351.307
heatmapForMissingValues0.3350.0140.349
histPValue_HC0.3720.0280.400
impute.pa20.8750.0340.933
inner.aggregate.iter0.6180.0240.646
inner.aggregate.topn0.7290.0160.745
inner.mean0.7710.0150.804
inner.sum0.7980.0170.815
is.subset0.0010.0000.000
limmaCompleteTest2.3170.0542.378
listSheets000
make.contrast0.5680.0150.623
make.design.10.6050.0110.720
make.design.20.6180.0120.656
make.design.30.7530.0190.772
make.design0.7340.0200.754
match.metacell0.7700.0190.790
metacell.def0.0060.0010.010
metacellHisto_HC0.6720.0200.778
metacellPerLinesHistoPerCondition_HC0.8270.0340.912
metacellPerLinesHisto_HC1.1550.0741.234
metacombine0.2920.0080.300
mvImage3.1400.0943.339
my_hc_ExportMenu0.1760.0370.213
my_hc_chart0.1670.0290.208
nonzero0.0280.0010.029
normalizeMethods.dapar0.0010.0000.001
pepa.test0.6450.0150.697
pkgs.require000
plotJitter2.1310.0632.288
plotJitter_rCharts2.2850.0392.333
plotPCA_Eigen0.8100.0300.844
plotPCA_Eigen_hc0.7100.0140.727
plotPCA_Ind0.5880.0100.626
plotPCA_Var0.5810.0100.686
postHocTest000
proportionConRev_HC0.0500.0100.074
rbindMSnset0.6540.0250.726
reIntroduceMEC0.7740.0310.818
readExcel000
removeLines0.6320.0240.721
samLRT000
saveParameters0.7360.0180.755
scatterplotEnrichGO_HC5.9470.2526.642
search.metacell.tags0.0110.0000.011
separateAdjPval0.3140.0100.325
splitAdjacencyMat0.8060.0160.822
test.design0.7560.0150.771
testAnovaModels0.2360.0050.240
thresholdpval4fdr000
translatedRandomBeta0.0010.0020.003
univ_AnnotDbPkg0.2680.0170.285
violinPlotD0.5000.0180.520
visualizeClusters1.9680.1462.130
vsn0.9800.0311.021
wrapper.CVDistD_HC2.2120.5712.993
wrapper.compareNormalizationD_HC46.22713.77961.157
wrapper.corrMatrixD_HC0.5320.0240.557
wrapper.dapar.impute.mi14.707 0.42415.145
wrapper.heatmapD0.6900.0140.705
wrapper.impute.KNN0.4760.0140.490
wrapper.impute.detQuant0.4960.0280.524
wrapper.impute.fixedValue0.4990.0330.534
wrapper.impute.mle0.4610.0200.481
wrapper.impute.pa0.1560.0070.162
wrapper.impute.pa20.4670.0180.485
wrapper.impute.slsa0.6190.0210.640
wrapper.mvImage0.1750.0060.181
wrapper.normalizeD0.4320.0090.442
wrapper.pca0.1910.0160.207
wrapperCalibrationPlot0.1990.0110.211
wrapperClassic1wayAnova000
wrapperRunClustering1.8900.1452.041
write.excel0.7570.0620.822
writeMSnsetToCSV0.4410.0140.456
writeMSnsetToExcel0.8710.1190.991