Back to Multiple platform build/check report for BioC 3.22:   simplified   long
ABC[D]EFGHIJKLMNOPQRSTUVWXYZ

This page was generated on 2025-10-15 12:07 -0400 (Wed, 15 Oct 2025).

HostnameOSArch (*)R versionInstalled pkgs
nebbiolo2Linux (Ubuntu 24.04.3 LTS)x86_644.5.1 Patched (2025-08-23 r88802) -- "Great Square Root" 4866
lconwaymacOS 12.7.6 Montereyx86_644.5.1 Patched (2025-09-10 r88807) -- "Great Square Root" 4653
kjohnson3macOS 13.7.7 Venturaarm644.5.1 Patched (2025-09-10 r88807) -- "Great Square Root" 4598
taishanLinux (openEuler 24.03 LTS)aarch644.5.0 (2025-04-11) -- "How About a Twenty-Six" 4610
Click on any hostname to see more info about the system (e.g. compilers)      (*) as reported by 'uname -p', except on Windows and Mac OS X

Package 518/2346HostnameOS / ArchINSTALLBUILDCHECKBUILD BIN
DAPAR 1.41.0  (landing page)
Samuel Wieczorek
Snapshot Date: 2025-10-14 13:45 -0400 (Tue, 14 Oct 2025)
git_url: https://git.bioconductor.org/packages/DAPAR
git_branch: devel
git_last_commit: c47beab
git_last_commit_date: 2025-04-15 10:53:48 -0400 (Tue, 15 Apr 2025)
nebbiolo2Linux (Ubuntu 24.04.3 LTS) / x86_64  OK    OK    OK  UNNEEDED, same version is already published
lconwaymacOS 12.7.6 Monterey / x86_64  OK    OK    OK    OK  UNNEEDED, same version is already published
kjohnson3macOS 13.7.7 Ventura / arm64  OK    OK    OK    OK  UNNEEDED, same version is already published
taishanLinux (openEuler 24.03 LTS) / aarch64  OK    OK    OK  


CHECK results for DAPAR on taishan

To the developers/maintainers of the DAPAR package:
- Allow up to 24 hours (and sometimes 48 hours) for your latest push to git@git.bioconductor.org:packages/DAPAR.git to reflect on this report. See Troubleshooting Build Report for more information.
- Use the following Renviron settings to reproduce errors and warnings.
- If 'R CMD check' started to fail recently on the Linux builder(s) over a missing dependency, add the missing dependency to 'Suggests:' in your DESCRIPTION file. See Renviron.bioc for more information.
- See Martin Grigorov's blog post for how to debug Linux ARM64 related issues on a x86_64 host.

raw results


Summary

Package: DAPAR
Version: 1.41.0
Command: /home/biocbuild/R/R/bin/R CMD check --install=check:DAPAR.install-out.txt --library=/home/biocbuild/R/R/site-library --no-vignettes --timings DAPAR_1.41.0.tar.gz
StartedAt: 2025-10-14 07:21:25 -0000 (Tue, 14 Oct 2025)
EndedAt: 2025-10-14 07:32:14 -0000 (Tue, 14 Oct 2025)
EllapsedTime: 649.4 seconds
RetCode: 0
Status:   OK  
CheckDir: DAPAR.Rcheck
Warnings: 0

Command output

##############################################################################
##############################################################################
###
### Running command:
###
###   /home/biocbuild/R/R/bin/R CMD check --install=check:DAPAR.install-out.txt --library=/home/biocbuild/R/R/site-library --no-vignettes --timings DAPAR_1.41.0.tar.gz
###
##############################################################################
##############################################################################


* using log directory ‘/home/biocbuild/bbs-3.22-bioc/meat/DAPAR.Rcheck’
* using R version 4.5.0 (2025-04-11)
* using platform: aarch64-unknown-linux-gnu
* R was compiled by
    aarch64-unknown-linux-gnu-gcc (GCC) 14.2.0
    GNU Fortran (GCC) 14.2.0
* running under: openEuler 24.03 (LTS)
* using session charset: UTF-8
* using option ‘--no-vignettes’
* checking for file ‘DAPAR/DESCRIPTION’ ... OK
* checking extension type ... Package
* this is package ‘DAPAR’ version ‘1.41.0’
* package encoding: UTF-8
* checking package namespace information ... OK
* checking package dependencies ... INFO
Vignette dependency required without any vignettes: ‘knitr’
* checking if this is a source package ... OK
* checking if there is a namespace ... OK
* checking for hidden files and directories ... OK
* checking for portable file names ... OK
* checking for sufficient/correct file permissions ... OK
* checking whether package ‘DAPAR’ can be installed ... OK
* checking installed package size ... OK
* checking package directory ... OK
* checking DESCRIPTION meta-information ... OK
* checking top-level files ... OK
* checking for left-over files ... OK
* checking index information ... OK
* checking package subdirectories ... OK
* checking code files for non-ASCII characters ... OK
* checking R files for syntax errors ... OK
* checking whether the package can be loaded ... OK
* checking whether the package can be loaded with stated dependencies ... OK
* checking whether the package can be unloaded cleanly ... OK
* checking whether the namespace can be loaded with stated dependencies ... OK
* checking whether the namespace can be unloaded cleanly ... OK
* checking loading without being on the library search path ... OK
* checking whether startup messages can be suppressed ... OK
* checking dependencies in R code ... OK
* checking S3 generic/method consistency ... OK
* checking replacement functions ... OK
* checking foreign function calls ... OK
* checking R code for possible problems ... NOTE
Check_Dataset_Validity: no visible global function definition for
  ‘exprs’
OWAnova: no visible global function definition for ‘aov’
aggregateIterParallel: no visible binding for global variable ‘cond’
averageIntensities: no visible binding for global variable ‘condition’
averageIntensities: no visible binding for global variable ‘feature’
averageIntensities: no visible binding for global variable ‘intensity’
createMSnset: no visible global function definition for
  ‘installed.packages’
createMSnset: no visible binding for global variable ‘Prostar.loc’
createMSnset2: no visible global function definition for
  ‘installed.packages’
createMSnset2: no visible binding for global variable ‘Prostar.loc’
diffAnaVolcanoplot_rCharts: no visible binding for global variable ‘x’
diffAnaVolcanoplot_rCharts: no visible binding for global variable ‘y’
diffAnaVolcanoplot_rCharts: no visible binding for global variable ‘g’
display.CC.visNet: no visible binding for global variable
  ‘layout_nicely’
getTextForGOAnalysis: no visible binding for global variable
  ‘textGOParams’
getTextForGOAnalysis: no visible binding for global variable ‘input’
globalAdjPval: no visible global function definition for ‘stack’
heatmapForMissingValues: no visible binding for global variable ‘par’
limmaCompleteTest: no visible binding for global variable ‘A’
limmaCompleteTest: no visible binding for global variable ‘B’
limmaCompleteTest: no visible binding for global variable ‘P.Value’
pepa.test: no visible global function definition for ‘nodes<-’
testAnovaModels : <anonymous>: no visible global function definition
  for ‘TukeyHSD’
visualizeClusters: no visible binding for global variable
  ‘adjusted_pvalues’
visualizeClusters: no visible binding for global variable ‘Condition’
visualizeClusters: no visible binding for global variable ‘Intensity’
visualizeClusters: no visible binding for global variable
  ‘FDR_threshold’
visualizeClusters: no visible binding for global variable ‘feature’
wrapperClassic1wayAnova: no visible binding for global variable
  ‘Pr(>F)1’
wrapperRunClustering: no visible global function definition for ‘str_c’
Undefined global functions or variables:
  A B Condition FDR_threshold Intensity P.Value Pr(>F)1 Prostar.loc
  TukeyHSD adjusted_pvalues aov cond condition exprs feature g input
  installed.packages intensity layout_nicely nodes<- par stack str_c
  textGOParams x y
Consider adding
  importFrom("graphics", "par")
  importFrom("stats", "TukeyHSD", "aov")
  importFrom("utils", "installed.packages", "stack")
to your NAMESPACE file.
* checking Rd files ... OK
* checking Rd metadata ... OK
* checking Rd cross-references ... OK
* checking for missing documentation entries ... OK
* checking for code/documentation mismatches ... OK
* checking Rd \usage sections ... OK
* checking Rd contents ... OK
* checking for unstated dependencies in examples ... OK
* checking examples ... OK
Examples with CPU (user + system) or elapsed time > 5s
                                   user system elapsed
wrapper.compareNormalizationD_HC 57.695 15.260  76.023
wrapper.dapar.impute.mi          19.754  0.772  20.696
barplotEnrichGO_HC                8.525  1.183  10.086
barplotGroupGO_HC                 4.865  0.370   5.289
scatterplotEnrichGO_HC            4.793  0.326   5.170
enrich_GO                         4.701  0.382   5.137
group_GO                          4.740  0.276   5.067
* checking for unstated dependencies in ‘tests’ ... OK
* checking tests ...
  Running ‘testthat.R’
 OK
* checking PDF version of manual ... OK
* DONE

Status: 1 NOTE
See
  ‘/home/biocbuild/bbs-3.22-bioc/meat/DAPAR.Rcheck/00check.log’
for details.


Installation output

DAPAR.Rcheck/00install.out

##############################################################################
##############################################################################
###
### Running command:
###
###   /home/biocbuild/R/R/bin/R CMD INSTALL DAPAR
###
##############################################################################
##############################################################################


* installing to library ‘/home/biocbuild/R/R-4.5.0/site-library’
* installing *source* package ‘DAPAR’ ...
** this is package ‘DAPAR’ version ‘1.41.0’
** using staged installation
** R
** inst
** byte-compile and prepare package for lazy loading
** help
*** installing help indices
** building package indices
** testing if installed package can be loaded from temporary location
** testing if installed package can be loaded from final location
** testing if installed package keeps a record of temporary installation path
* DONE (DAPAR)

Tests output

DAPAR.Rcheck/tests/testthat.Rout


R version 4.5.0 (2025-04-11) -- "How About a Twenty-Six"
Copyright (C) 2025 The R Foundation for Statistical Computing
Platform: aarch64-unknown-linux-gnu

R is free software and comes with ABSOLUTELY NO WARRANTY.
You are welcome to redistribute it under certain conditions.
Type 'license()' or 'licence()' for distribution details.

R is a collaborative project with many contributors.
Type 'contributors()' for more information and
'citation()' on how to cite R or R packages in publications.

Type 'demo()' for some demos, 'help()' for on-line help, or
'help.start()' for an HTML browser interface to help.
Type 'q()' to quit R.

> library(testthat)
> library(DAPAR)

This is the 'DAPAR' version 1.41.0.

  To get started, visit
    http://www.prostar-proteomics.org/


> 
> test_check("DAPAR")

 Iterations: 

 1 / 1  - Imputation MNAR OK - 
Imputation MCAR in progress - 
3 % - 6 % - 9 % - 12 % - 15 % - 18 % - 21 % - 24 % - 27 % - 30 % - 33 % - 36 % - 39 % - 42 % - 45 % - 48 % - 51 % - 54 % - 57 % - 60 % - 63 % - 66 % - 69 % - 72 % - 75 % - 78 % - 81 % - 84 % - 87 % - 90 % - 93 % - 96 % - 99 % - 
 Iterations: 

 1 / 1  - Imputation MNAR OK - 
Imputation MCAR in progress - 
3 % - 6 % - 9 % - 12 % - 15 % - 18 % - 21 % - 24 % - 27 % - 30 % - 33 % - 36 % - 39 % - 42 % - 45 % - 48 % - 51 % - 54 % - 57 % - 60 % - 63 % - 66 % - 69 % - 72 % - 75 % - 78 % - 81 % - 84 % - 87 % - 90 % - 93 % - 96 % - 99 % - 
 Imputation in condition  1 ...
 In progress: 10 % - 20 % - 30 % - 40 % - 50 % - 60 % - 70 % - 80 % - 90 % - 100 % - 
 Imputation in condition  2 ...
 In progress: 10 % - 20 % - 30 % - 40 % - 50 % - 60 % - 70 % - 80 % - 90 % - 100 % - [ FAIL 0 | WARN 19 | SKIP 0 | PASS 66 ]

[ FAIL 0 | WARN 19 | SKIP 0 | PASS 66 ]
> 
> proc.time()
   user  system elapsed 
 40.543   1.281  42.125 

Example timings

DAPAR.Rcheck/DAPAR-Ex.timings

nameusersystemelapsed
AggregateMetacell0.6170.0480.668
BuildAdjacencyMatrix0.4660.0200.487
BuildColumnToProteinDataset0.5730.0280.603
BuildMetaCell0.7350.0640.803
CVDistD_HC4.1120.2954.473
Children0.0060.0000.007
CountPep0.4890.0160.506
ExtendPalette0.0350.0040.039
GOAnalysisSave000
GetCC2.4220.2442.672
GetColorsForConditions0.4500.0080.459
GetDetailedNbPeptides0.4760.0120.488
GetDetailedNbPeptidesUsed0.0000.0000.001
GetIndices_BasedOnConditions0.4680.0160.485
GetIndices_MetacellFiltering0.4600.0120.473
GetIndices_WholeLine0.4630.0080.472
GetIndices_WholeMatrix0.4580.0080.467
GetKeyId0.4390.0000.441
GetMatAdj0.5220.0280.551
GetMetacell000
GetMetacellTags0.4590.0080.468
GetNbPeptidesUsed0.4510.0240.476
GetNbTags0.0000.0000.001
GetSoftAvailables0.0010.0000.001
GetTypeofData0.4190.0150.435
Get_AllComparisons0.3270.0250.354
GlobalQuantileAlignment0.4700.0040.477
GraphPepProt0.4800.0070.489
LH00.0010.0000.000
LH0.lm0.0000.0000.001
LH1000
LH1.lm000
LOESS1.8440.0121.860
MeanCentering0.4880.0160.505
MetaCellFiltering0.7000.0160.718
MetacellFilteringScope0.0010.0000.001
Metacell_DIA_NN0.5480.0160.565
Metacell_generic0.4500.0080.459
Metacell_maxquant0.4990.0160.517
Metacell_proline0.4680.0000.469
NumericalFiltering0.5190.0040.524
NumericalgetIndicesOfLinesToRemove0.4620.0000.463
OWAnova0.0080.0000.008
QuantileCentering0.4770.0120.491
SetCC2.2570.1602.422
SetMatAdj0.5160.0040.521
Set_POV_MEC_tags0.4660.0160.483
StringBasedFiltering0.5050.0080.515
StringBasedFiltering20.4940.0120.508
SumByColumns1.7750.1191.899
SymFilteringOperators000
UpdateMetacellAfterImputation0.4580.0080.467
aggregateIter0.6810.0040.686
aggregateIterParallel000
aggregateMean0.5580.0120.571
aggregateSum0.5970.0040.603
aggregateTopn0.5400.0160.557
applyAnovasOnProteins0.1290.0040.133
averageIntensities0.5390.0720.619
barplotEnrichGO_HC 8.525 1.18310.086
barplotGroupGO_HC4.8650.3705.289
boxPlotD_HC0.3600.0280.394
buildGraph1.6180.0911.716
check.conditions0.4230.0000.424
check.design0.4180.0090.427
checkClusterability3.4171.1084.776
classic1wayAnova000
compareNormalizationD_HC0.1670.0200.189
compute.selection.table0.8810.0690.971
compute_t_tests1.4670.1461.653
corrMatrixD_HC0.5850.0240.614
createMSnset1.8920.0591.965
createMSnset21.8070.0601.880
dapar_hc_ExportMenu0.1750.0150.197
dapar_hc_chart0.0740.0070.083
deleteLinesFromIndices0.5030.0040.510
densityPlotD_HC3.4560.8424.478
diffAnaComputeAdjustedPValues0.2280.0310.265
diffAnaComputeFDR000
diffAnaGetSignificant0.3180.0600.388
diffAnaSave0.2870.0520.349
diffAnaVolcanoplot0.1720.0400.216
diffAnaVolcanoplot_rCharts0.4390.0510.504
display.CC.visNet1.7830.1551.952
enrich_GO4.7010.3825.137
finalizeAggregation0.0000.0000.001
findMECBlock0.5600.0280.592
formatHSDResults000
formatLimmaResult0.1980.0070.211
formatPHResults000
formatPHTResults000
fudge2LRT000
get.pep.prot.cc1.5810.0201.608
getDesignLevel0.4240.0040.429
getIndicesConditions0.4310.0000.433
getIndicesOfLinesToRemove0.4540.0240.481
getListNbValuesInLines0.4330.0040.438
getNumberOf0.4520.0070.463
getNumberOfEmptyLines0.4540.0200.476
getPourcentageOfMV0.4520.0120.467
getProcessingInfo0.4220.0080.431
getProteinsStats0.4630.0150.482
getQuantile4Imp0.1050.0080.113
getTextForAggregation0.0010.0000.000
getTextForAnaDiff0.0010.0000.001
getTextForFiltering0.0010.0000.000
getTextForGOAnalysis0.0010.0000.001
getTextForHypothesisTest0.0010.0000.000
getTextForNewDataset0.0030.0000.003
getTextForNormalization000
getTextForpeptideImputation0.0000.0000.001
getTextForproteinImputation0.0000.0000.001
globalAdjPval0.5720.0590.642
group_GO4.7400.2765.067
hc_logFC_DensityPlot0.8030.1901.034
hc_mvTypePlot21.0360.1661.237
heatmapD0.7700.0160.791
heatmapForMissingValues0.2160.0080.226
histPValue_HC0.2770.0320.314
impute.pa20.5080.0190.531
inner.aggregate.iter0.5430.0120.558
inner.aggregate.topn0.4980.0040.503
inner.mean0.5330.0120.547
inner.sum0.4830.0080.493
is.subset0.0010.0000.000
limmaCompleteTest1.9790.0402.032
listSheets000
make.contrast0.4520.0160.469
make.design.10.4510.0040.456
make.design.20.4600.0000.461
make.design.30.5160.0120.529
make.design0.4640.0040.469
match.metacell0.4910.0040.496
metacell.def0.0070.0000.008
metacellHisto_HC0.5280.0070.538
metacellPerLinesHistoPerCondition_HC0.6570.0160.677
metacellPerLinesHisto_HC0.9280.0791.019
metacombine0.2500.0080.262
mvImage2.9330.1663.131
my_hc_ExportMenu0.1850.0150.205
my_hc_chart0.1850.0160.205
nonzero0.0250.0000.026
normalizeMethods.dapar000
pepa.test0.4770.0120.490
pkgs.require0.0010.0000.000
plotJitter1.6880.0991.794
plotJitter_rCharts1.6090.0351.653
plotPCA_Eigen0.5220.0240.549
plotPCA_Eigen_hc0.4300.0000.431
plotPCA_Ind0.4340.0080.442
plotPCA_Var0.4350.0000.436
postHocTest000
proportionConRev_HC0.0620.0080.071
rbindMSnset0.5500.0470.604
reIntroduceMEC0.5080.0270.540
readExcel000
removeLines0.4810.0160.501
samLRT0.0000.0000.001
saveParameters0.4320.0080.442
scatterplotEnrichGO_HC4.7930.3265.170
search.metacell.tags0.0020.0080.010
separateAdjPval0.2080.0120.223
splitAdjacencyMat0.4870.0080.498
test.design0.4600.0040.466
testAnovaModels0.1390.0120.152
thresholdpval4fdr000
translatedRandomBeta0.0000.0020.003
univ_AnnotDbPkg0.2350.0120.250
violinPlotD0.3980.0010.402
visualizeClusters1.8380.2422.128
vsn0.7410.0400.786
wrapper.CVDistD_HC2.4780.6673.304
wrapper.compareNormalizationD_HC57.69515.26076.023
wrapper.corrMatrixD_HC0.6010.0070.612
wrapper.dapar.impute.mi19.754 0.77220.696
wrapper.heatmapD0.6210.0520.676
wrapper.impute.KNN0.4740.0240.501
wrapper.impute.detQuant0.5290.0240.557
wrapper.impute.fixedValue0.5330.0230.560
wrapper.impute.mle0.4780.0190.501
wrapper.impute.pa0.1650.0130.179
wrapper.impute.pa20.4920.0150.510
wrapper.impute.slsa0.6760.0520.735
wrapper.mvImage0.2560.0360.296
wrapper.normalizeD0.4430.0110.456
wrapper.pca0.1700.0320.206
wrapperCalibrationPlot0.2280.0280.260
wrapperClassic1wayAnova000
wrapperRunClustering3.2120.4643.762
write.excel0.9570.1621.141
writeMSnsetToCSV0.4720.0200.499
writeMSnsetToExcel1.2220.1861.472