Back to Multiple platform build/check report for BioC 3.22:   simplified   long
ABC[D]EFGHIJKLMNOPQRSTUVWXYZ

This page was generated on 2025-10-15 12:04 -0400 (Wed, 15 Oct 2025).

HostnameOSArch (*)R versionInstalled pkgs
nebbiolo2Linux (Ubuntu 24.04.3 LTS)x86_644.5.1 Patched (2025-08-23 r88802) -- "Great Square Root" 4866
lconwaymacOS 12.7.6 Montereyx86_644.5.1 Patched (2025-09-10 r88807) -- "Great Square Root" 4653
kjohnson3macOS 13.7.7 Venturaarm644.5.1 Patched (2025-09-10 r88807) -- "Great Square Root" 4598
taishanLinux (openEuler 24.03 LTS)aarch644.5.0 (2025-04-11) -- "How About a Twenty-Six" 4610
Click on any hostname to see more info about the system (e.g. compilers)      (*) as reported by 'uname -p', except on Windows and Mac OS X

Package 518/2346HostnameOS / ArchINSTALLBUILDCHECKBUILD BIN
DAPAR 1.41.0  (landing page)
Samuel Wieczorek
Snapshot Date: 2025-10-14 13:45 -0400 (Tue, 14 Oct 2025)
git_url: https://git.bioconductor.org/packages/DAPAR
git_branch: devel
git_last_commit: c47beab
git_last_commit_date: 2025-04-15 10:53:48 -0400 (Tue, 15 Apr 2025)
nebbiolo2Linux (Ubuntu 24.04.3 LTS) / x86_64  OK    OK    OK  UNNEEDED, same version is already published
lconwaymacOS 12.7.6 Monterey / x86_64  OK    OK    OK    OK  UNNEEDED, same version is already published
kjohnson3macOS 13.7.7 Ventura / arm64  OK    OK    OK    OK  UNNEEDED, same version is already published
taishanLinux (openEuler 24.03 LTS) / aarch64  OK    OK    OK  


CHECK results for DAPAR on lconway

To the developers/maintainers of the DAPAR package:
- Allow up to 24 hours (and sometimes 48 hours) for your latest push to git@git.bioconductor.org:packages/DAPAR.git to reflect on this report. See Troubleshooting Build Report for more information.
- Use the following Renviron settings to reproduce errors and warnings.
- If 'R CMD check' started to fail recently on the Linux builder(s) over a missing dependency, add the missing dependency to 'Suggests:' in your DESCRIPTION file. See Renviron.bioc for more information.

raw results


Summary

Package: DAPAR
Version: 1.41.0
Command: /Library/Frameworks/R.framework/Resources/bin/R CMD check --install=check:DAPAR.install-out.txt --library=/Library/Frameworks/R.framework/Resources/library --no-vignettes --timings DAPAR_1.41.0.tar.gz
StartedAt: 2025-10-14 21:14:27 -0400 (Tue, 14 Oct 2025)
EndedAt: 2025-10-14 21:26:44 -0400 (Tue, 14 Oct 2025)
EllapsedTime: 737.0 seconds
RetCode: 0
Status:   OK  
CheckDir: DAPAR.Rcheck
Warnings: 0

Command output

##############################################################################
##############################################################################
###
### Running command:
###
###   /Library/Frameworks/R.framework/Resources/bin/R CMD check --install=check:DAPAR.install-out.txt --library=/Library/Frameworks/R.framework/Resources/library --no-vignettes --timings DAPAR_1.41.0.tar.gz
###
##############################################################################
##############################################################################


* using log directory ‘/Users/biocbuild/bbs-3.22-bioc/meat/DAPAR.Rcheck’
* using R version 4.5.1 Patched (2025-09-10 r88807)
* using platform: x86_64-apple-darwin20
* R was compiled by
    Apple clang version 14.0.0 (clang-1400.0.29.202)
    GNU Fortran (GCC) 14.2.0
* running under: macOS Monterey 12.7.6
* using session charset: UTF-8
* using option ‘--no-vignettes’
* checking for file ‘DAPAR/DESCRIPTION’ ... OK
* checking extension type ... Package
* this is package ‘DAPAR’ version ‘1.41.0’
* package encoding: UTF-8
* checking package namespace information ... OK
* checking package dependencies ... INFO
Vignette dependency required without any vignettes: ‘knitr’
* checking if this is a source package ... OK
* checking if there is a namespace ... OK
* checking for hidden files and directories ... OK
* checking for portable file names ... OK
* checking for sufficient/correct file permissions ... OK
* checking whether package ‘DAPAR’ can be installed ... OK
* checking installed package size ... OK
* checking package directory ... OK
* checking DESCRIPTION meta-information ... OK
* checking top-level files ... OK
* checking for left-over files ... OK
* checking index information ... OK
* checking package subdirectories ... OK
* checking code files for non-ASCII characters ... OK
* checking R files for syntax errors ... OK
* checking whether the package can be loaded ... OK
* checking whether the package can be loaded with stated dependencies ... OK
* checking whether the package can be unloaded cleanly ... OK
* checking whether the namespace can be loaded with stated dependencies ... OK
* checking whether the namespace can be unloaded cleanly ... OK
* checking whether startup messages can be suppressed ... OK
* checking dependencies in R code ... OK
* checking S3 generic/method consistency ... OK
* checking replacement functions ... OK
* checking foreign function calls ... OK
* checking R code for possible problems ... NOTE
Check_Dataset_Validity: no visible global function definition for
  ‘exprs’
OWAnova: no visible global function definition for ‘aov’
aggregateIterParallel: no visible binding for global variable ‘cond’
averageIntensities: no visible binding for global variable ‘condition’
averageIntensities: no visible binding for global variable ‘feature’
averageIntensities: no visible binding for global variable ‘intensity’
createMSnset: no visible global function definition for
  ‘installed.packages’
createMSnset: no visible binding for global variable ‘Prostar.loc’
createMSnset2: no visible global function definition for
  ‘installed.packages’
createMSnset2: no visible binding for global variable ‘Prostar.loc’
diffAnaVolcanoplot_rCharts: no visible binding for global variable ‘x’
diffAnaVolcanoplot_rCharts: no visible binding for global variable ‘y’
diffAnaVolcanoplot_rCharts: no visible binding for global variable ‘g’
display.CC.visNet: no visible binding for global variable
  ‘layout_nicely’
getTextForGOAnalysis: no visible binding for global variable
  ‘textGOParams’
getTextForGOAnalysis: no visible binding for global variable ‘input’
globalAdjPval: no visible global function definition for ‘stack’
heatmapForMissingValues: no visible binding for global variable ‘par’
limmaCompleteTest: no visible binding for global variable ‘A’
limmaCompleteTest: no visible binding for global variable ‘B’
limmaCompleteTest: no visible binding for global variable ‘P.Value’
pepa.test: no visible global function definition for ‘nodes<-’
testAnovaModels : <anonymous>: no visible global function definition
  for ‘TukeyHSD’
visualizeClusters: no visible binding for global variable
  ‘adjusted_pvalues’
visualizeClusters: no visible binding for global variable ‘Condition’
visualizeClusters: no visible binding for global variable ‘Intensity’
visualizeClusters: no visible binding for global variable
  ‘FDR_threshold’
visualizeClusters: no visible binding for global variable ‘feature’
wrapperClassic1wayAnova: no visible binding for global variable
  ‘Pr(>F)1’
wrapperRunClustering: no visible global function definition for ‘str_c’
Undefined global functions or variables:
  A B Condition FDR_threshold Intensity P.Value Pr(>F)1 Prostar.loc
  TukeyHSD adjusted_pvalues aov cond condition exprs feature g input
  installed.packages intensity layout_nicely nodes<- par stack str_c
  textGOParams x y
Consider adding
  importFrom("graphics", "par")
  importFrom("stats", "TukeyHSD", "aov")
  importFrom("utils", "installed.packages", "stack")
to your NAMESPACE file.
* checking Rd files ... OK
* checking Rd metadata ... OK
* checking Rd cross-references ... OK
* checking for missing documentation entries ... OK
* checking for code/documentation mismatches ... OK
* checking Rd \usage sections ... OK
* checking Rd contents ... OK
* checking for unstated dependencies in examples ... OK
* checking examples ... OK
Examples with CPU (user + system) or elapsed time > 5s
                                   user system elapsed
wrapper.compareNormalizationD_HC 60.911 31.147  99.106
wrapper.dapar.impute.mi          14.792  3.792  28.295
barplotEnrichGO_HC                9.158  2.294  17.976
checkClusterability               4.198  2.782   9.127
group_GO                          5.206  0.952   7.033
enrich_GO                         4.941  0.789   6.135
barplotGroupGO_HC                 4.765  0.951   8.273
scatterplotEnrichGO_HC            4.461  0.867   7.074
densityPlotD_HC                   3.581  1.622   5.191
* checking for unstated dependencies in ‘tests’ ... OK
* checking tests ...
  Running ‘testthat.R’
 OK
* checking PDF version of manual ... OK
* DONE

Status: 1 NOTE
See
  ‘/Users/biocbuild/bbs-3.22-bioc/meat/DAPAR.Rcheck/00check.log’
for details.


Installation output

DAPAR.Rcheck/00install.out

##############################################################################
##############################################################################
###
### Running command:
###
###   /Library/Frameworks/R.framework/Resources/bin/R CMD INSTALL DAPAR
###
##############################################################################
##############################################################################


* installing to library ‘/Library/Frameworks/R.framework/Versions/4.5-x86_64/Resources/library’
* installing *source* package ‘DAPAR’ ...
** this is package ‘DAPAR’ version ‘1.41.0’
** using staged installation
** R
** inst
** byte-compile and prepare package for lazy loading
** help
*** installing help indices
** building package indices
** testing if installed package can be loaded from temporary location
** testing if installed package can be loaded from final location
** testing if installed package keeps a record of temporary installation path
* DONE (DAPAR)

Tests output

DAPAR.Rcheck/tests/testthat.Rout


R version 4.5.1 Patched (2025-09-10 r88807) -- "Great Square Root"
Copyright (C) 2025 The R Foundation for Statistical Computing
Platform: x86_64-apple-darwin20

R is free software and comes with ABSOLUTELY NO WARRANTY.
You are welcome to redistribute it under certain conditions.
Type 'license()' or 'licence()' for distribution details.

R is a collaborative project with many contributors.
Type 'contributors()' for more information and
'citation()' on how to cite R or R packages in publications.

Type 'demo()' for some demos, 'help()' for on-line help, or
'help.start()' for an HTML browser interface to help.
Type 'q()' to quit R.

> library(testthat)
> library(DAPAR)

This is the 'DAPAR' version 1.41.0.

  To get started, visit
    http://www.prostar-proteomics.org/


> 
> test_check("DAPAR")

 Iterations: 

 1 / 1  - Imputation MNAR OK - 
Imputation MCAR in progress - 
3 % - 6 % - 9 % - 12 % - 15 % - 18 % - 21 % - 24 % - 27 % - 30 % - 33 % - 36 % - 39 % - 42 % - 45 % - 48 % - 51 % - 54 % - 57 % - 60 % - 63 % - 66 % - 69 % - 72 % - 75 % - 78 % - 81 % - 84 % - 87 % - 90 % - 93 % - 96 % - 99 % - 
 Iterations: 

 1 / 1  - Imputation MNAR OK - 
Imputation MCAR in progress - 
3 % - 6 % - 9 % - 12 % - 15 % - 18 % - 21 % - 24 % - 27 % - 30 % - 33 % - 36 % - 39 % - 42 % - 45 % - 48 % - 51 % - 54 % - 57 % - 60 % - 63 % - 66 % - 69 % - 72 % - 75 % - 78 % - 81 % - 84 % - 87 % - 90 % - 93 % - 96 % - 99 % - 
 Imputation in condition  1 ...
 In progress: 10 % - 20 % - 30 % - 40 % - 50 % - 60 % - 70 % - 80 % - 90 % - 100 % - 
 Imputation in condition  2 ...
 In progress: 10 % - 20 % - 30 % - 40 % - 50 % - 60 % - 70 % - 80 % - 90 % - 100 % - [ FAIL 0 | WARN 17 | SKIP 0 | PASS 66 ]

[ FAIL 0 | WARN 17 | SKIP 0 | PASS 66 ]
> 
> proc.time()
   user  system elapsed 
 35.901   2.142  46.962 

Example timings

DAPAR.Rcheck/DAPAR-Ex.timings

nameusersystemelapsed
AggregateMetacell0.6080.0240.646
BuildAdjacencyMatrix0.5030.0100.522
BuildColumnToProteinDataset0.5780.0100.594
BuildMetaCell0.7420.0360.804
CVDistD_HC3.1440.1683.537
Children0.0050.0000.016
CountPep0.5020.0120.586
ExtendPalette0.0290.0020.033
GOAnalysisSave000
GetCC2.4610.0352.975
GetColorsForConditions0.3660.0120.427
GetDetailedNbPeptides0.4270.0100.482
GetDetailedNbPeptidesUsed0.0000.0010.000
GetIndices_BasedOnConditions0.3740.0110.603
GetIndices_MetacellFiltering0.3740.0160.559
GetIndices_WholeLine0.5080.0100.526
GetIndices_WholeMatrix0.4320.0150.530
GetKeyId0.3380.0141.344
GetMatAdj0.4550.0120.638
GetMetacell000
GetMetacellTags0.3580.0170.896
GetNbPeptidesUsed0.3290.0150.593
GetNbTags000
GetSoftAvailables0.0000.0010.000
GetTypeofData0.3280.0150.532
Get_AllComparisons0.2690.0240.352
GlobalQuantileAlignment0.5030.0080.516
GraphPepProt0.5040.0070.516
LH0000
LH0.lm0.0000.0000.001
LH1000
LH1.lm0.0000.0010.000
LOESS1.1840.0261.237
MeanCentering0.4730.0210.520
MetaCellFiltering0.4810.0130.652
MetacellFilteringScope000
Metacell_DIA_NN0.4800.0451.071
Metacell_generic0.4190.0360.861
Metacell_maxquant0.4560.0580.926
Metacell_proline0.5160.0180.554
NumericalFiltering0.5240.0090.538
NumericalgetIndicesOfLinesToRemove0.4570.0070.467
OWAnova0.0070.0010.008
QuantileCentering0.5090.0140.527
SetCC2.4510.0212.486
SetMatAdj0.5260.0070.538
Set_POV_MEC_tags0.4500.0050.460
StringBasedFiltering0.4820.0070.538
StringBasedFiltering20.3610.0110.603
SumByColumns1.1840.1062.609
SymFilteringOperators0.0000.0000.001
UpdateMetacellAfterImputation0.4690.0080.495
aggregateIter0.6480.0090.664
aggregateIterParallel0.0010.0000.001
aggregateMean0.5820.0120.618
aggregateSum0.5220.0090.615
aggregateTopn0.4950.0150.557
applyAnovasOnProteins0.1330.0080.147
averageIntensities0.6770.1680.944
barplotEnrichGO_HC 9.158 2.29417.976
barplotGroupGO_HC4.7650.9518.273
boxPlotD_HC0.3520.1250.555
buildGraph1.6940.0521.954
check.conditions0.4410.0090.474
check.design0.4350.0120.468
checkClusterability4.1982.7829.127
classic1wayAnova000
compareNormalizationD_HC0.1700.0930.526
compute.selection.table0.7940.2081.326
compute_t_tests1.2040.2141.698
corrMatrixD_HC0.4780.1050.849
createMSnset2.0050.1672.251
createMSnset22.0010.1172.132
dapar_hc_ExportMenu0.1610.1880.399
dapar_hc_chart0.0670.0580.126
deleteLinesFromIndices0.5010.0220.524
densityPlotD_HC3.5811.6225.191
diffAnaComputeAdjustedPValues0.2570.0450.304
diffAnaComputeFDR0.0000.0000.001
diffAnaGetSignificant0.3540.0760.458
diffAnaSave0.3160.0670.408
diffAnaVolcanoplot0.2180.0380.285
diffAnaVolcanoplot_rCharts0.4450.1490.602
display.CC.visNet1.8190.1512.014
enrich_GO4.9410.7896.135
finalizeAggregation0.0000.0000.001
findMECBlock0.6030.0430.783
formatHSDResults000
formatLimmaResult0.2100.0340.245
formatPHResults000
formatPHTResults0.0000.0000.001
fudge2LRT0.0000.0000.001
get.pep.prot.cc1.6640.0411.716
getDesignLevel0.4440.0080.455
getIndicesConditions0.4510.0070.460
getIndicesOfLinesToRemove0.5000.0160.518
getListNbValuesInLines0.4400.0070.450
getNumberOf0.4820.0170.502
getNumberOfEmptyLines0.4870.0150.519
getPourcentageOfMV0.4570.0130.473
getProcessingInfo0.3840.0190.461
getProteinsStats0.5060.0250.537
getQuantile4Imp0.1120.0040.117
getTextForAggregation0.0000.0010.001
getTextForAnaDiff0.0010.0010.001
getTextForFiltering0.0000.0010.000
getTextForGOAnalysis0.0000.0010.000
getTextForHypothesisTest0.0000.0000.001
getTextForNewDataset0.0020.0010.002
getTextForNormalization0.0000.0010.000
getTextForpeptideImputation0.0000.0010.001
getTextForproteinImputation0.0000.0010.001
globalAdjPval0.5220.0680.593
group_GO5.2060.9527.033
hc_logFC_DensityPlot0.9720.5111.597
hc_mvTypePlot21.2150.4021.610
heatmapD0.8000.0750.887
heatmapForMissingValues0.2210.0290.252
histPValue_HC0.2180.0980.471
impute.pa20.3730.0300.763
inner.aggregate.iter0.4860.0380.748
inner.aggregate.topn0.4340.0281.165
inner.mean0.5160.0330.612
inner.sum0.5490.0250.586
is.subset000
limmaCompleteTest1.5230.0912.181
listSheets0.0010.0000.000
make.contrast0.5030.0130.528
make.design.10.4910.0150.571
make.design.20.5210.0110.535
make.design.30.4960.0090.508
make.design0.5580.0130.576
match.metacell0.5270.0170.551
metacell.def0.0070.0030.010
metacellHisto_HC0.6040.0710.684
metacellPerLinesHistoPerCondition_HC0.6540.1521.114
metacellPerLinesHisto_HC0.7750.3561.486
metacombine0.2110.0190.234
mvImage2.5530.2062.848
my_hc_ExportMenu0.1640.1880.367
my_hc_chart0.1600.1800.354
nonzero0.0220.0010.023
normalizeMethods.dapar0.0000.0000.001
pepa.test0.5180.0160.538
pkgs.require0.0000.0010.001
plotJitter1.7730.0621.899
plotJitter_rCharts1.3420.1121.651
plotPCA_Eigen0.6050.0750.777
plotPCA_Eigen_hc0.4100.0050.418
plotPCA_Ind0.4590.0130.612
plotPCA_Var0.3950.0130.456
postHocTest000
proportionConRev_HC0.0590.0690.139
rbindMSnset0.4730.0360.629
reIntroduceMEC0.3580.0240.628
readExcel000
removeLines0.3710.0310.554
samLRT0.0000.0000.001
saveParameters0.3310.0160.559
scatterplotEnrichGO_HC4.4610.8677.074
search.metacell.tags0.0090.0030.012
separateAdjPval0.1940.0160.211
splitAdjacencyMat0.5000.0160.519
test.design0.4760.0090.489
testAnovaModels0.1580.0140.172
thresholdpval4fdr0.0010.0000.000
translatedRandomBeta0.0030.0110.014
univ_AnnotDbPkg0.2410.0810.326
violinPlotD0.3640.0370.428
visualizeClusters1.2690.2102.061
vsn0.7240.0330.820
wrapper.CVDistD_HC2.1721.0733.503
wrapper.compareNormalizationD_HC60.91131.14799.106
wrapper.corrMatrixD_HC0.6830.2211.601
wrapper.dapar.impute.mi14.792 3.79228.295
wrapper.heatmapD0.4850.0601.402
wrapper.impute.KNN0.4770.0370.749
wrapper.impute.detQuant0.5690.0400.619
wrapper.impute.fixedValue0.5890.0450.643
wrapper.impute.mle0.5340.0280.594
wrapper.impute.pa0.1420.0240.270
wrapper.impute.pa20.4000.0350.839
wrapper.impute.slsa0.4920.0591.019
wrapper.mvImage0.1250.0190.166
wrapper.normalizeD0.3300.0130.476
wrapper.pca0.1420.0230.202
wrapperCalibrationPlot0.1990.0370.285
wrapperClassic1wayAnova000
wrapperRunClustering2.7710.6403.901
write.excel0.9690.2231.428
writeMSnsetToCSV0.4010.0481.243
writeMSnsetToExcel1.0470.2782.087