Back to Multiple platform build/check report for BioC 3.23:   simplified   long
ABC[D]EFGHIJKLMNOPQRSTUVWXYZ

This page was generated on 2025-11-21 11:39 -0500 (Fri, 21 Nov 2025).

HostnameOSArch (*)R versionInstalled pkgs
nebbiolo1Linux (Ubuntu 24.04.3 LTS)x86_64R Under development (unstable) (2025-10-20 r88955) -- "Unsuffered Consequences" 4829
lconwaymacOS 12.7.6 Montereyx86_64R Under development (unstable) (2025-10-21 r88958) -- "Unsuffered Consequences" 4602
kjohnson3macOS 13.7.7 Venturaarm64R Under development (unstable) (2025-11-04 r88984) -- "Unsuffered Consequences" 4566
Click on any hostname to see more info about the system (e.g. compilers)      (*) as reported by 'uname -p', except on Windows and Mac OS X

Package 515/2327HostnameOS / ArchINSTALLBUILDCHECKBUILD BIN
DAPAR 1.43.0  (landing page)
Samuel Wieczorek
Snapshot Date: 2025-11-20 13:40 -0500 (Thu, 20 Nov 2025)
git_url: https://git.bioconductor.org/packages/DAPAR
git_branch: devel
git_last_commit: 47a1b73
git_last_commit_date: 2025-10-29 10:28:00 -0500 (Wed, 29 Oct 2025)
nebbiolo1Linux (Ubuntu 24.04.3 LTS) / x86_64  OK    OK    OK  UNNEEDED, same version is already published
lconwaymacOS 12.7.6 Monterey / x86_64  OK    OK    ERROR    OK  
kjohnson3macOS 13.7.7 Ventura / arm64  OK    OK    OK    OK  NO, package depends on 'MSnbase' which is only available as a source package that needs compilation


CHECK results for DAPAR on kjohnson3

To the developers/maintainers of the DAPAR package:
- Allow up to 24 hours (and sometimes 48 hours) for your latest push to git@git.bioconductor.org:packages/DAPAR.git to reflect on this report. See Troubleshooting Build Report for more information.
- Use the following Renviron settings to reproduce errors and warnings.
- If 'R CMD check' started to fail recently on the Linux builder(s) over a missing dependency, add the missing dependency to 'Suggests:' in your DESCRIPTION file. See Renviron.bioc for more information.

raw results


Summary

Package: DAPAR
Version: 1.43.0
Command: /Library/Frameworks/R.framework/Resources/bin/R CMD check --install=check:DAPAR.install-out.txt --library=/Library/Frameworks/R.framework/Resources/library --no-vignettes --timings DAPAR_1.43.0.tar.gz
StartedAt: 2025-11-20 19:26:12 -0500 (Thu, 20 Nov 2025)
EndedAt: 2025-11-20 19:32:16 -0500 (Thu, 20 Nov 2025)
EllapsedTime: 363.4 seconds
RetCode: 0
Status:   OK  
CheckDir: DAPAR.Rcheck
Warnings: 0

Command output

##############################################################################
##############################################################################
###
### Running command:
###
###   /Library/Frameworks/R.framework/Resources/bin/R CMD check --install=check:DAPAR.install-out.txt --library=/Library/Frameworks/R.framework/Resources/library --no-vignettes --timings DAPAR_1.43.0.tar.gz
###
##############################################################################
##############################################################################


* using log directory ‘/Users/biocbuild/bbs-3.23-bioc/meat/DAPAR.Rcheck’
* using R Under development (unstable) (2025-11-04 r88984)
* using platform: aarch64-apple-darwin20
* R was compiled by
    Apple clang version 16.0.0 (clang-1600.0.26.6)
    GNU Fortran (GCC) 14.2.0
* running under: macOS Ventura 13.7.8
* using session charset: UTF-8
* using option ‘--no-vignettes’
* checking for file ‘DAPAR/DESCRIPTION’ ... OK
* checking extension type ... Package
* this is package ‘DAPAR’ version ‘1.43.0’
* package encoding: UTF-8
* checking package namespace information ... OK
* checking package dependencies ... INFO
Vignette dependency required without any vignettes: ‘knitr’
* checking if this is a source package ... OK
* checking if there is a namespace ... OK
* checking for hidden files and directories ... OK
* checking for portable file names ... OK
* checking for sufficient/correct file permissions ... OK
* checking whether package ‘DAPAR’ can be installed ... OK
* checking installed package size ... OK
* checking package directory ... OK
* checking DESCRIPTION meta-information ... OK
* checking top-level files ... OK
* checking for left-over files ... OK
* checking index information ... OK
* checking package subdirectories ... OK
* checking code files for non-ASCII characters ... OK
* checking R files for syntax errors ... OK
* checking whether the package can be loaded ... OK
* checking whether the package can be loaded with stated dependencies ... OK
* checking whether the package can be unloaded cleanly ... OK
* checking whether the namespace can be loaded with stated dependencies ... OK
* checking whether the namespace can be unloaded cleanly ... OK
* checking whether startup messages can be suppressed ... OK
* checking dependencies in R code ... OK
* checking S3 generic/method consistency ... OK
* checking replacement functions ... OK
* checking foreign function calls ... OK
* checking R code for possible problems ... NOTE
Check_Dataset_Validity: no visible global function definition for
  ‘exprs’
OWAnova: no visible global function definition for ‘aov’
aggregateIterParallel: no visible binding for global variable ‘cond’
averageIntensities: no visible binding for global variable ‘condition’
averageIntensities: no visible binding for global variable ‘feature’
averageIntensities: no visible binding for global variable ‘intensity’
createMSnset: no visible global function definition for
  ‘installed.packages’
createMSnset: no visible binding for global variable ‘Prostar.loc’
createMSnset2: no visible global function definition for
  ‘installed.packages’
createMSnset2: no visible binding for global variable ‘Prostar.loc’
diffAnaVolcanoplot_rCharts: no visible binding for global variable ‘x’
diffAnaVolcanoplot_rCharts: no visible binding for global variable ‘y’
diffAnaVolcanoplot_rCharts: no visible binding for global variable ‘g’
display.CC.visNet: no visible binding for global variable
  ‘layout_nicely’
getTextForGOAnalysis: no visible binding for global variable
  ‘textGOParams’
getTextForGOAnalysis: no visible binding for global variable ‘input’
globalAdjPval: no visible global function definition for ‘stack’
heatmapForMissingValues: no visible binding for global variable ‘par’
limmaCompleteTest: no visible binding for global variable ‘A’
limmaCompleteTest: no visible binding for global variable ‘B’
limmaCompleteTest: no visible binding for global variable ‘P.Value’
pepa.test: no visible global function definition for ‘nodes<-’
testAnovaModels : <anonymous>: no visible global function definition
  for ‘TukeyHSD’
visualizeClusters: no visible binding for global variable
  ‘adjusted_pvalues’
visualizeClusters: no visible binding for global variable ‘Condition’
visualizeClusters: no visible binding for global variable ‘Intensity’
visualizeClusters: no visible binding for global variable
  ‘FDR_threshold’
visualizeClusters: no visible binding for global variable ‘feature’
wrapperClassic1wayAnova: no visible binding for global variable
  ‘Pr(>F)1’
wrapperRunClustering: no visible global function definition for ‘str_c’
Undefined global functions or variables:
  A B Condition FDR_threshold Intensity P.Value Pr(>F)1 Prostar.loc
  TukeyHSD adjusted_pvalues aov cond condition exprs feature g input
  installed.packages intensity layout_nicely nodes<- par stack str_c
  textGOParams x y
Consider adding
  importFrom("graphics", "par")
  importFrom("stats", "TukeyHSD", "aov")
  importFrom("utils", "installed.packages", "stack")
to your NAMESPACE file.
* checking Rd files ... OK
* checking Rd metadata ... OK
* checking Rd cross-references ... OK
* checking for missing documentation entries ... OK
* checking for code/documentation mismatches ... OK
* checking Rd \usage sections ... OK
* checking Rd contents ... OK
* checking for unstated dependencies in examples ... OK
* checking examples ... OK
Examples with CPU (user + system) or elapsed time > 5s
                                   user system elapsed
wrapper.compareNormalizationD_HC 17.938 13.887 118.431
wrapper.dapar.impute.mi           5.215  0.581   9.043
barplotEnrichGO_HC                3.926  0.809   9.507
* checking for unstated dependencies in ‘tests’ ... OK
* checking tests ...
  Running ‘testthat.R’
 OK
* checking PDF version of manual ... OK
* DONE

Status: 1 NOTE
See
  ‘/Users/biocbuild/bbs-3.23-bioc/meat/DAPAR.Rcheck/00check.log’
for details.


Installation output

DAPAR.Rcheck/00install.out

##############################################################################
##############################################################################
###
### Running command:
###
###   /Library/Frameworks/R.framework/Resources/bin/R CMD INSTALL DAPAR
###
##############################################################################
##############################################################################


* installing to library ‘/Library/Frameworks/R.framework/Versions/4.6-arm64/Resources/library’
* installing *source* package ‘DAPAR’ ...
** this is package ‘DAPAR’ version ‘1.43.0’
** using staged installation
** R
** inst
** byte-compile and prepare package for lazy loading
** help
*** installing help indices
** building package indices
** testing if installed package can be loaded from temporary location
** testing if installed package can be loaded from final location
** testing if installed package keeps a record of temporary installation path
* DONE (DAPAR)

Tests output

DAPAR.Rcheck/tests/testthat.Rout


R Under development (unstable) (2025-11-04 r88984) -- "Unsuffered Consequences"
Copyright (C) 2025 The R Foundation for Statistical Computing
Platform: aarch64-apple-darwin20

R is free software and comes with ABSOLUTELY NO WARRANTY.
You are welcome to redistribute it under certain conditions.
Type 'license()' or 'licence()' for distribution details.

R is a collaborative project with many contributors.
Type 'contributors()' for more information and
'citation()' on how to cite R or R packages in publications.

Type 'demo()' for some demos, 'help()' for on-line help, or
'help.start()' for an HTML browser interface to help.
Type 'q()' to quit R.

> library(testthat)
> library(DAPAR)

This is the 'DAPAR' version 1.43.0.

  To get started, visit
    http://www.prostar-proteomics.org/


> 
> test_check("DAPAR")

 Iterations: 

 1 / 1  - Imputation MNAR OK - 
Imputation MCAR in progress - 
3 % - 6 % - 9 % - 12 % - 15 % - 18 % - 21 % - 24 % - 27 % - 30 % - 33 % - 36 % - 39 % - 42 % - 45 % - 48 % - 51 % - 54 % - 57 % - 60 % - 63 % - 66 % - 69 % - 72 % - 75 % - 78 % - 81 % - 84 % - 87 % - 90 % - 93 % - 96 % - 99 % - 
 Iterations: 

 1 / 1  - Imputation MNAR OK - 
Imputation MCAR in progress - 
3 % - 6 % - 9 % - 12 % - 15 % - 18 % - 21 % - 24 % - 27 % - 30 % - 33 % - 36 % - 39 % - 42 % - 45 % - 48 % - 51 % - 54 % - 57 % - 60 % - 63 % - 66 % - 69 % - 72 % - 75 % - 78 % - 81 % - 84 % - 87 % - 90 % - 93 % - 96 % - 99 % - 
 Imputation in condition  1 ...
 In progress: 10 % - 20 % - 30 % - 40 % - 50 % - 60 % - 70 % - 80 % - 90 % - 100 % - 
 Imputation in condition  2 ...
 In progress: 10 % - 20 % - 30 % - 40 % - 50 % - 60 % - 70 % - 80 % - 90 % - 100 % - [ FAIL 0 | WARN 18 | SKIP 9 | PASS 66 ]

══ Skipped tests (9) ═══════════════════════════════════════════════════════════
• empty test (9): , , , , , , , ,

[ FAIL 0 | WARN 18 | SKIP 9 | PASS 66 ]
> 
> proc.time()
   user  system elapsed 
 13.401   0.717  14.816 

Example timings

DAPAR.Rcheck/DAPAR-Ex.timings

nameusersystemelapsed
AggregateMetacell0.2360.0050.281
BuildAdjacencyMatrix0.2130.0040.233
BuildColumnToProteinDataset0.2430.0030.283
BuildMetaCell0.7260.0120.787
CVDistD_HC0.7680.0650.900
Children0.0010.0000.001
CountPep0.2400.0020.250
ExtendPalette0.0080.0000.008
GOAnalysisSave000
GetCC1.1610.0141.200
GetColorsForConditions0.1940.0030.223
GetDetailedNbPeptides0.2190.0030.226
GetDetailedNbPeptidesUsed000
GetIndices_BasedOnConditions0.2180.0030.221
GetIndices_MetacellFiltering0.2420.0020.249
GetIndices_WholeLine0.2290.0030.236
GetIndices_WholeMatrix0.2130.0030.217
GetKeyId0.2180.0020.222
GetMatAdj0.2170.0030.233
GetMetacell000
GetMetacellTags0.2210.0030.225
GetNbPeptidesUsed0.2100.0030.222
GetNbTags000
GetSoftAvailables000
GetTypeofData0.1930.0020.204
Get_AllComparisons0.1140.0040.135
GlobalQuantileAlignment0.2170.0030.228
GraphPepProt0.2350.0030.240
LH0000
LH0.lm0.0000.0010.000
LH1000
LH1.lm000
LOESS0.5600.0110.572
MeanCentering0.2100.0050.242
MetaCellFiltering0.2900.0040.306
MetacellFilteringScope0.0010.0000.000
Metacell_DIA_NN0.2520.0070.265
Metacell_generic0.1810.0070.196
Metacell_maxquant0.2060.0080.235
Metacell_proline0.1870.0060.211
NumericalFiltering0.2160.0030.237
NumericalgetIndicesOfLinesToRemove0.2160.0020.223
OWAnova0.0030.0010.003
QuantileCentering0.2550.0050.264
SetCC1.1720.0061.227
SetMatAdj0.2040.0020.220
Set_POV_MEC_tags0.2180.0030.223
StringBasedFiltering0.2340.0030.237
StringBasedFiltering20.2410.0030.247
SumByColumns0.5530.0160.588
SymFilteringOperators0.0000.0010.000
UpdateMetacellAfterImputation0.2000.0010.208
aggregateIter0.3030.0040.314
aggregateIterParallel0.0000.0000.001
aggregateMean0.2720.0030.284
aggregateSum0.2990.0040.307
aggregateTopn0.2460.0030.261
applyAnovasOnProteins0.0700.0020.075
averageIntensities0.3020.0560.531
barplotEnrichGO_HC3.9260.8099.507
barplotGroupGO_HC2.2500.3474.116
boxPlotD_HC0.1200.0430.446
buildGraph0.8570.0200.922
check.conditions0.1860.0030.204
check.design0.1860.0030.201
checkClusterability1.9981.3373.402
classic1wayAnova000
compareNormalizationD_HC0.0780.0210.200
compute.selection.table0.2740.0661.032
compute_t_tests0.7750.1190.931
corrMatrixD_HC0.2810.0480.339
createMSnset0.8580.0541.032
createMSnset20.7190.0460.908
dapar_hc_ExportMenu0.0800.0710.164
dapar_hc_chart0.0300.0270.058
deleteLinesFromIndices0.2450.0100.263
densityPlotD_HC1.7420.8422.757
diffAnaComputeAdjustedPValues0.1130.0210.136
diffAnaComputeFDR000
diffAnaGetSignificant0.1930.0360.239
diffAnaSave0.1740.0320.217
diffAnaVolcanoplot0.1260.0160.147
diffAnaVolcanoplot_rCharts0.1700.0600.625
display.CC.visNet0.8960.0381.137
enrich_GO2.5830.3293.261
finalizeAggregation000
findMECBlock0.2450.0070.257
formatHSDResults000
formatLimmaResult0.1170.0130.133
formatPHResults000
formatPHTResults000
fudge2LRT000
get.pep.prot.cc0.8580.0120.889
getDesignLevel0.1890.0020.209
getIndicesConditions0.1980.0030.208
getIndicesOfLinesToRemove0.2340.0060.241
getListNbValuesInLines0.2250.0030.234
getNumberOf0.1930.0040.247
getNumberOfEmptyLines0.2290.0040.238
getPourcentageOfMV0.2380.0070.249
getProcessingInfo0.2160.0030.223
getProteinsStats0.2390.0090.256
getQuantile4Imp0.0610.0010.066
getTextForAggregation0.0000.0010.000
getTextForAnaDiff000
getTextForFiltering000
getTextForGOAnalysis000
getTextForHypothesisTest000
getTextForNewDataset0.0010.0000.002
getTextForNormalization000
getTextForpeptideImputation000
getTextForproteinImputation000
globalAdjPval0.2950.0300.338
group_GO2.8320.3403.351
hc_logFC_DensityPlot0.4900.2140.730
hc_mvTypePlot20.6010.2180.853
heatmapD0.3910.0360.448
heatmapForMissingValues0.1310.0150.155
histPValue_HC0.2400.0490.303
impute.pa20.2420.0150.390
inner.aggregate.iter0.2920.0140.317
inner.aggregate.topn0.2530.0110.267
inner.mean0.2410.0080.253
inner.sum0.2700.0080.284
is.subset0.0010.0000.001
limmaCompleteTest0.9450.0421.014
listSheets000
make.contrast0.2520.0040.263
make.design.10.2420.0040.256
make.design.20.2570.0050.269
make.design.30.2660.0050.275
make.design0.2270.0030.231
match.metacell0.2480.0080.259
metacell.def0.0030.0020.006
metacellHisto_HC0.2830.0430.331
metacellPerLinesHistoPerCondition_HC0.3620.0730.462
metacellPerLinesHisto_HC0.4500.1680.646
metacombine0.1300.0110.145
mvImage1.4930.1011.677
my_hc_ExportMenu0.0450.0600.385
my_hc_chart0.0470.0570.418
nonzero0.0080.0010.020
normalizeMethods.dapar0.0010.0000.000
pepa.test0.2310.0090.261
pkgs.require0.0000.0000.001
plotJitter0.9170.0200.967
plotJitter_rCharts0.7460.0341.019
plotPCA_Eigen0.2220.0150.400
plotPCA_Eigen_hc0.2040.0030.216
plotPCA_Ind0.2510.0050.260
plotPCA_Var0.2030.0030.209
postHocTest000
proportionConRev_HC0.0320.0340.070
rbindMSnset0.2860.0220.324
reIntroduceMEC0.2510.0140.275
readExcel0.0010.0010.000
removeLines0.2330.0130.251
samLRT000
saveParameters0.2410.0040.250
scatterplotEnrichGO_HC2.9750.3673.475
search.metacell.tags0.0060.0030.008
separateAdjPval0.1270.0100.149
splitAdjacencyMat0.2750.0080.297
test.design0.2590.0060.292
testAnovaModels0.0870.0070.098
thresholdpval4fdr000
translatedRandomBeta0.0010.0030.004
univ_AnnotDbPkg0.1710.0360.216
violinPlotD0.1300.0110.302
visualizeClusters0.4990.0881.818
vsn0.2940.0160.416
wrapper.CVDistD_HC0.7200.4243.990
wrapper.compareNormalizationD_HC 17.938 13.887118.431
wrapper.corrMatrixD_HC0.3180.0450.383
wrapper.dapar.impute.mi5.2150.5819.043
wrapper.heatmapD0.3020.0180.330
wrapper.impute.KNN0.2480.0100.263
wrapper.impute.detQuant0.2840.0190.306
wrapper.impute.fixedValue0.2630.0180.401
wrapper.impute.mle0.2460.0090.259
wrapper.impute.pa0.0920.0130.106
wrapper.impute.pa20.2550.0160.276
wrapper.impute.slsa0.3140.0250.347
wrapper.mvImage0.1300.0200.154
wrapper.normalizeD0.2270.0050.233
wrapper.pca0.0990.0130.114
wrapperCalibrationPlot0.1360.0200.163
wrapperClassic1wayAnova000
wrapperRunClustering1.5780.2971.980
write.excel0.4900.0930.605
writeMSnsetToCSV0.2510.0130.271
writeMSnsetToExcel0.6180.1420.781