Back to Build/check report for BioC 3.23:   simplified   long
A[B]CDEFGHIJKLMNOPQRSTUVWXYZ

This page was generated on 2025-11-05 11:32 -0500 (Wed, 05 Nov 2025).

HostnameOSArch (*)R versionInstalled pkgs
nebbiolo1Linux (Ubuntu 24.04.3 LTS)x86_64R Under development (unstable) (2025-10-20 r88955) -- "Unsuffered Consequences" 4818
Click on any hostname to see more info about the system (e.g. compilers)      (*) as reported by 'uname -p', except on Windows and Mac OS X

All results for package BSgenome


To the developers/maintainers of the BSgenome package:
- Allow up to 24 hours (and sometimes 48 hours) for your latest push to git@git.bioconductor.org:packages/BSgenome.git to reflect on this report. See Troubleshooting Build Report for more information.
- Use the following Renviron settings to reproduce errors and warnings.
- If 'R CMD check' started to fail recently on the Linux builder(s) over a missing dependency, add the missing dependency to 'Suggests:' in your DESCRIPTION file. See Renviron.bioc for more information.

raw results

Package 247/2323HostnameOS / ArchINSTALLBUILDCHECKBUILD BIN
BSgenome 1.79.1  (landing page)
Hervé Pagès
Snapshot Date: 2025-11-04 13:40 -0500 (Tue, 04 Nov 2025)
git_url: https://git.bioconductor.org/packages/BSgenome
git_branch: devel
git_last_commit: c2fc0db
git_last_commit_date: 2025-11-03 17:15:06 -0500 (Mon, 03 Nov 2025)
nebbiolo1Linux (Ubuntu 24.04.3 LTS) / x86_64  OK    OK    WARNINGS  YES



Results for Bioconductor software packages that depend directly on package BSgenome

QUICK STATSOS / ArchINSTALLBUILDCHECKBUILD BIN
nebbiolo1Linux (Ubuntu 24.04.3 LTS) / x86_64
0888
01284
031170
Package 1/96HostnameOS / ArchINSTALLBUILDCHECKBUILD BIN
AllelicImbalance 1.49.0  (landing page)
Jesper R Gadin
git_last_commit: d78bb64
git_last_commit_date: 2025-10-29 10:16:36 -0500
nebbiolo1Linux (Ubuntu 24.04.3 LTS) / x86_64  OK    OK    OK  YES
Package 2/96HostnameOS / ArchINSTALLBUILDCHECKBUILD BIN
appreci8R 1.29.0  (landing page)
Sarah Sandmann
git_last_commit: bb148fd
git_last_commit_date: 2025-10-29 10:46:18 -0500
nebbiolo1Linux (Ubuntu 24.04.3 LTS) / x86_64  OK    OK    OK  YES
Package 3/96HostnameOS / ArchINSTALLBUILDCHECKBUILD BIN
ATACseqQC 1.35.0  (landing page)
Jianhong Ou
git_last_commit: 938226b
git_last_commit_date: 2025-10-29 10:38:34 -0500
nebbiolo1Linux (Ubuntu 24.04.3 LTS) / x86_64  ERROR    ERROR  skipped
Package 4/96HostnameOS / ArchINSTALLBUILDCHECKBUILD BIN
atSNP 1.27.0  (landing page)
Sunyoung Shin
git_last_commit: 0b80e8a
git_last_commit_date: 2025-10-29 10:50:02 -0500
nebbiolo1Linux (Ubuntu 24.04.3 LTS) / x86_64  OK    OK    OK  YES
Package 5/96HostnameOS / ArchINSTALLBUILDCHECKBUILD BIN
bambu 3.13.0  (landing page)
Ying Chen
git_last_commit: a438673
git_last_commit_date: 2025-10-29 11:03:46 -0500
nebbiolo1Linux (Ubuntu 24.04.3 LTS) / x86_64  OK    OK    OK  YES
Package 6/96HostnameOS / ArchINSTALLBUILDCHECKBUILD BIN
BEAT 1.49.0  (landing page)
Kemal Akman
git_last_commit: 3a301bb
git_last_commit_date: 2025-10-29 10:17:47 -0500
nebbiolo1Linux (Ubuntu 24.04.3 LTS) / x86_64  OK    OK    OK  YES
Package 7/96HostnameOS / ArchINSTALLBUILDCHECKBUILD BIN
BSgenomeForge 1.11.0  (landing page)
Hervé Pagès
git_last_commit: c7d1729
git_last_commit_date: 2025-10-29 14:46:49 -0500
nebbiolo1Linux (Ubuntu 24.04.3 LTS) / x86_64  OK    OK    OK  YES
Package 8/96HostnameOS / ArchINSTALLBUILDCHECKBUILD BIN
bsseq 1.47.1  (landing page)
Kasper Daniel Hansen
git_last_commit: 46b4295
git_last_commit_date: 2025-10-31 11:03:21 -0500
nebbiolo1Linux (Ubuntu 24.04.3 LTS) / x86_64  OK    OK    WARNINGS  YES
Package 9/96HostnameOS / ArchINSTALLBUILDCHECKBUILD BIN
BUSpaRse 1.25.0  (landing page)
Lambda Moses
git_last_commit: 031e018
git_last_commit_date: 2025-10-29 10:53:52 -0500
nebbiolo1Linux (Ubuntu 24.04.3 LTS) / x86_64  OK    OK    OK  YES
Package 10/96HostnameOS / ArchINSTALLBUILDCHECKBUILD BIN
CAGEr 2.17.0  (landing page)
Charles Plessy
git_last_commit: 0a93a41
git_last_commit_date: 2025-10-29 10:13:45 -0500
nebbiolo1Linux (Ubuntu 24.04.3 LTS) / x86_64  OK    OK    OK  YES
Package 11/96HostnameOS / ArchINSTALLBUILDCHECKBUILD BIN
ChIPanalyser 1.33.0  (landing page)
Patrick C.N. Martin
git_last_commit: 873269e
git_last_commit_date: 2025-10-29 10:40:34 -0500
nebbiolo1Linux (Ubuntu 24.04.3 LTS) / x86_64  OK    OK    OK  YES
Package 12/96HostnameOS / ArchINSTALLBUILDCHECKBUILD BIN
chromVAR 1.33.0  (landing page)
Alicia Schep
git_last_commit: 1730858
git_last_commit_date: 2025-10-29 10:41:16 -0500
nebbiolo1Linux (Ubuntu 24.04.3 LTS) / x86_64  ERROR    ERROR  skipped
Package 13/96HostnameOS / ArchINSTALLBUILDCHECKBUILD BIN
circRNAprofiler 1.25.0  (landing page)
Simona Aufiero
git_last_commit: a9049f9
git_last_commit_date: 2025-10-29 10:53:06 -0500
nebbiolo1Linux (Ubuntu 24.04.3 LTS) / x86_64  OK    OK    OK  YES
Package 14/96HostnameOS / ArchINSTALLBUILDCHECKBUILD BIN
cleanUpdTSeq 1.49.0  (landing page)
Jianhong Ou ; Lihua Julie Zhu
git_last_commit: 8cf2661
git_last_commit_date: 2025-10-29 10:15:28 -0500
nebbiolo1Linux (Ubuntu 24.04.3 LTS) / x86_64  OK    OK    OK  YES
Package 15/96HostnameOS / ArchINSTALLBUILDCHECKBUILD BIN
CleanUpRNAseq 1.5.0  (landing page)
Haibo Liu
git_last_commit: 4f653f6
git_last_commit_date: 2025-10-29 11:31:19 -0500
nebbiolo1Linux (Ubuntu 24.04.3 LTS) / x86_64  OK    OK    OK  YES
Package 16/96HostnameOS / ArchINSTALLBUILDCHECKBUILD BIN
cliProfiler 1.17.0  (landing page)
You Zhou
git_last_commit: ac5b6e2
git_last_commit_date: 2025-10-29 11:12:54 -0500
nebbiolo1Linux (Ubuntu 24.04.3 LTS) / x86_64  OK    OK    OK  YES
Package 17/96HostnameOS / ArchINSTALLBUILDCHECKBUILD BIN
crisprBowtie 1.15.0  (landing page)
Jean-Philippe Fortin
git_last_commit: 5838b33
git_last_commit_date: 2025-10-29 11:15:03 -0500
nebbiolo1Linux (Ubuntu 24.04.3 LTS) / x86_64  OK    OK    OK  YES
Package 18/96HostnameOS / ArchINSTALLBUILDCHECKBUILD BIN
crisprBwa 1.15.0  (landing page)
Jean-Philippe Fortin
git_last_commit: cff26fd
git_last_commit_date: 2025-10-29 11:16:38 -0500
nebbiolo1Linux (Ubuntu 24.04.3 LTS) / x86_64  OK    OK    OK  YES
Package 19/96HostnameOS / ArchINSTALLBUILDCHECKBUILD BIN
crisprDesign 1.13.0  (landing page)
Jean-Philippe Fortin
git_last_commit: dd162c8
git_last_commit_date: 2025-10-29 11:17:54 -0500
nebbiolo1Linux (Ubuntu 24.04.3 LTS) / x86_64  OK    OK    OK  YES
Package 20/96HostnameOS / ArchINSTALLBUILDCHECKBUILD BIN
CRISPRseek 1.51.0  (landing page)
Lihua Julie Zhu
git_last_commit: 0934262
git_last_commit_date: 2025-10-29 10:17:22 -0500
nebbiolo1Linux (Ubuntu 24.04.3 LTS) / x86_64  OK    OK    OK  YES
Package 21/96HostnameOS / ArchINSTALLBUILDCHECKBUILD BIN
crisprShiny 1.7.0  (landing page)
Jean-Philippe Fortin
git_last_commit: e4da799
git_last_commit_date: 2025-10-29 11:28:01 -0500
nebbiolo1Linux (Ubuntu 24.04.3 LTS) / x86_64  ERROR    ERROR  skipped
Package 22/96HostnameOS / ArchINSTALLBUILDCHECKBUILD BIN
crisprViz 1.13.0  (landing page)
Jean-Philippe Fortin
git_last_commit: e839b44
git_last_commit_date: 2025-10-29 11:18:46 -0500
nebbiolo1Linux (Ubuntu 24.04.3 LTS) / x86_64  OK    OK    OK  YES
Package 23/96HostnameOS / ArchINSTALLBUILDCHECKBUILD BIN
diffHic 1.43.0  (landing page)
Aaron Lun , Gordon Smyth , Hannah Coughlin
git_last_commit: c909cdb
git_last_commit_date: 2025-10-29 10:25:47 -0500
nebbiolo1Linux (Ubuntu 24.04.3 LTS) / x86_64  OK    OK    OK  YES
Package 24/96HostnameOS / ArchINSTALLBUILDCHECKBUILD BIN
DMRcaller 1.43.1  (landing page)
Nicolae Radu Zabet
git_last_commit: 5ec5d13
git_last_commit_date: 2025-11-04 13:15:34 -0500
nebbiolo1Linux (Ubuntu 24.04.3 LTS) / x86_64  OK    OK    OK  YES
Package 25/96HostnameOS / ArchINSTALLBUILDCHECKBUILD BIN
enhancerHomologSearch 1.17.0  (landing page)
Jianhong Ou
git_last_commit: aec9810
git_last_commit_date: 2025-10-29 11:11:19 -0500
nebbiolo1Linux (Ubuntu 24.04.3 LTS) / x86_64  OK    OK    OK  YES
Package 26/96HostnameOS / ArchINSTALLBUILDCHECKBUILD BIN
esATAC 1.33.0  (landing page)
Zheng Wei
git_last_commit: 90d779d
git_last_commit_date: 2025-10-29 10:42:12 -0500
nebbiolo1Linux (Ubuntu 24.04.3 LTS) / x86_64  ERROR    ERROR  skipped
Package 27/96HostnameOS / ArchINSTALLBUILDCHECKBUILD BIN
EventPointer 3.19.0  (landing page)
Juan A. Ferrer-Bonsoms
git_last_commit: ab73f34
git_last_commit_date: 2025-10-29 10:37:08 -0500
nebbiolo1Linux (Ubuntu 24.04.3 LTS) / x86_64  ERROR    ERROR  skipped
Package 28/96HostnameOS / ArchINSTALLBUILDCHECKBUILD BIN
FRASER 2.7.0  (landing page)
Christian Mertes
git_last_commit: ecd421c
git_last_commit_date: 2025-10-29 10:58:54 -0500
nebbiolo1Linux (Ubuntu 24.04.3 LTS) / x86_64  ERROR    ERROR  skipped
Package 29/96HostnameOS / ArchINSTALLBUILDCHECKBUILD BIN
gcapc 1.35.0  (landing page)
Mingxiang Teng
git_last_commit: ffa3e8b
git_last_commit_date: 2025-10-29 10:35:52 -0500
nebbiolo1Linux (Ubuntu 24.04.3 LTS) / x86_64  OK    OK    OK  YES
Package 30/96HostnameOS / ArchINSTALLBUILDCHECKBUILD BIN
genomation 1.43.0  (landing page)
Altuna Akalin , Vedran Franke
git_last_commit: c618839
git_last_commit_date: 2025-10-29 10:23:07 -0500
nebbiolo1Linux (Ubuntu 24.04.3 LTS) / x86_64  OK    OK    OK  YES
Package 31/96HostnameOS / ArchINSTALLBUILDCHECKBUILD BIN
GenVisR 1.43.0  (landing page)
Zachary Skidmore
git_last_commit: e398c9b
git_last_commit_date: 2025-10-29 10:29:36 -0500
nebbiolo1Linux (Ubuntu 24.04.3 LTS) / x86_64  OK    OK    ERROR  
Package 32/96HostnameOS / ArchINSTALLBUILDCHECKBUILD BIN
ggbio 1.59.0  (landing page)
Michael Lawrence
git_last_commit: 6c3efb9
git_last_commit_date: 2025-10-29 10:09:27 -0500
nebbiolo1Linux (Ubuntu 24.04.3 LTS) / x86_64  OK    OK    WARNINGS  YES
Package 33/96HostnameOS / ArchINSTALLBUILDCHECKBUILD BIN
gmapR 1.53.0  (landing page)
Michael Lawrence
git_last_commit: f0b8dac
git_last_commit_date: 2025-10-29 10:11:34 -0500
nebbiolo1Linux (Ubuntu 24.04.3 LTS) / x86_64  OK    ERROR  skipped
Package 34/96HostnameOS / ArchINSTALLBUILDCHECKBUILD BIN
GOTHiC 1.47.0  (landing page)
Borbala Mifsud
git_last_commit: 7af2557
git_last_commit_date: 2025-10-29 10:52:56 -0500
nebbiolo1Linux (Ubuntu 24.04.3 LTS) / x86_64  OK    OK    OK  YES
Package 35/96HostnameOS / ArchINSTALLBUILDCHECKBUILD BIN
GreyListChIP 1.43.0  (landing page)
Matt Eldridge
git_last_commit: 8633e38
git_last_commit_date: 2025-10-29 10:23:48 -0500
nebbiolo1Linux (Ubuntu 24.04.3 LTS) / x86_64  OK    OK    OK  YES
Package 36/96HostnameOS / ArchINSTALLBUILDCHECKBUILD BIN
GUIDEseq 1.41.0  (landing page)
Lihua Julie Zhu
git_last_commit: 4a812cc
git_last_commit_date: 2025-10-29 10:28:16 -0500
nebbiolo1Linux (Ubuntu 24.04.3 LTS) / x86_64  ERROR    ERROR  skipped
Package 37/96HostnameOS / ArchINSTALLBUILDCHECKBUILD BIN
Gviz 1.55.0  (landing page)
Robert Ivanek
git_last_commit: 6339846
git_last_commit_date: 2025-10-29 10:10:17 -0500
nebbiolo1Linux (Ubuntu 24.04.3 LTS) / x86_64  OK    OK    OK  YES
Package 38/96HostnameOS / ArchINSTALLBUILDCHECKBUILD BIN
HelloRanges 1.37.0  (landing page)
Michael Lawrence
git_last_commit: 38fc888
git_last_commit_date: 2025-10-29 10:35:10 -0500
nebbiolo1Linux (Ubuntu 24.04.3 LTS) / x86_64  OK    OK    OK  YES
Package 39/96HostnameOS / ArchINSTALLBUILDCHECKBUILD BIN
HiCaptuRe 1.1.0  (landing page)
Laureano Tomas-Daza
git_last_commit: 342bae3
git_last_commit_date: 2025-10-29 11:37:26 -0500
nebbiolo1Linux (Ubuntu 24.04.3 LTS) / x86_64  OK    OK    OK  YES
Package 40/96HostnameOS / ArchINSTALLBUILDCHECKBUILD BIN
HiCDCPlus 1.19.0  (landing page)
Merve Sahin
git_last_commit: 720bb53
git_last_commit_date: 2025-10-29 11:06:20 -0500
nebbiolo1Linux (Ubuntu 24.04.3 LTS) / x86_64  OK    OK    OK  YES
Package 41/96HostnameOS / ArchINSTALLBUILDCHECKBUILD BIN
HiCPotts 1.1.0  (landing page)
Itunu. Godwin Osuntoki
git_last_commit: a37a5fa
git_last_commit_date: 2025-10-29 11:37:09 -0500
nebbiolo1Linux (Ubuntu 24.04.3 LTS) / x86_64  OK    OK    OK  YES
Package 42/96HostnameOS / ArchINSTALLBUILDCHECKBUILD BIN
InPAS 2.19.0  (landing page)
Jianhong Ou
git_last_commit: 5b899e7
git_last_commit_date: 2025-10-29 10:24:45 -0500
nebbiolo1Linux (Ubuntu 24.04.3 LTS) / x86_64  OK    OK    WARNINGS  YES
Package 43/96HostnameOS / ArchINSTALLBUILDCHECKBUILD BIN
IsoformSwitchAnalyzeR 2.11.0  (landing page)
Kristoffer Vitting-Seerup
git_last_commit: dc055b6
git_last_commit_date: 2025-10-29 10:38:58 -0500
nebbiolo1Linux (Ubuntu 24.04.3 LTS) / x86_64  OK    OK    OK  YES
Package 44/96HostnameOS / ArchINSTALLBUILDCHECKBUILD BIN
katdetectr 1.13.0  (landing page)
Daan Hazelaar
git_last_commit: 01624d8
git_last_commit_date: 2025-10-29 11:17:25 -0500
nebbiolo1Linux (Ubuntu 24.04.3 LTS) / x86_64  OK    OK    OK  YES
Package 45/96HostnameOS / ArchINSTALLBUILDCHECKBUILD BIN
m6Aboost 1.17.0  (landing page)
You Zhou
git_last_commit: c8944d2
git_last_commit_date: 2025-10-29 11:10:16 -0500
nebbiolo1Linux (Ubuntu 24.04.3 LTS) / x86_64  OK    OK    OK  YES
Package 46/96HostnameOS / ArchINSTALLBUILDCHECKBUILD BIN
MEDIPS 1.63.0  (landing page)
Lukas Chavez
git_last_commit: b8a28dc
git_last_commit_date: 2025-10-29 10:06:09 -0500
nebbiolo1Linux (Ubuntu 24.04.3 LTS) / x86_64  OK    OK    OK  YES
Package 47/96HostnameOS / ArchINSTALLBUILDCHECKBUILD BIN
methodical 1.7.0  (landing page)
Richard Heery
git_last_commit: ca1b149
git_last_commit_date: 2025-10-29 11:27:18 -0500
nebbiolo1Linux (Ubuntu 24.04.3 LTS) / x86_64  OK    OK    WARNINGS  NO, package depends on 'annotatr' which is not available
Package 48/96HostnameOS / ArchINSTALLBUILDCHECKBUILD BIN
methrix 1.25.0  (landing page)
Anand Mayakonda
git_last_commit: 797afd5
git_last_commit_date: 2025-10-29 10:55:34 -0500
nebbiolo1Linux (Ubuntu 24.04.3 LTS) / x86_64  OK    OK    OK  YES
Package 49/96HostnameOS / ArchINSTALLBUILDCHECKBUILD BIN
MethylSeekR 1.51.0  (landing page)
Lukas Burger
git_last_commit: 045c8f7
git_last_commit_date: 2025-10-29 10:13:29 -0500
nebbiolo1Linux (Ubuntu 24.04.3 LTS) / x86_64  OK    OK    OK  YES
Package 50/96HostnameOS / ArchINSTALLBUILDCHECKBUILD BIN
MMDiff2 1.39.0  (landing page)
Gabriele Schweikert
git_last_commit: d528d04
git_last_commit_date: 2025-10-29 10:32:14 -0500
nebbiolo1Linux (Ubuntu 24.04.3 LTS) / x86_64  OK    OK    OK  YES
Package 51/96HostnameOS / ArchINSTALLBUILDCHECKBUILD BIN
monaLisa 1.17.0  (landing page)
Michael Stadler
git_last_commit: abfee88
git_last_commit_date: 2025-10-29 11:12:31 -0500
nebbiolo1Linux (Ubuntu 24.04.3 LTS) / x86_64  OK    OK    OK  YES
Package 52/96HostnameOS / ArchINSTALLBUILDCHECKBUILD BIN
Motif2Site 1.15.0  (landing page)
Peyman Zarrineh
git_last_commit: c1fd6d7
git_last_commit_date: 2025-10-29 11:15:00 -0500
nebbiolo1Linux (Ubuntu 24.04.3 LTS) / x86_64  OK    OK    OK  YES
Package 53/96HostnameOS / ArchINSTALLBUILDCHECKBUILD BIN
motifbreakR 2.25.0  (landing page)
Simon Gert Coetzee
git_last_commit: 21e6965
git_last_commit_date: 2025-10-29 10:27:43 -0500
nebbiolo1Linux (Ubuntu 24.04.3 LTS) / x86_64  OK    ERROR  skipped
Package 54/96HostnameOS / ArchINSTALLBUILDCHECKBUILD BIN
motifmatchr 1.33.0  (landing page)
Alicia Schep
git_last_commit: c2e55a2
git_last_commit_date: 2025-10-29 10:38:55 -0500
nebbiolo1Linux (Ubuntu 24.04.3 LTS) / x86_64  OK    OK    OK  YES
Package 55/96HostnameOS / ArchINSTALLBUILDCHECKBUILD BIN
MotifPeeker 1.3.0  (landing page)
Hiranyamaya Dash
git_last_commit: fc93dac
git_last_commit_date: 2025-10-29 11:33:15 -0500
nebbiolo1Linux (Ubuntu 24.04.3 LTS) / x86_64  OK    OK    OK  YES
Package 56/96HostnameOS / ArchINSTALLBUILDCHECKBUILD BIN
msgbsR 1.35.0  (landing page)
Benjamin Mayne
git_last_commit: 77cc103
git_last_commit_date: 2025-10-29 10:38:42 -0500
nebbiolo1Linux (Ubuntu 24.04.3 LTS) / x86_64  OK    OK    OK  YES
Package 57/96HostnameOS / ArchINSTALLBUILDCHECKBUILD BIN
multicrispr 1.21.0  (landing page)
Aditya Bhagwat
git_last_commit: 67e223f
git_last_commit_date: 2025-10-29 10:59:55 -0500
nebbiolo1Linux (Ubuntu 24.04.3 LTS) / x86_64  OK    OK    OK  YES
Package 58/96HostnameOS / ArchINSTALLBUILDCHECKBUILD BIN
MungeSumstats 1.19.0  (landing page)
Alan Murphy
git_last_commit: d3c5588
git_last_commit_date: 2025-10-29 11:08:14 -0500
nebbiolo1Linux (Ubuntu 24.04.3 LTS) / x86_64  OK    OK    OK  YES
Package 59/96HostnameOS / ArchINSTALLBUILDCHECKBUILD BIN
musicatk 2.5.0  (landing page)
Joshua D. Campbell
git_last_commit: ec6bf01
git_last_commit_date: 2025-10-29 11:03:52 -0500
nebbiolo1Linux (Ubuntu 24.04.3 LTS) / x86_64  OK    OK    OK  YES
Package 60/96HostnameOS / ArchINSTALLBUILDCHECKBUILD BIN
MutationalPatterns 3.21.0  (landing page)
Mark van Roosmalen
git_last_commit: b3f3115
git_last_commit_date: 2025-10-29 10:35:07 -0500
nebbiolo1Linux (Ubuntu 24.04.3 LTS) / x86_64  OK    OK    ERROR  
Package 61/96HostnameOS / ArchINSTALLBUILDCHECKBUILD BIN
ORFik 1.31.0  (landing page)
Haakon Tjeldnes
git_last_commit: 1c0375d
git_last_commit_date: 2025-10-29 10:45:22 -0500
nebbiolo1Linux (Ubuntu 24.04.3 LTS) / x86_64  OK    OK    OK  YES
Package 62/96HostnameOS / ArchINSTALLBUILDCHECKBUILD BIN
periodicDNA 1.21.0  (landing page)
Jacques Serizay
git_last_commit: 5bd1078
git_last_commit_date: 2025-10-29 11:01:58 -0500
nebbiolo1Linux (Ubuntu 24.04.3 LTS) / x86_64  OK    OK    WARNINGS  YES
Package 63/96HostnameOS / ArchINSTALLBUILDCHECKBUILD BIN
pipeFrame 1.27.0  (landing page)
Zheng Wei
git_last_commit: b7c4419
git_last_commit_date: 2025-10-29 10:51:51 -0500
nebbiolo1Linux (Ubuntu 24.04.3 LTS) / x86_64  OK    OK    OK  YES
Package 64/96HostnameOS / ArchINSTALLBUILDCHECKBUILD BIN
podkat 1.43.0  (landing page)
Ulrich Bodenhofer
git_last_commit: d216a17
git_last_commit_date: 2025-10-29 10:24:59 -0500
nebbiolo1Linux (Ubuntu 24.04.3 LTS) / x86_64  OK    OK    OK  YES
Package 65/96HostnameOS / ArchINSTALLBUILDCHECKBUILD BIN
qsea 1.37.0  (landing page)
Matthias Lienhard
git_last_commit: ef750af
git_last_commit_date: 2025-10-29 10:32:56 -0500
nebbiolo1Linux (Ubuntu 24.04.3 LTS) / x86_64  OK    OK    WARNINGS  YES
Package 66/96HostnameOS / ArchINSTALLBUILDCHECKBUILD BIN
QuasR 1.51.0  (landing page)
Michael Stadler
git_last_commit: 331f3b2
git_last_commit_date: 2025-10-29 10:13:16 -0500
nebbiolo1Linux (Ubuntu 24.04.3 LTS) / x86_64  OK    OK    WARNINGS  YES
Package 67/96HostnameOS / ArchINSTALLBUILDCHECKBUILD BIN
R453Plus1Toolbox 1.61.0  (landing page)
Hans-Ulrich Klein
git_last_commit: b396ba9
git_last_commit_date: 2025-10-29 10:06:02 -0500
nebbiolo1Linux (Ubuntu 24.04.3 LTS) / x86_64  OK    ERROR  skipped
Package 68/96HostnameOS / ArchINSTALLBUILDCHECKBUILD BIN
raer 1.9.0  (landing page)
Kent Riemondy
git_last_commit: 94ed43d
git_last_commit_date: 2025-10-29 11:26:05 -0500
nebbiolo1Linux (Ubuntu 24.04.3 LTS) / x86_64  OK    OK    OK  YES
Package 69/96HostnameOS / ArchINSTALLBUILDCHECKBUILD BIN
RAIDS 1.9.0  (landing page)
Pascal Belleau
git_last_commit: 27cee94
git_last_commit_date: 2025-10-29 11:25:36 -0500
nebbiolo1Linux (Ubuntu 24.04.3 LTS) / x86_64  OK    OK    OK  NO, package depends on 'GENESIS' which is not available
Package 70/96HostnameOS / ArchINSTALLBUILDCHECKBUILD BIN
RareVariantVis 2.39.0  (landing page)
Tomasz Stokowy
git_last_commit: 8b234dc
git_last_commit_date: 2025-10-29 10:26:20 -0500
nebbiolo1Linux (Ubuntu 24.04.3 LTS) / x86_64  OK    OK    OK  YES
Package 71/96HostnameOS / ArchINSTALLBUILDCHECKBUILD BIN
RCAS 1.37.0  (landing page)
Bora Uyar
git_last_commit: 1a77884
git_last_commit_date: 2025-10-29 10:33:22 -0500
nebbiolo1Linux (Ubuntu 24.04.3 LTS) / x86_64  OK    OK    OK  YES
Package 72/96HostnameOS / ArchINSTALLBUILDCHECKBUILD BIN
REDseq 1.57.0  (landing page)
Lihua Julie Zhu
git_last_commit: 05ac2ab
git_last_commit_date: 2025-10-29 10:07:45 -0500
nebbiolo1Linux (Ubuntu 24.04.3 LTS) / x86_64  ERROR    ERROR  skipped
Package 73/96HostnameOS / ArchINSTALLBUILDCHECKBUILD BIN
regioneR 1.43.0  (landing page)
Bernat Gel
git_last_commit: a9f7f21
git_last_commit_date: 2025-10-29 10:25:09 -0500
nebbiolo1Linux (Ubuntu 24.04.3 LTS) / x86_64  OK    OK    OK  YES
Package 74/96HostnameOS / ArchINSTALLBUILDCHECKBUILD BIN
REMP 1.35.0  (landing page)
Yinan Zheng
git_last_commit: 6cbaa64
git_last_commit_date: 2025-10-29 10:36:53 -0500
nebbiolo1Linux (Ubuntu 24.04.3 LTS) / x86_64  OK    OK    OK  YES
Package 75/96HostnameOS / ArchINSTALLBUILDCHECKBUILD BIN
RESOLVE 1.13.0  (landing page)
Luca De Sano
git_last_commit: 60de66e
git_last_commit_date: 2025-10-29 11:19:27 -0500
nebbiolo1Linux (Ubuntu 24.04.3 LTS) / x86_64  OK    OK    OK  NO, package depends on 'MutationalPatterns' which is not available
Package 76/96HostnameOS / ArchINSTALLBUILDCHECKBUILD BIN
ribosomeProfilingQC 1.23.0  (landing page)
Jianhong Ou
git_last_commit: bad02b9
git_last_commit_date: 2025-10-29 10:57:03 -0500
nebbiolo1Linux (Ubuntu 24.04.3 LTS) / x86_64  OK    OK    OK  YES
Package 77/96HostnameOS / ArchINSTALLBUILDCHECKBUILD BIN
RNAmodR 1.25.0  (landing page)
Felix G.M. Ernst
git_last_commit: 7e3ea7f
git_last_commit_date: 2025-10-29 10:52:38 -0500
nebbiolo1Linux (Ubuntu 24.04.3 LTS) / x86_64  OK    OK    OK  YES
Package 78/96HostnameOS / ArchINSTALLBUILDCHECKBUILD BIN
scmeth 1.31.0  (landing page)
Divy Kangeyan
git_last_commit: 96dcd92
git_last_commit_date: 2025-10-29 10:43:21 -0500
nebbiolo1Linux (Ubuntu 24.04.3 LTS) / x86_64  OK    OK    OK  NO, package depends on 'annotatr' which is not available
Package 79/96HostnameOS / ArchINSTALLBUILDCHECKBUILD BIN
SCOPE 1.23.0  (landing page)
Rujin Wang
git_last_commit: ba69d58
git_last_commit_date: 2025-10-29 10:56:53 -0500
nebbiolo1Linux (Ubuntu 24.04.3 LTS) / x86_64  OK    OK    OK  YES
Package 80/96HostnameOS / ArchINSTALLBUILDCHECKBUILD BIN
signeR 2.13.0  (landing page)
Renan Valieris
git_last_commit: 54b8b4d
git_last_commit_date: 2025-10-29 10:34:16 -0500
nebbiolo1Linux (Ubuntu 24.04.3 LTS) / x86_64  OK    OK    OK  YES
Package 81/96HostnameOS / ArchINSTALLBUILDCHECKBUILD BIN
SigsPack 1.25.0  (landing page)
Franziska Schumann
git_last_commit: 76511e2
git_last_commit_date: 2025-10-29 10:53:42 -0500
nebbiolo1Linux (Ubuntu 24.04.3 LTS) / x86_64  OK    OK    OK  YES
Package 82/96HostnameOS / ArchINSTALLBUILDCHECKBUILD BIN
SingleMoleculeFootprinting 2.5.0  (landing page)
Guido Barzaghi
git_last_commit: 71598e0
git_last_commit_date: 2025-10-29 11:10:00 -0500
nebbiolo1Linux (Ubuntu 24.04.3 LTS) / x86_64  OK    OK    OK  YES
Package 83/96HostnameOS / ArchINSTALLBUILDCHECKBUILD BIN
SparseSignatures 2.21.0  (landing page)
Luca De Sano
git_last_commit: 4635876
git_last_commit_date: 2025-10-29 10:44:43 -0500
nebbiolo1Linux (Ubuntu 24.04.3 LTS) / x86_64  OK    OK    OK  YES
Package 84/96HostnameOS / ArchINSTALLBUILDCHECKBUILD BIN
spatzie 1.17.0  (landing page)
Jennifer Hammelman
git_last_commit: 3303154
git_last_commit_date: 2025-10-29 11:11:08 -0500
nebbiolo1Linux (Ubuntu 24.04.3 LTS) / x86_64  OK    OK    ERROR  
Package 85/96HostnameOS / ArchINSTALLBUILDCHECKBUILD BIN
spiky 1.17.0  (landing page)
Tim Triche
git_last_commit: 5e5bb23
git_last_commit_date: 2025-10-29 11:10:11 -0500
nebbiolo1Linux (Ubuntu 24.04.3 LTS) / x86_64  OK    OK    OK  YES
Package 86/96HostnameOS / ArchINSTALLBUILDCHECKBUILD BIN
SpliceWiz 1.13.0  (landing page)
Alex Chit Hei Wong
git_last_commit: 73b017a
git_last_commit_date: 2025-10-29 11:17:35 -0500
nebbiolo1Linux (Ubuntu 24.04.3 LTS) / x86_64  OK    OK    WARNINGS  YES
Package 87/96HostnameOS / ArchINSTALLBUILDCHECKBUILD BIN
TAPseq 1.23.0  (landing page)
Andreas R. Gschwind
git_last_commit: 8fcac6c
git_last_commit_date: 2025-10-29 10:57:19 -0500
nebbiolo1Linux (Ubuntu 24.04.3 LTS) / x86_64  OK    OK    WARNINGS  YES
Package 88/96HostnameOS / ArchINSTALLBUILDCHECKBUILD BIN
TFBSTools 1.49.0  (landing page)
Ge Tan
git_last_commit: d5d1319
git_last_commit_date: 2025-10-29 10:16:59 -0500
nebbiolo1Linux (Ubuntu 24.04.3 LTS) / x86_64  OK    OK    OK  YES
Package 89/96HostnameOS / ArchINSTALLBUILDCHECKBUILD BIN
transmogR 1.7.0  (landing page)
Stevie Pederson
git_last_commit: ad3458d
git_last_commit_date: 2025-10-29 11:27:49 -0500
nebbiolo1Linux (Ubuntu 24.04.3 LTS) / x86_64  OK    OK    OK  YES
Package 90/96HostnameOS / ArchINSTALLBUILDCHECKBUILD BIN
tRNAscanImport 1.31.0  (landing page)
Felix G.M. Ernst
git_last_commit: f9f96ff
git_last_commit_date: 2025-10-29 10:43:40 -0500
nebbiolo1Linux (Ubuntu 24.04.3 LTS) / x86_64  OK    OK    OK  YES
Package 91/96HostnameOS / ArchINSTALLBUILDCHECKBUILD BIN
Ularcirc 1.29.0  (landing page)
David Humphreys
git_last_commit: ff1d0ee
git_last_commit_date: 2025-10-29 10:45:47 -0500
nebbiolo1Linux (Ubuntu 24.04.3 LTS) / x86_64  OK    OK    WARNINGS  NO, package depends on 'Organism.dplyr' which is not available
Package 92/96HostnameOS / ArchINSTALLBUILDCHECKBUILD BIN
UMI4Cats 1.21.0  (landing page)
Mireia Ramos-Rodriguez
git_last_commit: f049a0a
git_last_commit_date: 2025-10-29 11:01:19 -0500
nebbiolo1Linux (Ubuntu 24.04.3 LTS) / x86_64  OK    OK    OK  YES
Package 93/96HostnameOS / ArchINSTALLBUILDCHECKBUILD BIN
VarCon 1.19.0  (landing page)
Johannes Ptok
git_last_commit: 479604c
git_last_commit_date: 2025-10-29 11:04:47 -0500
nebbiolo1Linux (Ubuntu 24.04.3 LTS) / x86_64  OK    OK    OK  YES
Package 94/96HostnameOS / ArchINSTALLBUILDCHECKBUILD BIN
VariantAnnotation 1.57.0  (landing page)
Bioconductor Package Maintainer
git_last_commit: 0da7ddb
git_last_commit_date: 2025-10-29 10:08:24 -0500
nebbiolo1Linux (Ubuntu 24.04.3 LTS) / x86_64  OK    OK    WARNINGS  YES
Package 95/96HostnameOS / ArchINSTALLBUILDCHECKBUILD BIN
VariantFiltering 1.47.0  (landing page)
Robert Castelo
git_last_commit: 270d88d
git_last_commit_date: 2025-10-29 10:19:08 -0500
nebbiolo1Linux (Ubuntu 24.04.3 LTS) / x86_64  OK    OK    OK  YES
Package 96/96HostnameOS / ArchINSTALLBUILDCHECKBUILD BIN
VariantTools 1.53.0  (landing page)
Michael Lawrence
git_last_commit: 4083347
git_last_commit_date: 2025-10-29 10:12:36 -0500
nebbiolo1Linux (Ubuntu 24.04.3 LTS) / x86_64  OK    ERROR  skipped