| Back to Multiple platform build/check report for BioC 3.23: simplified long |
|
This page was generated on 2025-11-20 11:39 -0500 (Thu, 20 Nov 2025).
| Hostname | OS | Arch (*) | R version | Installed pkgs |
|---|---|---|---|---|
| nebbiolo1 | Linux (Ubuntu 24.04.3 LTS) | x86_64 | R Under development (unstable) (2025-10-20 r88955) -- "Unsuffered Consequences" | 4827 |
| lconway | macOS 12.7.6 Monterey | x86_64 | R Under development (unstable) (2025-10-21 r88958) -- "Unsuffered Consequences" | 4600 |
| kjohnson3 | macOS 13.7.7 Ventura | arm64 | R Under development (unstable) (2025-11-04 r88984) -- "Unsuffered Consequences" | 4564 |
| Click on any hostname to see more info about the system (e.g. compilers) (*) as reported by 'uname -p', except on Windows and Mac OS X | ||||
| Package 1410/2325 | Hostname | OS / Arch | INSTALL | BUILD | CHECK | BUILD BIN | ||||||||
| musicatk 2.5.0 (landing page) Joshua D. Campbell
| nebbiolo1 | Linux (Ubuntu 24.04.3 LTS) / x86_64 | OK | OK | OK | |||||||||
| lconway | macOS 12.7.6 Monterey / x86_64 | OK | OK | OK | OK | |||||||||
| kjohnson3 | macOS 13.7.7 Ventura / arm64 | OK | OK | OK | OK | |||||||||
|
To the developers/maintainers of the musicatk package: - Allow up to 24 hours (and sometimes 48 hours) for your latest push to git@git.bioconductor.org:packages/musicatk.git to reflect on this report. See Troubleshooting Build Report for more information. - Use the following Renviron settings to reproduce errors and warnings. - If 'R CMD check' started to fail recently on the Linux builder(s) over a missing dependency, add the missing dependency to 'Suggests:' in your DESCRIPTION file. See Renviron.bioc for more information. |
| Package: musicatk |
| Version: 2.5.0 |
| Command: /Library/Frameworks/R.framework/Resources/bin/R CMD check --install=check:musicatk.install-out.txt --library=/Library/Frameworks/R.framework/Resources/library --no-vignettes --timings musicatk_2.5.0.tar.gz |
| StartedAt: 2025-11-19 21:18:33 -0500 (Wed, 19 Nov 2025) |
| EndedAt: 2025-11-19 21:24:27 -0500 (Wed, 19 Nov 2025) |
| EllapsedTime: 354.7 seconds |
| RetCode: 0 |
| Status: OK |
| CheckDir: musicatk.Rcheck |
| Warnings: 0 |
##############################################################################
##############################################################################
###
### Running command:
###
### /Library/Frameworks/R.framework/Resources/bin/R CMD check --install=check:musicatk.install-out.txt --library=/Library/Frameworks/R.framework/Resources/library --no-vignettes --timings musicatk_2.5.0.tar.gz
###
##############################################################################
##############################################################################
* using log directory ‘/Users/biocbuild/bbs-3.23-bioc/meat/musicatk.Rcheck’
* using R Under development (unstable) (2025-11-04 r88984)
* using platform: aarch64-apple-darwin20
* R was compiled by
Apple clang version 16.0.0 (clang-1600.0.26.6)
GNU Fortran (GCC) 14.2.0
* running under: macOS Ventura 13.7.8
* using session charset: UTF-8
* using option ‘--no-vignettes’
* checking for file ‘musicatk/DESCRIPTION’ ... OK
* checking extension type ... Package
* this is package ‘musicatk’ version ‘2.5.0’
* package encoding: UTF-8
* checking package namespace information ... OK
* checking package dependencies ... INFO
Imports includes 44 non-default packages.
Importing from so many packages makes the package vulnerable to any of
them becoming unavailable. Move as many as possible to Suggests and
use conditionally.
* checking if this is a source package ... OK
* checking if there is a namespace ... OK
* checking for hidden files and directories ... OK
* checking for portable file names ... OK
* checking for sufficient/correct file permissions ... OK
* checking whether package ‘musicatk’ can be installed ... OK
* checking installed package size ... OK
* checking package directory ... OK
* checking ‘build’ directory ... OK
* checking DESCRIPTION meta-information ... OK
* checking top-level files ... OK
* checking for left-over files ... OK
* checking index information ... OK
* checking package subdirectories ... OK
* checking code files for non-ASCII characters ... OK
* checking R files for syntax errors ... OK
* checking whether the package can be loaded ... OK
* checking whether the package can be loaded with stated dependencies ... OK
* checking whether the package can be unloaded cleanly ... OK
* checking whether the namespace can be loaded with stated dependencies ... OK
* checking whether the namespace can be unloaded cleanly ... OK
* checking dependencies in R code ... OK
* checking S3 generic/method consistency ... OK
* checking replacement functions ... OK
* checking foreign function calls ... OK
* checking R code for possible problems ... OK
* checking Rd files ... OK
* checking Rd metadata ... OK
* checking Rd cross-references ... NOTE
Found the following Rd file(s) with Rd \link{} targets missing package
anchors:
add_flank_to_variants.Rd: BSgenome-class
build_standard_table.Rd: BSgenome-class
create_musica_from_variants.Rd: BSgenome-class
create_sbs192_table.Rd: BSgenome-class
create_sbs96_table.Rd: BSgenome-class
extract_variants.Rd: CollapsedVCF-class, ExpandedVCF-class, MAF-class
variants.Rd: data.table-class
Please provide package anchors for all Rd \link{} targets not in the
package itself and the base packages.
* checking for missing documentation entries ... OK
* checking for code/documentation mismatches ... OK
* checking Rd \usage sections ... OK
* checking Rd contents ... OK
* checking for unstated dependencies in examples ... OK
* checking contents of ‘data’ directory ... OK
* checking data for non-ASCII characters ... OK
* checking LazyData ... OK
* checking data for ASCII and uncompressed saves ... OK
* checking files in ‘vignettes’ ... OK
* checking examples ... OK
Examples with CPU (user + system) or elapsed time > 5s
user system elapsed
plot_k_comparison 89.131 0.624 93.911
compare_k_vals 81.241 0.751 85.467
* checking for unstated dependencies in ‘tests’ ... OK
* checking tests ...
Running ‘testthat.R’
OK
* checking for unstated dependencies in vignettes ... OK
* checking package vignettes ... OK
* checking running R code from vignettes ... SKIPPED
* checking re-building of vignette outputs ... SKIPPED
* checking PDF version of manual ... OK
* DONE
Status: 1 NOTE
See
‘/Users/biocbuild/bbs-3.23-bioc/meat/musicatk.Rcheck/00check.log’
for details.
musicatk.Rcheck/00install.out
############################################################################## ############################################################################## ### ### Running command: ### ### /Library/Frameworks/R.framework/Resources/bin/R CMD INSTALL musicatk ### ############################################################################## ############################################################################## * installing to library ‘/Library/Frameworks/R.framework/Versions/4.6-arm64/Resources/library’ * installing *source* package ‘musicatk’ ... ** this is package ‘musicatk’ version ‘2.5.0’ ** using staged installation ** R ** data *** moving datasets to lazyload DB ** inst ** byte-compile and prepare package for lazy loading ** help *** installing help indices ** building package indices ** installing vignettes ** testing if installed package can be loaded from temporary location ** testing if installed package can be loaded from final location ** testing if installed package keeps a record of temporary installation path * DONE (musicatk)
musicatk.Rcheck/tests/testthat.Rout
R Under development (unstable) (2025-11-04 r88984) -- "Unsuffered Consequences"
Copyright (C) 2025 The R Foundation for Statistical Computing
Platform: aarch64-apple-darwin20
R is free software and comes with ABSOLUTELY NO WARRANTY.
You are welcome to redistribute it under certain conditions.
Type 'license()' or 'licence()' for distribution details.
R is a collaborative project with many contributors.
Type 'contributors()' for more information and
'citation()' on how to cite R or R packages in publications.
Type 'demo()' for some demos, 'help()' for on-line help, or
'help.start()' for an HTML browser interface to help.
Type 'q()' to quit R.
> library("testthat")
> library("musicatk")
Loading required package: NMF
Loading required package: registry
Loading required package: rngtools
Loading required package: cluster
NMF - BioConductor layer [OK] | Shared memory capabilities [NO: synchronicity] | Cores 2/2
To enable shared memory capabilities, try: install.extras('
NMF
')
Attaching package: 'NMF'
The following object is masked from 'package:generics':
fit
The following object is masked from 'package:testthat':
compare
>
> test_check("musicatk")
[ FAIL 0 | WARN 2 | SKIP 0 | PASS 41 ]
[ FAIL 0 | WARN 2 | SKIP 0 | PASS 41 ]
>
> proc.time()
user system elapsed
9.307 0.351 10.249
musicatk.Rcheck/musicatk-Ex.timings
| name | user | system | elapsed | |
| add_flank_to_variants | 1.198 | 0.086 | 1.387 | |
| add_result | 0.018 | 0.002 | 0.020 | |
| add_variant_type | 0.007 | 0.002 | 0.009 | |
| annotate_replication_strand | 0.096 | 0.008 | 0.115 | |
| annotate_transcript_strand | 1.955 | 0.052 | 2.112 | |
| annotate_variant_length | 0.005 | 0.002 | 0.006 | |
| annotate_variant_type | 0.001 | 0.001 | 0.002 | |
| auto_predict_grid | 0.872 | 0.027 | 0.914 | |
| build_custom_table | 0.862 | 0.041 | 0.929 | |
| build_standard_table | 3.640 | 0.405 | 4.227 | |
| built_tables | 0.000 | 0.001 | 0.002 | |
| cluster_exposure | 0.009 | 0.004 | 0.022 | |
| combine_count_tables | 1.316 | 0.136 | 1.543 | |
| combine_predict_grid | 0.179 | 0.010 | 0.196 | |
| compare_cosmic_v2 | 1.154 | 0.019 | 1.228 | |
| compare_cosmic_v3 | 0.717 | 0.003 | 0.769 | |
| compare_k_vals | 81.241 | 0.751 | 85.467 | |
| compare_results | 0.784 | 0.015 | 0.820 | |
| cosmic_v2_subtype_map | 0 | 0 | 0 | |
| create_musica_from_counts | 0.001 | 0.001 | 0.003 | |
| create_musica_from_variants | 0.268 | 0.071 | 0.370 | |
| create_umap | 2.397 | 0.028 | 2.592 | |
| credible_intervals | 0.001 | 0.000 | 0.001 | |
| discover_signatures | 0.246 | 0.039 | 0.308 | |
| drop_annotation | 0.000 | 0.001 | 0.001 | |
| exposure_differential_analysis | 0.004 | 0.001 | 0.005 | |
| exposures | 0.006 | 0.003 | 0.008 | |
| extract_count_tables | 0.002 | 0.001 | 0.002 | |
| extract_variants | 1.293 | 0.027 | 1.386 | |
| extract_variants_from_maf | 0.039 | 0.001 | 0.073 | |
| extract_variants_from_maf_file | 0.038 | 0.001 | 0.041 | |
| extract_variants_from_matrix | 0.040 | 0.001 | 0.044 | |
| extract_variants_from_vcf | 0.228 | 0.008 | 0.238 | |
| extract_variants_from_vcf_file | 0.134 | 0.003 | 0.140 | |
| generate_result_grid | 0.140 | 0.001 | 0.148 | |
| get_modality | 0.002 | 0.003 | 0.005 | |
| get_model | 0.001 | 0.002 | 0.003 | |
| get_result_list_entry | 0.002 | 0.001 | 0.003 | |
| hyperparameter | 0.001 | 0.001 | 0.001 | |
| k_select | 0.405 | 0.005 | 0.413 | |
| metrics | 0.001 | 0.001 | 0.001 | |
| modality | 0.001 | 0.001 | 0.001 | |
| model_id | 0.001 | 0.000 | 0.002 | |
| musicatk | 0 | 0 | 0 | |
| name_signatures | 0.009 | 0.000 | 0.010 | |
| num_signatures | 0.001 | 0.002 | 0.002 | |
| other_parameters | 0.001 | 0.001 | 0.001 | |
| parameter | 0.000 | 0.001 | 0.002 | |
| pipe | 0.000 | 0.001 | 0.003 | |
| plot_cluster | 2.611 | 0.057 | 2.821 | |
| plot_differential_analysis | 0.108 | 0.004 | 0.117 | |
| plot_exposures | 0.139 | 0.001 | 0.158 | |
| plot_heatmap | 0.286 | 0.006 | 0.309 | |
| plot_k_comparison | 89.131 | 0.624 | 93.911 | |
| plot_sample_counts | 0.234 | 0.011 | 0.248 | |
| plot_sample_reconstruction_error | 0.323 | 0.003 | 0.338 | |
| plot_signatures | 0.340 | 0.001 | 0.351 | |
| plot_umap | 2.394 | 0.025 | 2.609 | |
| predict_exposure | 0.397 | 0.041 | 0.468 | |
| rc | 0.000 | 0.000 | 0.001 | |
| result_list | 0.001 | 0.001 | 0.002 | |
| samp_annot | 0.002 | 0.001 | 0.004 | |
| sample_names | 0.001 | 0.001 | 0.002 | |
| select_genome | 0 | 0 | 0 | |
| signatures | 0.006 | 0.003 | 0.008 | |
| subset_musica_by_annotation | 0.002 | 0.001 | 0.004 | |
| subset_musica_by_counts | 0.003 | 0.002 | 0.005 | |
| subset_variant_by_type | 0.002 | 0.001 | 0.003 | |
| subset_variants_by_samples | 0.002 | 0.001 | 0.002 | |
| table_selected | 0.001 | 0.001 | 0.002 | |
| tables | 0.001 | 0.001 | 0.003 | |
| umap | 0.001 | 0.001 | 0.002 | |
| variants | 0.002 | 0.001 | 0.003 | |