| Back to Mac ARM64 build report for BioC 3.16 |
|
This page was generated on 2023-04-19 11:01:49 -0400 (Wed, 19 Apr 2023).
| Hostname | OS | Arch (*) | R version | Installed pkgs |
|---|---|---|---|---|
| kjohnson | macOS 13.0 Ventura | arm64 | 4.2.2 (2022-10-31) -- "Innocent and Trusting" | 4256 |
| Click on any hostname to see more info about the system (e.g. compilers) (*) as reported by 'uname -p', except on Windows and Mac OS X | ||||
|
To the developers/maintainers of the GenomicRanges package: Make sure to use the following settings in order to reproduce any error or warning you see on this page. |
| Package 791/2183 | Hostname | OS / Arch | INSTALL | BUILD | BUILD BIN | ||||||||
| GenomicRanges 1.50.2 (landing page) Hervé Pagès
| kjohnson | macOS 13.0 Ventura / arm64 | OK | OK | OK | ||||||||
| QUICK STATS | OS / Arch | INSTALL | BUILD | BUILD BIN | |||||||||||||
| kjohnson | macOS 13.0 Ventura / arm64 |
|
|
| |||||||||||||
| Package 1/526 | Hostname | OS / Arch | INSTALL | BUILD | BUILD BIN | ||||||||||||
| ACE 1.16.0 (landing page) Jos B Poell
| kjohnson | macOS 13.0 Ventura / arm64 | OK | OK | OK | ||||||||||||
| Package 2/526 | Hostname | OS / Arch | INSTALL | BUILD | BUILD BIN | ||||||||||||
| ALDEx2 1.30.0 (landing page) Greg Gloor
| kjohnson | macOS 13.0 Ventura / arm64 | OK | OK | OK | ||||||||||||
| Package 3/526 | Hostname | OS / Arch | INSTALL | BUILD | BUILD BIN | ||||||||||||
| AllelicImbalance 1.36.0 (landing page) Jesper R Gadin
| kjohnson | macOS 13.0 Ventura / arm64 | OK | OK | OK | ||||||||||||
| Package 4/526 | Hostname | OS / Arch | INSTALL | BUILD | BUILD BIN | ||||||||||||
| alpine 1.24.0 (landing page) Michael Love
| kjohnson | macOS 13.0 Ventura / arm64 | OK | OK | OK | ||||||||||||
| Package 5/526 | Hostname | OS / Arch | INSTALL | BUILD | BUILD BIN | ||||||||||||
| amplican 1.20.0 (landing page) Eivind Valen
| kjohnson | macOS 13.0 Ventura / arm64 | OK | OK | OK | ||||||||||||
| Package 6/526 | Hostname | OS / Arch | INSTALL | BUILD | BUILD BIN | ||||||||||||
| AneuFinder 1.26.0 (landing page) Aaron Taudt
| kjohnson | macOS 13.0 Ventura / arm64 | ERROR | ERROR | skipped | ||||||||||||
| Package 7/526 | Hostname | OS / Arch | INSTALL | BUILD | BUILD BIN | ||||||||||||
| annmap 1.40.0 (landing page) Chris Wirth
| kjohnson | macOS 13.0 Ventura / arm64 | OK | ERROR | skipped | ||||||||||||
| Package 8/526 | Hostname | OS / Arch | INSTALL | BUILD | BUILD BIN | ||||||||||||
| AnnotationFilter 1.22.0 (landing page) Bioconductor Package Maintainer
| kjohnson | macOS 13.0 Ventura / arm64 | OK | OK | OK | ||||||||||||
| Package 9/526 | Hostname | OS / Arch | INSTALL | BUILD | BUILD BIN | ||||||||||||
| AnnotationHubData 1.28.0 (landing page) Bioconductor Package Maintainer
| kjohnson | macOS 13.0 Ventura / arm64 | OK | OK | OK | ||||||||||||
| Package 10/526 | Hostname | OS / Arch | INSTALL | BUILD | BUILD BIN | ||||||||||||
| annotatr 1.24.0 (landing page) Raymond G. Cavalcante
| kjohnson | macOS 13.0 Ventura / arm64 | OK | OK | OK | ||||||||||||
| Package 11/526 | Hostname | OS / Arch | INSTALL | BUILD | BUILD BIN | ||||||||||||
| APAlyzer 1.12.0 (landing page) Ruijia Wang
| kjohnson | macOS 13.0 Ventura / arm64 | OK | OK | OK | ||||||||||||
| Package 12/526 | Hostname | OS / Arch | INSTALL | BUILD | BUILD BIN | ||||||||||||
| apeglm 1.20.0 (landing page) Anqi Zhu
| kjohnson | macOS 13.0 Ventura / arm64 | OK | OK | OK | ||||||||||||
| Package 13/526 | Hostname | OS / Arch | INSTALL | BUILD | BUILD BIN | ||||||||||||
| appreci8R 1.16.0 (landing page) Sarah Sandmann
| kjohnson | macOS 13.0 Ventura / arm64 | OK | OK | OK | ||||||||||||
| Package 14/526 | Hostname | OS / Arch | INSTALL | BUILD | BUILD BIN | ||||||||||||
| ArrayExpressHTS 1.48.0 (landing page) Angela Goncalves
| kjohnson | macOS 13.0 Ventura / arm64 | ERROR | ERROR | skipped | ||||||||||||
| Package 15/526 | Hostname | OS / Arch | INSTALL | BUILD | BUILD BIN | ||||||||||||
| ASpediaFI 1.12.0 (landing page) Doyeong Yu
| kjohnson | macOS 13.0 Ventura / arm64 | ERROR | ERROR | skipped | ||||||||||||
| Package 16/526 | Hostname | OS / Arch | INSTALL | BUILD | BUILD BIN | ||||||||||||
| ASpli 2.8.0 (landing page) Estefania Mancini
| kjohnson | macOS 13.0 Ventura / arm64 | OK | OK | OK | ||||||||||||
| Package 17/526 | Hostname | OS / Arch | INSTALL | BUILD | BUILD BIN | ||||||||||||
| AssessORF 1.16.0 (landing page) Deepank Korandla
| kjohnson | macOS 13.0 Ventura / arm64 | OK | OK | OK | ||||||||||||
| Package 18/526 | Hostname | OS / Arch | INSTALL | BUILD | BUILD BIN | ||||||||||||
| ATACCoGAPS 1.0.0 (landing page) Rossin Erbe
| kjohnson | macOS 13.0 Ventura / arm64 | ERROR | ERROR | skipped | ||||||||||||
| Package 19/526 | Hostname | OS / Arch | INSTALL | BUILD | BUILD BIN | ||||||||||||
| ATACseqQC 1.22.0 (landing page) Jianhong Ou
| kjohnson | macOS 13.0 Ventura / arm64 | OK | OK | OK | ||||||||||||
| Package 20/526 | Hostname | OS / Arch | INSTALL | BUILD | BUILD BIN | ||||||||||||
| ATACseqTFEA 1.0.1 (landing page) Jianhong Ou
| kjohnson | macOS 13.0 Ventura / arm64 | OK | OK | OK | ||||||||||||
| Package 21/526 | Hostname | OS / Arch | INSTALL | BUILD | BUILD BIN | ||||||||||||
| atena 1.4.1 (landing page) Beatriz Calvo-Serra
| kjohnson | macOS 13.0 Ventura / arm64 | OK | OK | OK | ||||||||||||
| Package 22/526 | Hostname | OS / Arch | INSTALL | BUILD | BUILD BIN | ||||||||||||
| BaalChIP 1.24.0 (landing page) Ines de Santiago
| kjohnson | macOS 13.0 Ventura / arm64 | OK | OK | OK | ||||||||||||
| Package 23/526 | Hostname | OS / Arch | INSTALL | BUILD | BUILD BIN | ||||||||||||
| BadRegionFinder 1.26.0 (landing page) Sarah Sandmann
| kjohnson | macOS 13.0 Ventura / arm64 | OK | OK | OK | ||||||||||||
| Package 24/526 | Hostname | OS / Arch | INSTALL | BUILD | BUILD BIN | ||||||||||||
| ballgown 2.30.0 (landing page) Jack Fu
| kjohnson | macOS 13.0 Ventura / arm64 | OK | OK | OK | ||||||||||||
| Package 25/526 | Hostname | OS / Arch | INSTALL | BUILD | BUILD BIN | ||||||||||||
| bambu 3.0.8 (landing page) Ying Chen
| kjohnson | macOS 13.0 Ventura / arm64 | OK | OK | OK | ||||||||||||
| Package 26/526 | Hostname | OS / Arch | INSTALL | BUILD | BUILD BIN | ||||||||||||
| bamsignals 1.30.0 (landing page) Johannes Helmuth
| kjohnson | macOS 13.0 Ventura / arm64 | OK | OK | OK | ||||||||||||
| Package 27/526 | Hostname | OS / Arch | INSTALL | BUILD | BUILD BIN | ||||||||||||
| Basic4Cseq 1.34.0 (landing page) Carolin Walter
| kjohnson | macOS 13.0 Ventura / arm64 | OK | OK | OK | ||||||||||||
| Package 28/526 | Hostname | OS / Arch | INSTALL | BUILD | BUILD BIN | ||||||||||||
| BasicSTARRseq 1.26.0 (landing page) Annika Buerger
| kjohnson | macOS 13.0 Ventura / arm64 | OK | OK | OK | ||||||||||||
| Package 29/526 | Hostname | OS / Arch | INSTALL | BUILD | BUILD BIN | ||||||||||||
| baySeq 2.32.0 (landing page) Thomas J. Hardcastle
| kjohnson | macOS 13.0 Ventura / arm64 | OK | OK | OK | ||||||||||||
| Package 30/526 | Hostname | OS / Arch | INSTALL | BUILD | BUILD BIN | ||||||||||||
| BBCAnalyzer 1.28.0 (landing page) Sarah Sandmann
| kjohnson | macOS 13.0 Ventura / arm64 | OK | OK | OK | ||||||||||||
| Package 31/526 | Hostname | OS / Arch | INSTALL | BUILD | BUILD BIN | ||||||||||||
| beadarray 2.48.0 (landing page) Mark Dunning
| kjohnson | macOS 13.0 Ventura / arm64 | OK | OK | OK | ||||||||||||
| Package 32/526 | Hostname | OS / Arch | INSTALL | BUILD | BUILD BIN | ||||||||||||
| BEAT 1.36.0 (landing page) Kemal Akman
| kjohnson | macOS 13.0 Ventura / arm64 | OK | OK | OK | ||||||||||||
| Package 33/526 | Hostname | OS / Arch | INSTALL | BUILD | BUILD BIN | ||||||||||||
| BiFET 1.18.0 (landing page) Ahrim Youn
| kjohnson | macOS 13.0 Ventura / arm64 | OK | OK | OK | ||||||||||||
| Package 34/526 | Hostname | OS / Arch | INSTALL | BUILD | BUILD BIN | ||||||||||||
| BindingSiteFinder 1.4.0 (landing page) Mirko Brüggemann
| kjohnson | macOS 13.0 Ventura / arm64 | OK | OK | OK | ||||||||||||
| Package 35/526 | Hostname | OS / Arch | INSTALL | BUILD | BUILD BIN | ||||||||||||
| BiocOncoTK 1.18.0 (landing page) VJ Carey
| kjohnson | macOS 13.0 Ventura / arm64 | OK | OK | OK | ||||||||||||
| Package 36/526 | Hostname | OS / Arch | INSTALL | BUILD | BUILD BIN | ||||||||||||
| biomvRCNS 1.38.0 (landing page) Yang Du
| kjohnson | macOS 13.0 Ventura / arm64 | OK | OK | OK | ||||||||||||
| Package 37/526 | Hostname | OS / Arch | INSTALL | BUILD | BUILD BIN | ||||||||||||
| BioTIP 1.12.0 (landing page) Yuxi (Jennifer) Sun
| kjohnson | macOS 13.0 Ventura / arm64 | OK | OK | OK | ||||||||||||
| Package 38/526 | Hostname | OS / Arch | INSTALL | BUILD | BUILD BIN | ||||||||||||
| biovizBase 1.46.0 (landing page) Michael Lawrence
| kjohnson | macOS 13.0 Ventura / arm64 | OK | OK | OK | ||||||||||||
| Package 39/526 | Hostname | OS / Arch | INSTALL | BUILD | BUILD BIN | ||||||||||||
| biscuiteer 1.12.0 (landing page) Jacob Morrison
| kjohnson | macOS 13.0 Ventura / arm64 | OK | OK | OK | ||||||||||||
| Package 40/526 | Hostname | OS / Arch | INSTALL | BUILD | BUILD BIN | ||||||||||||
| BiSeq 1.38.0 (landing page) Katja Hebestreit
| kjohnson | macOS 13.0 Ventura / arm64 | OK | OK | OK | ||||||||||||
| Package 41/526 | Hostname | OS / Arch | INSTALL | BUILD | BUILD BIN | ||||||||||||
| bnbc 1.20.0 (landing page) Kipper Fletez-Brant
| kjohnson | macOS 13.0 Ventura / arm64 | OK | OK | OK | ||||||||||||
| Package 42/526 | Hostname | OS / Arch | INSTALL | BUILD | BUILD BIN | ||||||||||||
| BOBaFIT 1.2.0 (landing page) Gaia Mazzocchetti
| kjohnson | macOS 13.0 Ventura / arm64 | OK | OK | OK | ||||||||||||
| Package 43/526 | Hostname | OS / Arch | INSTALL | BUILD | BUILD BIN | ||||||||||||
| borealis 1.2.2 (landing page) Garrett Jenkinson
| kjohnson | macOS 13.0 Ventura / arm64 | OK | OK | OK | ||||||||||||
| Package 44/526 | Hostname | OS / Arch | INSTALL | BUILD | BUILD BIN | ||||||||||||
| BPRMeth 1.24.2 (landing page) Chantriolnt-Andreas Kapourani
| kjohnson | macOS 13.0 Ventura / arm64 | OK | OK | OK | ||||||||||||
| Package 45/526 | Hostname | OS / Arch | INSTALL | BUILD | BUILD BIN | ||||||||||||
| brainflowprobes 1.12.0 (landing page) Amanda Price
| kjohnson | macOS 13.0 Ventura / arm64 | OK | OK | OK | ||||||||||||
| Package 46/526 | Hostname | OS / Arch | INSTALL | BUILD | BUILD BIN | ||||||||||||
| branchpointer 1.24.0 (landing page) Beth Signal
| kjohnson | macOS 13.0 Ventura / arm64 | OK | OK | OK | ||||||||||||
| Package 47/526 | Hostname | OS / Arch | INSTALL | BUILD | BUILD BIN | ||||||||||||
| breakpointR 1.16.0 (landing page) David Porubsky
| kjohnson | macOS 13.0 Ventura / arm64 | OK | OK | OK | ||||||||||||
| Package 48/526 | Hostname | OS / Arch | INSTALL | BUILD | BUILD BIN | ||||||||||||
| BRGenomics 1.10.0 (landing page) Mike DeBerardine
| kjohnson | macOS 13.0 Ventura / arm64 | OK | OK | OK | ||||||||||||
| Package 49/526 | Hostname | OS / Arch | INSTALL | BUILD | BUILD BIN | ||||||||||||
| BSgenome 1.66.3 (landing page) Hervé Pagès
| kjohnson | macOS 13.0 Ventura / arm64 | OK | OK | OK | ||||||||||||
| Package 50/526 | Hostname | OS / Arch | INSTALL | BUILD | BUILD BIN | ||||||||||||
| bsseq 1.34.0 (landing page) Kasper Daniel Hansen
| kjohnson | macOS 13.0 Ventura / arm64 | OK | OK | OK | ||||||||||||
| Package 51/526 | Hostname | OS / Arch | INSTALL | BUILD | BUILD BIN | ||||||||||||
| BubbleTree 2.28.0 (landing page) Todd Creasy
| kjohnson | macOS 13.0 Ventura / arm64 | OK | OK | OK | ||||||||||||
| Package 52/526 | Hostname | OS / Arch | INSTALL | BUILD | BUILD BIN | ||||||||||||
| bumphunter 1.40.0 (landing page) Tamilselvi Guharaj
| kjohnson | macOS 13.0 Ventura / arm64 | OK | OK | OK | ||||||||||||
| Package 53/526 | Hostname | OS / Arch | INSTALL | BUILD | BUILD BIN | ||||||||||||
| BUSpaRse 1.12.2 (landing page) Lambda Moses
| kjohnson | macOS 13.0 Ventura / arm64 | OK | OK | OK | ||||||||||||
| Package 54/526 | Hostname | OS / Arch | INSTALL | BUILD | BUILD BIN | ||||||||||||
| CAFE 1.34.0 (landing page) Sander Bollen
| kjohnson | macOS 13.0 Ventura / arm64 | OK | OK | OK | ||||||||||||
| Package 55/526 | Hostname | OS / Arch | INSTALL | BUILD | BUILD BIN | ||||||||||||
| CAGEfightR 1.18.0 (landing page) Malte Thodberg
| kjohnson | macOS 13.0 Ventura / arm64 | OK | OK | OK | ||||||||||||
| Package 56/526 | Hostname | OS / Arch | INSTALL | BUILD | BUILD BIN | ||||||||||||
| cageminer 1.4.0 (landing page) Fabrício Almeida-Silva
| kjohnson | macOS 13.0 Ventura / arm64 | OK | OK | OK | ||||||||||||
| Package 57/526 | Hostname | OS / Arch | INSTALL | BUILD | BUILD BIN | ||||||||||||
| CAGEr 2.4.0 (landing page) Charles Plessy
| kjohnson | macOS 13.0 Ventura / arm64 | OK | OK | OK | ||||||||||||
| Package 58/526 | Hostname | OS / Arch | INSTALL | BUILD | BUILD BIN | ||||||||||||
| cardelino 1.0.0 (landing page) Jeffrey Pullin
| kjohnson | macOS 13.0 Ventura / arm64 | OK | OK | OK | ||||||||||||
| Package 59/526 | Hostname | OS / Arch | INSTALL | BUILD | BUILD BIN | ||||||||||||
| casper 2.32.0 (landing page) David Rossell
| kjohnson | macOS 13.0 Ventura / arm64 | OK | ERROR | skipped | ||||||||||||
| Package 60/526 | Hostname | OS / Arch | INSTALL | BUILD | BUILD BIN | ||||||||||||
| cBioPortalData 2.10.3 (landing page) Marcel Ramos
| kjohnson | macOS 13.0 Ventura / arm64 | OK | OK | OK | ||||||||||||
| Package 61/526 | Hostname | OS / Arch | INSTALL | BUILD | BUILD BIN | ||||||||||||
| CexoR 1.36.0 (landing page) Pedro Madrigal
| kjohnson | macOS 13.0 Ventura / arm64 | OK | OK | OK | ||||||||||||
| Package 62/526 | Hostname | OS / Arch | INSTALL | BUILD | BUILD BIN | ||||||||||||
| cfDNAPro 1.4.0 (landing page) Haichao Wang
| kjohnson | macOS 13.0 Ventura / arm64 | OK | OK | OK | ||||||||||||
| Package 63/526 | Hostname | OS / Arch | INSTALL | BUILD | BUILD BIN | ||||||||||||
| ChAMP 2.28.0 (landing page) Yuan Tian
| kjohnson | macOS 13.0 Ventura / arm64 | OK | OK | OK | ||||||||||||
| Package 64/526 | Hostname | OS / Arch | INSTALL | BUILD | BUILD BIN | ||||||||||||
| ChIC 1.18.0 (landing page) Carmen Maria Livi
| kjohnson | macOS 13.0 Ventura / arm64 | ERROR | ERROR | skipped | ||||||||||||
| Package 65/526 | Hostname | OS / Arch | INSTALL | BUILD | BUILD BIN | ||||||||||||
| chimeraviz 1.24.0 (landing page) Stian Lågstad
| kjohnson | macOS 13.0 Ventura / arm64 | OK | OK | OK | ||||||||||||
| Package 66/526 | Hostname | OS / Arch | INSTALL | BUILD | BUILD BIN | ||||||||||||
| ChIPanalyser 1.20.0 (landing page) Patrick C.N. Martin
| kjohnson | macOS 13.0 Ventura / arm64 | OK | OK | OK | ||||||||||||
| Package 67/526 | Hostname | OS / Arch | INSTALL | BUILD | BUILD BIN | ||||||||||||
| ChIPComp 1.28.0 (landing page) Li Chen
| kjohnson | macOS 13.0 Ventura / arm64 | OK | OK | OK | ||||||||||||
| Package 68/526 | Hostname | OS / Arch | INSTALL | BUILD | BUILD BIN | ||||||||||||
| chipenrich 2.22.0 (landing page) Raymond G. Cavalcante
| kjohnson | macOS 13.0 Ventura / arm64 | OK | OK | OK | ||||||||||||
| Package 69/526 | Hostname | OS / Arch | INSTALL | BUILD | BUILD BIN | ||||||||||||
| ChIPexoQual 1.22.0 (landing page) Rene Welch
| kjohnson | macOS 13.0 Ventura / arm64 | OK | OK | OK | ||||||||||||
| Package 70/526 | Hostname | OS / Arch | INSTALL | BUILD | BUILD BIN | ||||||||||||
| ChIPpeakAnno 3.32.0 (landing page) Jianhong Ou
| kjohnson | macOS 13.0 Ventura / arm64 | OK | OK | OK | ||||||||||||
| Package 71/526 | Hostname | OS / Arch | INSTALL | BUILD | BUILD BIN | ||||||||||||
| ChIPQC 1.34.1 (landing page) Tom Carroll
| kjohnson | macOS 13.0 Ventura / arm64 | OK | OK | OK | ||||||||||||
| Package 72/526 | Hostname | OS / Arch | INSTALL | BUILD | BUILD BIN | ||||||||||||
| ChIPseeker 1.34.1 (landing page) Guangchuang Yu
| kjohnson | macOS 13.0 Ventura / arm64 | OK | OK | OK | ||||||||||||
| Package 73/526 | Hostname | OS / Arch | INSTALL | BUILD | BUILD BIN | ||||||||||||
| chipseq 1.48.0 (landing page) Bioconductor Package Maintainer
| kjohnson | macOS 13.0 Ventura / arm64 | OK | OK | OK | ||||||||||||
| Package 74/526 | Hostname | OS / Arch | INSTALL | BUILD | BUILD BIN | ||||||||||||
| ChIPseqR 1.52.0 (landing page) Peter Humburg
| kjohnson | macOS 13.0 Ventura / arm64 | OK | OK | OK | ||||||||||||
| Package 75/526 | Hostname | OS / Arch | INSTALL | BUILD | BUILD BIN | ||||||||||||
| chromDraw 2.28.0 (landing page) Jan Janecka
| kjohnson | macOS 13.0 Ventura / arm64 | OK | OK | OK | ||||||||||||
| Package 76/526 | Hostname | OS / Arch | INSTALL | BUILD | BUILD BIN | ||||||||||||
| ChromHeatMap 1.52.0 (landing page) Tim F. Rayner
| kjohnson | macOS 13.0 Ventura / arm64 | OK | OK | OK | ||||||||||||
| Package 77/526 | Hostname | OS / Arch | INSTALL | BUILD | BUILD BIN | ||||||||||||
| chromPlot 1.26.0 (landing page) Karen Y. Orostica
| kjohnson | macOS 13.0 Ventura / arm64 | OK | OK | OK | ||||||||||||
| Package 78/526 | Hostname | OS / Arch | INSTALL | BUILD | BUILD BIN | ||||||||||||
| ChromSCape 1.8.0 (landing page) Pacome Prompsy
| kjohnson | macOS 13.0 Ventura / arm64 | OK | OK | OK | ||||||||||||
| Package 79/526 | Hostname | OS / Arch | INSTALL | BUILD | BUILD BIN | ||||||||||||
| chromstaR 1.24.0 (landing page) Aaron Taudt
| kjohnson | macOS 13.0 Ventura / arm64 | OK | OK | OK | ||||||||||||
| Package 80/526 | Hostname | OS / Arch | INSTALL | BUILD | BUILD BIN | ||||||||||||
| chromswitch 1.20.0 (landing page) Selin Jessa
| kjohnson | macOS 13.0 Ventura / arm64 | OK | OK | OK | ||||||||||||
| Package 81/526 | Hostname | OS / Arch | INSTALL | BUILD | BUILD BIN | ||||||||||||
| chromVAR 1.20.2 (landing page) Alicia Schep
| kjohnson | macOS 13.0 Ventura / arm64 | OK | OK | OK | ||||||||||||
| Package 82/526 | Hostname | OS / Arch | INSTALL | BUILD | BUILD BIN | ||||||||||||
| cicero 1.16.2 (landing page) Hannah Pliner
| kjohnson | macOS 13.0 Ventura / arm64 | OK | OK | OK | ||||||||||||
| Package 83/526 | Hostname | OS / Arch | INSTALL | BUILD | BUILD BIN | ||||||||||||
| CINdex 1.26.0 (landing page) Yuriy Gusev
| kjohnson | macOS 13.0 Ventura / arm64 | OK | OK | OK | ||||||||||||
| Package 84/526 | Hostname | OS / Arch | INSTALL | BUILD | BUILD BIN | ||||||||||||
| circRNAprofiler 1.12.2 (landing page) Simona Aufiero
| kjohnson | macOS 13.0 Ventura / arm64 | OK | OK | OK | ||||||||||||
| Package 85/526 | Hostname | OS / Arch | INSTALL | BUILD | BUILD BIN | ||||||||||||
| cleanUpdTSeq 1.36.0 (landing page) Jianhong Ou
| kjohnson | macOS 13.0 Ventura / arm64 | OK | OK | OK | ||||||||||||
| Package 86/526 | Hostname | OS / Arch | INSTALL | BUILD | BUILD BIN | ||||||||||||
| cliProfiler 1.4.0 (landing page) You Zhou
| kjohnson | macOS 13.0 Ventura / arm64 | OK | OK | OK | ||||||||||||
| Package 87/526 | Hostname | OS / Arch | INSTALL | BUILD | BUILD BIN | ||||||||||||
| cn.mops 1.44.0 (landing page) Gundula Povysil
| kjohnson | macOS 13.0 Ventura / arm64 | OK | OK | OK | ||||||||||||
| Package 88/526 | Hostname | OS / Arch | INSTALL | BUILD | BUILD BIN | ||||||||||||
| CNEr 1.34.0 (landing page) Ge Tan
| kjohnson | macOS 13.0 Ventura / arm64 | OK | OK | OK | ||||||||||||
| Package 89/526 | Hostname | OS / Arch | INSTALL | BUILD | BUILD BIN | ||||||||||||
| CNVfilteR 1.12.2 (landing page) Jose Marcos Moreno-Cabrera
| kjohnson | macOS 13.0 Ventura / arm64 | OK | OK | OK | ||||||||||||
| Package 90/526 | Hostname | OS / Arch | INSTALL | BUILD | BUILD BIN | ||||||||||||
| cnvGSA 1.42.0 (landing page) Joseph Lugo
| kjohnson | macOS 13.0 Ventura / arm64 | OK | OK | OK | ||||||||||||
| Package 91/526 | Hostname | OS / Arch | INSTALL | BUILD | BUILD BIN | ||||||||||||
| CNViz 1.6.0 (landing page) Rebecca Greenblatt
| kjohnson | macOS 13.0 Ventura / arm64 | OK | OK | OK | ||||||||||||
| Package 92/526 | Hostname | OS / Arch | INSTALL | BUILD | BUILD BIN | ||||||||||||
| CNVMetrics 1.2.0 (landing page) Astrid Deschênes
| kjohnson | macOS 13.0 Ventura / arm64 | OK | OK | OK | ||||||||||||
| Package 93/526 | Hostname | OS / Arch | INSTALL | BUILD | BUILD BIN | ||||||||||||
| CNVPanelizer 1.30.0 (landing page) Thomas Wolf
| kjohnson | macOS 13.0 Ventura / arm64 | OK | OK | OK | ||||||||||||
| Package 94/526 | Hostname | OS / Arch | INSTALL | BUILD | BUILD BIN | ||||||||||||
| CNVRanger 1.14.0 (landing page) Ludwig Geistlinger
| kjohnson | macOS 13.0 Ventura / arm64 | OK | OK | OK | ||||||||||||
| Package 95/526 | Hostname | OS / Arch | INSTALL | BUILD | BUILD BIN | ||||||||||||
| COCOA 2.12.0 (landing page) John Lawson
| kjohnson | macOS 13.0 Ventura / arm64 | OK | OK | OK | ||||||||||||
| Package 96/526 | Hostname | OS / Arch | INSTALL | BUILD | BUILD BIN | ||||||||||||
| Cogito 1.4.0 (landing page) Annika Bürger
| kjohnson | macOS 13.0 Ventura / arm64 | OK | OK | OK | ||||||||||||
| Package 97/526 | Hostname | OS / Arch | INSTALL | BUILD | BUILD BIN | ||||||||||||
| comapr 1.2.0 (landing page) Ruqian Lyu
| kjohnson | macOS 13.0 Ventura / arm64 | OK | OK | OK | ||||||||||||
| Package 98/526 | Hostname | OS / Arch | INSTALL | BUILD | BUILD BIN | ||||||||||||
| coMET 1.30.0 (landing page) Tiphaine Martin
| kjohnson | macOS 13.0 Ventura / arm64 | OK | OK | OK | ||||||||||||
| Package 99/526 | Hostname | OS / Arch | INSTALL | BUILD | BUILD BIN | ||||||||||||
| coMethDMR 1.2.0 (landing page) Fernanda Veitzman
| kjohnson | macOS 13.0 Ventura / arm64 | OK | OK | OK | ||||||||||||
| Package 100/526 | Hostname | OS / Arch | INSTALL | BUILD | BUILD BIN | ||||||||||||
| compartmap 1.16.0 (landing page) Benjamin Johnson
| kjohnson | macOS 13.0 Ventura / arm64 | OK | OK | OK | ||||||||||||
| Package 101/526 | Hostname | OS / Arch | INSTALL | BUILD | BUILD BIN | ||||||||||||
| compEpiTools 1.32.0 (landing page) Kamal Kishore
| kjohnson | macOS 13.0 Ventura / arm64 | OK | OK | OK | ||||||||||||
| Package 102/526 | Hostname | OS / Arch | INSTALL | BUILD | BUILD BIN | ||||||||||||
| consensusSeekeR 1.26.0 (landing page) Astrid Deschenes
| kjohnson | macOS 13.0 Ventura / arm64 | OK | OK | OK | ||||||||||||
| Package 103/526 | Hostname | OS / Arch | INSTALL | BUILD | BUILD BIN | ||||||||||||
| contiBAIT 1.26.0 (landing page) Kieran O'Neill
| kjohnson | macOS 13.0 Ventura / arm64 | OK | OK | OK | ||||||||||||
| Package 104/526 | Hostname | OS / Arch | INSTALL | BUILD | BUILD BIN | ||||||||||||
| conumee 1.32.0 (landing page) Volker Hovestadt
| kjohnson | macOS 13.0 Ventura / arm64 | OK | OK | OK | ||||||||||||
| Package 105/526 | Hostname | OS / Arch | INSTALL | BUILD | BUILD BIN | ||||||||||||
| copynumber 1.38.0 (landing page) Gro Nilsen
| kjohnson | macOS 13.0 Ventura / arm64 | OK | ERROR | skipped | ||||||||||||
| Package 106/526 | Hostname | OS / Arch | INSTALL | BUILD | BUILD BIN | ||||||||||||
| CopyNumberPlots 1.14.0 (landing page) Bernat Gel
| kjohnson | macOS 13.0 Ventura / arm64 | OK | OK | OK | ||||||||||||
| Package 107/526 | Hostname | OS / Arch | INSTALL | BUILD | BUILD BIN | ||||||||||||
| CopywriteR 2.30.0 (landing page) Oscar Krijgsman
| kjohnson | macOS 13.0 Ventura / arm64 | OK | OK | OK | ||||||||||||
| Package 108/526 | Hostname | OS / Arch | INSTALL | BUILD | BUILD BIN | ||||||||||||
| CoverageView 1.36.0 (landing page) Ernesto Lowy
| kjohnson | macOS 13.0 Ventura / arm64 | OK | OK | OK | ||||||||||||
| Package 109/526 | Hostname | OS / Arch | INSTALL | BUILD | BUILD BIN | ||||||||||||
| crisprBase 1.2.0 (landing page) Jean-Philippe Fortin
| kjohnson | macOS 13.0 Ventura / arm64 | OK | OK | OK | ||||||||||||
| Package 110/526 | Hostname | OS / Arch | INSTALL | BUILD | BUILD BIN | ||||||||||||
| crisprBowtie 1.2.0 (landing page) Jean-Philippe Fortin
| kjohnson | macOS 13.0 Ventura / arm64 | OK | OK | OK | ||||||||||||
| Package 111/526 | Hostname | OS / Arch | INSTALL | BUILD | BUILD BIN | ||||||||||||
| crisprDesign 1.0.0 (landing page) Jean-Philippe Fortin
| kjohnson | macOS 13.0 Ventura / arm64 | OK | OK | OK | ||||||||||||
| Package 112/526 | Hostname | OS / Arch | INSTALL | BUILD | BUILD BIN | ||||||||||||
| CRISPRseek 1.38.0 (landing page) Lihua Julie Zhu
| kjohnson | macOS 13.0 Ventura / arm64 | OK | OK | OK | ||||||||||||
| Package 113/526 | Hostname | OS / Arch | INSTALL | BUILD | BUILD BIN | ||||||||||||
| crisprseekplus 1.24.0 (landing page) Alper Kucukural
| kjohnson | macOS 13.0 Ventura / arm64 | OK | OK | OK | ||||||||||||
| Package 114/526 | Hostname | OS / Arch | INSTALL | BUILD | BUILD BIN | ||||||||||||
| CrispRVariants 1.26.0 (landing page) Helen Lindsay
| kjohnson | macOS 13.0 Ventura / arm64 | OK | OK | OK | ||||||||||||
| Package 115/526 | Hostname | OS / Arch | INSTALL | BUILD | BUILD BIN | ||||||||||||
| crisprViz 1.0.0 (landing page) Jean-Philippe Fortin
| kjohnson | macOS 13.0 Ventura / arm64 | OK | OK | OK | ||||||||||||
| Package 116/526 | Hostname | OS / Arch | INSTALL | BUILD | BUILD BIN | ||||||||||||
| CSAR 1.50.0 (landing page) Jose M Muino
| kjohnson | macOS 13.0 Ventura / arm64 | OK | OK | OK | ||||||||||||
| Package 117/526 | Hostname | OS / Arch | INSTALL | BUILD | BUILD BIN | ||||||||||||
| csaw 1.32.0 (landing page) Aaron Lun
| kjohnson | macOS 13.0 Ventura / arm64 | OK | OK | OK | ||||||||||||
| Package 118/526 | Hostname | OS / Arch | INSTALL | BUILD | BUILD BIN | ||||||||||||
| CSSQ 1.10.0 (landing page) Fan Lab at Georgia Institute of Technology
| kjohnson | macOS 13.0 Ventura / arm64 | OK | OK | OK | ||||||||||||
| Package 119/526 | Hostname | OS / Arch | INSTALL | BUILD | BUILD BIN | ||||||||||||
| customProDB 1.38.0 (landing page) Xiaojing Wang
| kjohnson | macOS 13.0 Ventura / arm64 | OK | OK | OK | ||||||||||||
| Package 120/526 | Hostname | OS / Arch | INSTALL | BUILD | BUILD BIN | ||||||||||||
| DAMEfinder 1.10.1 (landing page) Stephany Orjuela
| kjohnson | macOS 13.0 Ventura / arm64 | OK | OK | OK | ||||||||||||
| Package 121/526 | Hostname | OS / Arch | INSTALL | BUILD | BUILD BIN | ||||||||||||
| dasper 1.8.0 (landing page) David Zhang
| kjohnson | macOS 13.0 Ventura / arm64 | OK | ERROR | skipped | ||||||||||||
| Package 122/526 | Hostname | OS / Arch | INSTALL | BUILD | BUILD BIN | ||||||||||||
| debrowser 1.26.3 (landing page) Alper Kucukural
| kjohnson | macOS 13.0 Ventura / arm64 | OK | OK | OK | ||||||||||||
| Package 123/526 | Hostname | OS / Arch | INSTALL | BUILD | BUILD BIN | ||||||||||||
| decompTumor2Sig 2.14.0 (landing page) Rosario M. Piro
| kjohnson | macOS 13.0 Ventura / arm64 | OK | TIMEOUT | skipped | ||||||||||||
| Package 124/526 | Hostname | OS / Arch | INSTALL | BUILD | BUILD BIN | ||||||||||||
| deconvR 1.4.5 (landing page) Irem B. G�nd�z
| kjohnson | macOS 13.0 Ventura / arm64 | OK | OK | OK | ||||||||||||
| Package 125/526 | Hostname | OS / Arch | INSTALL | BUILD | BUILD BIN | ||||||||||||
| DeepBlueR 1.24.1 (landing page) Felipe Albrecht
| kjohnson | macOS 13.0 Ventura / arm64 | OK | OK | OK | ||||||||||||
| Package 126/526 | Hostname | OS / Arch | INSTALL | BUILD | BUILD BIN | ||||||||||||
| deepSNV 1.44.0 (landing page) Moritz Gerstung
| kjohnson | macOS 13.0 Ventura / arm64 | OK | OK | OK | ||||||||||||
| Package 127/526 | Hostname | OS / Arch | INSTALL | BUILD | BUILD BIN | ||||||||||||
| DEFormats 1.26.0 (landing page) Andrzej Oleś
| kjohnson | macOS 13.0 Ventura / arm64 | OK | OK | OK | ||||||||||||
| Package 128/526 | Hostname | OS / Arch | INSTALL | BUILD | BUILD BIN | ||||||||||||
| DegNorm 1.8.2 (landing page) Ji-Ping Wang
| kjohnson | macOS 13.0 Ventura / arm64 | OK | OK | OK | ||||||||||||
| Package 129/526 | Hostname | OS / Arch | INSTALL | BUILD | BUILD BIN | ||||||||||||
| deltaCaptureC 1.12.0 (landing page) Michael Shapiro
| kjohnson | macOS 13.0 Ventura / arm64 | OK | OK | OK | ||||||||||||
| Package 130/526 | Hostname | OS / Arch | INSTALL | BUILD | BUILD BIN | ||||||||||||
| derfinder 1.32.0 (landing page) Leonardo Collado-Torres
| kjohnson | macOS 13.0 Ventura / arm64 | OK | OK | OK | ||||||||||||
| Package 131/526 | Hostname | OS / Arch | INSTALL | BUILD | BUILD BIN | ||||||||||||
| derfinderPlot 1.32.0 (landing page) Leonardo Collado-Torres
| kjohnson | macOS 13.0 Ventura / arm64 | OK | OK | OK | ||||||||||||
| Package 132/526 | Hostname | OS / Arch | INSTALL | BUILD | BUILD BIN | ||||||||||||
| DEScan2 1.18.2 (landing page) Dario Righelli
| kjohnson | macOS 13.0 Ventura / arm64 | OK | OK | OK | ||||||||||||
| Package 133/526 | Hostname | OS / Arch | INSTALL | BUILD | BUILD BIN | ||||||||||||
| DESeq2 1.38.3 (landing page) Michael Love
| kjohnson | macOS 13.0 Ventura / arm64 | OK | OK | OK | ||||||||||||
| Package 134/526 | Hostname | OS / Arch | INSTALL | BUILD | BUILD BIN | ||||||||||||
| DEWSeq 1.12.0 (landing page) bioinformatics team Hentze
| kjohnson | macOS 13.0 Ventura / arm64 | OK | OK | OK | ||||||||||||
| Package 135/526 | Hostname | OS / Arch | INSTALL | BUILD | BUILD BIN | ||||||||||||
| DEXSeq 1.44.0 (landing page) Alejandro Reyes
| kjohnson | macOS 13.0 Ventura / arm64 | OK | OK | OK | ||||||||||||
| Package 136/526 | Hostname | OS / Arch | INSTALL | BUILD | BUILD BIN | ||||||||||||
| DiffBind 3.8.4 (landing page) Rory Stark
| kjohnson | macOS 13.0 Ventura / arm64 | OK | OK | OK | ||||||||||||
| Package 137/526 | Hostname | OS / Arch | INSTALL | BUILD | BUILD BIN | ||||||||||||
| diffHic 1.30.0 (landing page) Aaron Lun
| kjohnson | macOS 13.0 Ventura / arm64 | OK | OK | OK | ||||||||||||
| Package 138/526 | Hostname | OS / Arch | INSTALL | BUILD | BUILD BIN | ||||||||||||
| diffUTR 1.6.0 (landing page) Pierre-Luc Germain
| kjohnson | macOS 13.0 Ventura / arm64 | OK | OK | OK | ||||||||||||
| Package 139/526 | Hostname | OS / Arch | INSTALL | BUILD | BUILD BIN | ||||||||||||
| DMCFB 1.12.0 (landing page) Farhad Shokoohi
| kjohnson | macOS 13.0 Ventura / arm64 | OK | OK | OK | ||||||||||||
| Package 140/526 | Hostname | OS / Arch | INSTALL | BUILD | BUILD BIN | ||||||||||||
| DMCHMM 1.20.0 (landing page) Farhad Shokoohi
| kjohnson | macOS 13.0 Ventura / arm64 | OK | OK | OK | ||||||||||||
| Package 141/526 | Hostname | OS / Arch | INSTALL | BUILD | BUILD BIN | ||||||||||||
| DMRcaller 1.30.0 (landing page) Nicolae Radu Zabet
| kjohnson | macOS 13.0 Ventura / arm64 | OK | OK | OK | ||||||||||||
| Package 142/526 | Hostname | OS / Arch | INSTALL | BUILD | BUILD BIN | ||||||||||||
| DMRcate 2.12.0 (landing page) Tim Peters
| kjohnson | macOS 13.0 Ventura / arm64 | OK | OK | OK | ||||||||||||
| Package 143/526 | Hostname | OS / Arch | INSTALL | BUILD | BUILD BIN | ||||||||||||
| DMRforPairs 1.34.0 (landing page) Martin Rijlaarsdam
| kjohnson | macOS 13.0 Ventura / arm64 | OK | OK | OK | ||||||||||||
| Package 144/526 | Hostname | OS / Arch | INSTALL | BUILD | BUILD BIN | ||||||||||||
| DMRScan 1.20.0 (landing page) Christian M Page
| kjohnson | macOS 13.0 Ventura / arm64 | OK | OK | OK | ||||||||||||
| Package 145/526 | Hostname | OS / Arch | INSTALL | BUILD | BUILD BIN | ||||||||||||
| dmrseq 1.18.1 (landing page) Keegan Korthauer
| kjohnson | macOS 13.0 Ventura / arm64 | OK | OK | OK | ||||||||||||
| Package 146/526 | Hostname | OS / Arch | INSTALL | BUILD | BUILD BIN | ||||||||||||
| DNAfusion 1.0.0 (landing page) Christoffer Trier Maansson
| kjohnson | macOS 13.0 Ventura / arm64 | OK | OK | OK | ||||||||||||
| Package 147/526 | Hostname | OS / Arch | INSTALL | BUILD | BUILD BIN | ||||||||||||
| DNAshapeR 1.26.0 (landing page) Tsu-Pei Chiu
| kjohnson | macOS 13.0 Ventura / arm64 | OK | OK | OK | ||||||||||||
| Package 148/526 | Hostname | OS / Arch | INSTALL | BUILD | BUILD BIN | ||||||||||||
| DominoEffect 1.18.0 (landing page) Marija Buljan
| kjohnson | macOS 13.0 Ventura / arm64 | OK | OK | OK | ||||||||||||
| Package 149/526 | Hostname | OS / Arch | INSTALL | BUILD | BUILD BIN | ||||||||||||
| DRIMSeq 1.26.0 (landing page) Malgorzata Nowicka
| kjohnson | macOS 13.0 Ventura / arm64 | OK | OK | OK | ||||||||||||
| Package 150/526 | Hostname | OS / Arch | INSTALL | BUILD | BUILD BIN | ||||||||||||
| DropletUtils 1.18.1 (landing page) Jonathan Griffiths
| kjohnson | macOS 13.0 Ventura / arm64 | OK | OK | OK | ||||||||||||
| Package 151/526 | Hostname | OS / Arch | INSTALL | BUILD | BUILD BIN | ||||||||||||
| easyRNASeq 2.34.0 (landing page) Nicolas Delhomme
| kjohnson | macOS 13.0 Ventura / arm64 | OK | OK | OK | ||||||||||||
| Package 152/526 | Hostname | OS / Arch | INSTALL | BUILD | BUILD BIN | ||||||||||||
| EDASeq 2.32.0 (landing page) Davide Risso
| kjohnson | macOS 13.0 Ventura / arm64 | OK | OK | OK | ||||||||||||
| Package 153/526 | Hostname | OS / Arch | INSTALL | BUILD | BUILD BIN | ||||||||||||
| eisaR 1.10.0 (landing page) Michael Stadler
| kjohnson | macOS 13.0 Ventura / arm64 | OK | OK | OK | ||||||||||||
| Package 154/526 | Hostname | OS / Arch | INSTALL | BUILD | BUILD BIN | ||||||||||||
| ELMER 2.22.0 (landing page) Tiago Chedraoui Silva
| kjohnson | macOS 13.0 Ventura / arm64 | OK | OK | OK | ||||||||||||
| Package 155/526 | Hostname | OS / Arch | INSTALL | BUILD | BUILD BIN | ||||||||||||
| enhancerHomologSearch 1.4.2 (landing page) Jianhong Ou
| kjohnson | macOS 13.0 Ventura / arm64 | OK | OK | OK | ||||||||||||
| Package 156/526 | Hostname | OS / Arch | INSTALL | BUILD | BUILD BIN | ||||||||||||
| EnrichedHeatmap 1.28.1 (landing page) Zuguang Gu
| kjohnson | macOS 13.0 Ventura / arm64 | OK | OK | OK | ||||||||||||
| Package 157/526 | Hostname | OS / Arch | INSTALL | BUILD | BUILD BIN | ||||||||||||
| enrichTF 1.14.0 (landing page) Zheng Wei
| kjohnson | macOS 13.0 Ventura / arm64 | OK | OK | OK | ||||||||||||
| Package 158/526 | Hostname | OS / Arch | INSTALL | BUILD | BUILD BIN | ||||||||||||
| ensembldb 2.22.0 (landing page) Johannes Rainer
| kjohnson | macOS 13.0 Ventura / arm64 | OK | OK | OK | ||||||||||||
| Package 159/526 | Hostname | OS / Arch | INSTALL | BUILD | BUILD BIN | ||||||||||||
| ensemblVEP 1.40.0 (landing page) Bioconductor Package Maintainer
| kjohnson | macOS 13.0 Ventura / arm64 | OK | ERROR | skipped | ||||||||||||
| Package 160/526 | Hostname | OS / Arch | INSTALL | BUILD | BUILD BIN | ||||||||||||
| epialleleR 1.6.1 (landing page) Oleksii Nikolaienko
| kjohnson | macOS 13.0 Ventura / arm64 | OK | OK | OK | ||||||||||||
| Package 161/526 | Hostname | OS / Arch | INSTALL | BUILD | BUILD BIN | ||||||||||||
| EpiCompare 1.2.0 (landing page) Sera Choi
| kjohnson | macOS 13.0 Ventura / arm64 | OK | OK | OK | ||||||||||||
| Package 162/526 | Hostname | OS / Arch | INSTALL | BUILD | BUILD BIN | ||||||||||||
| epidecodeR 1.6.0 (landing page) Kandarp Joshi
| kjohnson | macOS 13.0 Ventura / arm64 | OK | OK | OK | ||||||||||||
| Package 163/526 | Hostname | OS / Arch | INSTALL | BUILD | BUILD BIN | ||||||||||||
| epigenomix 1.38.0 (landing page) Hans-Ulrich Klein
| kjohnson | macOS 13.0 Ventura / arm64 | OK | OK | OK | ||||||||||||
| Package 164/526 | Hostname | OS / Arch | INSTALL | BUILD | BUILD BIN | ||||||||||||
| epigraHMM 1.6.4 (landing page) Pedro Baldoni
| kjohnson | macOS 13.0 Ventura / arm64 | OK | OK | OK | ||||||||||||
| Package 165/526 | Hostname | OS / Arch | INSTALL | BUILD | BUILD BIN | ||||||||||||
| epihet 1.14.0 (landing page) Xiaowen Chen
| kjohnson | macOS 13.0 Ventura / arm64 | ERROR | ERROR | skipped | ||||||||||||
| Package 166/526 | Hostname | OS / Arch | INSTALL | BUILD | BUILD BIN | ||||||||||||
| EpiMix 1.0.2 (landing page) Yuanning Zheng
| kjohnson | macOS 13.0 Ventura / arm64 | OK | ERROR | skipped | ||||||||||||
| Package 167/526 | Hostname | OS / Arch | INSTALL | BUILD | BUILD BIN | ||||||||||||
| epimutacions 1.2.0 (landing page) Dolors Pelegri-Siso
| kjohnson | macOS 13.0 Ventura / arm64 | OK | OK | OK | ||||||||||||
| Package 168/526 | Hostname | OS / Arch | INSTALL | BUILD | BUILD BIN | ||||||||||||
| epistack 1.4.0 (landing page) DEVAILLY Guillaume
| kjohnson | macOS 13.0 Ventura / arm64 | OK | OK | OK | ||||||||||||
| Package 169/526 | Hostname | OS / Arch | INSTALL | BUILD | BUILD BIN | ||||||||||||
| EpiTxDb 1.10.0 (landing page) Felix G.M. Ernst
| kjohnson | macOS 13.0 Ventura / arm64 | OK | OK | OK | ||||||||||||
| Package 170/526 | Hostname | OS / Arch | INSTALL | BUILD | BUILD BIN | ||||||||||||
| epivizr 2.28.0 (landing page) Hector Corrada Bravo
| kjohnson | macOS 13.0 Ventura / arm64 | OK | OK | OK | ||||||||||||
| Package 171/526 | Hostname | OS / Arch | INSTALL | BUILD | BUILD BIN | ||||||||||||
| epivizrData 1.26.0 (landing page) Hector Corrada Bravo
| kjohnson | macOS 13.0 Ventura / arm64 | OK | OK | OK | ||||||||||||
| Package 172/526 | Hostname | OS / Arch | INSTALL | BUILD | BUILD BIN | ||||||||||||
| erma 1.14.0 (landing page) VJ Carey
| kjohnson | macOS 13.0 Ventura / arm64 | OK | OK | OK | ||||||||||||
| Package 173/526 | Hostname | OS / Arch | INSTALL | BUILD | BUILD BIN | ||||||||||||
| esATAC 1.20.0 (landing page) Zheng Wei
| kjohnson | macOS 13.0 Ventura / arm64 | OK | OK | OK | ||||||||||||
| Package 174/526 | Hostname | OS / Arch | INSTALL | BUILD | BUILD BIN | ||||||||||||
| EventPointer 3.6.0 (landing page) Juan A. Ferrer-Bonsoms
| kjohnson | macOS 13.0 Ventura / arm64 | OK | OK | OK | ||||||||||||
| Package 175/526 | Hostname | OS / Arch | INSTALL | BUILD | BUILD BIN | ||||||||||||
| ExCluster 1.16.0 (landing page) R. Matthew Tanner
| kjohnson | macOS 13.0 Ventura / arm64 | OK | OK | OK | ||||||||||||
| Package 176/526 | Hostname | OS / Arch | INSTALL | BUILD | BUILD BIN | ||||||||||||
| exomeCopy 1.44.0 (landing page) Michael Love
| kjohnson | macOS 13.0 Ventura / arm64 | OK | OK | OK | ||||||||||||
| Package 177/526 | Hostname | OS / Arch | INSTALL | BUILD | BUILD BIN | ||||||||||||
| exomePeak2 1.10.0 (landing page) Zhen Wei
| kjohnson | macOS 13.0 Ventura / arm64 | OK | OK | OK | ||||||||||||
| Package 178/526 | Hostname | OS / Arch | INSTALL | BUILD | BUILD BIN | ||||||||||||
| extraChIPs 1.2.4 (landing page) Stephen Pederson
| kjohnson | macOS 13.0 Ventura / arm64 | OK | OK | OK | ||||||||||||
| Package 179/526 | Hostname | OS / Arch | INSTALL | BUILD | BUILD BIN | ||||||||||||
| factR 1.0.0 (landing page) Fursham Hamid
| kjohnson | macOS 13.0 Ventura / arm64 | OK | OK | OK | ||||||||||||
| Package 180/526 | Hostname | OS / Arch | INSTALL | BUILD | BUILD BIN | ||||||||||||
| fastseg 1.44.0 (landing page) Alexander Blume
| kjohnson | macOS 13.0 Ventura / arm64 | OK | OK | OK | ||||||||||||
| Package 181/526 | Hostname | OS / Arch | INSTALL | BUILD | BUILD BIN | ||||||||||||
| fCCAC 1.24.0 (landing page) Pedro Madrigal
| kjohnson | macOS 13.0 Ventura / arm64 | OK | OK | OK | ||||||||||||
| Package 182/526 | Hostname | OS / Arch | INSTALL | BUILD | BUILD BIN | ||||||||||||
| fcScan 1.12.0 (landing page) Pierre Khoueiry
| kjohnson | macOS 13.0 Ventura / arm64 | OK | OK | OK | ||||||||||||
| Package 183/526 | Hostname | OS / Arch | INSTALL | BUILD | BUILD BIN | ||||||||||||
| FilterFFPE 1.8.0 (landing page) Lanying Wei
| kjohnson | macOS 13.0 Ventura / arm64 | OK | OK | OK | ||||||||||||
| Package 184/526 | Hostname | OS / Arch | INSTALL | BUILD | BUILD BIN | ||||||||||||
| FindIT2 1.4.0 (landing page) Guandong Shang
| kjohnson | macOS 13.0 Ventura / arm64 | OK | OK | OK | ||||||||||||
| Package 185/526 | Hostname | OS / Arch | INSTALL | BUILD | BUILD BIN | ||||||||||||
| fishpond 2.4.1 (landing page) Michael Love
| kjohnson | macOS 13.0 Ventura / arm64 | OK | OK | OK | ||||||||||||
| Package 186/526 | Hostname | OS / Arch | INSTALL | BUILD | BUILD BIN | ||||||||||||
| FLAMES 1.4.3 (landing page) Oliver Voogd
| kjohnson | macOS 13.0 Ventura / arm64 | OK | OK | OK | ||||||||||||
| Package 187/526 | Hostname | OS / Arch | INSTALL | BUILD | BUILD BIN | ||||||||||||
| FRASER 1.10.2 (landing page) Christian Mertes
| kjohnson | macOS 13.0 Ventura / arm64 | OK | OK | OK | ||||||||||||
| Package 188/526 | Hostname | OS / Arch | INSTALL | BUILD | BUILD BIN | ||||||||||||
| FunChIP 1.24.0 (landing page) Alice Parodi
| kjohnson | macOS 13.0 Ventura / arm64 | OK | OK | OK | ||||||||||||
| Package 189/526 | Hostname | OS / Arch | INSTALL | BUILD | BUILD BIN | ||||||||||||
| GA4GHclient 1.22.0 (landing page) Welliton Souza
| kjohnson | macOS 13.0 Ventura / arm64 | OK | OK | OK | ||||||||||||
| Package 190/526 | Hostname | OS / Arch | INSTALL | BUILD | BUILD BIN | ||||||||||||
| gcapc 1.22.0 (landing page) Mingxiang Teng
| kjohnson | macOS 13.0 Ventura / arm64 | OK | OK | OK | ||||||||||||
| Package 191/526 | Hostname | OS / Arch | INSTALL | BUILD | BUILD BIN | ||||||||||||
| genbankr 1.26.0 (landing page) Gabriel Becker
| kjohnson | macOS 13.0 Ventura / arm64 | OK | OK | OK | ||||||||||||
| Package 192/526 | Hostname | OS / Arch | INSTALL | BUILD | BUILD BIN | ||||||||||||
| geneAttribution 1.24.0 (landing page) Arthur Wuster
| kjohnson | macOS 13.0 Ventura / arm64 | OK | OK | OK | ||||||||||||
| Package 193/526 | Hostname | OS / Arch | INSTALL | BUILD | BUILD BIN | ||||||||||||
| GeneBreak 1.28.0 (landing page) Evert van den Broek
| kjohnson | macOS 13.0 Ventura / arm64 | OK | OK | OK | ||||||||||||
| Package 194/526 | Hostname | OS / Arch | INSTALL | BUILD | BUILD BIN | ||||||||||||
| GeneGeneInteR 1.24.0 (landing page) Mathieu Emily
| kjohnson | macOS 13.0 Ventura / arm64 | OK | OK | OK | ||||||||||||
| Package 195/526 | Hostname | OS / Arch | INSTALL | BUILD | BUILD BIN | ||||||||||||
| geneRxCluster 1.34.0 (landing page) Charles Berry
| kjohnson | macOS 13.0 Ventura / arm64 | OK | OK | OK | ||||||||||||
| Package 196/526 | Hostname | OS / Arch | INSTALL | BUILD | BUILD BIN | ||||||||||||
| GENESIS 2.28.0 (landing page) Stephanie M. Gogarten
| kjohnson | macOS 13.0 Ventura / arm64 | OK | OK | OK | ||||||||||||
| Package 197/526 | Hostname | OS / Arch | INSTALL | BUILD | BUILD BIN | ||||||||||||
| GeneStructureTools 1.18.0 (landing page) Beth Signal
| kjohnson | macOS 13.0 Ventura / arm64 | OK | OK | OK | ||||||||||||
| Package 198/526 | Hostname | OS / Arch | INSTALL | BUILD | BUILD BIN | ||||||||||||
| genomation 1.30.0 (landing page) Altuna Akalin
| kjohnson | macOS 13.0 Ventura / arm64 | OK | OK | OK | ||||||||||||
| Package 199/526 | Hostname | OS / Arch | INSTALL | BUILD | BUILD BIN | ||||||||||||
| GenomAutomorphism 1.0.3 (landing page) Robersy Sanchez
| kjohnson | macOS 13.0 Ventura / arm64 | OK | OK | OK | ||||||||||||
| Package 200/526 | Hostname | OS / Arch | INSTALL | BUILD | BUILD BIN | ||||||||||||
| genomeIntervals 1.54.0 (landing page) Julien Gagneur
| kjohnson | macOS 13.0 Ventura / arm64 | OK | OK | OK | ||||||||||||
| Package 201/526 | Hostname | OS / Arch | INSTALL | BUILD | BUILD BIN | ||||||||||||
| GenomicAlignments 1.34.1 (landing page) Hervé Pagès
| kjohnson | macOS 13.0 Ventura / arm64 | OK | OK | OK | ||||||||||||
| Package 202/526 | Hostname | OS / Arch | INSTALL | BUILD | BUILD BIN | ||||||||||||
| GenomicDataCommons 1.22.3 (landing page) Sean Davis
| kjohnson | macOS 13.0 Ventura / arm64 | OK | OK | OK | ||||||||||||
| Package 203/526 | Hostname | OS / Arch | INSTALL | BUILD | BUILD BIN | ||||||||||||
| GenomicDistributions 1.6.0 (landing page) Kristyna Kupkova
| kjohnson | macOS 13.0 Ventura / arm64 | OK | OK | OK | ||||||||||||
| Package 204/526 | Hostname | OS / Arch | INSTALL | BUILD | BUILD BIN | ||||||||||||
| GenomicFeatures 1.50.4 (landing page) H. Pagès
| kjohnson | macOS 13.0 Ventura / arm64 | OK | OK | OK | ||||||||||||
| Package 205/526 | Hostname | OS / Arch | INSTALL | BUILD | BUILD BIN | ||||||||||||
| GenomicFiles 1.34.0 (landing page) Bioconductor Package Maintainer
| kjohnson | macOS 13.0 Ventura / arm64 | OK | OK | OK | ||||||||||||
| Package 206/526 | Hostname | OS / Arch | INSTALL | BUILD | BUILD BIN | ||||||||||||
| GenomicInteractionNodes 1.2.0 (landing page) Jianhong Ou
| kjohnson | macOS 13.0 Ventura / arm64 | OK | OK | OK | ||||||||||||
| Package 207/526 | Hostname | OS / Arch | INSTALL | BUILD | BUILD BIN | ||||||||||||
| GenomicInteractions 1.32.0 (landing page) Liz Ing-Simmons
| kjohnson | macOS 13.0 Ventura / arm64 | OK | OK | OK | ||||||||||||
| Package 208/526 | Hostname | OS / Arch | INSTALL | BUILD | BUILD BIN | ||||||||||||
| GenomicOZone 1.12.0 (landing page) Hua Zhong
| kjohnson | macOS 13.0 Ventura / arm64 | OK | OK | OK | ||||||||||||
| Package 209/526 | Hostname | OS / Arch | INSTALL | BUILD | BUILD BIN | ||||||||||||
| GenomicScores 2.10.0 (landing page) Robert Castelo
| kjohnson | macOS 13.0 Ventura / arm64 | OK | OK | OK | ||||||||||||
| Package 210/526 | Hostname | OS / Arch | INSTALL | BUILD | BUILD BIN | ||||||||||||
| GenomicTuples 1.32.0 (landing page) Peter Hickey
| kjohnson | macOS 13.0 Ventura / arm64 | OK | OK | OK | ||||||||||||
| Package 211/526 | Hostname | OS / Arch | INSTALL | BUILD | BUILD BIN | ||||||||||||
| genotypeeval 1.30.0 (landing page) Jennifer Tom
| kjohnson | macOS 13.0 Ventura / arm64 | OK | OK | OK | ||||||||||||
| Package 212/526 | Hostname | OS / Arch | INSTALL | BUILD | BUILD BIN | ||||||||||||
| GenVisR 1.30.0 (landing page) Zachary Skidmore
| kjohnson | macOS 13.0 Ventura / arm64 | OK | OK | OK | ||||||||||||
| Package 213/526 | Hostname | OS / Arch | INSTALL | BUILD | BUILD BIN | ||||||||||||
| ggbio 1.46.0 (landing page) Michael Lawrence
| kjohnson | macOS 13.0 Ventura / arm64 | OK | OK | OK | ||||||||||||
| Package 214/526 | Hostname | OS / Arch | INSTALL | BUILD | BUILD BIN | ||||||||||||
| gmapR 1.40.0 (landing page) Michael Lawrence
| kjohnson | macOS 13.0 Ventura / arm64 | ERROR | ERROR | skipped | ||||||||||||
| Package 215/526 | Hostname | OS / Arch | INSTALL | BUILD | BUILD BIN | ||||||||||||
| gmoviz 1.10.0 (landing page) Kathleen Zeglinski
| kjohnson | macOS 13.0 Ventura / arm64 | OK | OK | OK | ||||||||||||
| Package 216/526 | Hostname | OS / Arch | INSTALL | BUILD | BUILD BIN | ||||||||||||
| GMRP 1.26.0 (landing page) Yuan-De Tan
| kjohnson | macOS 13.0 Ventura / arm64 | OK | OK | OK | ||||||||||||
| Package 217/526 | Hostname | OS / Arch | INSTALL | BUILD | BUILD BIN | ||||||||||||
| GOfuncR 1.18.0 (landing page) Steffi Grote
| kjohnson | macOS 13.0 Ventura / arm64 | OK | OK | OK | ||||||||||||
| Package 218/526 | Hostname | OS / Arch | INSTALL | BUILD | BUILD BIN | ||||||||||||
| GOTHiC 1.34.0 (landing page) Borbala Mifsud
| kjohnson | macOS 13.0 Ventura / arm64 | OK | OK | OK | ||||||||||||
| Package 219/526 | Hostname | OS / Arch | INSTALL | BUILD | BUILD BIN | ||||||||||||
Sun Ah Kim
| kjohnson | macOS 13.0 Ventura / arm64 | ERROR | ERROR | skipped | ||||||||||||
| Package 220/526 | Hostname | OS / Arch | INSTALL | BUILD | BUILD BIN | ||||||||||||
| GRaNIE 1.2.7 (landing page) Christian Arnold
| kjohnson | macOS 13.0 Ventura / arm64 | OK | OK | OK | ||||||||||||
| Package 221/526 | Hostname | OS / Arch | INSTALL | BUILD | BUILD BIN | ||||||||||||
| GreyListChIP 1.30.0 (landing page) Rory Stark
| kjohnson | macOS 13.0 Ventura / arm64 | OK | OK | OK | ||||||||||||
| Package 222/526 | Hostname | OS / Arch | INSTALL | BUILD | BUILD BIN | ||||||||||||
| groHMM 1.32.0 (landing page) Tulip Nandu
| kjohnson | macOS 13.0 Ventura / arm64 | OK | OK | OK | ||||||||||||
| Package 223/526 | Hostname | OS / Arch | INSTALL | BUILD | BUILD BIN | ||||||||||||
| gtrellis 1.30.0 (landing page) Zuguang Gu
| kjohnson | macOS 13.0 Ventura / arm64 | OK | OK | OK | ||||||||||||
| Package 224/526 | Hostname | OS / Arch | INSTALL | BUILD | BUILD BIN | ||||||||||||
| GUIDEseq 1.28.0 (landing page) Lihua Julie Zhu
| kjohnson | macOS 13.0 Ventura / arm64 | OK | OK | OK | ||||||||||||
| Package 225/526 | Hostname | OS / Arch | INSTALL | BUILD | BUILD BIN | ||||||||||||
| Guitar 2.14.0 (landing page) Jia Meng
| kjohnson | macOS 13.0 Ventura / arm64 | OK | OK | OK | ||||||||||||
| Package 226/526 | Hostname | OS / Arch | INSTALL | BUILD | BUILD BIN | ||||||||||||
| Gviz 1.42.1 (landing page) Robert Ivanek
| kjohnson | macOS 13.0 Ventura / arm64 | OK | OK | OK | ||||||||||||
| Package 227/526 | Hostname | OS / Arch | INSTALL | BUILD | BUILD BIN | ||||||||||||
| gwascat 2.30.0 (landing page) VJ Carey
| kjohnson | macOS 13.0 Ventura / arm64 | OK | OK | OK | ||||||||||||
| Package 228/526 | Hostname | OS / Arch | INSTALL | BUILD | BUILD BIN | ||||||||||||
| h5vc 2.32.0 (landing page) Paul Theodor Pyl
| kjohnson | macOS 13.0 Ventura / arm64 | OK | OK | OK | ||||||||||||
| Package 229/526 | Hostname | OS / Arch | INSTALL | BUILD | BUILD BIN | ||||||||||||
| heatmaps 1.22.0 (landing page) Malcolm Perry
| kjohnson | macOS 13.0 Ventura / arm64 | OK | OK | OK | ||||||||||||
| Package 230/526 | Hostname | OS / Arch | INSTALL | BUILD | BUILD BIN | ||||||||||||
| HelloRanges 1.24.0 (landing page) Michael Lawrence
| kjohnson | macOS 13.0 Ventura / arm64 | OK | OK | OK | ||||||||||||
| Package 231/526 | Hostname | OS / Arch | INSTALL | BUILD | BUILD BIN | ||||||||||||
| hermes 1.2.0 (landing page) Daniel Sabanés Bové
| kjohnson | macOS 13.0 Ventura / arm64 | OK | OK | OK | ||||||||||||
| Package 232/526 | Hostname | OS / Arch | INSTALL | BUILD | BUILD BIN | ||||||||||||
| hiAnnotator 1.32.0 (landing page) Nirav V Malani
| kjohnson | macOS 13.0 Ventura / arm64 | OK | OK | OK | ||||||||||||
| Package 233/526 | Hostname | OS / Arch | INSTALL | BUILD | BUILD BIN | ||||||||||||
| HiCBricks 1.16.0 (landing page) Koustav Pal
| kjohnson | macOS 13.0 Ventura / arm64 | OK | OK | OK | ||||||||||||
| Package 234/526 | Hostname | OS / Arch | INSTALL | BUILD | BUILD BIN | ||||||||||||
| HiCcompare 1.20.0 (landing page) John Stansfield
| kjohnson | macOS 13.0 Ventura / arm64 | OK | OK | OK | ||||||||||||
| Package 235/526 | Hostname | OS / Arch | INSTALL | BUILD | BUILD BIN | ||||||||||||
| HiCDCPlus 1.6.0 (landing page) Merve Sahin
| kjohnson | macOS 13.0 Ventura / arm64 | OK | OK | OK | ||||||||||||
| Package 236/526 | Hostname | OS / Arch | INSTALL | BUILD | BUILD BIN | ||||||||||||
| HiCDOC 1.0.0 (landing page) Maigné Élise
| kjohnson | macOS 13.0 Ventura / arm64 | OK | OK | OK | ||||||||||||
| Package 237/526 | Hostname | OS / Arch | INSTALL | BUILD | BUILD BIN | ||||||||||||
| HiContacts 1.0.0 (landing page) Jacques Serizay
| kjohnson | macOS 13.0 Ventura / arm64 | OK | OK | OK | ||||||||||||
| Package 238/526 | Hostname | OS / Arch | INSTALL | BUILD | BUILD BIN | ||||||||||||
| HilbertCurve 1.28.0 (landing page) Zuguang Gu
| kjohnson | macOS 13.0 Ventura / arm64 | OK | OK | OK | ||||||||||||
| Package 239/526 | Hostname | OS / Arch | INSTALL | BUILD | BUILD BIN | ||||||||||||
| HiLDA 1.12.0 (landing page) Zhi Yang
| kjohnson | macOS 13.0 Ventura / arm64 | OK | OK | OK | ||||||||||||
| Package 240/526 | Hostname | OS / Arch | INSTALL | BUILD | BUILD BIN | ||||||||||||
| hiReadsProcessor 1.34.0 (landing page) Nirav V Malani
| kjohnson | macOS 13.0 Ventura / arm64 | OK | OK | OK | ||||||||||||
| Package 241/526 | Hostname | OS / Arch | INSTALL | BUILD | BUILD BIN | ||||||||||||
| HiTC 1.42.0 (landing page) Nicolas Servant
| kjohnson | macOS 13.0 Ventura / arm64 | OK | OK | OK | ||||||||||||
| Package 242/526 | Hostname | OS / Arch | INSTALL | BUILD | BUILD BIN | ||||||||||||
| hummingbird 1.8.0 (landing page) Eleni Adam
| kjohnson | macOS 13.0 Ventura / arm64 | OK | OK | OK | ||||||||||||
| Package 243/526 | Hostname | OS / Arch | INSTALL | BUILD | BUILD BIN | ||||||||||||
| icetea 1.16.0 (landing page) Vivek Bhardwaj
| kjohnson | macOS 13.0 Ventura / arm64 | OK | OK | OK | ||||||||||||
| Package 244/526 | Hostname | OS / Arch | INSTALL | BUILD | BUILD BIN | ||||||||||||
| ideal 1.22.0 (landing page) Federico Marini
| kjohnson | macOS 13.0 Ventura / arm64 | OK | OK | OK | ||||||||||||
| Package 245/526 | Hostname | OS / Arch | INSTALL | BUILD | BUILD BIN | ||||||||||||
| IdeoViz 1.34.0 (landing page) Shraddha Pai
| kjohnson | macOS 13.0 Ventura / arm64 | OK | OK | OK | ||||||||||||
| Package 246/526 | Hostname | OS / Arch | INSTALL | BUILD | BUILD BIN | ||||||||||||
| idr2d 1.12.0 (landing page) Konstantin Krismer
| kjohnson | macOS 13.0 Ventura / arm64 | OK | OK | OK | ||||||||||||
| Package 247/526 | Hostname | OS / Arch | INSTALL | BUILD | BUILD BIN | ||||||||||||
| igvR 1.18.1 (landing page) Paul Shannon
| kjohnson | macOS 13.0 Ventura / arm64 | OK | OK | OK | ||||||||||||
| Package 248/526 | Hostname | OS / Arch | INSTALL | BUILD | BUILD BIN | ||||||||||||
| IMAS 1.22.0 (landing page) Seonggyun Han
| kjohnson | macOS 13.0 Ventura / arm64 | OK | OK | OK | ||||||||||||
| Package 249/526 | Hostname | OS / Arch | INSTALL | BUILD | BUILD BIN | ||||||||||||
| InPAS 2.6.0 (landing page) Jianhong Ou
| kjohnson | macOS 13.0 Ventura / arm64 | OK | OK | OK | ||||||||||||
| Package 250/526 | Hostname | OS / Arch | INSTALL | BUILD | BUILD BIN | ||||||||||||
| INSPEcT 1.28.0 (landing page) Stefano de Pretis
| kjohnson | macOS 13.0 Ventura / arm64 | OK | OK | OK | ||||||||||||
| Package 251/526 | Hostname | OS / Arch | INSTALL | BUILD | BUILD BIN | ||||||||||||
| InTAD 1.18.0 (landing page) Konstantin Okonechnikov
| kjohnson | macOS 13.0 Ventura / arm64 | OK | OK | OK | ||||||||||||
| Package 252/526 | Hostname | OS / Arch | INSTALL | BUILD | BUILD BIN | ||||||||||||
| intansv 1.38.0 (landing page) Wen Yao
| kjohnson | macOS 13.0 Ventura / arm64 | OK | OK | OK | ||||||||||||
| Package 253/526 | Hostname | OS / Arch | INSTALL | BUILD | BUILD BIN | ||||||||||||
| InteractionSet 1.26.1 (landing page) Aaron Lun
| kjohnson | macOS 13.0 Ventura / arm64 | OK | OK | OK | ||||||||||||
| Package 254/526 | Hostname | OS / Arch | INSTALL | BUILD | BUILD BIN | ||||||||||||
| IntEREst 1.22.2 (landing page) Ali Oghabian
| kjohnson | macOS 13.0 Ventura / arm64 | OK | OK | OK | ||||||||||||
| Package 255/526 | Hostname | OS / Arch | INSTALL | BUILD | BUILD BIN | ||||||||||||
| InterMineR 1.20.0 (landing page) InterMine Team
| kjohnson | macOS 13.0 Ventura / arm64 | OK | OK | OK | ||||||||||||
| Package 256/526 | Hostname | OS / Arch | INSTALL | BUILD | BUILD BIN | ||||||||||||
| ipdDb 1.16.0 (landing page) Steffen Klasberg
| kjohnson | macOS 13.0 Ventura / arm64 | OK | OK | OK | ||||||||||||
| Package 257/526 | Hostname | OS / Arch | INSTALL | BUILD | BUILD BIN | ||||||||||||
| IsoformSwitchAnalyzeR 1.20.0 (landing page) Kristoffer Vitting-Seerup
| kjohnson | macOS 13.0 Ventura / arm64 | OK | OK | OK | ||||||||||||
| Package 258/526 | Hostname | OS / Arch | INSTALL | BUILD | BUILD BIN | ||||||||||||
| isomiRs 1.26.0 (landing page) Lorena Pantano
| kjohnson | macOS 13.0 Ventura / arm64 | OK | OK | OK | ||||||||||||
| Package 259/526 | Hostname | OS / Arch | INSTALL | BUILD | BUILD BIN | ||||||||||||
Jiacheng Chuan
| kjohnson | macOS 13.0 Ventura / arm64 | OK | ERROR | skipped | ||||||||||||
| Package 260/526 | Hostname | OS / Arch | INSTALL | BUILD | BUILD BIN | ||||||||||||
| IVAS 2.18.0 (landing page) Seonggyun Han
| kjohnson | macOS 13.0 Ventura / arm64 | OK | OK | OK | ||||||||||||
| Package 261/526 | Hostname | OS / Arch | INSTALL | BUILD | BUILD BIN | ||||||||||||
| IWTomics 1.22.0 (landing page) Marzia A Cremona
| kjohnson | macOS 13.0 Ventura / arm64 | OK | OK | OK | ||||||||||||
| Package 262/526 | Hostname | OS / Arch | INSTALL | BUILD | BUILD BIN | ||||||||||||
| karyoploteR 1.24.0 (landing page) Bernat Gel
| kjohnson | macOS 13.0 Ventura / arm64 | OK | OK | OK | ||||||||||||
| Package 263/526 | Hostname | OS / Arch | INSTALL | BUILD | BUILD BIN | ||||||||||||
| katdetectr 1.0.0 (landing page) Daan Hazelaar
| kjohnson | macOS 13.0 Ventura / arm64 | OK | OK | OK | ||||||||||||
| Package 264/526 | Hostname | OS / Arch | INSTALL | BUILD | BUILD BIN | ||||||||||||
| loci2path 1.18.0 (landing page) Tianlei Xu
| kjohnson | macOS 13.0 Ventura / arm64 | OK | OK | OK | ||||||||||||
| Package 265/526 | Hostname | OS / Arch | INSTALL | BUILD | BUILD BIN | ||||||||||||
| LOLA 1.28.0 (landing page) Nathan Sheffield
| kjohnson | macOS 13.0 Ventura / arm64 | OK | OK | OK | ||||||||||||
| Package 266/526 | Hostname | OS / Arch | INSTALL | BUILD | BUILD BIN | ||||||||||||
| LoomExperiment 1.16.0 (landing page) Bioconductor Package Maintainer
| kjohnson | macOS 13.0 Ventura / arm64 | OK | OK | OK | ||||||||||||
| Package 267/526 | Hostname | OS / Arch | INSTALL | BUILD | BUILD BIN | ||||||||||||
| lumi 2.50.0 (landing page) Lei Huang
| kjohnson | macOS 13.0 Ventura / arm64 | OK | OK | OK | ||||||||||||
| Package 268/526 | Hostname | OS / Arch | INSTALL | BUILD | BUILD BIN | ||||||||||||
| m6Aboost 1.4.0 (landing page) You Zhou
| kjohnson | macOS 13.0 Ventura / arm64 | OK | OK | OK | ||||||||||||
| Package 269/526 | Hostname | OS / Arch | INSTALL | BUILD | BUILD BIN | ||||||||||||
Ioannis Vardaxis
| kjohnson | macOS 13.0 Ventura / arm64 | ERROR | ERROR | skipped | ||||||||||||
| Package 270/526 | Hostname | OS / Arch | INSTALL | BUILD | BUILD BIN | ||||||||||||
| MADSEQ 1.24.0 (landing page) Yu Kong
| kjohnson | macOS 13.0 Ventura / arm64 | OK | OK | OK | ||||||||||||
| Package 271/526 | Hostname | OS / Arch | INSTALL | BUILD | BUILD BIN | ||||||||||||
| maser 1.16.0 (landing page) Diogo F.T. Veiga
| kjohnson | macOS 13.0 Ventura / arm64 | OK | OK | OK | ||||||||||||
| Package 272/526 | Hostname | OS / Arch | INSTALL | BUILD | BUILD BIN | ||||||||||||
| MBASED 1.32.0 (landing page) Oleg Mayba
| kjohnson | macOS 13.0 Ventura / arm64 | OK | OK | OK | ||||||||||||
| Package 273/526 | Hostname | OS / Arch | INSTALL | BUILD | BUILD BIN | ||||||||||||
| mCSEA 1.18.0 (landing page) Jordi Martorell-Marugán
| kjohnson | macOS 13.0 Ventura / arm64 | OK | OK | OK | ||||||||||||
| Package 274/526 | Hostname | OS / Arch | INSTALL | BUILD | BUILD BIN | ||||||||||||
| MDTS 1.18.0 (landing page) Jack M.. Fu
| kjohnson | macOS 13.0 Ventura / arm64 | OK | OK | OK | ||||||||||||
| Package 275/526 | Hostname | OS / Arch | INSTALL | BUILD | BUILD BIN | ||||||||||||
| MEAL 1.28.0 (landing page) Xavier Escribà Montagut
| kjohnson | macOS 13.0 Ventura / arm64 | OK | OK | OK | ||||||||||||
| Package 276/526 | Hostname | OS / Arch | INSTALL | BUILD | BUILD BIN | ||||||||||||
| MEDIPS 1.50.0 (landing page) Lukas Chavez
| kjohnson | macOS 13.0 Ventura / arm64 | OK | OK | OK | ||||||||||||
| Package 277/526 | Hostname | OS / Arch | INSTALL | BUILD | BUILD BIN | ||||||||||||
| megadepth 1.8.0 (landing page) David Zhang
| kjohnson | macOS 13.0 Ventura / arm64 | OK | OK | OK | ||||||||||||
| Package 278/526 | Hostname | OS / Arch | INSTALL | BUILD | BUILD BIN | ||||||||||||
| Melissa 1.14.0 (landing page) C. A. Kapourani
| kjohnson | macOS 13.0 Ventura / arm64 | OK | OK | OK | ||||||||||||
| Package 279/526 | Hostname | OS / Arch | INSTALL | BUILD | BUILD BIN | ||||||||||||
| memes 1.6.0 (landing page) Spencer Nystrom
| kjohnson | macOS 13.0 Ventura / arm64 | OK | OK | OK | ||||||||||||
| Package 280/526 | Hostname | OS / Arch | INSTALL | BUILD | BUILD BIN | ||||||||||||
| metagene 2.30.0 (landing page) Charles Joly Beauparlant
| kjohnson | macOS 13.0 Ventura / arm64 | OK | OK | OK | ||||||||||||
| Package 281/526 | Hostname | OS / Arch | INSTALL | BUILD | BUILD BIN | ||||||||||||
| metagene2 1.14.0 (landing page) Eric Fournier
| kjohnson | macOS 13.0 Ventura / arm64 | OK | OK | OK | ||||||||||||
| Package 282/526 | Hostname | OS / Arch | INSTALL | BUILD | BUILD BIN | ||||||||||||
| metaseqR2 1.10.0 (landing page) Panagiotis Moulos
| kjohnson | macOS 13.0 Ventura / arm64 | OK | OK | OK | ||||||||||||
| Package 283/526 | Hostname | OS / Arch | INSTALL | BUILD | BUILD BIN | ||||||||||||
| MethCP 1.12.0 (landing page) Boying Gong
| kjohnson | macOS 13.0 Ventura / arm64 | OK | OK | OK | ||||||||||||
| Package 284/526 | Hostname | OS / Arch | INSTALL | BUILD | BUILD BIN | ||||||||||||
| methimpute 1.20.0 (landing page) Aaron Taudt
| kjohnson | macOS 13.0 Ventura / arm64 | OK | OK | OK | ||||||||||||
| Package 285/526 | Hostname | OS / Arch | INSTALL | BUILD | BUILD BIN | ||||||||||||
| methInheritSim 1.20.0 (landing page) Pascal Belleau
| kjohnson | macOS 13.0 Ventura / arm64 | OK | OK | OK | ||||||||||||
| Package 286/526 | Hostname | OS / Arch | INSTALL | BUILD | BUILD BIN | ||||||||||||
| MethReg 1.8.0 (landing page) Tiago Silva
| kjohnson | macOS 13.0 Ventura / arm64 | OK | OK | OK | ||||||||||||
| Package 287/526 | Hostname | OS / Arch | INSTALL | BUILD | BUILD BIN | ||||||||||||
| methrix 1.12.0 (landing page) Anand Mayakonda
| kjohnson | macOS 13.0 Ventura / arm64 | OK | OK | OK | ||||||||||||
| Package 288/526 | Hostname | OS / Arch | INSTALL | BUILD | BUILD BIN | ||||||||||||
| methylCC 1.12.0 (landing page) Stephanie C. Hicks
| kjohnson | macOS 13.0 Ventura / arm64 | OK | OK | OK | ||||||||||||
| Package 289/526 | Hostname | OS / Arch | INSTALL | BUILD | BUILD BIN | ||||||||||||
| methylInheritance 1.22.0 (landing page) Astrid Deschênes
| kjohnson | macOS 13.0 Ventura / arm64 | OK | OK | OK | ||||||||||||
| Package 290/526 | Hostname | OS / Arch | INSTALL | BUILD | BUILD BIN | ||||||||||||
| methylKit 1.24.0 (landing page) Altuna Akalin
| kjohnson | macOS 13.0 Ventura / arm64 | OK | OK | OK | ||||||||||||
| Package 291/526 | Hostname | OS / Arch | INSTALL | BUILD | BUILD BIN | ||||||||||||
| methylPipe 1.32.0 (landing page) Kamal Kishore
| kjohnson | macOS 13.0 Ventura / arm64 | OK | OK | OK | ||||||||||||
| Package 292/526 | Hostname | OS / Arch | INSTALL | BUILD | BUILD BIN | ||||||||||||
| MethylSeekR 1.38.0 (landing page) Lukas Burger
| kjohnson | macOS 13.0 Ventura / arm64 | OK | OK | OK | ||||||||||||
| Package 293/526 | Hostname | OS / Arch | INSTALL | BUILD | BUILD BIN | ||||||||||||
| methylSig 1.10.0 (landing page) Raymond G. Cavalcante
| kjohnson | macOS 13.0 Ventura / arm64 | OK | OK | OK | ||||||||||||
| Package 294/526 | Hostname | OS / Arch | INSTALL | BUILD | BUILD BIN | ||||||||||||
| methylumi 2.44.0 (landing page) Sean Davis
| kjohnson | macOS 13.0 Ventura / arm64 | OK | OK | OK | ||||||||||||
| Package 295/526 | Hostname | OS / Arch | INSTALL | BUILD | BUILD BIN | ||||||||||||
| minfi 1.44.0 (landing page) Kasper Daniel Hansen
| kjohnson | macOS 13.0 Ventura / arm64 | OK | OK | OK | ||||||||||||
| Package 296/526 | Hostname | OS / Arch | INSTALL | BUILD | BUILD BIN | ||||||||||||
| MinimumDistance 1.42.0 (landing page) Robert Scharpf
| kjohnson | macOS 13.0 Ventura / arm64 | OK | OK | OK | ||||||||||||
| Package 297/526 | Hostname | OS / Arch | INSTALL | BUILD | BUILD BIN | ||||||||||||
| MIRA 1.20.0 (landing page) John Lawson
| kjohnson | macOS 13.0 Ventura / arm64 | OK | OK | OK | ||||||||||||
| Package 298/526 | Hostname | OS / Arch | INSTALL | BUILD | BUILD BIN | ||||||||||||
| missMethyl 1.32.1 (landing page) Belinda Phipson
| kjohnson | macOS 13.0 Ventura / arm64 | OK | OK | OK | ||||||||||||
| Package 299/526 | Hostname | OS / Arch | INSTALL | BUILD | BUILD BIN | ||||||||||||
| mitoClone2 1.4.0 (landing page) Benjamin Story
| kjohnson | macOS 13.0 Ventura / arm64 | OK | OK | OK | ||||||||||||
| Package 300/526 | Hostname | OS / Arch | INSTALL | BUILD | BUILD BIN | ||||||||||||
| MMAPPR2 1.12.0 (landing page) Jonathon Hill
| kjohnson | macOS 13.0 Ventura / arm64 | ERROR | ERROR | skipped | ||||||||||||
| Package 301/526 | Hostname | OS / Arch | INSTALL | BUILD | BUILD BIN | ||||||||||||
| MMDiff2 1.26.0 (landing page) Gabriele Schweikert
| kjohnson | macOS 13.0 Ventura / arm64 | OK | OK | OK | ||||||||||||
| Package 302/526 | Hostname | OS / Arch | INSTALL | BUILD | BUILD BIN | ||||||||||||
| Modstrings 1.14.0 (landing page) Felix G.M. Ernst
| kjohnson | macOS 13.0 Ventura / arm64 | OK | OK | OK | ||||||||||||
| Package 303/526 | Hostname | OS / Arch | INSTALL | BUILD | BUILD BIN | ||||||||||||
| monaLisa 1.4.0 (landing page) Michael Stadler
| kjohnson | macOS 13.0 Ventura / arm64 | OK | OK | OK | ||||||||||||
| Package 304/526 | Hostname | OS / Arch | INSTALL | BUILD | BUILD BIN | ||||||||||||
| mosaics 2.36.0 (landing page) Dongjun Chung
| kjohnson | macOS 13.0 Ventura / arm64 | OK | OK | OK | ||||||||||||
| Package 305/526 | Hostname | OS / Arch | INSTALL | BUILD | BUILD BIN | ||||||||||||
| Motif2Site 1.2.0 (landing page) Peyman Zarrineh
| kjohnson | macOS 13.0 Ventura / arm64 | OK | OK | OK | ||||||||||||
| Package 306/526 | Hostname | OS / Arch | INSTALL | BUILD | BUILD BIN | ||||||||||||
| motifbreakR 2.12.4 (landing page) Simon Gert Coetzee
| kjohnson | macOS 13.0 Ventura / arm64 | OK | TIMEOUT | skipped | ||||||||||||
| Package 307/526 | Hostname | OS / Arch | INSTALL | BUILD | BUILD BIN | ||||||||||||
| MotifDb 1.40.0 (landing page) Paul Shannon
| kjohnson | macOS 13.0 Ventura / arm64 | OK | OK | OK | ||||||||||||
| Package 308/526 | Hostname | OS / Arch | INSTALL | BUILD | BUILD BIN | ||||||||||||
| motifmatchr 1.20.0 (landing page) Alicia Schep
| kjohnson | macOS 13.0 Ventura / arm64 | OK | OK | OK | ||||||||||||
| Package 309/526 | Hostname | OS / Arch | INSTALL | BUILD | BUILD BIN | ||||||||||||
| MouseFM 1.8.0 (landing page) Matthias Munz
| kjohnson | macOS 13.0 Ventura / arm64 | OK | OK | OK | ||||||||||||
| Package 310/526 | Hostname | OS / Arch | INSTALL | BUILD | BUILD BIN | ||||||||||||
| MSA2dist 1.2.0 (landing page) Kristian K Ullrich
| kjohnson | macOS 13.0 Ventura / arm64 | OK | OK | OK | ||||||||||||
| Package 311/526 | Hostname | OS / Arch | INSTALL | BUILD | BUILD BIN | ||||||||||||
| msgbsR 1.22.0 (landing page) Benjamin Mayne
| kjohnson | macOS 13.0 Ventura / arm64 | OK | OK | OK | ||||||||||||
| Package 312/526 | Hostname | OS / Arch | INSTALL | BUILD | BUILD BIN | ||||||||||||
| MultiAssayExperiment 1.24.0 (landing page) Marcel Ramos
| kjohnson | macOS 13.0 Ventura / arm64 | OK | OK | OK | ||||||||||||
| Package 313/526 | Hostname | OS / Arch | INSTALL | BUILD | BUILD BIN | ||||||||||||
| multicrispr 1.8.0 (landing page) Aditya Bhagwat
| kjohnson | macOS 13.0 Ventura / arm64 | OK | OK | OK | ||||||||||||
| Package 314/526 | Hostname | OS / Arch | INSTALL | BUILD | BUILD BIN | ||||||||||||
| MultiDataSet 1.26.0 (landing page) Xavier Escribà Montagut
| kjohnson | macOS 13.0 Ventura / arm64 | OK | OK | OK | ||||||||||||
| Package 315/526 | Hostname | OS / Arch | INSTALL | BUILD | BUILD BIN | ||||||||||||
| multiHiCcompare 1.16.0 (landing page) John Stansfield
| kjohnson | macOS 13.0 Ventura / arm64 | OK | OK | OK | ||||||||||||
| Package 316/526 | Hostname | OS / Arch | INSTALL | BUILD | BUILD BIN | ||||||||||||
| MungeSumstats 1.6.0 (landing page) Alan Murphy
| kjohnson | macOS 13.0 Ventura / arm64 | OK | OK | OK | ||||||||||||
| Package 317/526 | Hostname | OS / Arch | INSTALL | BUILD | BUILD BIN | ||||||||||||
| musicatk 1.8.0 (landing page) Aaron Chevalier
| kjohnson | macOS 13.0 Ventura / arm64 | OK | OK | OK | ||||||||||||
| Package 318/526 | Hostname | OS / Arch | INSTALL | BUILD | BUILD BIN | ||||||||||||
| MutationalPatterns 3.8.1 (landing page) Mark van Roosmalen
| kjohnson | macOS 13.0 Ventura / arm64 | OK | OK | OK | ||||||||||||
| Package 319/526 | Hostname | OS / Arch | INSTALL | BUILD | BUILD BIN | ||||||||||||
| NADfinder 1.22.0 (landing page) Jianhong Ou
| kjohnson | macOS 13.0 Ventura / arm64 | OK | OK | OK | ||||||||||||
| Package 320/526 | Hostname | OS / Arch | INSTALL | BUILD | BUILD BIN | ||||||||||||
| NanoMethViz 2.4.2 (landing page) Shian Su
| kjohnson | macOS 13.0 Ventura / arm64 | OK | OK | OK | ||||||||||||
| Package 321/526 | Hostname | OS / Arch | INSTALL | BUILD | BUILD BIN | ||||||||||||
| nanotatoR 1.14.0 (landing page) Surajit Bhattacharya
| kjohnson | macOS 13.0 Ventura / arm64 | OK | OK | OK | ||||||||||||
| Package 322/526 | Hostname | OS / Arch | INSTALL | BUILD | BUILD BIN | ||||||||||||
| ncRNAtools 1.8.0 (landing page) Lara Selles Vidal
| kjohnson | macOS 13.0 Ventura / arm64 | OK | OK | OK | ||||||||||||
| Package 323/526 | Hostname | OS / Arch | INSTALL | BUILD | BUILD BIN | ||||||||||||
| nearBynding 1.8.0 (landing page) Veronica Busa
| kjohnson | macOS 13.0 Ventura / arm64 | OK | OK | OK | ||||||||||||
| Package 324/526 | Hostname | OS / Arch | INSTALL | BUILD | BUILD BIN | ||||||||||||
| netDx 1.10.0 (landing page) Shraddha Pai
| kjohnson | macOS 13.0 Ventura / arm64 | OK | ERROR | skipped | ||||||||||||
| Package 325/526 | Hostname | OS / Arch | INSTALL | BUILD | BUILD BIN | ||||||||||||
| NoRCE 1.10.0 (landing page) Gulden Olgun
| kjohnson | macOS 13.0 Ventura / arm64 | OK | OK | OK | ||||||||||||
| Package 326/526 | Hostname | OS / Arch | INSTALL | BUILD | BUILD BIN | ||||||||||||
| normr 1.24.0 (landing page) Johannes Helmuth
| kjohnson | macOS 13.0 Ventura / arm64 | OK | OK | OK | ||||||||||||
| Package 327/526 | Hostname | OS / Arch | INSTALL | BUILD | BUILD BIN | ||||||||||||
| nucleR 2.30.0 (landing page) Alba Sala
| kjohnson | macOS 13.0 Ventura / arm64 | OK | OK | OK | ||||||||||||
| Package 328/526 | Hostname | OS / Arch | INSTALL | BUILD | BUILD BIN | ||||||||||||
| nullranges 1.4.0 (landing page) Michael Love
| kjohnson | macOS 13.0 Ventura / arm64 | OK | OK | OK | ||||||||||||
| Package 329/526 | Hostname | OS / Arch | INSTALL | BUILD | BUILD BIN | ||||||||||||
| NxtIRFcore 1.4.0 (landing page) Alex Chit Hei Wong
| kjohnson | macOS 13.0 Ventura / arm64 | OK | OK | OK | ||||||||||||
| Package 330/526 | Hostname | OS / Arch | INSTALL | BUILD | BUILD BIN | ||||||||||||
| ODER 1.4.0 (landing page) David Zhang
| kjohnson | macOS 13.0 Ventura / arm64 | OK | OK | OK | ||||||||||||
| Package 331/526 | Hostname | OS / Arch | INSTALL | BUILD | BUILD BIN | ||||||||||||
| OGRE 1.2.0 (landing page) Sven Berres
| kjohnson | macOS 13.0 Ventura / arm64 | OK | OK | OK | ||||||||||||
| Package 332/526 | Hostname | OS / Arch | INSTALL | BUILD | BUILD BIN | ||||||||||||
| oligoClasses 1.60.0 (landing page) Benilton Carvalho
| kjohnson | macOS 13.0 Ventura / arm64 | OK | OK | OK | ||||||||||||
| Package 333/526 | Hostname | OS / Arch | INSTALL | BUILD | BUILD BIN | ||||||||||||
| OmaDB 2.14.0 (landing page) Klara Kaleb
| kjohnson | macOS 13.0 Ventura / arm64 | OK | OK | OK | ||||||||||||
| Package 334/526 | Hostname | OS / Arch | INSTALL | BUILD | BUILD BIN | ||||||||||||
| OmicCircos 1.36.0 (landing page) Ying Hu
| kjohnson | macOS 13.0 Ventura / arm64 | OK | OK | OK | ||||||||||||
| Package 335/526 | Hostname | OS / Arch | INSTALL | BUILD | BUILD BIN | ||||||||||||
| oncoscanR 1.0.0 (landing page) Yann Christinat
| kjohnson | macOS 13.0 Ventura / arm64 | OK | OK | OK | ||||||||||||
| Package 336/526 | Hostname | OS / Arch | INSTALL | BUILD | BUILD BIN | ||||||||||||
| openPrimeR 1.20.0 (landing page) Matthias Döring
| kjohnson | macOS 13.0 Ventura / arm64 | OK | OK | OK | ||||||||||||
| Package 337/526 | Hostname | OS / Arch | INSTALL | BUILD | BUILD BIN | ||||||||||||
| ORFik 1.18.2 (landing page) Haakon Tjeldnes
| kjohnson | macOS 13.0 Ventura / arm64 | OK | OK | OK | ||||||||||||
| Package 338/526 | Hostname | OS / Arch | INSTALL | BUILD | BUILD BIN | ||||||||||||
| Organism.dplyr 1.26.0 (landing page) Martin Morgan
| kjohnson | macOS 13.0 Ventura / arm64 | OK | OK | OK | ||||||||||||
| Package 339/526 | Hostname | OS / Arch | INSTALL | BUILD | BUILD BIN | ||||||||||||
| OrganismDbi 1.40.0 (landing page) Bioconductor Package Maintainer
| kjohnson | macOS 13.0 Ventura / arm64 | OK | OK | OK | ||||||||||||
| Package 340/526 | Hostname | OS / Arch | INSTALL | BUILD | BUILD BIN | ||||||||||||
| OUTRIDER 1.16.3 (landing page) Christian Mertes
| kjohnson | macOS 13.0 Ventura / arm64 | OK | TIMEOUT | skipped | ||||||||||||
| Package 341/526 | Hostname | OS / Arch | INSTALL | BUILD | BUILD BIN | ||||||||||||
| packFinder 1.10.0 (landing page) Jack Gisby
| kjohnson | macOS 13.0 Ventura / arm64 | OK | OK | OK | ||||||||||||
| Package 342/526 | Hostname | OS / Arch | INSTALL | BUILD | BUILD BIN | ||||||||||||
| pageRank 1.8.0 (landing page) Hongxu Ding
| kjohnson | macOS 13.0 Ventura / arm64 | OK | OK | OK | ||||||||||||
| Package 343/526 | Hostname | OS / Arch | INSTALL | BUILD | BUILD BIN | ||||||||||||
| panelcn.mops 1.20.0 (landing page) Gundula Povysil
| kjohnson | macOS 13.0 Ventura / arm64 | OK | OK | OK | ||||||||||||
| Package 344/526 | Hostname | OS / Arch | INSTALL | BUILD | BUILD BIN | ||||||||||||
| PAST 1.14.0 (landing page) Thrash Adam
| kjohnson | macOS 13.0 Ventura / arm64 | OK | OK | OK | ||||||||||||
| Package 345/526 | Hostname | OS / Arch | INSTALL | BUILD | BUILD BIN | ||||||||||||
| pcaExplorer 2.24.0 (landing page) Federico Marini
| kjohnson | macOS 13.0 Ventura / arm64 | OK | OK | OK | ||||||||||||
| Package 346/526 | Hostname | OS / Arch | INSTALL | BUILD | BUILD BIN | ||||||||||||
| pepStat 1.32.0 (landing page) Gregory C Imholte
| kjohnson | macOS 13.0 Ventura / arm64 | OK | OK | OK | ||||||||||||
| Package 347/526 | Hostname | OS / Arch | INSTALL | BUILD | BUILD BIN | ||||||||||||
| periodicDNA 1.8.0 (landing page) Jacques Serizay
| kjohnson | macOS 13.0 Ventura / arm64 | OK | OK | OK | ||||||||||||
| Package 348/526 | Hostname | OS / Arch | INSTALL | BUILD | BUILD BIN | ||||||||||||
| PhIPData 1.6.0 (landing page) Athena Chen
| kjohnson | macOS 13.0 Ventura / arm64 | OK | OK | OK | ||||||||||||
| Package 349/526 | Hostname | OS / Arch | INSTALL | BUILD | BUILD BIN | ||||||||||||
| Pi 2.10.0 (landing page) Hai Fang
| kjohnson | macOS 13.0 Ventura / arm64 | OK | OK | OK | ||||||||||||
| Package 350/526 | Hostname | OS / Arch | INSTALL | BUILD | BUILD BIN | ||||||||||||
| PICS 2.42.0 (landing page) Renan Sauteraud
| kjohnson | macOS 13.0 Ventura / arm64 | OK | OK | OK | ||||||||||||
| Package 351/526 | Hostname | OS / Arch | INSTALL | BUILD | BUILD BIN | ||||||||||||
| PING 2.42.0 (landing page) Renan Sauteraud
| kjohnson | macOS 13.0 Ventura / arm64 | OK | OK | OK | ||||||||||||
| Package 352/526 | Hostname | OS / Arch | INSTALL | BUILD | BUILD BIN | ||||||||||||
| plyranges 1.18.0 (landing page) Stuart Lee
| kjohnson | macOS 13.0 Ventura / arm64 | OK | OK | OK | ||||||||||||
| Package 353/526 | Hostname | OS / Arch | INSTALL | BUILD | BUILD BIN | ||||||||||||
| podkat 1.30.0 (landing page) Ulrich Bodenhofer
| kjohnson | macOS 13.0 Ventura / arm64 | OK | OK | OK | ||||||||||||
| Package 354/526 | Hostname | OS / Arch | INSTALL | BUILD | BUILD BIN | ||||||||||||
| pqsfinder 2.14.1 (landing page) Jiri Hon
| kjohnson | macOS 13.0 Ventura / arm64 | OK | OK | OK | ||||||||||||
| Package 355/526 | Hostname | OS / Arch | INSTALL | BUILD | BUILD BIN | ||||||||||||
| pram 1.14.0 (landing page) Peng Liu
| kjohnson | macOS 13.0 Ventura / arm64 | OK | OK | OK | ||||||||||||
| Package 356/526 | Hostname | OS / Arch | INSTALL | BUILD | BUILD BIN | ||||||||||||
| prebs 1.38.0 (landing page) Karolis Uziela
| kjohnson | macOS 13.0 Ventura / arm64 | OK | OK | OK | ||||||||||||
| Package 357/526 | Hostname | OS / Arch | INSTALL | BUILD | BUILD BIN | ||||||||||||
| preciseTAD 1.8.0 (landing page) Mikhail Dozmorov
| kjohnson | macOS 13.0 Ventura / arm64 | OK | OK | OK | ||||||||||||
| Package 358/526 | Hostname | OS / Arch | INSTALL | BUILD | BUILD BIN | ||||||||||||
| PrecisionTrialDrawer 1.14.0 (landing page) Giorgio Melloni
| kjohnson | macOS 13.0 Ventura / arm64 | OK | ERROR | skipped | ||||||||||||
| Package 359/526 | Hostname | OS / Arch | INSTALL | BUILD | BUILD BIN | ||||||||||||
| primirTSS 1.16.0 (landing page) Pumin Li
| kjohnson | macOS 13.0 Ventura / arm64 | OK | OK | OK | ||||||||||||
| Package 360/526 | Hostname | OS / Arch | INSTALL | BUILD | BUILD BIN | ||||||||||||
| proActiv 1.8.0 (landing page) Joseph Lee
| kjohnson | macOS 13.0 Ventura / arm64 | OK | OK | OK | ||||||||||||
| Package 361/526 | Hostname | OS / Arch | INSTALL | BUILD | BUILD BIN | ||||||||||||
| proBAMr 1.32.0 (landing page) Xiaojing Wang
| kjohnson | macOS 13.0 Ventura / arm64 | OK | OK | OK | ||||||||||||
| Package 362/526 | Hostname | OS / Arch | INSTALL | BUILD | BUILD BIN | ||||||||||||
| profileplyr 1.14.1 (landing page) Tom Carroll
| kjohnson | macOS 13.0 Ventura / arm64 | OK | OK | OK | ||||||||||||
| Package 363/526 | Hostname | OS / Arch | INSTALL | BUILD | BUILD BIN | ||||||||||||
| ProteoDisco 1.4.0 (landing page) Job van Riet
| kjohnson | macOS 13.0 Ventura / arm64 | OK | OK | OK | ||||||||||||
| Package 364/526 | Hostname | OS / Arch | INSTALL | BUILD | BUILD BIN | ||||||||||||
| PureCN 2.4.0 (landing page) Markus Riester
| kjohnson | macOS 13.0 Ventura / arm64 | OK | OK | OK | ||||||||||||
| Package 365/526 | Hostname | OS / Arch | INSTALL | BUILD | BUILD BIN | ||||||||||||
| Pviz 1.32.0 (landing page) Renan Sauteraud
| kjohnson | macOS 13.0 Ventura / arm64 | OK | OK | OK | ||||||||||||
| Package 366/526 | Hostname | OS / Arch | INSTALL | BUILD | BUILD BIN | ||||||||||||
| pwOmics 1.30.0 (landing page) Maren Sitte
| kjohnson | macOS 13.0 Ventura / arm64 | OK | OK | OK | ||||||||||||
| Package 367/526 | Hostname | OS / Arch | INSTALL | BUILD | BUILD BIN | ||||||||||||
| QDNAseq 1.34.0 (landing page) Daoud Sie
| kjohnson | macOS 13.0 Ventura / arm64 | OK | OK | OK | ||||||||||||
| Package 368/526 | Hostname | OS / Arch | INSTALL | BUILD | BUILD BIN | ||||||||||||
| qpgraph 2.32.2 (landing page) Robert Castelo
| kjohnson | macOS 13.0 Ventura / arm64 | OK | OK | OK | ||||||||||||
| Package 369/526 | Hostname | OS / Arch | INSTALL | BUILD | BUILD BIN | ||||||||||||
| qsea 1.24.0 (landing page) Matthias Lienhard
| kjohnson | macOS 13.0 Ventura / arm64 | OK | OK | OK | ||||||||||||
| Package 370/526 | Hostname | OS / Arch | INSTALL | BUILD | BUILD BIN | ||||||||||||
| Qtlizer 1.12.0 (landing page) Matthias Munz
| kjohnson | macOS 13.0 Ventura / arm64 | OK | OK | OK | ||||||||||||
| Package 371/526 | Hostname | OS / Arch | INSTALL | BUILD | BUILD BIN | ||||||||||||
| QuasR 1.38.0 (landing page) Michael Stadler
| kjohnson | macOS 13.0 Ventura / arm64 | OK | OK | OK | ||||||||||||
| Package 372/526 | Hostname | OS / Arch | INSTALL | BUILD | BUILD BIN | ||||||||||||
| R3CPET 1.30.0 (landing page) Mohamed Nadhir Djekidel
| kjohnson | macOS 13.0 Ventura / arm64 | OK | OK | OK | ||||||||||||
| Package 373/526 | Hostname | OS / Arch | INSTALL | BUILD | BUILD BIN | ||||||||||||
| r3Cseq 1.44.0 (landing page) Supat Thongjuea
| kjohnson | macOS 13.0 Ventura / arm64 | OK | OK | OK | ||||||||||||
| Package 374/526 | Hostname | OS / Arch | INSTALL | BUILD | BUILD BIN | ||||||||||||
| R453Plus1Toolbox 1.48.0 (landing page) Hans-Ulrich Klein
| kjohnson | macOS 13.0 Ventura / arm64 | OK | OK | OK | ||||||||||||
| Package 375/526 | Hostname | OS / Arch | INSTALL | BUILD | BUILD BIN | ||||||||||||
| RaggedExperiment 1.22.0 (landing page) Marcel Ramos
| kjohnson | macOS 13.0 Ventura / arm64 | OK | OK | OK | ||||||||||||
| Package 376/526 | Hostname | OS / Arch | INSTALL | BUILD | BUILD BIN | ||||||||||||
| ramr 1.6.0 (landing page) Oleksii Nikolaienko
| kjohnson | macOS 13.0 Ventura / arm64 | OK | OK | OK | ||||||||||||
| Package 377/526 | Hostname | OS / Arch | INSTALL | BUILD | BUILD BIN | ||||||||||||
| RareVariantVis 2.26.0 (landing page) Tomasz Stokowy
| kjohnson | macOS 13.0 Ventura / arm64 | OK | OK | OK | ||||||||||||
| Package 378/526 | Hostname | OS / Arch | INSTALL | BUILD | BUILD BIN | ||||||||||||
Jonathan Cairns
| kjohnson | macOS 13.0 Ventura / arm64 | OK | OK | OK | ||||||||||||
| Package 379/526 | Hostname | OS / Arch | INSTALL | BUILD | BUILD BIN | ||||||||||||
| RCAS 1.24.0 (landing page) Bora Uyar
| kjohnson | macOS 13.0 Ventura / arm64 | OK | OK | OK | ||||||||||||
| Package 380/526 | Hostname | OS / Arch | INSTALL | BUILD | BUILD BIN | ||||||||||||
| rCGH 1.28.0 (landing page) Frederic Commo
| kjohnson | macOS 13.0 Ventura / arm64 | OK | OK | OK | ||||||||||||
| Package 381/526 | Hostname | OS / Arch | INSTALL | BUILD | BUILD BIN | ||||||||||||
| RcisTarget 1.18.2 (landing page) Sara Aibar
| kjohnson | macOS 13.0 Ventura / arm64 | OK | OK | OK | ||||||||||||
| Package 382/526 | Hostname | OS / Arch | INSTALL | BUILD | BUILD BIN | ||||||||||||
| recount 1.24.1 (landing page) Leonardo Collado-Torres
| kjohnson | macOS 13.0 Ventura / arm64 | OK | ERROR | skipped | ||||||||||||
| Package 383/526 | Hostname | OS / Arch | INSTALL | BUILD | BUILD BIN | ||||||||||||
| recount3 1.8.0 (landing page) Leonardo Collado-Torres
| kjohnson | macOS 13.0 Ventura / arm64 | OK | OK | OK | ||||||||||||
| Package 384/526 | Hostname | OS / Arch | INSTALL | BUILD | BUILD BIN | ||||||||||||
| recoup 1.26.0 (landing page) Panagiotis Moulos
| kjohnson | macOS 13.0 Ventura / arm64 | OK | OK | OK | ||||||||||||
| Package 385/526 | Hostname | OS / Arch | INSTALL | BUILD | BUILD BIN | ||||||||||||
| regioneR 1.30.0 (landing page) Bernat Gel
| kjohnson | macOS 13.0 Ventura / arm64 | OK | OK | OK | ||||||||||||
| Package 386/526 | Hostname | OS / Arch | INSTALL | BUILD | BUILD BIN | ||||||||||||
| regionReport 1.32.0 (landing page) Leonardo Collado-Torres
| kjohnson | macOS 13.0 Ventura / arm64 | OK | OK | OK | ||||||||||||
| Package 387/526 | Hostname | OS / Arch | INSTALL | BUILD | BUILD BIN | ||||||||||||
| regutools 1.10.0 (landing page) Joselyn Chavez
| kjohnson | macOS 13.0 Ventura / arm64 | OK | OK | OK | ||||||||||||
| Package 388/526 | Hostname | OS / Arch | INSTALL | BUILD | BUILD BIN | ||||||||||||
| REMP 1.22.0 (landing page) Yinan Zheng
| kjohnson | macOS 13.0 Ventura / arm64 | OK | OK | OK | ||||||||||||
| Package 389/526 | Hostname | OS / Arch | INSTALL | BUILD | BUILD BIN | ||||||||||||
| Repitools 1.44.0 (landing page) Mark Robinson
| kjohnson | macOS 13.0 Ventura / arm64 | OK | OK | OK | ||||||||||||
| Package 390/526 | Hostname | OS / Arch | INSTALL | BUILD | BUILD BIN | ||||||||||||
| RepViz 1.14.0 (landing page) Thomas Faux, Asta Laiho
| kjohnson | macOS 13.0 Ventura / arm64 | OK | OK | OK | ||||||||||||
| Package 391/526 | Hostname | OS / Arch | INSTALL | BUILD | BUILD BIN | ||||||||||||
| RESOLVE 1.0.0 (landing page) Luca De Sano
| kjohnson | macOS 13.0 Ventura / arm64 | OK | OK | OK | ||||||||||||
| Package 392/526 | Hostname | OS / Arch | INSTALL | BUILD | BUILD BIN | ||||||||||||
| rfPred 1.36.0 (landing page) Hugo Varet
| kjohnson | macOS 13.0 Ventura / arm64 | OK | OK | OK | ||||||||||||
| Package 393/526 | Hostname | OS / Arch | INSTALL | BUILD | BUILD BIN | ||||||||||||
| rGADEM 2.46.0 (landing page) Arnaud Droit
| kjohnson | macOS 13.0 Ventura / arm64 | OK | OK | OK | ||||||||||||
| Package 394/526 | Hostname | OS / Arch | INSTALL | BUILD | BUILD BIN | ||||||||||||
| RgnTX 1.0.0 (landing page) Yue Wang
| kjohnson | macOS 13.0 Ventura / arm64 | OK | OK | OK | ||||||||||||
| Package 395/526 | Hostname | OS / Arch | INSTALL | BUILD | BUILD BIN | ||||||||||||
| rGREAT 2.0.2 (landing page) Zuguang Gu
| kjohnson | macOS 13.0 Ventura / arm64 | OK | OK | OK | ||||||||||||
| Package 396/526 | Hostname | OS / Arch | INSTALL | BUILD | BUILD BIN | ||||||||||||
| Rhisat2 1.14.0 (landing page) Charlotte Soneson
| kjohnson | macOS 13.0 Ventura / arm64 | OK | OK | OK | ||||||||||||
| Package 397/526 | Hostname | OS / Arch | INSTALL | BUILD | BUILD BIN | ||||||||||||
| RiboCrypt 1.4.0 (landing page) Michal Swirski
| kjohnson | macOS 13.0 Ventura / arm64 | OK | OK | OK | ||||||||||||
| Package 398/526 | Hostname | OS / Arch | INSTALL | BUILD | BUILD BIN | ||||||||||||
| RiboDiPA 1.6.0 (landing page) Ji-Ping Wang
| kjohnson | macOS 13.0 Ventura / arm64 | OK | OK | OK | ||||||||||||
| Package 399/526 | Hostname | OS / Arch | INSTALL | BUILD | BUILD BIN | ||||||||||||
| RiboProfiling 1.28.0 (landing page) A. Popa
| kjohnson | macOS 13.0 Ventura / arm64 | OK | OK | OK | ||||||||||||
| Package 400/526 | Hostname | OS / Arch | INSTALL | BUILD | BUILD BIN | ||||||||||||
| riboSeqR 1.32.0 (landing page) Thomas J. Hardcastle
| kjohnson | macOS 13.0 Ventura / arm64 | OK | OK | OK | ||||||||||||
| Package 401/526 | Hostname | OS / Arch | INSTALL | BUILD | BUILD BIN | ||||||||||||
| ribosomeProfilingQC 1.10.0 (landing page) Jianhong Ou
| kjohnson | macOS 13.0 Ventura / arm64 | OK | OK | OK | ||||||||||||
| Package 402/526 | Hostname | OS / Arch | INSTALL | BUILD | BUILD BIN | ||||||||||||
| RIPAT 1.8.0 (landing page) Min-Jeong Baek
| kjohnson | macOS 13.0 Ventura / arm64 | OK | OK | OK | ||||||||||||
| Package 403/526 | Hostname | OS / Arch | INSTALL | BUILD | BUILD BIN | ||||||||||||
| RJMCMCNucleosomes 1.22.0 (landing page) Astrid Deschênes
| kjohnson | macOS 13.0 Ventura / arm64 | OK | OK | OK | ||||||||||||
| Package 404/526 | Hostname | OS / Arch | INSTALL | BUILD | BUILD BIN | ||||||||||||
| RLSeq 1.4.1 (landing page) Henry Miller
| kjohnson | macOS 13.0 Ventura / arm64 | OK | ERROR | skipped | ||||||||||||
| Package 405/526 | Hostname | OS / Arch | INSTALL | BUILD | BUILD BIN | ||||||||||||
| Rmmquant 1.16.2 (landing page) Zytnicki Matthias
| kjohnson | macOS 13.0 Ventura / arm64 | OK | OK | OK | ||||||||||||
| Package 406/526 | Hostname | OS / Arch | INSTALL | BUILD | BUILD BIN | ||||||||||||
| rmspc 1.4.0 (landing page) Meriem Bahda
| kjohnson | macOS 13.0 Ventura / arm64 | OK | ERROR | skipped | ||||||||||||
| Package 407/526 | Hostname | OS / Arch | INSTALL | BUILD | BUILD BIN | ||||||||||||
| rnaEditr 1.8.0 (landing page) Lanyu Zhang
| kjohnson | macOS 13.0 Ventura / arm64 | OK | OK | OK | ||||||||||||
| Package 408/526 | Hostname | OS / Arch | INSTALL | BUILD | BUILD BIN | ||||||||||||
| RNAmodR 1.12.0 (landing page) Felix G.M. Ernst
| kjohnson | macOS 13.0 Ventura / arm64 | OK | OK | OK | ||||||||||||
| Package 409/526 | Hostname | OS / Arch | INSTALL | BUILD | BUILD BIN | ||||||||||||
| RNAmodR.AlkAnilineSeq 1.12.0 (landing page) Felix G.M. Ernst
| kjohnson | macOS 13.0 Ventura / arm64 | OK | OK | OK | ||||||||||||
| Package 410/526 | Hostname | OS / Arch | INSTALL | BUILD | BUILD BIN | ||||||||||||
| RNAmodR.ML 1.12.0 (landing page) Felix G.M. Ernst
| kjohnson | macOS 13.0 Ventura / arm64 | OK | OK | OK | ||||||||||||
| Package 411/526 | Hostname | OS / Arch | INSTALL | BUILD | BUILD BIN | ||||||||||||
| RNAmodR.RiboMethSeq 1.12.0 (landing page) Felix G.M. Ernst
| kjohnson | macOS 13.0 Ventura / arm64 | OK | OK | OK | ||||||||||||
| Package 412/526 | Hostname | OS / Arch | INSTALL | BUILD | BUILD BIN | ||||||||||||
| RnBeads 2.16.0 (landing page) Fabian Mueller
| kjohnson | macOS 13.0 Ventura / arm64 | OK | OK | OK | ||||||||||||
| Package 413/526 | Hostname | OS / Arch | INSTALL | BUILD | BUILD BIN | ||||||||||||
| roar 1.34.0 (landing page) Elena Grassi
| kjohnson | macOS 13.0 Ventura / arm64 | OK | OK | OK | ||||||||||||
| Package 414/526 | Hostname | OS / Arch | INSTALL | BUILD | BUILD BIN | ||||||||||||
| Rsamtools 2.14.0 (landing page) Bioconductor Package Maintainer
| kjohnson | macOS 13.0 Ventura / arm64 | OK | OK | OK | ||||||||||||
| Package 415/526 | Hostname | OS / Arch | INSTALL | BUILD | BUILD BIN | ||||||||||||
| RSVSim 1.38.0 (landing page) Christoph Bartenhagen
| kjohnson | macOS 13.0 Ventura / arm64 | OK | OK | OK | ||||||||||||
| Package 416/526 | Hostname | OS / Arch | INSTALL | BUILD | BUILD BIN | ||||||||||||
| RTCGAToolbox 2.28.4 (landing page) Marcel Ramos
| kjohnson | macOS 13.0 Ventura / arm64 | OK | OK | OK | ||||||||||||
| Package 417/526 | Hostname | OS / Arch | INSTALL | BUILD | BUILD BIN | ||||||||||||
| rtracklayer 1.58.0 (landing page) Michael Lawrence
| kjohnson | macOS 13.0 Ventura / arm64 | OK | OK | OK | ||||||||||||
| Package 418/526 | Hostname | OS / Arch | INSTALL | BUILD | BUILD BIN | ||||||||||||
| Scale4C 1.20.0 (landing page) Carolin Walter
| kjohnson | macOS 13.0 Ventura / arm64 | OK | OK | OK | ||||||||||||
| Package 419/526 | Hostname | OS / Arch | INSTALL | BUILD | BUILD BIN | ||||||||||||
| scanMiR 1.4.0 (landing page) Fridolin Gross
| kjohnson | macOS 13.0 Ventura / arm64 | OK | OK | OK | ||||||||||||
| Package 420/526 | Hostname | OS / Arch | INSTALL | BUILD | BUILD BIN | ||||||||||||
| scanMiRApp 1.4.0 (landing page) Pierre-Luc Germain
| kjohnson | macOS 13.0 Ventura / arm64 | OK | OK | OK | ||||||||||||
| Package 421/526 | Hostname | OS / Arch | INSTALL | BUILD | BUILD BIN | ||||||||||||
| SCATE 1.8.0 (landing page) Wenpin Hou
| kjohnson | macOS 13.0 Ventura / arm64 | OK | TIMEOUT | skipped | ||||||||||||
| Package 422/526 | Hostname | OS / Arch | INSTALL | BUILD | BUILD BIN | ||||||||||||
| scDblFinder 1.12.0 (landing page) Pierre-Luc Germain
| kjohnson | macOS 13.0 Ventura / arm64 | OK | OK | OK | ||||||||||||
| Package 423/526 | Hostname | OS / Arch | INSTALL | BUILD | BUILD BIN | ||||||||||||
| scmeth 1.18.0 (landing page) Divy Kangeyan
| kjohnson | macOS 13.0 Ventura / arm64 | OK | OK | OK | ||||||||||||
| Package 424/526 | Hostname | OS / Arch | INSTALL | BUILD | BUILD BIN | ||||||||||||
| SCOPE 1.10.0 (landing page) Rujin Wang
| kjohnson | macOS 13.0 Ventura / arm64 | OK | OK | OK | ||||||||||||
| Package 425/526 | Hostname | OS / Arch | INSTALL | BUILD | BUILD BIN | ||||||||||||
| scoreInvHap 1.20.0 (landing page) Dolors Pelegri-Siso
| kjohnson | macOS 13.0 Ventura / arm64 | OK | OK | OK | ||||||||||||
| Package 426/526 | Hostname | OS / Arch | INSTALL | BUILD | BUILD BIN | ||||||||||||
| scPipe 1.20.6 (landing page) Shian Su
| kjohnson | macOS 13.0 Ventura / arm64 | OK | OK | OK | ||||||||||||
| Package 427/526 | Hostname | OS / Arch | INSTALL | BUILD | BUILD BIN | ||||||||||||
| scruff 1.16.0 (landing page) Zhe Wang
| kjohnson | macOS 13.0 Ventura / arm64 | OK | OK | OK | ||||||||||||
| Package 428/526 | Hostname | OS / Arch | INSTALL | BUILD | BUILD BIN | ||||||||||||
| scuttle 1.8.4 (landing page) Aaron Lun
| kjohnson | macOS 13.0 Ventura / arm64 | OK | OK | OK | ||||||||||||
| Package 429/526 | Hostname | OS / Arch | INSTALL | BUILD | BUILD BIN | ||||||||||||
| segmenter 1.4.0 (landing page) Mahmoud Ahmed
| kjohnson | macOS 13.0 Ventura / arm64 | OK | OK | OK | ||||||||||||
| Package 430/526 | Hostname | OS / Arch | INSTALL | BUILD | BUILD BIN | ||||||||||||
| segmentSeq 2.32.0 (landing page) Thomas J. Hardcastle
| kjohnson | macOS 13.0 Ventura / arm64 | OK | OK | OK | ||||||||||||
| Package 431/526 | Hostname | OS / Arch | INSTALL | BUILD | BUILD BIN | ||||||||||||
| seq2pathway 1.30.0 (landing page) Arjun Kinstlick
| kjohnson | macOS 13.0 Ventura / arm64 | OK | OK | OK | ||||||||||||
| Package 432/526 | Hostname | OS / Arch | INSTALL | BUILD | BUILD BIN | ||||||||||||
| SeqArray 1.38.0 (landing page) Xiuwen Zheng
| kjohnson | macOS 13.0 Ventura / arm64 | OK | OK | OK | ||||||||||||
| Package 433/526 | Hostname | OS / Arch | INSTALL | BUILD | BUILD BIN | ||||||||||||
| seqbias 1.46.0 (landing page) Daniel Jones
| kjohnson | macOS 13.0 Ventura / arm64 | ERROR | ERROR | skipped | ||||||||||||
| Package 434/526 | Hostname | OS / Arch | INSTALL | BUILD | BUILD BIN | ||||||||||||
| seqCAT 1.20.0 (landing page) Erik Fasterius
| kjohnson | macOS 13.0 Ventura / arm64 | OK | OK | OK | ||||||||||||
| Package 435/526 | Hostname | OS / Arch | INSTALL | BUILD | BUILD BIN | ||||||||||||
| SeqGate 1.8.0 (landing page) Stéphanie Rialle
| kjohnson | macOS 13.0 Ventura / arm64 | OK | OK | OK | ||||||||||||
| Package 436/526 | Hostname | OS / Arch | INSTALL | BUILD | BUILD BIN | ||||||||||||
| seqPattern 1.30.0 (landing page) Vanja Haberle
| kjohnson | macOS 13.0 Ventura / arm64 | OK | OK | OK | ||||||||||||
| Package 437/526 | Hostname | OS / Arch | INSTALL | BUILD | BUILD BIN | ||||||||||||
| seqsetvis 1.18.1 (landing page) Joseph R Boyd
| kjohnson | macOS 13.0 Ventura / arm64 | OK | OK | OK | ||||||||||||
| Package 438/526 | Hostname | OS / Arch | INSTALL | BUILD | BUILD BIN | ||||||||||||
| SeqSQC 1.20.0 (landing page) Qian Liu
| kjohnson | macOS 13.0 Ventura / arm64 | OK | OK | OK | ||||||||||||
| Package 439/526 | Hostname | OS / Arch | INSTALL | BUILD | BUILD BIN | ||||||||||||
| SeqVarTools 1.36.0 (landing page) Stephanie M. Gogarten
| kjohnson | macOS 13.0 Ventura / arm64 | OK | OK | OK | ||||||||||||
| Package 440/526 | Hostname | OS / Arch | INSTALL | BUILD | BUILD BIN | ||||||||||||
| sesame 1.16.1 (landing page) Wanding Zhou
| kjohnson | macOS 13.0 Ventura / arm64 | OK | OK | OK | ||||||||||||
| Package 441/526 | Hostname | OS / Arch | INSTALL | BUILD | BUILD BIN | ||||||||||||
| sevenC 1.18.0 (landing page) Jonas Ibn-Salem
| kjohnson | macOS 13.0 Ventura / arm64 | OK | OK | OK | ||||||||||||
| Package 442/526 | Hostname | OS / Arch | INSTALL | BUILD | BUILD BIN | ||||||||||||
| SGSeq 1.32.0 (landing page) Leonard Goldstein
| kjohnson | macOS 13.0 Ventura / arm64 | OK | OK | OK | ||||||||||||
| Package 443/526 | Hostname | OS / Arch | INSTALL | BUILD | BUILD BIN | ||||||||||||
| shinyepico 1.6.0 (landing page) Octavio Morante-Palacios
| kjohnson | macOS 13.0 Ventura / arm64 | OK | OK | OK | ||||||||||||
| Package 444/526 | Hostname | OS / Arch | INSTALL | BUILD | BUILD BIN | ||||||||||||
| ShortRead 1.56.1 (landing page) Bioconductor Package Maintainer
| kjohnson | macOS 13.0 Ventura / arm64 | OK | OK | OK | ||||||||||||
| Package 445/526 | Hostname | OS / Arch | INSTALL | BUILD | BUILD BIN | ||||||||||||
| SICtools 1.28.0 (landing page) Xiaobin Xing
| kjohnson | macOS 13.0 Ventura / arm64 | OK | OK | OK | ||||||||||||
| Package 446/526 | Hostname | OS / Arch | INSTALL | BUILD | BUILD BIN | ||||||||||||
| SigFuge 1.36.0 (landing page) Patrick Kimes
| kjohnson | macOS 13.0 Ventura / arm64 | OK | OK | OK | ||||||||||||
| Package 447/526 | Hostname | OS / Arch | INSTALL | BUILD | BUILD BIN | ||||||||||||
| signeR 2.0.2 (landing page) Renan Valieris
| kjohnson | macOS 13.0 Ventura / arm64 | OK | OK | OK | ||||||||||||
| Package 448/526 | Hostname | OS / Arch | INSTALL | BUILD | BUILD BIN | ||||||||||||
| SigsPack 1.12.0 (landing page) Franziska Schumann
| kjohnson | macOS 13.0 Ventura / arm64 | OK | OK | OK | ||||||||||||
| Package 449/526 | Hostname | OS / Arch | INSTALL | BUILD | BUILD BIN | ||||||||||||
| SimFFPE 1.10.0 (landing page) Lanying Wei
| kjohnson | macOS 13.0 Ventura / arm64 | OK | OK | OK | ||||||||||||
| Package 450/526 | Hostname | OS / Arch | INSTALL | BUILD | BUILD BIN | ||||||||||||
| SingleCellExperiment 1.20.1 (landing page) Davide Risso
| kjohnson | macOS 13.0 Ventura / arm64 | OK | OK | OK | ||||||||||||
| Package 451/526 | Hostname | OS / Arch | INSTALL | BUILD | BUILD BIN | ||||||||||||
| SingleMoleculeFootprinting 1.6.0 (landing page) Guido Barzaghi
| kjohnson | macOS 13.0 Ventura / arm64 | OK | OK | OK | ||||||||||||
| Package 452/526 | Hostname | OS / Arch | INSTALL | BUILD | BUILD BIN | ||||||||||||
| sitadela 1.6.0 (landing page) Panagiotis Moulos
| kjohnson | macOS 13.0 Ventura / arm64 | OK | OK | OK | ||||||||||||
| Package 453/526 | Hostname | OS / Arch | INSTALL | BUILD | BUILD BIN | ||||||||||||
| SMITE 1.26.0 (landing page) Neil Ari Wijetunga
| kjohnson | macOS 13.0 Ventura / arm64 | OK | OK | OK | ||||||||||||
| Package 454/526 | Hostname | OS / Arch | INSTALL | BUILD | BUILD BIN | ||||||||||||
| snapcount 1.10.0 (landing page) Rone Charles
| kjohnson | macOS 13.0 Ventura / arm64 | OK | OK | OK | ||||||||||||
| Package 455/526 | Hostname | OS / Arch | INSTALL | BUILD | BUILD BIN | ||||||||||||
| SNPhood 1.28.0 (landing page) Christian Arnold
| kjohnson | macOS 13.0 Ventura / arm64 | OK | OK | OK | ||||||||||||
| Package 456/526 | Hostname | OS / Arch | INSTALL | BUILD | BUILD BIN | ||||||||||||
| soGGi 1.30.0 (landing page) Tom Carroll
| kjohnson | macOS 13.0 Ventura / arm64 | OK | OK | OK | ||||||||||||
| Package 457/526 | Hostname | OS / Arch | INSTALL | BUILD | BUILD BIN | ||||||||||||
| SomaticSignatures 2.34.0 (landing page) Julian Gehring
| kjohnson | macOS 13.0 Ventura / arm64 | OK | OK | OK | ||||||||||||
| Package 458/526 | Hostname | OS / Arch | INSTALL | BUILD | BUILD BIN | ||||||||||||
| SparseSignatures 2.8.0 (landing page) Luca De Sano
| kjohnson | macOS 13.0 Ventura / arm64 | OK | OK | OK | ||||||||||||
| Package 459/526 | Hostname | OS / Arch | INSTALL | BUILD | BUILD BIN | ||||||||||||
| spatzie 1.4.0 (landing page) Jennifer Hammelman
| kjohnson | macOS 13.0 Ventura / arm64 | OK | OK | OK | ||||||||||||
| Package 460/526 | Hostname | OS / Arch | INSTALL | BUILD | BUILD BIN | ||||||||||||
| SpectralTAD 1.14.1 (landing page) Mikhail Dozmorov
| kjohnson | macOS 13.0 Ventura / arm64 | OK | OK | OK | ||||||||||||
| Package 461/526 | Hostname | OS / Arch | INSTALL | BUILD | BUILD BIN | ||||||||||||
| spiky 1.4.0 (landing page) Tim Triche
| kjohnson | macOS 13.0 Ventura / arm64 | OK | OK | OK | ||||||||||||
| Package 462/526 | Hostname | OS / Arch | INSTALL | BUILD | BUILD BIN | ||||||||||||
| SpliceWiz 1.0.4 (landing page) Alex Chit Hei Wong
| kjohnson | macOS 13.0 Ventura / arm64 | OK | OK | OK | ||||||||||||
| Package 463/526 | Hostname | OS / Arch | INSTALL | BUILD | BUILD BIN | ||||||||||||
| SplicingGraphs 1.38.0 (landing page) H. Pagès
| kjohnson | macOS 13.0 Ventura / arm64 | OK | OK | OK | ||||||||||||
| Package 464/526 | Hostname | OS / Arch | INSTALL | BUILD | BUILD BIN | ||||||||||||
| SPLINTER 1.24.0 (landing page) Diana Low
| kjohnson | macOS 13.0 Ventura / arm64 | OK | OK | OK | ||||||||||||
| Package 465/526 | Hostname | OS / Arch | INSTALL | BUILD | BUILD BIN | ||||||||||||
| srnadiff 1.18.2 (landing page) Zytnicki Matthias
| kjohnson | macOS 13.0 Ventura / arm64 | OK | OK | OK | ||||||||||||
| Package 466/526 | Hostname | OS / Arch | INSTALL | BUILD | BUILD BIN | ||||||||||||
| STAN 2.26.2 (landing page) Rafael Campos-Martin
| kjohnson | macOS 13.0 Ventura / arm64 | OK | OK | OK | ||||||||||||
| Package 467/526 | Hostname | OS / Arch | INSTALL | BUILD | BUILD BIN | ||||||||||||
| strandCheckR 1.16.0 (landing page) Thu-Hien To
| kjohnson | macOS 13.0 Ventura / arm64 | OK | OK | OK | ||||||||||||
| Package 468/526 | Hostname | OS / Arch | INSTALL | BUILD | BUILD BIN | ||||||||||||
| StructuralVariantAnnotation 1.14.1 (landing page) Daniel Cameron
| kjohnson | macOS 13.0 Ventura / arm64 | OK | OK | OK | ||||||||||||
| Package 469/526 | Hostname | OS / Arch | INSTALL | BUILD | BUILD BIN | ||||||||||||
| SummarizedExperiment 1.28.0 (landing page) Hervé Pagès
| kjohnson | macOS 13.0 Ventura / arm64 | OK | OK | OK | ||||||||||||
| Package 470/526 | Hostname | OS / Arch | INSTALL | BUILD | BUILD BIN | ||||||||||||
| svaNUMT 1.4.0 (landing page) Ruining Dong
| kjohnson | macOS 13.0 Ventura / arm64 | OK | OK | OK | ||||||||||||
| Package 471/526 | Hostname | OS / Arch | INSTALL | BUILD | BUILD BIN | ||||||||||||
| svaRetro 1.4.0 (landing page) Ruining Dong
| kjohnson | macOS 13.0 Ventura / arm64 | OK | OK | OK | ||||||||||||
| Package 472/526 | Hostname | OS / Arch | INSTALL | BUILD | BUILD BIN | ||||||||||||
| syntenet 1.0.4 (landing page) Fabrício Almeida-Silva
| kjohnson | macOS 13.0 Ventura / arm64 | OK | OK | OK | ||||||||||||
| Package 473/526 | Hostname | OS / Arch | INSTALL | BUILD | BUILD BIN | ||||||||||||
| systemPipeR 2.4.0 (landing page) Thomas Girke
| kjohnson | macOS 13.0 Ventura / arm64 | OK | OK | OK | ||||||||||||
| Package 474/526 | Hostname | OS / Arch | INSTALL | BUILD | BUILD BIN | ||||||||||||
| TAPseq 1.10.0 (landing page) Andreas R. Gschwind
| kjohnson | macOS 13.0 Ventura / arm64 | OK | OK | OK | ||||||||||||
| Package 475/526 | Hostname | OS / Arch | INSTALL | BUILD | BUILD BIN | ||||||||||||
| target 1.12.0 (landing page) Mahmoud Ahmed
| kjohnson | macOS 13.0 Ventura / arm64 | OK | OK | OK | ||||||||||||
| Package 476/526 | Hostname | OS / Arch | INSTALL | BUILD | BUILD BIN | ||||||||||||
| TarSeqQC 1.28.0 (landing page) Gabriela Merino
| kjohnson | macOS 13.0 Ventura / arm64 | OK | OK | OK | ||||||||||||
| Package 477/526 | Hostname | OS / Arch | INSTALL | BUILD | BUILD BIN | ||||||||||||
| TCGAbiolinks 2.26.0 (landing page) Tiago Chedraoui Silva
| kjohnson | macOS 13.0 Ventura / arm64 | OK | TIMEOUT | skipped | ||||||||||||
| Package 478/526 | Hostname | OS / Arch | INSTALL | BUILD | BUILD BIN | ||||||||||||
| TCGAutils 1.18.0 (landing page) Marcel Ramos
| kjohnson | macOS 13.0 Ventura / arm64 | OK | ERROR | skipped | ||||||||||||
| Package 479/526 | Hostname | OS / Arch | INSTALL | BUILD | BUILD BIN | ||||||||||||
| TCseq 1.22.6 (landing page) Mengjun Wu
| kjohnson | macOS 13.0 Ventura / arm64 | OK | OK | OK | ||||||||||||
| Package 480/526 | Hostname | OS / Arch | INSTALL | BUILD | BUILD BIN | ||||||||||||
| TENxIO 1.0.1 (landing page) Marcel Ramos
| kjohnson | macOS 13.0 Ventura / arm64 | OK | OK | OK | ||||||||||||
| Package 481/526 | Hostname | OS / Arch | INSTALL | BUILD | BUILD BIN | ||||||||||||
| terraTCGAdata 1.2.0 (landing page) Marcel Ramos
| kjohnson | macOS 13.0 Ventura / arm64 | OK | OK | OK | ||||||||||||
| Package 482/526 | Hostname | OS / Arch | INSTALL | BUILD | BUILD BIN | ||||||||||||
| TFARM 1.20.0 (landing page) Liuba Nausicaa Martino
| kjohnson | macOS 13.0 Ventura / arm64 | OK | OK | OK | ||||||||||||
| Package 483/526 | Hostname | OS / Arch | INSTALL | BUILD | BUILD BIN | ||||||||||||
| TFBSTools 1.36.0 (landing page) Ge Tan
| kjohnson | macOS 13.0 Ventura / arm64 | OK | OK | OK | ||||||||||||
| Package 484/526 | Hostname | OS / Arch | INSTALL | BUILD | BUILD BIN | ||||||||||||
| TFEA.ChIP 1.18.0 (landing page) Laura Puente Santamaría
| kjohnson | macOS 13.0 Ventura / arm64 | OK | OK | OK | ||||||||||||
| Package 485/526 | Hostname | OS / Arch | INSTALL | BUILD | BUILD BIN | ||||||||||||
| TFHAZ 1.20.0 (landing page) Gaia Ceddia
| kjohnson | macOS 13.0 Ventura / arm64 | OK | OK | OK | ||||||||||||
| Package 486/526 | Hostname | OS / Arch | INSTALL | BUILD | BUILD BIN | ||||||||||||
| tidybulk 1.10.1 (landing page) Stefano Mangiola
| kjohnson | macOS 13.0 Ventura / arm64 | OK | OK | OK | ||||||||||||
| Package 487/526 | Hostname | OS / Arch | INSTALL | BUILD | BUILD BIN | ||||||||||||
| TitanCNA 1.36.0 (landing page) Gavin Ha
| kjohnson | macOS 13.0 Ventura / arm64 | OK | OK | OK | ||||||||||||
| Package 488/526 | Hostname | OS / Arch | INSTALL | BUILD | BUILD BIN | ||||||||||||
| tLOH 1.6.0 (landing page) Michelle Webb
| kjohnson | macOS 13.0 Ventura / arm64 | OK | OK | OK | ||||||||||||
| Package 489/526 | Hostname | OS / Arch | INSTALL | BUILD | BUILD BIN | ||||||||||||
| TnT 1.20.0 (landing page) Jialin Ma
| kjohnson | macOS 13.0 Ventura / arm64 | OK | OK | OK | ||||||||||||
| Package 490/526 | Hostname | OS / Arch | INSTALL | BUILD | BUILD BIN | ||||||||||||
| tracktables 1.32.0 (landing page) Tom Carroll
| kjohnson | macOS 13.0 Ventura / arm64 | OK | OK | OK | ||||||||||||
| Package 491/526 | Hostname | OS / Arch | INSTALL | BUILD | BUILD BIN | ||||||||||||
| trackViewer 1.34.0 (landing page) Jianhong Ou
| kjohnson | macOS 13.0 Ventura / arm64 | OK | OK | OK | ||||||||||||
| Package 492/526 | Hostname | OS / Arch | INSTALL | BUILD | BUILD BIN | ||||||||||||
| transcriptR 1.26.0 (landing page) Armen R. Karapetyan
| kjohnson | macOS 13.0 Ventura / arm64 | OK | OK | OK | ||||||||||||
| Package 493/526 | Hostname | OS / Arch | INSTALL | BUILD | BUILD BIN | ||||||||||||
| transite 1.16.0 (landing page) Konstantin Krismer
| kjohnson | macOS 13.0 Ventura / arm64 | OK | OK | OK | ||||||||||||
| Package 494/526 | Hostname | OS / Arch | INSTALL | BUILD | BUILD BIN | ||||||||||||
| TransView 1.42.0 (landing page) Julius Muller
| kjohnson | macOS 13.0 Ventura / arm64 | OK | OK | OK | ||||||||||||
| Package 495/526 | Hostname | OS / Arch | INSTALL | BUILD | BUILD BIN | ||||||||||||
| traseR 1.28.0 (landing page) li chen
| kjohnson | macOS 13.0 Ventura / arm64 | OK | OK | OK | ||||||||||||
| Package 496/526 | Hostname | OS / Arch | INSTALL | BUILD | BUILD BIN | ||||||||||||
| trena 1.20.0 (landing page) Paul Shannon
| kjohnson | macOS 13.0 Ventura / arm64 | OK | OK | OK | ||||||||||||
| Package 497/526 | Hostname | OS / Arch | INSTALL | BUILD | BUILD BIN | ||||||||||||
| TRESS 1.4.0 (landing page) Zhenxing Guo
| kjohnson | macOS 13.0 Ventura / arm64 | OK | OK | OK | ||||||||||||
| Package 498/526 | Hostname | OS / Arch | INSTALL | BUILD | BUILD BIN | ||||||||||||
| tricycle 1.6.0 (landing page) Shijie Zheng
| kjohnson | macOS 13.0 Ventura / arm64 | OK | OK | OK | ||||||||||||
| Package 499/526 | Hostname | OS / Arch | INSTALL | BUILD | BUILD BIN | ||||||||||||
| triplex 1.38.0 (landing page) Jiri Hon
| kjohnson | macOS 13.0 Ventura / arm64 | OK | OK | OK | ||||||||||||
| Package 500/526 | Hostname | OS / Arch | INSTALL | BUILD | BUILD BIN | ||||||||||||
| tRNA 1.16.1 (landing page) Felix GM Ernst
| kjohnson | macOS 13.0 Ventura / arm64 | OK | OK | OK | ||||||||||||
| Package 501/526 | Hostname | OS / Arch | INSTALL | BUILD | BUILD BIN | ||||||||||||
| tRNAdbImport 1.16.0 (landing page) Felix G.M. Ernst
| kjohnson | macOS 13.0 Ventura / arm64 | OK | OK | OK | ||||||||||||
| Package 502/526 | Hostname | OS / Arch | INSTALL | BUILD | BUILD BIN | ||||||||||||
| tRNAscanImport 1.18.0 (landing page) Felix G.M. Ernst
| kjohnson | macOS 13.0 Ventura / arm64 | OK | OK | OK | ||||||||||||
| Package 503/526 | Hostname | OS / Arch | INSTALL | BUILD | BUILD BIN | ||||||||||||
| tscR 1.10.0 (landing page) Fernando Pérez-Sanz
| kjohnson | macOS 13.0 Ventura / arm64 | ERROR | ERROR | skipped | ||||||||||||
| Package 504/526 | Hostname | OS / Arch | INSTALL | BUILD | BUILD BIN | ||||||||||||
| TVTB 1.24.0 (landing page) Kevin Rue-Albrecht
| kjohnson | macOS 13.0 Ventura / arm64 | OK | OK | OK | ||||||||||||
| Package 505/526 | Hostname | OS / Arch | INSTALL | BUILD | BUILD BIN | ||||||||||||
| txcutr 1.4.0 (landing page) Mervin Fansler
| kjohnson | macOS 13.0 Ventura / arm64 | OK | OK | OK | ||||||||||||
| Package 506/526 | Hostname | OS / Arch | INSTALL | BUILD | BUILD BIN | ||||||||||||
| tximeta 1.16.1 (landing page) Michael Love
| kjohnson | macOS 13.0 Ventura / arm64 | OK | OK | OK | ||||||||||||
| Package 507/526 | Hostname | OS / Arch | INSTALL | BUILD | BUILD BIN | ||||||||||||
| Ularcirc 1.16.0 (landing page) David Humphreys
| kjohnson | macOS 13.0 Ventura / arm64 | OK | OK | OK | ||||||||||||
| Package 508/526 | Hostname | OS / Arch | INSTALL | BUILD | BUILD BIN | ||||||||||||
| UMI4Cats 1.8.1 (landing page) Mireia Ramos-Rodriguez
| kjohnson | macOS 13.0 Ventura / arm64 | OK | OK | OK | ||||||||||||
| Package 509/526 | Hostname | OS / Arch | INSTALL | BUILD | BUILD BIN | ||||||||||||
| uncoverappLib 1.8.1 (landing page) Emanuela Iovino
| kjohnson | macOS 13.0 Ventura / arm64 | OK | OK | OK | ||||||||||||
| Package 510/526 | Hostname | OS / Arch | INSTALL | BUILD | BUILD BIN | ||||||||||||
| Uniquorn 2.18.0 (landing page) 'Raik Otto'
| kjohnson | macOS 13.0 Ventura / arm64 | OK | OK | OK | ||||||||||||
| Package 511/526 | Hostname | OS / Arch | INSTALL | BUILD | BUILD BIN | ||||||||||||
| VanillaICE 1.60.0 (landing page) Robert Scharpf
| kjohnson | macOS 13.0 Ventura / arm64 | OK | OK | OK | ||||||||||||
| Package 512/526 | Hostname | OS / Arch | INSTALL | BUILD | BUILD BIN | ||||||||||||
| VarCon 1.6.0 (landing page) Johannes Ptok
| kjohnson | macOS 13.0 Ventura / arm64 | OK | OK | OK | ||||||||||||
| Package 513/526 | Hostname | OS / Arch | INSTALL | BUILD | BUILD BIN | ||||||||||||
| VariantAnnotation 1.44.1 (landing page) Bioconductor Package Maintainer
| kjohnson | macOS 13.0 Ventura / arm64 | OK | OK | OK | ||||||||||||
| Package 514/526 | Hostname | OS / Arch | INSTALL | BUILD | BUILD BIN | ||||||||||||
| VariantExperiment 1.12.0 (landing page) Qian Liu
| kjohnson | macOS 13.0 Ventura / arm64 | OK | OK | OK | ||||||||||||
| Package 515/526 | Hostname | OS / Arch | INSTALL | BUILD | BUILD BIN | ||||||||||||
| VariantFiltering 1.34.0 (landing page) Robert Castelo
| kjohnson | macOS 13.0 Ventura / arm64 | OK | ERROR | skipped | ||||||||||||
| Package 516/526 | Hostname | OS / Arch | INSTALL | BUILD | BUILD BIN | ||||||||||||
| VariantTools 1.40.0 (landing page) Michael Lawrence
| kjohnson | macOS 13.0 Ventura / arm64 | OK | OK | OK | ||||||||||||
| Package 517/526 | Hostname | OS / Arch | INSTALL | BUILD | BUILD BIN | ||||||||||||
| VaSP 1.10.0 (landing page) Huihui Yu
| kjohnson | macOS 13.0 Ventura / arm64 | OK | OK | OK | ||||||||||||
| Package 518/526 | Hostname | OS / Arch | INSTALL | BUILD | BUILD BIN | ||||||||||||
| VCFArray 1.14.0 (landing page) Qian Liu
| kjohnson | macOS 13.0 Ventura / arm64 | OK | OK | OK | ||||||||||||
| Package 519/526 | Hostname | OS / Arch | INSTALL | BUILD | BUILD BIN | ||||||||||||
| VplotR 1.8.0 (landing page) Jacques Serizay
| kjohnson | macOS 13.0 Ventura / arm64 | OK | OK | OK | ||||||||||||
| Package 520/526 | Hostname | OS / Arch | INSTALL | BUILD | BUILD BIN | ||||||||||||
| vtpnet 0.38.0 (landing page) VJ Carey
| kjohnson | macOS 13.0 Ventura / arm64 | OK | OK | OK | ||||||||||||
| Package 521/526 | Hostname | OS / Arch | INSTALL | BUILD | BUILD BIN | ||||||||||||
| vulcan 1.20.0 (landing page) Federico M. Giorgi
| kjohnson | macOS 13.0 Ventura / arm64 | OK | OK | OK | ||||||||||||
| Package 522/526 | Hostname | OS / Arch | INSTALL | BUILD | BUILD BIN | ||||||||||||
| wavClusteR 2.32.0 (landing page) Federico Comoglio
| kjohnson | macOS 13.0 Ventura / arm64 | OK | OK | OK | ||||||||||||
| Package 523/526 | Hostname | OS / Arch | INSTALL | BUILD | BUILD BIN | ||||||||||||
| wiggleplotr 1.22.0 (landing page) Kaur Alasoo
| kjohnson | macOS 13.0 Ventura / arm64 | OK | OK | OK | ||||||||||||
| Package 524/526 | Hostname | OS / Arch | INSTALL | BUILD | BUILD BIN | ||||||||||||
| xcore 1.2.0 (landing page) Maciej Migdał
| kjohnson | macOS 13.0 Ventura / arm64 | OK | ERROR | skipped | ||||||||||||
| Package 525/526 | Hostname | OS / Arch | INSTALL | BUILD | BUILD BIN | ||||||||||||
| XNAString 1.6.0 (landing page) Marianna Plucinska
| kjohnson | macOS 13.0 Ventura / arm64 | OK | OK | OK | ||||||||||||
| Package 526/526 | Hostname | OS / Arch | INSTALL | BUILD | BUILD BIN | ||||||||||||
| YAPSA 1.24.0 (landing page) Daniel Huebschmann
| kjohnson | macOS 13.0 Ventura / arm64 | OK | OK | OK | ||||||||||||