| Back to Mac ARM64 build report for BioC 3.16 |
|
This page was generated on 2023-04-19 11:01:59 -0400 (Wed, 19 Apr 2023).
| Hostname | OS | Arch (*) | R version | Installed pkgs |
|---|---|---|---|---|
| kjohnson | macOS 13.0 Ventura | arm64 | 4.2.2 (2022-10-31) -- "Innocent and Trusting" | 4256 |
| Click on any hostname to see more info about the system (e.g. compilers) (*) as reported by 'uname -p', except on Windows and Mac OS X | ||||
|
To the developers/maintainers of the trena package: Make sure to use the following settings in order to reproduce any error or warning you see on this page. |
| Package 2092/2183 | Hostname | OS / Arch | INSTALL | BUILD | BUILD BIN | ||||||||
| trena 1.20.0 (landing page) Paul Shannon
| kjohnson | macOS 13.0 Ventura / arm64 | OK | OK | OK | ||||||||
| Package: trena |
| Version: 1.20.0 |
| Command: rm -rf trena.buildbin-libdir && mkdir trena.buildbin-libdir && /Users/biocbuild/BBS/utils/build-universal.sh trena_1.20.0.tar.gz /Library/Frameworks/R.framework/Resources/bin/R trena.buildbin-libdir |
| StartedAt: 2023-04-18 20:15:14 -0400 (Tue, 18 Apr 2023) |
| EndedAt: 2023-04-18 20:17:26 -0400 (Tue, 18 Apr 2023) |
| EllapsedTime: 132.0 seconds |
| RetCode: 0 |
| Status: OK |
| PackageFile: trena_1.20.0.tgz |
| PackageFileSize: 2.628 MiB |
##############################################################################
##############################################################################
###
### Running command:
###
### rm -rf trena.buildbin-libdir && mkdir trena.buildbin-libdir && /Users/biocbuild/BBS/utils/build-universal.sh trena_1.20.0.tar.gz /Library/Frameworks/R.framework/Resources/bin/R trena.buildbin-libdir
###
##############################################################################
##############################################################################
>>>>>>>
>>>>>>> INSTALLATION WITH 'R CMD INSTALL --preclean --no-multiarch --library=trena.buildbin-libdir trena_1.20.0.tar.gz'
>>>>>>>
* installing *source* package ‘trena’ ...
** using staged installation
** R
** inst
** byte-compile and prepare package for lazy loading
See system.file("LICENSE", package="MotifDb") for use restrictions.
** help
*** installing help indices
** building package indices
** installing vignettes
** testing if installed package can be loaded from temporary location
See system.file("LICENSE", package="MotifDb") for use restrictions.
** testing if installed package can be loaded from final location
See system.file("LICENSE", package="MotifDb") for use restrictions.
** testing if installed package keeps a record of temporary installation path
* DONE (trena)