| Back to Mac ARM64 build report for BioC 3.16 |
|
This page was generated on 2023-04-19 11:01:56 -0400 (Wed, 19 Apr 2023).
| Hostname | OS | Arch (*) | R version | Installed pkgs |
|---|---|---|---|---|
| kjohnson | macOS 13.0 Ventura | arm64 | 4.2.2 (2022-10-31) -- "Innocent and Trusting" | 4256 |
| Click on any hostname to see more info about the system (e.g. compilers) (*) as reported by 'uname -p', except on Windows and Mac OS X | ||||
|
To the developers/maintainers of the mitoClone2 package: Make sure to use the following settings in order to reproduce any error or warning you see on this page. |
| Package 1229/2183 | Hostname | OS / Arch | INSTALL | BUILD | BUILD BIN | ||||||||
| mitoClone2 1.4.0 (landing page) Benjamin Story
| kjohnson | macOS 13.0 Ventura / arm64 | OK | OK | OK | ||||||||
| Package: mitoClone2 |
| Version: 1.4.0 |
| Command: rm -rf mitoClone2.buildbin-libdir && mkdir mitoClone2.buildbin-libdir && /Users/biocbuild/BBS/utils/build-universal.sh mitoClone2_1.4.0.tar.gz /Library/Frameworks/R.framework/Resources/bin/R mitoClone2.buildbin-libdir |
| StartedAt: 2023-04-18 17:23:46 -0400 (Tue, 18 Apr 2023) |
| EndedAt: 2023-04-18 17:27:20 -0400 (Tue, 18 Apr 2023) |
| EllapsedTime: 214.4 seconds |
| RetCode: 0 |
| Status: OK |
| PackageFile: mitoClone2_1.4.0.tgz |
| PackageFileSize: 1.85 MiB |
##############################################################################
##############################################################################
###
### Running command:
###
### rm -rf mitoClone2.buildbin-libdir && mkdir mitoClone2.buildbin-libdir && /Users/biocbuild/BBS/utils/build-universal.sh mitoClone2_1.4.0.tar.gz /Library/Frameworks/R.framework/Resources/bin/R mitoClone2.buildbin-libdir
###
##############################################################################
##############################################################################
>>>>>>>
>>>>>>> INSTALLATION WITH 'R CMD INSTALL --preclean --no-multiarch --library=mitoClone2.buildbin-libdir mitoClone2_1.4.0.tar.gz'
>>>>>>>
* installing *source* package ‘mitoClone2’ ...
** using staged installation
** libs
clang++ -arch arm64 -std=gnu++14 -D_FILE_OFFSET_BITS=64 ../inst/SCITEpkg/*.cpp -o scite
../inst/SCITEpkg/mcmcBinTreeMove.cpp:75:1: warning: non-void function does not return a value in all control paths [-Wreturn-type]
}
^
1 warning generated.
mkdir -p "/Volumes/External/bbs-3.16-bioc-m1/meat/mitoClone2.buildbin-libdir/00LOCK-mitoClone2/00new/mitoClone2/SCITE/"
cp scite "/Volumes/External/bbs-3.16-bioc-m1/meat/mitoClone2.buildbin-libdir/00LOCK-mitoClone2/00new/mitoClone2/SCITE/"
rm scite
clang++ -arch arm64 -std=gnu++14 -I"/Library/Frameworks/R.framework/Resources/include" -DNDEBUG -D_FILE_OFFSET_BITS=64 -I'/Library/Frameworks/R.framework/Versions/4.2-arm64/Resources/library/Rhtslib/include' -I/opt/R/arm64/include -fPIC -falign-functions=64 -Wall -g -O2 -c bam2R_10x.cpp -o bam2R_10x.o
bam2R_10x.cpp:6:2: warning: '/*' within block comment [-Wcomment]
/**************************************************************************************
^
bam2R_10x.cpp:8:1: warning: '/*' within block comment [-Wcomment]
/**********************************************************************
^
bam2R_10x.cpp:75:10: warning: unused variable 'bc_absent' [-Wunused-variable]
int bc_absent;
^
bam2R_10x.cpp:224:7: warning: 'sprintf' is deprecated: This function is provided for compatibility reasons only. Due to security concerns inherent in the design of sprintf(3), it is highly recommended that you use snprintf(3) instead. [-Wdeprecated-declarations]
sprintf(region,"%s:%d-%d",ref,nttable.beg,nttable.end);
^
/Library/Developer/CommandLineTools/SDKs/MacOSX.sdk/usr/include/stdio.h:188:1: note: 'sprintf' has been explicitly marked deprecated here
__deprecated_msg("This function is provided for compatibility reasons only. Due to security concerns inherent in the design of sprintf(3), it is highly recommended that you use snprintf(3) instead.")
^
/Library/Developer/CommandLineTools/SDKs/MacOSX.sdk/usr/include/sys/cdefs.h:215:48: note: expanded from macro '__deprecated_msg'
#define __deprecated_msg(_msg) __attribute__((__deprecated__(_msg)))
^
bam2R_10x.cpp:158:16: warning: unused variable 'iter' [-Wunused-variable]
hts_itr_t *iter = NULL;
^
bam2R_10x.cpp:161:9: warning: unused variable 'c' [-Wunused-variable]
int c = 0;
^
6 warnings generated.
clang++ -arch arm64 -std=gnu++14 -dynamiclib -Wl,-headerpad_max_install_names -undefined dynamic_lookup -single_module -multiply_defined suppress -L/Library/Frameworks/R.framework/Resources/lib -L/opt/R/arm64/lib -o mitoClone2.so bam2R_10x.o /Library/Frameworks/R.framework/Versions/4.2-arm64/Resources/library/Rhtslib/usrlib/libhts.a -lcurl -F/Library/Frameworks/R.framework/.. -framework R -Wl,-framework -Wl,CoreFoundation
ld: warning: -undefined dynamic_lookup may not work with chained fixups
installing to /Volumes/External/bbs-3.16-bioc-m1/meat/mitoClone2.buildbin-libdir/00LOCK-mitoClone2/00new/mitoClone2/libs
** R
** data
** inst
** byte-compile and prepare package for lazy loading
** help
*** installing help indices
*** copying figures
** building package indices
** installing vignettes
** testing if installed package can be loaded from temporary location
** checking absolute paths in shared objects and dynamic libraries
** testing if installed package can be loaded from final location
** testing if installed package keeps a record of temporary installation path
* DONE (mitoClone2)
>>>>>>>
>>>>>>> FIXING LINKS FOR mitoClone2.buildbin-libdir/mitoClone2/libs/mitoClone2.so
>>>>>>>
install_name_tool -change "/opt/R/arm64/lib/libgcc_s.1.1.dylib" "/Library/Frameworks/R.framework/Versions/4.2-arm64/Resources/lib/libgcc_s.1.1.dylib" "mitoClone2.buildbin-libdir/mitoClone2/libs/mitoClone2.so"
install_name_tool -change "/opt/R/arm64/lib/libgfortran.5.dylib" "/Library/Frameworks/R.framework/Versions/4.2-arm64/Resources/lib/libgfortran.5.dylib" "mitoClone2.buildbin-libdir/mitoClone2/libs/mitoClone2.so"
install_name_tool -change "/opt/R/arm64/lib/libquadmath.0.dylib" "/Library/Frameworks/R.framework/Versions/4.2-arm64/Resources/lib/libquadmath.0.dylib" "mitoClone2.buildbin-libdir/mitoClone2/libs/mitoClone2.so"