| Back to Mac ARM64 build report for BioC 3.16 |
|
This page was generated on 2023-04-19 11:01:47 -0400 (Wed, 19 Apr 2023).
| Hostname | OS | Arch (*) | R version | Installed pkgs |
|---|---|---|---|---|
| kjohnson | macOS 13.0 Ventura | arm64 | 4.2.2 (2022-10-31) -- "Innocent and Trusting" | 4256 |
| Click on any hostname to see more info about the system (e.g. compilers) (*) as reported by 'uname -p', except on Windows and Mac OS X | ||||
|
To the developers/maintainers of the BiocGenerics package: Make sure to use the following settings in order to reproduce any error or warning you see on this page. |
| Package 163/2183 | Hostname | OS / Arch | INSTALL | BUILD | BUILD BIN | ||||||||
| BiocGenerics 0.44.0 (landing page) Hervé Pagès
| kjohnson | macOS 13.0 Ventura / arm64 | OK | OK | OK | ||||||||
| QUICK STATS | OS / Arch | INSTALL | BUILD | BUILD BIN | |||||||||||||
| kjohnson | macOS 13.0 Ventura / arm64 |
|
|
| |||||||||||||
| Package 1/470 | Hostname | OS / Arch | INSTALL | BUILD | BUILD BIN | ||||||||||||
| a4Preproc 1.46.0 (landing page) Laure Cougnaud
| kjohnson | macOS 13.0 Ventura / arm64 | OK | OK | OK | ||||||||||||
| Package 2/470 | Hostname | OS / Arch | INSTALL | BUILD | BUILD BIN | ||||||||||||
| ACME 2.54.0 (landing page) Sean Davis
| kjohnson | macOS 13.0 Ventura / arm64 | OK | OK | OK | ||||||||||||
| Package 3/470 | Hostname | OS / Arch | INSTALL | BUILD | BUILD BIN | ||||||||||||
| affy 1.76.0 (landing page) Rafael A. Irizarry
| kjohnson | macOS 13.0 Ventura / arm64 | OK | OK | OK | ||||||||||||
| Package 4/470 | Hostname | OS / Arch | INSTALL | BUILD | BUILD BIN | ||||||||||||
| affycoretools 1.70.0 (landing page) James W. MacDonald
| kjohnson | macOS 13.0 Ventura / arm64 | OK | OK | OK | ||||||||||||
| Package 5/470 | Hostname | OS / Arch | INSTALL | BUILD | BUILD BIN | ||||||||||||
| affylmGUI 1.72.0 (landing page) Gordon Smyth
| kjohnson | macOS 13.0 Ventura / arm64 | OK | OK | OK | ||||||||||||
| Package 6/470 | Hostname | OS / Arch | INSTALL | BUILD | BUILD BIN | ||||||||||||
| affyPLM 1.74.2 (landing page) Ben Bolstad
| kjohnson | macOS 13.0 Ventura / arm64 | OK | OK | OK | ||||||||||||
| Package 7/470 | Hostname | OS / Arch | INSTALL | BUILD | BUILD BIN | ||||||||||||
| AllelicImbalance 1.36.0 (landing page) Jesper R Gadin
| kjohnson | macOS 13.0 Ventura / arm64 | OK | OK | OK | ||||||||||||
| Package 8/470 | Hostname | OS / Arch | INSTALL | BUILD | BUILD BIN | ||||||||||||
| altcdfenvs 2.60.0 (landing page) Laurent Gautier
| kjohnson | macOS 13.0 Ventura / arm64 | OK | OK | OK | ||||||||||||
| Package 9/470 | Hostname | OS / Arch | INSTALL | BUILD | BUILD BIN | ||||||||||||
| amplican 1.20.0 (landing page) Eivind Valen
| kjohnson | macOS 13.0 Ventura / arm64 | OK | OK | OK | ||||||||||||
| Package 10/470 | Hostname | OS / Arch | INSTALL | BUILD | BUILD BIN | ||||||||||||
| AneuFinder 1.26.0 (landing page) Aaron Taudt
| kjohnson | macOS 13.0 Ventura / arm64 | ERROR | ERROR | skipped | ||||||||||||
| Package 11/470 | Hostname | OS / Arch | INSTALL | BUILD | BUILD BIN | ||||||||||||
| annmap 1.40.0 (landing page) Chris Wirth
| kjohnson | macOS 13.0 Ventura / arm64 | OK | ERROR | skipped | ||||||||||||
| Package 12/470 | Hostname | OS / Arch | INSTALL | BUILD | BUILD BIN | ||||||||||||
| annotate 1.76.0 (landing page) Bioconductor Package Maintainer
| kjohnson | macOS 13.0 Ventura / arm64 | OK | OK | OK | ||||||||||||
| Package 13/470 | Hostname | OS / Arch | INSTALL | BUILD | BUILD BIN | ||||||||||||
| AnnotationDbi 1.60.2 (landing page) Bioconductor Package Maintainer
| kjohnson | macOS 13.0 Ventura / arm64 | OK | OK | OK | ||||||||||||
| Package 14/470 | Hostname | OS / Arch | INSTALL | BUILD | BUILD BIN | ||||||||||||
| AnnotationForge 1.40.2 (landing page) Bioconductor Package Maintainer
| kjohnson | macOS 13.0 Ventura / arm64 | OK | OK | OK | ||||||||||||
| Package 15/470 | Hostname | OS / Arch | INSTALL | BUILD | BUILD BIN | ||||||||||||
| AnnotationHub 3.6.0 (landing page) Bioconductor Package Maintainer
| kjohnson | macOS 13.0 Ventura / arm64 | OK | OK | OK | ||||||||||||
| Package 16/470 | Hostname | OS / Arch | INSTALL | BUILD | BUILD BIN | ||||||||||||
| AnnotationHubData 1.28.0 (landing page) Bioconductor Package Maintainer
| kjohnson | macOS 13.0 Ventura / arm64 | OK | OK | OK | ||||||||||||
| Package 17/470 | Hostname | OS / Arch | INSTALL | BUILD | BUILD BIN | ||||||||||||
| ArrayExpressHTS 1.48.0 (landing page) Angela Goncalves
| kjohnson | macOS 13.0 Ventura / arm64 | ERROR | ERROR | skipped | ||||||||||||
| Package 18/470 | Hostname | OS / Arch | INSTALL | BUILD | BUILD BIN | ||||||||||||
| ASpli 2.8.0 (landing page) Estefania Mancini
| kjohnson | macOS 13.0 Ventura / arm64 | OK | OK | OK | ||||||||||||
| Package 19/470 | Hostname | OS / Arch | INSTALL | BUILD | BUILD BIN | ||||||||||||
| ATACseqQC 1.22.0 (landing page) Jianhong Ou
| kjohnson | macOS 13.0 Ventura / arm64 | OK | OK | OK | ||||||||||||
| Package 20/470 | Hostname | OS / Arch | INSTALL | BUILD | BUILD BIN | ||||||||||||
| ATACseqTFEA 1.0.1 (landing page) Jianhong Ou
| kjohnson | macOS 13.0 Ventura / arm64 | OK | OK | OK | ||||||||||||
| Package 21/470 | Hostname | OS / Arch | INSTALL | BUILD | BUILD BIN | ||||||||||||
| atena 1.4.1 (landing page) Beatriz Calvo-Serra
| kjohnson | macOS 13.0 Ventura / arm64 | OK | OK | OK | ||||||||||||
| Package 22/470 | Hostname | OS / Arch | INSTALL | BUILD | BUILD BIN | ||||||||||||
| AUCell 1.20.2 (landing page) Sara Aibar
| kjohnson | macOS 13.0 Ventura / arm64 | OK | OK | OK | ||||||||||||
| Package 23/470 | Hostname | OS / Arch | INSTALL | BUILD | BUILD BIN | ||||||||||||
| autonomics 1.6.0 (landing page) Aditya Bhagwat
| kjohnson | macOS 13.0 Ventura / arm64 | OK | OK | OK | ||||||||||||
| Package 24/470 | Hostname | OS / Arch | INSTALL | BUILD | BUILD BIN | ||||||||||||
| bambu 3.0.8 (landing page) Ying Chen
| kjohnson | macOS 13.0 Ventura / arm64 | OK | OK | OK | ||||||||||||
| Package 25/470 | Hostname | OS / Arch | INSTALL | BUILD | BUILD BIN | ||||||||||||
| bamsignals 1.30.0 (landing page) Johannes Helmuth
| kjohnson | macOS 13.0 Ventura / arm64 | OK | OK | OK | ||||||||||||
| Package 26/470 | Hostname | OS / Arch | INSTALL | BUILD | BUILD BIN | ||||||||||||
| BASiCS 2.10.5 (landing page) Catalina Vallejos
| kjohnson | macOS 13.0 Ventura / arm64 | OK | OK | OK | ||||||||||||
| Package 27/470 | Hostname | OS / Arch | INSTALL | BUILD | BUILD BIN | ||||||||||||
| batchelor 1.14.1 (landing page) Aaron Lun
| kjohnson | macOS 13.0 Ventura / arm64 | OK | OK | OK | ||||||||||||
| Package 28/470 | Hostname | OS / Arch | INSTALL | BUILD | BUILD BIN | ||||||||||||
| beachmat 2.14.2 (landing page) Aaron Lun
| kjohnson | macOS 13.0 Ventura / arm64 | OK | OK | OK | ||||||||||||
| Package 29/470 | Hostname | OS / Arch | INSTALL | BUILD | BUILD BIN | ||||||||||||
| beadarray 2.48.0 (landing page) Mark Dunning
| kjohnson | macOS 13.0 Ventura / arm64 | OK | OK | OK | ||||||||||||
| Package 30/470 | Hostname | OS / Arch | INSTALL | BUILD | BUILD BIN | ||||||||||||
| bigmelon 1.24.0 (landing page) Tyler J. Gorrie-Stone
| kjohnson | macOS 13.0 Ventura / arm64 | OK | OK | OK | ||||||||||||
| Package 31/470 | Hostname | OS / Arch | INSTALL | BUILD | BUILD BIN | ||||||||||||
| bioassayR 1.36.0 (landing page) Daniela Cassol
| kjohnson | macOS 13.0 Ventura / arm64 | OK | OK | OK | ||||||||||||
| Package 32/470 | Hostname | OS / Arch | INSTALL | BUILD | BUILD BIN | ||||||||||||
| Biobase 2.58.0 (landing page) Bioconductor Package Maintainer
| kjohnson | macOS 13.0 Ventura / arm64 | OK | OK | OK | ||||||||||||
| Package 33/470 | Hostname | OS / Arch | INSTALL | BUILD | BUILD BIN | ||||||||||||
| biocGraph 1.60.0 (landing page) Florian Hahne
| kjohnson | macOS 13.0 Ventura / arm64 | OK | OK | OK | ||||||||||||
| Package 34/470 | Hostname | OS / Arch | INSTALL | BUILD | BUILD BIN | ||||||||||||
| BiocIO 1.8.0 (landing page) Bioconductor Package Maintainer
| kjohnson | macOS 13.0 Ventura / arm64 | OK | OK | OK | ||||||||||||
| Package 35/470 | Hostname | OS / Arch | INSTALL | BUILD | BUILD BIN | ||||||||||||
| BiocSingular 1.14.0 (landing page) Aaron Lun
| kjohnson | macOS 13.0 Ventura / arm64 | OK | OK | OK | ||||||||||||
| Package 36/470 | Hostname | OS / Arch | INSTALL | BUILD | BUILD BIN | ||||||||||||
| Biostrings 2.66.0 (landing page) H. Pagès
| kjohnson | macOS 13.0 Ventura / arm64 | OK | OK | OK | ||||||||||||
| Package 37/470 | Hostname | OS / Arch | INSTALL | BUILD | BUILD BIN | ||||||||||||
| biotmle 1.22.0 (landing page) Nima Hejazi
| kjohnson | macOS 13.0 Ventura / arm64 | OK | OK | OK | ||||||||||||
| Package 38/470 | Hostname | OS / Arch | INSTALL | BUILD | BUILD BIN | ||||||||||||
| biovizBase 1.46.0 (landing page) Michael Lawrence
| kjohnson | macOS 13.0 Ventura / arm64 | OK | OK | OK | ||||||||||||
| Package 39/470 | Hostname | OS / Arch | INSTALL | BUILD | BUILD BIN | ||||||||||||
| biscuiteer 1.12.0 (landing page) Jacob Morrison
| kjohnson | macOS 13.0 Ventura / arm64 | OK | OK | OK | ||||||||||||
| Package 40/470 | Hostname | OS / Arch | INSTALL | BUILD | BUILD BIN | ||||||||||||
| BiSeq 1.38.0 (landing page) Katja Hebestreit
| kjohnson | macOS 13.0 Ventura / arm64 | OK | OK | OK | ||||||||||||
| Package 41/470 | Hostname | OS / Arch | INSTALL | BUILD | BUILD BIN | ||||||||||||
| blima 1.32.0 (landing page) Vojtěch Kulvait
| kjohnson | macOS 13.0 Ventura / arm64 | OK | OK | OK | ||||||||||||
| Package 42/470 | Hostname | OS / Arch | INSTALL | BUILD | BUILD BIN | ||||||||||||
| bnbc 1.20.0 (landing page) Kipper Fletez-Brant
| kjohnson | macOS 13.0 Ventura / arm64 | OK | OK | OK | ||||||||||||
| Package 43/470 | Hostname | OS / Arch | INSTALL | BUILD | BUILD BIN | ||||||||||||
| breakpointR 1.16.0 (landing page) David Porubsky
| kjohnson | macOS 13.0 Ventura / arm64 | OK | OK | OK | ||||||||||||
| Package 44/470 | Hostname | OS / Arch | INSTALL | BUILD | BUILD BIN | ||||||||||||
| BrowserViz 2.20.0 (landing page) Paul Shannon
| kjohnson | macOS 13.0 Ventura / arm64 | OK | OK | OK | ||||||||||||
| Package 45/470 | Hostname | OS / Arch | INSTALL | BUILD | BUILD BIN | ||||||||||||
| BSgenome 1.66.3 (landing page) Hervé Pagès
| kjohnson | macOS 13.0 Ventura / arm64 | OK | OK | OK | ||||||||||||
| Package 46/470 | Hostname | OS / Arch | INSTALL | BUILD | BUILD BIN | ||||||||||||
| bsseq 1.34.0 (landing page) Kasper Daniel Hansen
| kjohnson | macOS 13.0 Ventura / arm64 | OK | OK | OK | ||||||||||||
| Package 47/470 | Hostname | OS / Arch | INSTALL | BUILD | BUILD BIN | ||||||||||||
| BubbleTree 2.28.0 (landing page) Todd Creasy
| kjohnson | macOS 13.0 Ventura / arm64 | OK | OK | OK | ||||||||||||
| Package 48/470 | Hostname | OS / Arch | INSTALL | BUILD | BUILD BIN | ||||||||||||
| bumphunter 1.40.0 (landing page) Tamilselvi Guharaj
| kjohnson | macOS 13.0 Ventura / arm64 | OK | OK | OK | ||||||||||||
| Package 49/470 | Hostname | OS / Arch | INSTALL | BUILD | BUILD BIN | ||||||||||||
| BUSpaRse 1.12.2 (landing page) Lambda Moses
| kjohnson | macOS 13.0 Ventura / arm64 | OK | OK | OK | ||||||||||||
| Package 50/470 | Hostname | OS / Arch | INSTALL | BUILD | BUILD BIN | ||||||||||||
| CAGEfightR 1.18.0 (landing page) Malte Thodberg
| kjohnson | macOS 13.0 Ventura / arm64 | OK | OK | OK | ||||||||||||
| Package 51/470 | Hostname | OS / Arch | INSTALL | BUILD | BUILD BIN | ||||||||||||
| CAGEr 2.4.0 (landing page) Charles Plessy
| kjohnson | macOS 13.0 Ventura / arm64 | OK | OK | OK | ||||||||||||
| Package 52/470 | Hostname | OS / Arch | INSTALL | BUILD | BUILD BIN | ||||||||||||
| Cardinal 3.0.1 (landing page) Kylie A. Bemis
| kjohnson | macOS 13.0 Ventura / arm64 | OK | OK | OK | ||||||||||||
| Package 53/470 | Hostname | OS / Arch | INSTALL | BUILD | BUILD BIN | ||||||||||||
| casper 2.32.0 (landing page) David Rossell
| kjohnson | macOS 13.0 Ventura / arm64 | OK | ERROR | skipped | ||||||||||||
| Package 54/470 | Hostname | OS / Arch | INSTALL | BUILD | BUILD BIN | ||||||||||||
| Category 2.64.0 (landing page) Bioconductor Package Maintainer
| kjohnson | macOS 13.0 Ventura / arm64 | OK | OK | OK | ||||||||||||
| Package 55/470 | Hostname | OS / Arch | INSTALL | BUILD | BUILD BIN | ||||||||||||
| categoryCompare 1.42.0 (landing page) Robert M. Flight
| kjohnson | macOS 13.0 Ventura / arm64 | OK | OK | OK | ||||||||||||
| Package 56/470 | Hostname | OS / Arch | INSTALL | BUILD | BUILD BIN | ||||||||||||
| celaref 1.16.0 (landing page) Sarah Williams
| kjohnson | macOS 13.0 Ventura / arm64 | OK | OK | OK | ||||||||||||
| Package 57/470 | Hostname | OS / Arch | INSTALL | BUILD | BUILD BIN | ||||||||||||
| CellaRepertorium 1.8.0 (landing page) Andrew McDavid
| kjohnson | macOS 13.0 Ventura / arm64 | OK | OK | OK | ||||||||||||
| Package 58/470 | Hostname | OS / Arch | INSTALL | BUILD | BUILD BIN | ||||||||||||
| CellBench 1.14.0 (landing page) Shian Su
| kjohnson | macOS 13.0 Ventura / arm64 | OK | OK | OK | ||||||||||||
| Package 59/470 | Hostname | OS / Arch | INSTALL | BUILD | BUILD BIN | ||||||||||||
| cellHTS2 2.62.0 (landing page) Joseph Barry
| kjohnson | macOS 13.0 Ventura / arm64 | OK | OK | OK | ||||||||||||
| Package 60/470 | Hostname | OS / Arch | INSTALL | BUILD | BUILD BIN | ||||||||||||
| CellMixS 1.14.0 (landing page) Almut Lütge
| kjohnson | macOS 13.0 Ventura / arm64 | OK | OK | OK | ||||||||||||
| Package 61/470 | Hostname | OS / Arch | INSTALL | BUILD | BUILD BIN | ||||||||||||
| CellTrails 1.16.0 (landing page) Daniel Ellwanger
| kjohnson | macOS 13.0 Ventura / arm64 | OK | OK | OK | ||||||||||||
| Package 62/470 | Hostname | OS / Arch | INSTALL | BUILD | BUILD BIN | ||||||||||||
| cfDNAPro 1.4.0 (landing page) Haichao Wang
| kjohnson | macOS 13.0 Ventura / arm64 | OK | OK | OK | ||||||||||||
| Package 63/470 | Hostname | OS / Arch | INSTALL | BUILD | BUILD BIN | ||||||||||||
| cghMCR 1.56.0 (landing page) J. Zhang
| kjohnson | macOS 13.0 Ventura / arm64 | OK | OK | OK | ||||||||||||
| Package 64/470 | Hostname | OS / Arch | INSTALL | BUILD | BUILD BIN | ||||||||||||
| ChemmineOB 1.36.0 (landing page) Thomas Girke
| kjohnson | macOS 13.0 Ventura / arm64 | ERROR | ERROR | skipped | ||||||||||||
| Package 65/470 | Hostname | OS / Arch | INSTALL | BUILD | BUILD BIN | ||||||||||||
| ChemmineR 3.50.0 (landing page) Thomas Girke
| kjohnson | macOS 13.0 Ventura / arm64 | OK | OK | OK | ||||||||||||
| Package 66/470 | Hostname | OS / Arch | INSTALL | BUILD | BUILD BIN | ||||||||||||
| ChIC 1.18.0 (landing page) Carmen Maria Livi
| kjohnson | macOS 13.0 Ventura / arm64 | ERROR | ERROR | skipped | ||||||||||||
| Package 67/470 | Hostname | OS / Arch | INSTALL | BUILD | BUILD BIN | ||||||||||||
| ChIPComp 1.28.0 (landing page) Li Chen
| kjohnson | macOS 13.0 Ventura / arm64 | OK | OK | OK | ||||||||||||
| Package 68/470 | Hostname | OS / Arch | INSTALL | BUILD | BUILD BIN | ||||||||||||
| chipenrich 2.22.0 (landing page) Raymond G. Cavalcante
| kjohnson | macOS 13.0 Ventura / arm64 | OK | OK | OK | ||||||||||||
| Package 69/470 | Hostname | OS / Arch | INSTALL | BUILD | BUILD BIN | ||||||||||||
| ChIPpeakAnno 3.32.0 (landing page) Jianhong Ou
| kjohnson | macOS 13.0 Ventura / arm64 | OK | OK | OK | ||||||||||||
| Package 70/470 | Hostname | OS / Arch | INSTALL | BUILD | BUILD BIN | ||||||||||||
| ChIPQC 1.34.1 (landing page) Tom Carroll
| kjohnson | macOS 13.0 Ventura / arm64 | OK | OK | OK | ||||||||||||
| Package 71/470 | Hostname | OS / Arch | INSTALL | BUILD | BUILD BIN | ||||||||||||
| ChIPseeker 1.34.1 (landing page) Guangchuang Yu
| kjohnson | macOS 13.0 Ventura / arm64 | OK | OK | OK | ||||||||||||
| Package 72/470 | Hostname | OS / Arch | INSTALL | BUILD | BUILD BIN | ||||||||||||
| chipseq 1.48.0 (landing page) Bioconductor Package Maintainer
| kjohnson | macOS 13.0 Ventura / arm64 | OK | OK | OK | ||||||||||||
| Package 73/470 | Hostname | OS / Arch | INSTALL | BUILD | BUILD BIN | ||||||||||||
| ChIPseqR 1.52.0 (landing page) Peter Humburg
| kjohnson | macOS 13.0 Ventura / arm64 | OK | OK | OK | ||||||||||||
| Package 74/470 | Hostname | OS / Arch | INSTALL | BUILD | BUILD BIN | ||||||||||||
| ChromHeatMap 1.52.0 (landing page) Tim F. Rayner
| kjohnson | macOS 13.0 Ventura / arm64 | OK | OK | OK | ||||||||||||
| Package 75/470 | Hostname | OS / Arch | INSTALL | BUILD | BUILD BIN | ||||||||||||
| chromstaR 1.24.0 (landing page) Aaron Taudt
| kjohnson | macOS 13.0 Ventura / arm64 | OK | OK | OK | ||||||||||||
| Package 76/470 | Hostname | OS / Arch | INSTALL | BUILD | BUILD BIN | ||||||||||||
| chromVAR 1.20.2 (landing page) Alicia Schep
| kjohnson | macOS 13.0 Ventura / arm64 | OK | OK | OK | ||||||||||||
| Package 77/470 | Hostname | OS / Arch | INSTALL | BUILD | BUILD BIN | ||||||||||||
| cicero 1.16.2 (landing page) Hannah Pliner
| kjohnson | macOS 13.0 Ventura / arm64 | OK | OK | OK | ||||||||||||
| Package 78/470 | Hostname | OS / Arch | INSTALL | BUILD | BUILD BIN | ||||||||||||
| CircSeqAlignTk 1.0.0 (landing page) Jianqiang Sun
| kjohnson | macOS 13.0 Ventura / arm64 | OK | OK | OK | ||||||||||||
| Package 79/470 | Hostname | OS / Arch | INSTALL | BUILD | BUILD BIN | ||||||||||||
| clusterExperiment 2.18.2 (landing page) Elizabeth Purdom
| kjohnson | macOS 13.0 Ventura / arm64 | OK | OK | OK | ||||||||||||
| Package 80/470 | Hostname | OS / Arch | INSTALL | BUILD | BUILD BIN | ||||||||||||
| clusterSeq 1.22.0 (landing page) Thomas J. Hardcastle
| kjohnson | macOS 13.0 Ventura / arm64 | OK | OK | OK | ||||||||||||
| Package 81/470 | Hostname | OS / Arch | INSTALL | BUILD | BUILD BIN | ||||||||||||
| cn.mops 1.44.0 (landing page) Gundula Povysil
| kjohnson | macOS 13.0 Ventura / arm64 | OK | OK | OK | ||||||||||||
| Package 82/470 | Hostname | OS / Arch | INSTALL | BUILD | BUILD BIN | ||||||||||||
| CNEr 1.34.0 (landing page) Ge Tan
| kjohnson | macOS 13.0 Ventura / arm64 | OK | OK | OK | ||||||||||||
| Package 83/470 | Hostname | OS / Arch | INSTALL | BUILD | BUILD BIN | ||||||||||||
| CNVPanelizer 1.30.0 (landing page) Thomas Wolf
| kjohnson | macOS 13.0 Ventura / arm64 | OK | OK | OK | ||||||||||||
| Package 84/470 | Hostname | OS / Arch | INSTALL | BUILD | BUILD BIN | ||||||||||||
| CNVRanger 1.14.0 (landing page) Ludwig Geistlinger
| kjohnson | macOS 13.0 Ventura / arm64 | OK | OK | OK | ||||||||||||
| Package 85/470 | Hostname | OS / Arch | INSTALL | BUILD | BUILD BIN | ||||||||||||
| COCOA 2.12.0 (landing page) John Lawson
| kjohnson | macOS 13.0 Ventura / arm64 | OK | OK | OK | ||||||||||||
| Package 86/470 | Hostname | OS / Arch | INSTALL | BUILD | BUILD BIN | ||||||||||||
| codelink 1.66.0 (landing page) Diego Diez
| kjohnson | macOS 13.0 Ventura / arm64 | OK | OK | OK | ||||||||||||
| Package 87/470 | Hostname | OS / Arch | INSTALL | BUILD | BUILD BIN | ||||||||||||
| cola 2.4.0 (landing page) Zuguang Gu
| kjohnson | macOS 13.0 Ventura / arm64 | OK | OK | OK | ||||||||||||
| Package 88/470 | Hostname | OS / Arch | INSTALL | BUILD | BUILD BIN | ||||||||||||
| compEpiTools 1.32.0 (landing page) Kamal Kishore
| kjohnson | macOS 13.0 Ventura / arm64 | OK | OK | OK | ||||||||||||
| Package 89/470 | Hostname | OS / Arch | INSTALL | BUILD | BUILD BIN | ||||||||||||
| CompoundDb 1.2.1 (landing page) Johannes Rainer
| kjohnson | macOS 13.0 Ventura / arm64 | OK | OK | OK | ||||||||||||
| Package 90/470 | Hostname | OS / Arch | INSTALL | BUILD | BUILD BIN | ||||||||||||
| consensusDE 1.16.0 (landing page) Ashley J. Waardenberg
| kjohnson | macOS 13.0 Ventura / arm64 | OK | OK | OK | ||||||||||||
| Package 91/470 | Hostname | OS / Arch | INSTALL | BUILD | BUILD BIN | ||||||||||||
| consensusSeekeR 1.26.0 (landing page) Astrid Deschenes
| kjohnson | macOS 13.0 Ventura / arm64 | OK | OK | OK | ||||||||||||
| Package 92/470 | Hostname | OS / Arch | INSTALL | BUILD | BUILD BIN | ||||||||||||
| contiBAIT 1.26.0 (landing page) Kieran O'Neill
| kjohnson | macOS 13.0 Ventura / arm64 | OK | OK | OK | ||||||||||||
| Package 93/470 | Hostname | OS / Arch | INSTALL | BUILD | BUILD BIN | ||||||||||||
| copynumber 1.38.0 (landing page) Gro Nilsen
| kjohnson | macOS 13.0 Ventura / arm64 | OK | ERROR | skipped | ||||||||||||
| Package 94/470 | Hostname | OS / Arch | INSTALL | BUILD | BUILD BIN | ||||||||||||
| CoreGx 2.2.0 (landing page) Benjamin Haibe-Kains
| kjohnson | macOS 13.0 Ventura / arm64 | OK | OK | OK | ||||||||||||
| Package 95/470 | Hostname | OS / Arch | INSTALL | BUILD | BUILD BIN | ||||||||||||
| crisprBase 1.2.0 (landing page) Jean-Philippe Fortin
| kjohnson | macOS 13.0 Ventura / arm64 | OK | OK | OK | ||||||||||||
| Package 96/470 | Hostname | OS / Arch | INSTALL | BUILD | BUILD BIN | ||||||||||||
| crisprBowtie 1.2.0 (landing page) Jean-Philippe Fortin
| kjohnson | macOS 13.0 Ventura / arm64 | OK | OK | OK | ||||||||||||
| Package 97/470 | Hostname | OS / Arch | INSTALL | BUILD | BUILD BIN | ||||||||||||
| crisprBwa 1.2.0 (landing page) Jean-Philippe Fortin
| kjohnson | macOS 13.0 Ventura / arm64 | ERROR | ERROR | skipped | ||||||||||||
| Package 98/470 | Hostname | OS / Arch | INSTALL | BUILD | BUILD BIN | ||||||||||||
| crisprDesign 1.0.0 (landing page) Jean-Philippe Fortin
| kjohnson | macOS 13.0 Ventura / arm64 | OK | OK | OK | ||||||||||||
| Package 99/470 | Hostname | OS / Arch | INSTALL | BUILD | BUILD BIN | ||||||||||||
| crisprScore 1.2.0 (landing page) Jean-Philippe Fortin
| kjohnson | macOS 13.0 Ventura / arm64 | OK | OK | OK | ||||||||||||
| Package 100/470 | Hostname | OS / Arch | INSTALL | BUILD | BUILD BIN | ||||||||||||
| CRISPRseek 1.38.0 (landing page) Lihua Julie Zhu
| kjohnson | macOS 13.0 Ventura / arm64 | OK | OK | OK | ||||||||||||
| Package 101/470 | Hostname | OS / Arch | INSTALL | BUILD | BUILD BIN | ||||||||||||
| crisprViz 1.0.0 (landing page) Jean-Philippe Fortin
| kjohnson | macOS 13.0 Ventura / arm64 | OK | OK | OK | ||||||||||||
| Package 102/470 | Hostname | OS / Arch | INSTALL | BUILD | BUILD BIN | ||||||||||||
| crlmm 1.56.0 (landing page) Benilton S Carvalho
| kjohnson | macOS 13.0 Ventura / arm64 | OK | OK | OK | ||||||||||||
| Package 103/470 | Hostname | OS / Arch | INSTALL | BUILD | BUILD BIN | ||||||||||||
| crossmeta 1.24.0 (landing page) Alex Pickering
| kjohnson | macOS 13.0 Ventura / arm64 | OK | OK | OK | ||||||||||||
| Package 104/470 | Hostname | OS / Arch | INSTALL | BUILD | BUILD BIN | ||||||||||||
| csaw 1.32.0 (landing page) Aaron Lun
| kjohnson | macOS 13.0 Ventura / arm64 | OK | OK | OK | ||||||||||||
| Package 105/470 | Hostname | OS / Arch | INSTALL | BUILD | BUILD BIN | ||||||||||||
USD Biomedical Engineering
| kjohnson | macOS 13.0 Ventura / arm64 | ERROR | ERROR | skipped | ||||||||||||
| Package 106/470 | Hostname | OS / Arch | INSTALL | BUILD | BUILD BIN | ||||||||||||
| cummeRbund 2.40.0 (landing page) Loyal A. Goff
| kjohnson | macOS 13.0 Ventura / arm64 | OK | OK | OK | ||||||||||||
| Package 107/470 | Hostname | OS / Arch | INSTALL | BUILD | BUILD BIN | ||||||||||||
| cydar 1.22.0 (landing page) Aaron Lun
| kjohnson | macOS 13.0 Ventura / arm64 | OK | OK | OK | ||||||||||||
| Package 108/470 | Hostname | OS / Arch | INSTALL | BUILD | BUILD BIN | ||||||||||||
| dada2 1.26.0 (landing page) Benjamin Callahan
| kjohnson | macOS 13.0 Ventura / arm64 | OK | OK | OK | ||||||||||||
| Package 109/470 | Hostname | OS / Arch | INSTALL | BUILD | BUILD BIN | ||||||||||||
| dagLogo 1.36.0 (landing page) Jianhong Ou
| kjohnson | macOS 13.0 Ventura / arm64 | OK | OK | OK | ||||||||||||
| Package 110/470 | Hostname | OS / Arch | INSTALL | BUILD | BUILD BIN | ||||||||||||
| DAMEfinder 1.10.1 (landing page) Stephany Orjuela
| kjohnson | macOS 13.0 Ventura / arm64 | OK | OK | OK | ||||||||||||
| Package 111/470 | Hostname | OS / Arch | INSTALL | BUILD | BUILD BIN | ||||||||||||
| ddCt 1.54.0 (landing page) Jitao David Zhang
| kjohnson | macOS 13.0 Ventura / arm64 | OK | OK | OK | ||||||||||||
| Package 112/470 | Hostname | OS / Arch | INSTALL | BUILD | BUILD BIN | ||||||||||||
| decompTumor2Sig 2.14.0 (landing page) Rosario M. Piro
| kjohnson | macOS 13.0 Ventura / arm64 | OK | TIMEOUT | skipped | ||||||||||||
| Package 113/470 | Hostname | OS / Arch | INSTALL | BUILD | BUILD BIN | ||||||||||||
| deconvR 1.4.5 (landing page) Irem B. G�nd�z
| kjohnson | macOS 13.0 Ventura / arm64 | OK | OK | OK | ||||||||||||
| Package 114/470 | Hostname | OS / Arch | INSTALL | BUILD | BUILD BIN | ||||||||||||
| DEGreport 1.34.0 (landing page) Lorena Pantano
| kjohnson | macOS 13.0 Ventura / arm64 | OK | OK | OK | ||||||||||||
| Package 115/470 | Hostname | OS / Arch | INSTALL | BUILD | BUILD BIN | ||||||||||||
| DelayedArray 0.24.0 (landing page) Hervé Pagès
| kjohnson | macOS 13.0 Ventura / arm64 | OK | OK | OK | ||||||||||||
| Package 116/470 | Hostname | OS / Arch | INSTALL | BUILD | BUILD BIN | ||||||||||||
| DelayedDataFrame 1.14.0 (landing page) Qian Liu
| kjohnson | macOS 13.0 Ventura / arm64 | OK | OK | OK | ||||||||||||
| Package 117/470 | Hostname | OS / Arch | INSTALL | BUILD | BUILD BIN | ||||||||||||
| derfinder 1.32.0 (landing page) Leonardo Collado-Torres
| kjohnson | macOS 13.0 Ventura / arm64 | OK | OK | OK | ||||||||||||
| Package 118/470 | Hostname | OS / Arch | INSTALL | BUILD | BUILD BIN | ||||||||||||
| DEScan2 1.18.2 (landing page) Dario Righelli
| kjohnson | macOS 13.0 Ventura / arm64 | OK | OK | OK | ||||||||||||
| Package 119/470 | Hostname | OS / Arch | INSTALL | BUILD | BUILD BIN | ||||||||||||
| DESeq2 1.38.3 (landing page) Michael Love
| kjohnson | macOS 13.0 Ventura / arm64 | OK | OK | OK | ||||||||||||
| Package 120/470 | Hostname | OS / Arch | INSTALL | BUILD | BUILD BIN | ||||||||||||
| destiny 3.12.0 (landing page) Philipp Angerer
| kjohnson | macOS 13.0 Ventura / arm64 | OK | OK | OK | ||||||||||||
| Package 121/470 | Hostname | OS / Arch | INSTALL | BUILD | BUILD BIN | ||||||||||||
| DEWSeq 1.12.0 (landing page) bioinformatics team Hentze
| kjohnson | macOS 13.0 Ventura / arm64 | OK | OK | OK | ||||||||||||
| Package 122/470 | Hostname | OS / Arch | INSTALL | BUILD | BUILD BIN | ||||||||||||
| DEXSeq 1.44.0 (landing page) Alejandro Reyes
| kjohnson | macOS 13.0 Ventura / arm64 | OK | OK | OK | ||||||||||||
| Package 123/470 | Hostname | OS / Arch | INSTALL | BUILD | BUILD BIN | ||||||||||||
| diffcoexp 1.18.0 (landing page) Wenbin Wei
| kjohnson | macOS 13.0 Ventura / arm64 | OK | OK | OK | ||||||||||||
| Package 124/470 | Hostname | OS / Arch | INSTALL | BUILD | BUILD BIN | ||||||||||||
| diffHic 1.30.0 (landing page) Aaron Lun
| kjohnson | macOS 13.0 Ventura / arm64 | OK | OK | OK | ||||||||||||
| Package 125/470 | Hostname | OS / Arch | INSTALL | BUILD | BUILD BIN | ||||||||||||
| DirichletMultinomial 1.40.0 (landing page) Martin Morgan
| kjohnson | macOS 13.0 Ventura / arm64 | OK | OK | OK | ||||||||||||
| Package 126/470 | Hostname | OS / Arch | INSTALL | BUILD | BUILD BIN | ||||||||||||
| DiscoRhythm 1.14.0 (landing page) Matthew Carlucci
| kjohnson | macOS 13.0 Ventura / arm64 | OK | OK | OK | ||||||||||||
| Package 127/470 | Hostname | OS / Arch | INSTALL | BUILD | BUILD BIN | ||||||||||||
| DRIMSeq 1.26.0 (landing page) Malgorzata Nowicka
| kjohnson | macOS 13.0 Ventura / arm64 | OK | OK | OK | ||||||||||||
| Package 128/470 | Hostname | OS / Arch | INSTALL | BUILD | BUILD BIN | ||||||||||||
| DropletUtils 1.18.1 (landing page) Jonathan Griffiths
| kjohnson | macOS 13.0 Ventura / arm64 | OK | OK | OK | ||||||||||||
| Package 129/470 | Hostname | OS / Arch | INSTALL | BUILD | BUILD BIN | ||||||||||||
| DrugVsDisease 2.40.0 (landing page) j. Saez-Rodriguez
| kjohnson | macOS 13.0 Ventura / arm64 | OK | OK | OK | ||||||||||||
| Package 130/470 | Hostname | OS / Arch | INSTALL | BUILD | BUILD BIN | ||||||||||||
| easyRNASeq 2.34.0 (landing page) Nicolas Delhomme
| kjohnson | macOS 13.0 Ventura / arm64 | OK | OK | OK | ||||||||||||
| Package 131/470 | Hostname | OS / Arch | INSTALL | BUILD | BUILD BIN | ||||||||||||
| EBImage 4.40.1 (landing page) Andrzej Oleś
| kjohnson | macOS 13.0 Ventura / arm64 | OK | OK | OK | ||||||||||||
| Package 132/470 | Hostname | OS / Arch | INSTALL | BUILD | BUILD BIN | ||||||||||||
| EDASeq 2.32.0 (landing page) Davide Risso
| kjohnson | macOS 13.0 Ventura / arm64 | OK | OK | OK | ||||||||||||
| Package 133/470 | Hostname | OS / Arch | INSTALL | BUILD | BUILD BIN | ||||||||||||
| eiR 1.38.0 (landing page) Thomas Girke
| kjohnson | macOS 13.0 Ventura / arm64 | OK | OK | OK | ||||||||||||
| Package 134/470 | Hostname | OS / Arch | INSTALL | BUILD | BUILD BIN | ||||||||||||
| eisaR 1.10.0 (landing page) Michael Stadler
| kjohnson | macOS 13.0 Ventura / arm64 | OK | OK | OK | ||||||||||||
| Package 135/470 | Hostname | OS / Arch | INSTALL | BUILD | BUILD BIN | ||||||||||||
| enhancerHomologSearch 1.4.2 (landing page) Jianhong Ou
| kjohnson | macOS 13.0 Ventura / arm64 | OK | OK | OK | ||||||||||||
| Package 136/470 | Hostname | OS / Arch | INSTALL | BUILD | BUILD BIN | ||||||||||||
| enrichTF 1.14.0 (landing page) Zheng Wei
| kjohnson | macOS 13.0 Ventura / arm64 | OK | OK | OK | ||||||||||||
| Package 137/470 | Hostname | OS / Arch | INSTALL | BUILD | BUILD BIN | ||||||||||||
| ensembldb 2.22.0 (landing page) Johannes Rainer
| kjohnson | macOS 13.0 Ventura / arm64 | OK | OK | OK | ||||||||||||
| Package 138/470 | Hostname | OS / Arch | INSTALL | BUILD | BUILD BIN | ||||||||||||
| ensemblVEP 1.40.0 (landing page) Bioconductor Package Maintainer
| kjohnson | macOS 13.0 Ventura / arm64 | OK | ERROR | skipped | ||||||||||||
| Package 139/470 | Hostname | OS / Arch | INSTALL | BUILD | BUILD BIN | ||||||||||||
| epialleleR 1.6.1 (landing page) Oleksii Nikolaienko
| kjohnson | macOS 13.0 Ventura / arm64 | OK | OK | OK | ||||||||||||
| Package 140/470 | Hostname | OS / Arch | INSTALL | BUILD | BUILD BIN | ||||||||||||
| EpiCompare 1.2.0 (landing page) Sera Choi
| kjohnson | macOS 13.0 Ventura / arm64 | OK | OK | OK | ||||||||||||
| Package 141/470 | Hostname | OS / Arch | INSTALL | BUILD | BUILD BIN | ||||||||||||
| epigenomix 1.38.0 (landing page) Hans-Ulrich Klein
| kjohnson | macOS 13.0 Ventura / arm64 | OK | OK | OK | ||||||||||||
| Package 142/470 | Hostname | OS / Arch | INSTALL | BUILD | BUILD BIN | ||||||||||||
| epimutacions 1.2.0 (landing page) Dolors Pelegri-Siso
| kjohnson | macOS 13.0 Ventura / arm64 | OK | OK | OK | ||||||||||||
| Package 143/470 | Hostname | OS / Arch | INSTALL | BUILD | BUILD BIN | ||||||||||||
| epistack 1.4.0 (landing page) DEVAILLY Guillaume
| kjohnson | macOS 13.0 Ventura / arm64 | OK | OK | OK | ||||||||||||
| Package 144/470 | Hostname | OS / Arch | INSTALL | BUILD | BUILD BIN | ||||||||||||
| EpiTxDb 1.10.0 (landing page) Felix G.M. Ernst
| kjohnson | macOS 13.0 Ventura / arm64 | OK | OK | OK | ||||||||||||
| Package 145/470 | Hostname | OS / Arch | INSTALL | BUILD | BUILD BIN | ||||||||||||
| epivizrChart 1.20.0 (landing page) Hector Corrada Bravo
| kjohnson | macOS 13.0 Ventura / arm64 | OK | OK | OK | ||||||||||||
| Package 146/470 | Hostname | OS / Arch | INSTALL | BUILD | BUILD BIN | ||||||||||||
| epivizrStandalone 1.26.0 (landing page) Hector Corrada Bravo
| kjohnson | macOS 13.0 Ventura / arm64 | OK | OK | OK | ||||||||||||
| Package 147/470 | Hostname | OS / Arch | INSTALL | BUILD | BUILD BIN | ||||||||||||
| erma 1.14.0 (landing page) VJ Carey
| kjohnson | macOS 13.0 Ventura / arm64 | OK | OK | OK | ||||||||||||
| Package 148/470 | Hostname | OS / Arch | INSTALL | BUILD | BUILD BIN | ||||||||||||
| esATAC 1.20.0 (landing page) Zheng Wei
| kjohnson | macOS 13.0 Ventura / arm64 | OK | OK | OK | ||||||||||||
| Package 149/470 | Hostname | OS / Arch | INSTALL | BUILD | BUILD BIN | ||||||||||||
| exomePeak2 1.10.0 (landing page) Zhen Wei
| kjohnson | macOS 13.0 Ventura / arm64 | OK | OK | OK | ||||||||||||
| Package 150/470 | Hostname | OS / Arch | INSTALL | BUILD | BUILD BIN | ||||||||||||
| ExperimentHub 2.6.0 (landing page) Bioconductor Package Maintainer
| kjohnson | macOS 13.0 Ventura / arm64 | OK | OK | OK | ||||||||||||
| Package 151/470 | Hostname | OS / Arch | INSTALL | BUILD | BUILD BIN | ||||||||||||
| ExperimentHubData 1.24.0 (landing page) Bioconductor Package Maintainer
| kjohnson | macOS 13.0 Ventura / arm64 | OK | OK | OK | ||||||||||||
| Package 152/470 | Hostname | OS / Arch | INSTALL | BUILD | BUILD BIN | ||||||||||||
| factR 1.0.0 (landing page) Fursham Hamid
| kjohnson | macOS 13.0 Ventura / arm64 | OK | OK | OK | ||||||||||||
| Package 153/470 | Hostname | OS / Arch | INSTALL | BUILD | BUILD BIN | ||||||||||||
| FamAgg 1.26.0 (landing page) Johannes Rainer
| kjohnson | macOS 13.0 Ventura / arm64 | OK | OK | OK | ||||||||||||
| Package 154/470 | Hostname | OS / Arch | INSTALL | BUILD | BUILD BIN | ||||||||||||
| fastseg 1.44.0 (landing page) Alexander Blume
| kjohnson | macOS 13.0 Ventura / arm64 | OK | OK | OK | ||||||||||||
| Package 155/470 | Hostname | OS / Arch | INSTALL | BUILD | BUILD BIN | ||||||||||||
| ffpe 1.42.0 (landing page) Levi Waldron
| kjohnson | macOS 13.0 Ventura / arm64 | OK | OK | OK | ||||||||||||
| Package 156/470 | Hostname | OS / Arch | INSTALL | BUILD | BUILD BIN | ||||||||||||
| FindIT2 1.4.0 (landing page) Guandong Shang
| kjohnson | macOS 13.0 Ventura / arm64 | OK | OK | OK | ||||||||||||
| Package 157/470 | Hostname | OS / Arch | INSTALL | BUILD | BUILD BIN | ||||||||||||
| FLAMES 1.4.3 (landing page) Oliver Voogd
| kjohnson | macOS 13.0 Ventura / arm64 | OK | OK | OK | ||||||||||||
| Package 158/470 | Hostname | OS / Arch | INSTALL | BUILD | BUILD BIN | ||||||||||||
| flowBin 1.34.0 (landing page) Kieran O'Neill
| kjohnson | macOS 13.0 Ventura / arm64 | OK | OK | OK | ||||||||||||
| Package 159/470 | Hostname | OS / Arch | INSTALL | BUILD | BUILD BIN | ||||||||||||
| flowClust 3.36.1 (landing page) Greg Finak
| kjohnson | macOS 13.0 Ventura / arm64 | OK | OK | OK | ||||||||||||
| Package 160/470 | Hostname | OS / Arch | INSTALL | BUILD | BUILD BIN | ||||||||||||
| flowCore 2.10.0 (landing page) Mike Jiang
| kjohnson | macOS 13.0 Ventura / arm64 | OK | OK | OK | ||||||||||||
| Package 161/470 | Hostname | OS / Arch | INSTALL | BUILD | BUILD BIN | ||||||||||||
| flowFP 1.56.3 (landing page) Herb Holyst
| kjohnson | macOS 13.0 Ventura / arm64 | OK | OK | OK | ||||||||||||
| Package 162/470 | Hostname | OS / Arch | INSTALL | BUILD | BUILD BIN | ||||||||||||
| FlowSOM 2.6.0 (landing page) Sofie Van Gassen
| kjohnson | macOS 13.0 Ventura / arm64 | OK | OK | OK | ||||||||||||
| Package 163/470 | Hostname | OS / Arch | INSTALL | BUILD | BUILD BIN | ||||||||||||
| flowSpecs 1.12.0 (landing page) Jakob Theorell
| kjohnson | macOS 13.0 Ventura / arm64 | OK | OK | OK | ||||||||||||
| Package 164/470 | Hostname | OS / Arch | INSTALL | BUILD | BUILD BIN | ||||||||||||
| flowStats 4.10.0 (landing page) Greg Finak
| kjohnson | macOS 13.0 Ventura / arm64 | OK | OK | OK | ||||||||||||
| Package 165/470 | Hostname | OS / Arch | INSTALL | BUILD | BUILD BIN | ||||||||||||
| flowWorkspace 4.10.1 (landing page) Greg Finak
| kjohnson | macOS 13.0 Ventura / arm64 | OK | OK | OK | ||||||||||||
| Package 166/470 | Hostname | OS / Arch | INSTALL | BUILD | BUILD BIN | ||||||||||||
| fmcsR 1.40.0 (landing page) Thomas Girke
| kjohnson | macOS 13.0 Ventura / arm64 | OK | OK | OK | ||||||||||||
| Package 167/470 | Hostname | OS / Arch | INSTALL | BUILD | BUILD BIN | ||||||||||||
| FRASER 1.10.2 (landing page) Christian Mertes
| kjohnson | macOS 13.0 Ventura / arm64 | OK | OK | OK | ||||||||||||
| Package 168/470 | Hostname | OS / Arch | INSTALL | BUILD | BUILD BIN | ||||||||||||
| frma 1.50.0 (landing page) Matthew N. McCall
| kjohnson | macOS 13.0 Ventura / arm64 | OK | OK | OK | ||||||||||||
| Package 169/470 | Hostname | OS / Arch | INSTALL | BUILD | BUILD BIN | ||||||||||||
| GA4GHclient 1.22.0 (landing page) Welliton Souza
| kjohnson | macOS 13.0 Ventura / arm64 | OK | OK | OK | ||||||||||||
| Package 170/470 | Hostname | OS / Arch | INSTALL | BUILD | BUILD BIN | ||||||||||||
| GA4GHshiny 1.20.0 (landing page) Welliton Souza
| kjohnson | macOS 13.0 Ventura / arm64 | OK | OK | OK | ||||||||||||
| Package 171/470 | Hostname | OS / Arch | INSTALL | BUILD | BUILD BIN | ||||||||||||
| gcapc 1.22.0 (landing page) Mingxiang Teng
| kjohnson | macOS 13.0 Ventura / arm64 | OK | OK | OK | ||||||||||||
| Package 172/470 | Hostname | OS / Arch | INSTALL | BUILD | BUILD BIN | ||||||||||||
| GDSArray 1.18.0 (landing page) Qian Liu
| kjohnson | macOS 13.0 Ventura / arm64 | OK | OK | OK | ||||||||||||
| Package 173/470 | Hostname | OS / Arch | INSTALL | BUILD | BUILD BIN | ||||||||||||
| genbankr 1.26.0 (landing page) Gabriel Becker
| kjohnson | macOS 13.0 Ventura / arm64 | OK | OK | OK | ||||||||||||
| Package 174/470 | Hostname | OS / Arch | INSTALL | BUILD | BUILD BIN | ||||||||||||
| geneAttribution 1.24.0 (landing page) Arthur Wuster
| kjohnson | macOS 13.0 Ventura / arm64 | OK | OK | OK | ||||||||||||
| Package 175/470 | Hostname | OS / Arch | INSTALL | BUILD | BUILD BIN | ||||||||||||
| geneClassifiers 1.22.0 (landing page) R Kuiper
| kjohnson | macOS 13.0 Ventura / arm64 | OK | OK | OK | ||||||||||||
| Package 176/470 | Hostname | OS / Arch | INSTALL | BUILD | BUILD BIN | ||||||||||||
| genefilter 1.80.3 (landing page) Bioconductor Package Maintainer
| kjohnson | macOS 13.0 Ventura / arm64 | OK | OK | OK | ||||||||||||
| Package 177/470 | Hostname | OS / Arch | INSTALL | BUILD | BUILD BIN | ||||||||||||
| geneplotter 1.76.0 (landing page) Bioconductor Package Maintainer
| kjohnson | macOS 13.0 Ventura / arm64 | OK | OK | OK | ||||||||||||
| Package 178/470 | Hostname | OS / Arch | INSTALL | BUILD | BUILD BIN | ||||||||||||
| GENESIS 2.28.0 (landing page) Stephanie M. Gogarten
| kjohnson | macOS 13.0 Ventura / arm64 | OK | OK | OK | ||||||||||||
| Package 179/470 | Hostname | OS / Arch | INSTALL | BUILD | BUILD BIN | ||||||||||||
| GenomAutomorphism 1.0.3 (landing page) Robersy Sanchez
| kjohnson | macOS 13.0 Ventura / arm64 | OK | OK | OK | ||||||||||||
| Package 180/470 | Hostname | OS / Arch | INSTALL | BUILD | BUILD BIN | ||||||||||||
| GenomeInfoDb 1.34.9 (landing page) Hervé Pagès
| kjohnson | macOS 13.0 Ventura / arm64 | OK | OK | OK | ||||||||||||
| Package 181/470 | Hostname | OS / Arch | INSTALL | BUILD | BUILD BIN | ||||||||||||
| genomeIntervals 1.54.0 (landing page) Julien Gagneur
| kjohnson | macOS 13.0 Ventura / arm64 | OK | OK | OK | ||||||||||||
| Package 182/470 | Hostname | OS / Arch | INSTALL | BUILD | BUILD BIN | ||||||||||||
| GenomicAlignments 1.34.1 (landing page) Hervé Pagès
| kjohnson | macOS 13.0 Ventura / arm64 | OK | OK | OK | ||||||||||||
| Package 183/470 | Hostname | OS / Arch | INSTALL | BUILD | BUILD BIN | ||||||||||||
| GenomicFeatures 1.50.4 (landing page) H. Pagès
| kjohnson | macOS 13.0 Ventura / arm64 | OK | OK | OK | ||||||||||||
| Package 184/470 | Hostname | OS / Arch | INSTALL | BUILD | BUILD BIN | ||||||||||||
| GenomicFiles 1.34.0 (landing page) Bioconductor Package Maintainer
| kjohnson | macOS 13.0 Ventura / arm64 | OK | OK | OK | ||||||||||||
| Package 185/470 | Hostname | OS / Arch | INSTALL | BUILD | BUILD BIN | ||||||||||||
| GenomicInteractions 1.32.0 (landing page) Liz Ing-Simmons
| kjohnson | macOS 13.0 Ventura / arm64 | OK | OK | OK | ||||||||||||
| Package 186/470 | Hostname | OS / Arch | INSTALL | BUILD | BUILD BIN | ||||||||||||
| GenomicRanges 1.50.2 (landing page) Hervé Pagès
| kjohnson | macOS 13.0 Ventura / arm64 | OK | OK | OK | ||||||||||||
| Package 187/470 | Hostname | OS / Arch | INSTALL | BUILD | BUILD BIN | ||||||||||||
| GenomicScores 2.10.0 (landing page) Robert Castelo
| kjohnson | macOS 13.0 Ventura / arm64 | OK | OK | OK | ||||||||||||
| Package 188/470 | Hostname | OS / Arch | INSTALL | BUILD | BUILD BIN | ||||||||||||
| GenomicTuples 1.32.0 (landing page) Peter Hickey
| kjohnson | macOS 13.0 Ventura / arm64 | OK | OK | OK | ||||||||||||
| Package 189/470 | Hostname | OS / Arch | INSTALL | BUILD | BUILD BIN | ||||||||||||
| genotypeeval 1.30.0 (landing page) Jennifer Tom
| kjohnson | macOS 13.0 Ventura / arm64 | OK | OK | OK | ||||||||||||
| Package 190/470 | Hostname | OS / Arch | INSTALL | BUILD | BUILD BIN | ||||||||||||
| GenVisR 1.30.0 (landing page) Zachary Skidmore
| kjohnson | macOS 13.0 Ventura / arm64 | OK | OK | OK | ||||||||||||
| Package 191/470 | Hostname | OS / Arch | INSTALL | BUILD | BUILD BIN | ||||||||||||
| GeomxTools 3.2.0 (landing page) Nicole Ortogero
| kjohnson | macOS 13.0 Ventura / arm64 | OK | OK | OK | ||||||||||||
| Package 192/470 | Hostname | OS / Arch | INSTALL | BUILD | BUILD BIN | ||||||||||||
| ggbio 1.46.0 (landing page) Michael Lawrence
| kjohnson | macOS 13.0 Ventura / arm64 | OK | OK | OK | ||||||||||||
| Package 193/470 | Hostname | OS / Arch | INSTALL | BUILD | BUILD BIN | ||||||||||||
| girafe 1.50.0 (landing page) J. Toedling
| kjohnson | macOS 13.0 Ventura / arm64 | OK | OK | OK | ||||||||||||
| Package 194/470 | Hostname | OS / Arch | INSTALL | BUILD | BUILD BIN | ||||||||||||
| glmGamPoi 1.10.2 (landing page) Constantin Ahlmann-Eltze
| kjohnson | macOS 13.0 Ventura / arm64 | OK | OK | OK | ||||||||||||
| Package 195/470 | Hostname | OS / Arch | INSTALL | BUILD | BUILD BIN | ||||||||||||
| gmapR 1.40.0 (landing page) Michael Lawrence
| kjohnson | macOS 13.0 Ventura / arm64 | ERROR | ERROR | skipped | ||||||||||||
| Package 196/470 | Hostname | OS / Arch | INSTALL | BUILD | BUILD BIN | ||||||||||||
| gmoviz 1.10.0 (landing page) Kathleen Zeglinski
| kjohnson | macOS 13.0 Ventura / arm64 | OK | OK | OK | ||||||||||||
| Package 197/470 | Hostname | OS / Arch | INSTALL | BUILD | BUILD BIN | ||||||||||||
| goseq 1.50.0 (landing page) Matthew Young
| kjohnson | macOS 13.0 Ventura / arm64 | OK | OK | OK | ||||||||||||
| Package 198/470 | Hostname | OS / Arch | INSTALL | BUILD | BUILD BIN | ||||||||||||
| GOTHiC 1.34.0 (landing page) Borbala Mifsud
| kjohnson | macOS 13.0 Ventura / arm64 | OK | OK | OK | ||||||||||||
| Package 199/470 | Hostname | OS / Arch | INSTALL | BUILD | BUILD BIN | ||||||||||||
| gpuMagic 1.14.0 (landing page) Jiefei Wang
| kjohnson | macOS 13.0 Ventura / arm64 | OK | ERROR | skipped | ||||||||||||
| Package 200/470 | Hostname | OS / Arch | INSTALL | BUILD | BUILD BIN | ||||||||||||
| graph 1.76.0 (landing page) Bioconductor Package Maintainer
| kjohnson | macOS 13.0 Ventura / arm64 | OK | OK | OK | ||||||||||||
| Package 201/470 | Hostname | OS / Arch | INSTALL | BUILD | BUILD BIN | ||||||||||||
| GSEABase 1.60.0 (landing page) Bioconductor Package Maintainer
| kjohnson | macOS 13.0 Ventura / arm64 | OK | OK | OK | ||||||||||||
| Package 202/470 | Hostname | OS / Arch | INSTALL | BUILD | BUILD BIN | ||||||||||||
| GUIDEseq 1.28.0 (landing page) Lihua Julie Zhu
| kjohnson | macOS 13.0 Ventura / arm64 | OK | OK | OK | ||||||||||||
| Package 203/470 | Hostname | OS / Arch | INSTALL | BUILD | BUILD BIN | ||||||||||||
| Gviz 1.42.1 (landing page) Robert Ivanek
| kjohnson | macOS 13.0 Ventura / arm64 | OK | OK | OK | ||||||||||||
| Package 204/470 | Hostname | OS / Arch | INSTALL | BUILD | BUILD BIN | ||||||||||||
| HDF5Array 1.26.0 (landing page) Hervé Pagès
| kjohnson | macOS 13.0 Ventura / arm64 | OK | OK | OK | ||||||||||||
| Package 205/470 | Hostname | OS / Arch | INSTALL | BUILD | BUILD BIN | ||||||||||||
| heatmaps 1.22.0 (landing page) Malcolm Perry
| kjohnson | macOS 13.0 Ventura / arm64 | OK | OK | OK | ||||||||||||
| Package 206/470 | Hostname | OS / Arch | INSTALL | BUILD | BUILD BIN | ||||||||||||
| HelloRanges 1.24.0 (landing page) Michael Lawrence
| kjohnson | macOS 13.0 Ventura / arm64 | OK | OK | OK | ||||||||||||
| Package 207/470 | Hostname | OS / Arch | INSTALL | BUILD | BUILD BIN | ||||||||||||
| hermes 1.2.0 (landing page) Daniel Sabanés Bové
| kjohnson | macOS 13.0 Ventura / arm64 | OK | OK | OK | ||||||||||||
| Package 208/470 | Hostname | OS / Arch | INSTALL | BUILD | BUILD BIN | ||||||||||||
| HiCDOC 1.0.0 (landing page) Maigné Élise
| kjohnson | macOS 13.0 Ventura / arm64 | OK | OK | OK | ||||||||||||
| Package 209/470 | Hostname | OS / Arch | INSTALL | BUILD | BUILD BIN | ||||||||||||
| HiContacts 1.0.0 (landing page) Jacques Serizay
| kjohnson | macOS 13.0 Ventura / arm64 | OK | OK | OK | ||||||||||||
| Package 210/470 | Hostname | OS / Arch | INSTALL | BUILD | BUILD BIN | ||||||||||||
| HiLDA 1.12.0 (landing page) Zhi Yang
| kjohnson | macOS 13.0 Ventura / arm64 | OK | OK | OK | ||||||||||||
| Package 211/470 | Hostname | OS / Arch | INSTALL | BUILD | BUILD BIN | ||||||||||||
| hiReadsProcessor 1.34.0 (landing page) Nirav V Malani
| kjohnson | macOS 13.0 Ventura / arm64 | OK | OK | OK | ||||||||||||
| Package 212/470 | Hostname | OS / Arch | INSTALL | BUILD | BUILD BIN | ||||||||||||
| hopach 2.58.0 (landing page) Katherine S. Pollard
| kjohnson | macOS 13.0 Ventura / arm64 | OK | OK | OK | ||||||||||||
| Package 213/470 | Hostname | OS / Arch | INSTALL | BUILD | BUILD BIN | ||||||||||||
| icetea 1.16.0 (landing page) Vivek Bhardwaj
| kjohnson | macOS 13.0 Ventura / arm64 | OK | OK | OK | ||||||||||||
| Package 214/470 | Hostname | OS / Arch | INSTALL | BUILD | BUILD BIN | ||||||||||||
| igvR 1.18.1 (landing page) Paul Shannon
| kjohnson | macOS 13.0 Ventura / arm64 | OK | OK | OK | ||||||||||||
| Package 215/470 | Hostname | OS / Arch | INSTALL | BUILD | BUILD BIN | ||||||||||||
| IHW 1.26.0 (landing page) Nikos Ignatiadis
| kjohnson | macOS 13.0 Ventura / arm64 | OK | OK | OK | ||||||||||||
| Package 216/470 | Hostname | OS / Arch | INSTALL | BUILD | BUILD BIN | ||||||||||||
| IMAS 1.22.0 (landing page) Seonggyun Han
| kjohnson | macOS 13.0 Ventura / arm64 | OK | OK | OK | ||||||||||||
| Package 217/470 | Hostname | OS / Arch | INSTALL | BUILD | BUILD BIN | ||||||||||||
| infercnv 1.14.2 (landing page) Christophe Georgescu
| kjohnson | macOS 13.0 Ventura / arm64 | OK | OK | OK | ||||||||||||
| Package 218/470 | Hostname | OS / Arch | INSTALL | BUILD | BUILD BIN | ||||||||||||
| INSPEcT 1.28.0 (landing page) Stefano de Pretis
| kjohnson | macOS 13.0 Ventura / arm64 | OK | OK | OK | ||||||||||||
| Package 219/470 | Hostname | OS / Arch | INSTALL | BUILD | BUILD BIN | ||||||||||||
| InTAD 1.18.0 (landing page) Konstantin Okonechnikov
| kjohnson | macOS 13.0 Ventura / arm64 | OK | OK | OK | ||||||||||||
| Package 220/470 | Hostname | OS / Arch | INSTALL | BUILD | BUILD BIN | ||||||||||||
| intansv 1.38.0 (landing page) Wen Yao
| kjohnson | macOS 13.0 Ventura / arm64 | OK | OK | OK | ||||||||||||
| Package 221/470 | Hostname | OS / Arch | INSTALL | BUILD | BUILD BIN | ||||||||||||
| InteractionSet 1.26.1 (landing page) Aaron Lun
| kjohnson | macOS 13.0 Ventura / arm64 | OK | OK | OK | ||||||||||||
| Package 222/470 | Hostname | OS / Arch | INSTALL | BUILD | BUILD BIN | ||||||||||||
| interactiveDisplay 1.36.0 (landing page) Bioconductor Package Maintainer
| kjohnson | macOS 13.0 Ventura / arm64 | OK | OK | OK | ||||||||||||
| Package 223/470 | Hostname | OS / Arch | INSTALL | BUILD | BUILD BIN | ||||||||||||
| interactiveDisplayBase 1.36.0 (landing page) Bioconductor Package Maintainer
| kjohnson | macOS 13.0 Ventura / arm64 | OK | OK | OK | ||||||||||||
| Package 224/470 | Hostname | OS / Arch | INSTALL | BUILD | BUILD BIN | ||||||||||||
| IntEREst 1.22.2 (landing page) Ali Oghabian
| kjohnson | macOS 13.0 Ventura / arm64 | OK | OK | OK | ||||||||||||
| Package 225/470 | Hostname | OS / Arch | INSTALL | BUILD | BUILD BIN | ||||||||||||
| IONiseR 2.22.0 (landing page) Mike Smith
| kjohnson | macOS 13.0 Ventura / arm64 | OK | OK | OK | ||||||||||||
| Package 226/470 | Hostname | OS / Arch | INSTALL | BUILD | BUILD BIN | ||||||||||||
| IRanges 2.32.0 (landing page) Hervé Pagès
| kjohnson | macOS 13.0 Ventura / arm64 | OK | OK | OK | ||||||||||||
| Package 227/470 | Hostname | OS / Arch | INSTALL | BUILD | BUILD BIN | ||||||||||||
| iSEE 2.10.0 (landing page) Kevin Rue-Albrecht
| kjohnson | macOS 13.0 Ventura / arm64 | OK | OK | OK | ||||||||||||
| Package 228/470 | Hostname | OS / Arch | INSTALL | BUILD | BUILD BIN | ||||||||||||
| ISLET 1.0.0 (landing page) Hao Feng
| kjohnson | macOS 13.0 Ventura / arm64 | OK | OK | OK | ||||||||||||
| Package 229/470 | Hostname | OS / Arch | INSTALL | BUILD | BUILD BIN | ||||||||||||
| IsoformSwitchAnalyzeR 1.20.0 (landing page) Kristoffer Vitting-Seerup
| kjohnson | macOS 13.0 Ventura / arm64 | OK | OK | OK | ||||||||||||
| Package 230/470 | Hostname | OS / Arch | INSTALL | BUILD | BUILD BIN | ||||||||||||
| isomiRs 1.26.0 (landing page) Lorena Pantano
| kjohnson | macOS 13.0 Ventura / arm64 | OK | OK | OK | ||||||||||||
| Package 231/470 | Hostname | OS / Arch | INSTALL | BUILD | BUILD BIN | ||||||||||||
| IVAS 2.18.0 (landing page) Seonggyun Han
| kjohnson | macOS 13.0 Ventura / arm64 | OK | OK | OK | ||||||||||||
| Package 232/470 | Hostname | OS / Arch | INSTALL | BUILD | BUILD BIN | ||||||||||||
| KCsmart 2.56.0 (landing page) Jorma de Ronde
| kjohnson | macOS 13.0 Ventura / arm64 | OK | OK | OK | ||||||||||||
| Package 233/470 | Hostname | OS / Arch | INSTALL | BUILD | BUILD BIN | ||||||||||||
| ldblock 1.28.0 (landing page) VJ Carey
| kjohnson | macOS 13.0 Ventura / arm64 | OK | OK | OK | ||||||||||||
| Package 234/470 | Hostname | OS / Arch | INSTALL | BUILD | BUILD BIN | ||||||||||||
| LinTInd 1.2.0 (landing page) Luyue Wang
| kjohnson | macOS 13.0 Ventura / arm64 | OK | OK | OK | ||||||||||||
| Package 235/470 | Hostname | OS / Arch | INSTALL | BUILD | BUILD BIN | ||||||||||||
| lisaClust 1.6.3 (landing page) Ellis Patrick
| kjohnson | macOS 13.0 Ventura / arm64 | OK | OK | OK | ||||||||||||
| Package 236/470 | Hostname | OS / Arch | INSTALL | BUILD | BUILD BIN | ||||||||||||
| LOLA 1.28.0 (landing page) Nathan Sheffield
| kjohnson | macOS 13.0 Ventura / arm64 | OK | OK | OK | ||||||||||||
| Package 237/470 | Hostname | OS / Arch | INSTALL | BUILD | BUILD BIN | ||||||||||||
| maser 1.16.0 (landing page) Diogo F.T. Veiga
| kjohnson | macOS 13.0 Ventura / arm64 | OK | OK | OK | ||||||||||||
| Package 238/470 | Hostname | OS / Arch | INSTALL | BUILD | BUILD BIN | ||||||||||||
| MAST 1.24.1 (landing page) Andrew McDavid
| kjohnson | macOS 13.0 Ventura / arm64 | OK | OK | OK | ||||||||||||
| Package 239/470 | Hostname | OS / Arch | INSTALL | BUILD | BUILD BIN | ||||||||||||
| matter 2.0.1 (landing page) Kylie A. Bemis
| kjohnson | macOS 13.0 Ventura / arm64 | OK | OK | OK | ||||||||||||
| Package 240/470 | Hostname | OS / Arch | INSTALL | BUILD | BUILD BIN | ||||||||||||
| MBASED 1.32.0 (landing page) Oleg Mayba
| kjohnson | macOS 13.0 Ventura / arm64 | OK | OK | OK | ||||||||||||
| Package 241/470 | Hostname | OS / Arch | INSTALL | BUILD | BUILD BIN | ||||||||||||
| MEAL 1.28.0 (landing page) Xavier Escribà Montagut
| kjohnson | macOS 13.0 Ventura / arm64 | OK | OK | OK | ||||||||||||
| Package 242/470 | Hostname | OS / Arch | INSTALL | BUILD | BUILD BIN | ||||||||||||
| meshr 2.4.0 (landing page) Koki Tsuyuzaki
| kjohnson | macOS 13.0 Ventura / arm64 | OK | OK | OK | ||||||||||||
| Package 243/470 | Hostname | OS / Arch | INSTALL | BUILD | BUILD BIN | ||||||||||||
| MetaboAnnotation 1.2.0 (landing page) Johannes Rainer
| kjohnson | macOS 13.0 Ventura / arm64 | OK | OK | OK | ||||||||||||
| Package 244/470 | Hostname | OS / Arch | INSTALL | BUILD | BUILD BIN | ||||||||||||
| metaMS 1.34.0 (landing page) Yann Guitton
| kjohnson | macOS 13.0 Ventura / arm64 | OK | OK | OK | ||||||||||||
| Package 245/470 | Hostname | OS / Arch | INSTALL | BUILD | BUILD BIN | ||||||||||||
| metaseqR2 1.10.0 (landing page) Panagiotis Moulos
| kjohnson | macOS 13.0 Ventura / arm64 | OK | OK | OK | ||||||||||||
| Package 246/470 | Hostname | OS / Arch | INSTALL | BUILD | BUILD BIN | ||||||||||||
| methInheritSim 1.20.0 (landing page) Pascal Belleau
| kjohnson | macOS 13.0 Ventura / arm64 | OK | OK | OK | ||||||||||||
| Package 247/470 | Hostname | OS / Arch | INSTALL | BUILD | BUILD BIN | ||||||||||||
| MethylAid 1.32.0 (landing page) L.J.Sinke
| kjohnson | macOS 13.0 Ventura / arm64 | OK | OK | OK | ||||||||||||
| Package 248/470 | Hostname | OS / Arch | INSTALL | BUILD | BUILD BIN | ||||||||||||
| methylPipe 1.32.0 (landing page) Kamal Kishore
| kjohnson | macOS 13.0 Ventura / arm64 | OK | OK | OK | ||||||||||||
| Package 249/470 | Hostname | OS / Arch | INSTALL | BUILD | BUILD BIN | ||||||||||||
| methylumi 2.44.0 (landing page) Sean Davis
| kjohnson | macOS 13.0 Ventura / arm64 | OK | OK | OK | ||||||||||||
| Package 250/470 | Hostname | OS / Arch | INSTALL | BUILD | BUILD BIN | ||||||||||||
| mia 1.6.0 (landing page) Tuomas Borman
| kjohnson | macOS 13.0 Ventura / arm64 | OK | OK | OK | ||||||||||||
| Package 251/470 | Hostname | OS / Arch | INSTALL | BUILD | BUILD BIN | ||||||||||||
| miaViz 1.6.0 (landing page) Tuomas Borman
| kjohnson | macOS 13.0 Ventura / arm64 | OK | OK | OK | ||||||||||||
| Package 252/470 | Hostname | OS / Arch | INSTALL | BUILD | BUILD BIN | ||||||||||||
| microbiomeMarker 1.4.0 (landing page) Yang Cao
| kjohnson | macOS 13.0 Ventura / arm64 | OK | OK | OK | ||||||||||||
| Package 253/470 | Hostname | OS / Arch | INSTALL | BUILD | BUILD BIN | ||||||||||||
| MIGSA 1.22.0 (landing page) Juan C. Rodriguez
| kjohnson | macOS 13.0 Ventura / arm64 | OK | ERROR | skipped | ||||||||||||
| Package 254/470 | Hostname | OS / Arch | INSTALL | BUILD | BUILD BIN | ||||||||||||
| miloR 1.6.0 (landing page) Mike Morgan
| kjohnson | macOS 13.0 Ventura / arm64 | OK | OK | OK | ||||||||||||
| Package 255/470 | Hostname | OS / Arch | INSTALL | BUILD | BUILD BIN | ||||||||||||
| mimager 1.22.0 (landing page) Aaron Wolen
| kjohnson | macOS 13.0 Ventura / arm64 | OK | OK | OK | ||||||||||||
| Package 256/470 | Hostname | OS / Arch | INSTALL | BUILD | BUILD BIN | ||||||||||||
| MineICA 1.38.0 (landing page) Anne Biton
| kjohnson | macOS 13.0 Ventura / arm64 | OK | OK | OK | ||||||||||||
| Package 257/470 | Hostname | OS / Arch | INSTALL | BUILD | BUILD BIN | ||||||||||||
| minfi 1.44.0 (landing page) Kasper Daniel Hansen
| kjohnson | macOS 13.0 Ventura / arm64 | OK | OK | OK | ||||||||||||
| Package 258/470 | Hostname | OS / Arch | INSTALL | BUILD | BUILD BIN | ||||||||||||
| MinimumDistance 1.42.0 (landing page) Robert Scharpf
| kjohnson | macOS 13.0 Ventura / arm64 | OK | OK | OK | ||||||||||||
| Package 259/470 | Hostname | OS / Arch | INSTALL | BUILD | BUILD BIN | ||||||||||||
| MIRA 1.20.0 (landing page) John Lawson
| kjohnson | macOS 13.0 Ventura / arm64 | OK | OK | OK | ||||||||||||
| Package 260/470 | Hostname | OS / Arch | INSTALL | BUILD | BUILD BIN | ||||||||||||
| MiRaGE 1.40.0 (landing page) Y-h. Taguchi
| kjohnson | macOS 13.0 Ventura / arm64 | OK | OK | OK | ||||||||||||
| Package 261/470 | Hostname | OS / Arch | INSTALL | BUILD | BUILD BIN | ||||||||||||
| missMethyl 1.32.1 (landing page) Belinda Phipson
| kjohnson | macOS 13.0 Ventura / arm64 | OK | OK | OK | ||||||||||||
| Package 262/470 | Hostname | OS / Arch | INSTALL | BUILD | BUILD BIN | ||||||||||||
| MLInterfaces 1.78.0 (landing page) V. Carey
| kjohnson | macOS 13.0 Ventura / arm64 | OK | OK | OK | ||||||||||||
| Package 263/470 | Hostname | OS / Arch | INSTALL | BUILD | BUILD BIN | ||||||||||||
| MMAPPR2 1.12.0 (landing page) Jonathon Hill
| kjohnson | macOS 13.0 Ventura / arm64 | ERROR | ERROR | skipped | ||||||||||||
| Package 264/470 | Hostname | OS / Arch | INSTALL | BUILD | BUILD BIN | ||||||||||||
| Modstrings 1.14.0 (landing page) Felix G.M. Ernst
| kjohnson | macOS 13.0 Ventura / arm64 | OK | OK | OK | ||||||||||||
| Package 265/470 | Hostname | OS / Arch | INSTALL | BUILD | BUILD BIN | ||||||||||||
| mogsa 1.32.0 (landing page) Chen Meng
| kjohnson | macOS 13.0 Ventura / arm64 | OK | OK | OK | ||||||||||||
| Package 266/470 | Hostname | OS / Arch | INSTALL | BUILD | BUILD BIN | ||||||||||||
| monaLisa 1.4.0 (landing page) Michael Stadler
| kjohnson | macOS 13.0 Ventura / arm64 | OK | OK | OK | ||||||||||||
| Package 267/470 | Hostname | OS / Arch | INSTALL | BUILD | BUILD BIN | ||||||||||||
| monocle 2.26.0 (landing page) Cole Trapnell
| kjohnson | macOS 13.0 Ventura / arm64 | OK | OK | OK | ||||||||||||
| Package 268/470 | Hostname | OS / Arch | INSTALL | BUILD | BUILD BIN | ||||||||||||
| Motif2Site 1.2.0 (landing page) Peyman Zarrineh
| kjohnson | macOS 13.0 Ventura / arm64 | OK | OK | OK | ||||||||||||
| Package 269/470 | Hostname | OS / Arch | INSTALL | BUILD | BUILD BIN | ||||||||||||
| motifbreakR 2.12.4 (landing page) Simon Gert Coetzee
| kjohnson | macOS 13.0 Ventura / arm64 | OK | TIMEOUT | skipped | ||||||||||||
| Package 270/470 | Hostname | OS / Arch | INSTALL | BUILD | BUILD BIN | ||||||||||||
| MotifDb 1.40.0 (landing page) Paul Shannon
| kjohnson | macOS 13.0 Ventura / arm64 | OK | OK | OK | ||||||||||||
| Package 271/470 | Hostname | OS / Arch | INSTALL | BUILD | BUILD BIN | ||||||||||||
| mpra 1.20.0 (landing page) Leslie Myint
| kjohnson | macOS 13.0 Ventura / arm64 | OK | OK | OK | ||||||||||||
| Package 272/470 | Hostname | OS / Arch | INSTALL | BUILD | BUILD BIN | ||||||||||||
| msa 1.30.1 (landing page) Ulrich Bodenhofer
| kjohnson | macOS 13.0 Ventura / arm64 | OK | OK | OK | ||||||||||||
| Package 273/470 | Hostname | OS / Arch | INSTALL | BUILD | BUILD BIN | ||||||||||||
| MSnbase 2.24.2 (landing page) Laurent Gatto
| kjohnson | macOS 13.0 Ventura / arm64 | OK | OK | OK | ||||||||||||
| Package 274/470 | Hostname | OS / Arch | INSTALL | BUILD | BUILD BIN | ||||||||||||
| MSnID 1.32.0 (landing page) Vlad Petyuk
| kjohnson | macOS 13.0 Ventura / arm64 | OK | OK | OK | ||||||||||||
| Package 275/470 | Hostname | OS / Arch | INSTALL | BUILD | BUILD BIN | ||||||||||||
| MultiAssayExperiment 1.24.0 (landing page) Marcel Ramos
| kjohnson | macOS 13.0 Ventura / arm64 | OK | OK | OK | ||||||||||||
| Package 276/470 | Hostname | OS / Arch | INSTALL | BUILD | BUILD BIN | ||||||||||||
| multicrispr 1.8.0 (landing page) Aditya Bhagwat
| kjohnson | macOS 13.0 Ventura / arm64 | OK | OK | OK | ||||||||||||
| Package 277/470 | Hostname | OS / Arch | INSTALL | BUILD | BUILD BIN | ||||||||||||
| MultiDataSet 1.26.0 (landing page) Xavier Escribà Montagut
| kjohnson | macOS 13.0 Ventura / arm64 | OK | OK | OK | ||||||||||||
| Package 278/470 | Hostname | OS / Arch | INSTALL | BUILD | BUILD BIN | ||||||||||||
| multiMiR 1.20.0 (landing page) Matt Mulvahill
| kjohnson | macOS 13.0 Ventura / arm64 | OK | OK | OK | ||||||||||||
| Package 279/470 | Hostname | OS / Arch | INSTALL | BUILD | BUILD BIN | ||||||||||||
| multtest 2.54.0 (landing page) Katherine S. Pollard
| kjohnson | macOS 13.0 Ventura / arm64 | OK | OK | OK | ||||||||||||
| Package 280/470 | Hostname | OS / Arch | INSTALL | BUILD | BUILD BIN | ||||||||||||
| mumosa 1.6.0 (landing page) Aaron Lun
| kjohnson | macOS 13.0 Ventura / arm64 | OK | OK | OK | ||||||||||||
| Package 281/470 | Hostname | OS / Arch | INSTALL | BUILD | BUILD BIN | ||||||||||||
| MutationalPatterns 3.8.1 (landing page) Mark van Roosmalen
| kjohnson | macOS 13.0 Ventura / arm64 | OK | OK | OK | ||||||||||||
| Package 282/470 | Hostname | OS / Arch | INSTALL | BUILD | BUILD BIN | ||||||||||||
| mzR 2.32.0 (landing page) Steffen Neumann
| kjohnson | macOS 13.0 Ventura / arm64 | OK | OK | OK | ||||||||||||
| Package 283/470 | Hostname | OS / Arch | INSTALL | BUILD | BUILD BIN | ||||||||||||
| NADfinder 1.22.0 (landing page) Jianhong Ou
| kjohnson | macOS 13.0 Ventura / arm64 | OK | OK | OK | ||||||||||||
| Package 284/470 | Hostname | OS / Arch | INSTALL | BUILD | BUILD BIN | ||||||||||||
| NanoStringNCTools 1.6.1 (landing page) Nicole Ortogero
| kjohnson | macOS 13.0 Ventura / arm64 | OK | OK | OK | ||||||||||||
| Package 285/470 | Hostname | OS / Arch | INSTALL | BUILD | BUILD BIN | ||||||||||||
| ncdfFlow 2.44.0 (landing page) Mike Jiang
| kjohnson | macOS 13.0 Ventura / arm64 | OK | OK | OK | ||||||||||||
| Package 286/470 | Hostname | OS / Arch | INSTALL | BUILD | BUILD BIN | ||||||||||||
| nearBynding 1.8.0 (landing page) Veronica Busa
| kjohnson | macOS 13.0 Ventura / arm64 | OK | OK | OK | ||||||||||||
| Package 287/470 | Hostname | OS / Arch | INSTALL | BUILD | BUILD BIN | ||||||||||||
| ngsReports 2.0.3 (landing page) Stephen Pederson
| kjohnson | macOS 13.0 Ventura / arm64 | OK | OK | OK | ||||||||||||
| Package 288/470 | Hostname | OS / Arch | INSTALL | BUILD | BUILD BIN | ||||||||||||
| npGSEA 1.34.0 (landing page) Jessica Larson
| kjohnson | macOS 13.0 Ventura / arm64 | OK | OK | OK | ||||||||||||
| Package 289/470 | Hostname | OS / Arch | INSTALL | BUILD | BUILD BIN | ||||||||||||
| nucleR 2.30.0 (landing page) Alba Sala
| kjohnson | macOS 13.0 Ventura / arm64 | OK | OK | OK | ||||||||||||
| Package 290/470 | Hostname | OS / Arch | INSTALL | BUILD | BUILD BIN | ||||||||||||
| NxtIRFcore 1.4.0 (landing page) Alex Chit Hei Wong
| kjohnson | macOS 13.0 Ventura / arm64 | OK | OK | OK | ||||||||||||
| Package 291/470 | Hostname | OS / Arch | INSTALL | BUILD | BUILD BIN | ||||||||||||
| ODER 1.4.0 (landing page) David Zhang
| kjohnson | macOS 13.0 Ventura / arm64 | OK | OK | OK | ||||||||||||
| Package 292/470 | Hostname | OS / Arch | INSTALL | BUILD | BUILD BIN | ||||||||||||
| oligo 1.62.2 (landing page) Benilton Carvalho
| kjohnson | macOS 13.0 Ventura / arm64 | OK | OK | OK | ||||||||||||
| Package 293/470 | Hostname | OS / Arch | INSTALL | BUILD | BUILD BIN | ||||||||||||
| oligoClasses 1.60.0 (landing page) Benilton Carvalho
| kjohnson | macOS 13.0 Ventura / arm64 | OK | OK | OK | ||||||||||||
| Package 294/470 | Hostname | OS / Arch | INSTALL | BUILD | BUILD BIN | ||||||||||||
| OmicsLonDA 1.14.0 (landing page) Ahmed A. Metwally
| kjohnson | macOS 13.0 Ventura / arm64 | OK | OK | OK | ||||||||||||
| Package 295/470 | Hostname | OS / Arch | INSTALL | BUILD | BUILD BIN | ||||||||||||
| openCyto 2.10.1 (landing page) Mike Jiang
| kjohnson | macOS 13.0 Ventura / arm64 | OK | ERROR | skipped | ||||||||||||
| Package 296/470 | Hostname | OS / Arch | INSTALL | BUILD | BUILD BIN | ||||||||||||
| openPrimeR 1.20.0 (landing page) Matthias Döring
| kjohnson | macOS 13.0 Ventura / arm64 | OK | OK | OK | ||||||||||||
| Package 297/470 | Hostname | OS / Arch | INSTALL | BUILD | BUILD BIN | ||||||||||||
| ORFik 1.18.2 (landing page) Haakon Tjeldnes
| kjohnson | macOS 13.0 Ventura / arm64 | OK | OK | OK | ||||||||||||
| Package 298/470 | Hostname | OS / Arch | INSTALL | BUILD | BUILD BIN | ||||||||||||
| OrganismDbi 1.40.0 (landing page) Bioconductor Package Maintainer
| kjohnson | macOS 13.0 Ventura / arm64 | OK | OK | OK | ||||||||||||
| Package 299/470 | Hostname | OS / Arch | INSTALL | BUILD | BUILD BIN | ||||||||||||
| OUTRIDER 1.16.3 (landing page) Christian Mertes
| kjohnson | macOS 13.0 Ventura / arm64 | OK | TIMEOUT | skipped | ||||||||||||
| Package 300/470 | Hostname | OS / Arch | INSTALL | BUILD | BUILD BIN | ||||||||||||
| pandaR 1.30.0 (landing page) Joseph N. Paulson
| kjohnson | macOS 13.0 Ventura / arm64 | OK | OK | OK | ||||||||||||
| Package 301/470 | Hostname | OS / Arch | INSTALL | BUILD | BUILD BIN | ||||||||||||
| parglms 1.30.0 (landing page) VJ Carey
| kjohnson | macOS 13.0 Ventura / arm64 | OK | OK | OK | ||||||||||||
| Package 302/470 | Hostname | OS / Arch | INSTALL | BUILD | BUILD BIN | ||||||||||||
| pcaMethods 1.90.0 (landing page) Henning Redestig
| kjohnson | macOS 13.0 Ventura / arm64 | OK | OK | OK | ||||||||||||
| Package 303/470 | Hostname | OS / Arch | INSTALL | BUILD | BUILD BIN | ||||||||||||
| PDATK 1.6.0 (landing page) Benjamin Haibe-Kains
| kjohnson | macOS 13.0 Ventura / arm64 | OK | OK | OK | ||||||||||||
| Package 304/470 | Hostname | OS / Arch | INSTALL | BUILD | BUILD BIN | ||||||||||||
| pdInfoBuilder 1.62.0 (landing page) Benilton Carvalho
| kjohnson | macOS 13.0 Ventura / arm64 | OK | OK | OK | ||||||||||||
| Package 305/470 | Hostname | OS / Arch | INSTALL | BUILD | BUILD BIN | ||||||||||||
| PharmacoGx 3.2.0 (landing page) Benjamin Haibe-Kains
| kjohnson | macOS 13.0 Ventura / arm64 | OK | OK | OK | ||||||||||||
| Package 306/470 | Hostname | OS / Arch | INSTALL | BUILD | BUILD BIN | ||||||||||||
| phemd 1.14.1 (landing page) William S Chen
| kjohnson | macOS 13.0 Ventura / arm64 | OK | OK | OK | ||||||||||||
| Package 307/470 | Hostname | OS / Arch | INSTALL | BUILD | BUILD BIN | ||||||||||||
| PhIPData 1.6.0 (landing page) Athena Chen
| kjohnson | macOS 13.0 Ventura / arm64 | OK | OK | OK | ||||||||||||
| Package 308/470 | Hostname | OS / Arch | INSTALL | BUILD | BUILD BIN | ||||||||||||
| PhosR 1.8.0 (landing page) Taiyun Kim
| kjohnson | macOS 13.0 Ventura / arm64 | OK | OK | OK | ||||||||||||
| Package 309/470 | Hostname | OS / Arch | INSTALL | BUILD | BUILD BIN | ||||||||||||
| phyloseq 1.42.0 (landing page) Paul J. McMurdie
| kjohnson | macOS 13.0 Ventura / arm64 | OK | OK | OK | ||||||||||||
| Package 310/470 | Hostname | OS / Arch | INSTALL | BUILD | BUILD BIN | ||||||||||||
| Pi 2.10.0 (landing page) Hai Fang
| kjohnson | macOS 13.0 Ventura / arm64 | OK | OK | OK | ||||||||||||
| Package 311/470 | Hostname | OS / Arch | INSTALL | BUILD | BUILD BIN | ||||||||||||
| piano 2.14.0 (landing page) Leif Varemo Wigge
| kjohnson | macOS 13.0 Ventura / arm64 | OK | OK | OK | ||||||||||||
| Package 312/470 | Hostname | OS / Arch | INSTALL | BUILD | BUILD BIN | ||||||||||||
| PING 2.42.0 (landing page) Renan Sauteraud
| kjohnson | macOS 13.0 Ventura / arm64 | OK | OK | OK | ||||||||||||
| Package 313/470 | Hostname | OS / Arch | INSTALL | BUILD | BUILD BIN | ||||||||||||
| plethy 1.36.0 (landing page) Daniel Bottomly
| kjohnson | macOS 13.0 Ventura / arm64 | OK | OK | OK | ||||||||||||
| Package 314/470 | Hostname | OS / Arch | INSTALL | BUILD | BUILD BIN | ||||||||||||
| plyranges 1.18.0 (landing page) Stuart Lee
| kjohnson | macOS 13.0 Ventura / arm64 | OK | OK | OK | ||||||||||||
| Package 315/470 | Hostname | OS / Arch | INSTALL | BUILD | BUILD BIN | ||||||||||||
| podkat 1.30.0 (landing page) Ulrich Bodenhofer
| kjohnson | macOS 13.0 Ventura / arm64 | OK | OK | OK | ||||||||||||
| Package 316/470 | Hostname | OS / Arch | INSTALL | BUILD | BUILD BIN | ||||||||||||
Margaret Linan
| kjohnson | macOS 13.0 Ventura / arm64 | OK | ERROR | skipped | ||||||||||||
| Package 317/470 | Hostname | OS / Arch | INSTALL | BUILD | BUILD BIN | ||||||||||||
| pram 1.14.0 (landing page) Peng Liu
| kjohnson | macOS 13.0 Ventura / arm64 | OK | OK | OK | ||||||||||||
| Package 318/470 | Hostname | OS / Arch | INSTALL | BUILD | BUILD BIN | ||||||||||||
| primirTSS 1.16.0 (landing page) Pumin Li
| kjohnson | macOS 13.0 Ventura / arm64 | OK | OK | OK | ||||||||||||
| Package 319/470 | Hostname | OS / Arch | INSTALL | BUILD | BUILD BIN | ||||||||||||
| proDA 1.12.0 (landing page) Constantin Ahlmann-Eltze
| kjohnson | macOS 13.0 Ventura / arm64 | OK | OK | OK | ||||||||||||
| Package 320/470 | Hostname | OS / Arch | INSTALL | BUILD | BUILD BIN | ||||||||||||
| profileplyr 1.14.1 (landing page) Tom Carroll
| kjohnson | macOS 13.0 Ventura / arm64 | OK | OK | OK | ||||||||||||
| Package 321/470 | Hostname | OS / Arch | INSTALL | BUILD | BUILD BIN | ||||||||||||
| profileScoreDist 1.26.0 (landing page) Paal O. Westermark
| kjohnson | macOS 13.0 Ventura / arm64 | OK | OK | OK | ||||||||||||
| Package 322/470 | Hostname | OS / Arch | INSTALL | BUILD | BUILD BIN | ||||||||||||
| pRoloc 1.38.2 (landing page) Laurent Gatto
| kjohnson | macOS 13.0 Ventura / arm64 | OK | OK | OK | ||||||||||||
| Package 323/470 | Hostname | OS / Arch | INSTALL | BUILD | BUILD BIN | ||||||||||||
| pRolocGUI 2.8.0 (landing page) Lisa Breckels
| kjohnson | macOS 13.0 Ventura / arm64 | OK | OK | OK | ||||||||||||
| Package 324/470 | Hostname | OS / Arch | INSTALL | BUILD | BUILD BIN | ||||||||||||
| ProteoDisco 1.4.0 (landing page) Job van Riet
| kjohnson | macOS 13.0 Ventura / arm64 | OK | OK | OK | ||||||||||||
| Package 325/470 | Hostname | OS / Arch | INSTALL | BUILD | BUILD BIN | ||||||||||||
| PSMatch 1.2.0 (landing page) Laurent Gatto
| kjohnson | macOS 13.0 Ventura / arm64 | OK | OK | OK | ||||||||||||
| Package 326/470 | Hostname | OS / Arch | INSTALL | BUILD | BUILD BIN | ||||||||||||
| PureCN 2.4.0 (landing page) Markus Riester
| kjohnson | macOS 13.0 Ventura / arm64 | OK | OK | OK | ||||||||||||
| Package 327/470 | Hostname | OS / Arch | INSTALL | BUILD | BUILD BIN | ||||||||||||
| PWMEnrich 4.34.0 (landing page) Diego Diez
| kjohnson | macOS 13.0 Ventura / arm64 | OK | OK | OK | ||||||||||||
| Package 328/470 | Hostname | OS / Arch | INSTALL | BUILD | BUILD BIN | ||||||||||||
| pwOmics 1.30.0 (landing page) Maren Sitte
| kjohnson | macOS 13.0 Ventura / arm64 | OK | OK | OK | ||||||||||||
| Package 329/470 | Hostname | OS / Arch | INSTALL | BUILD | BUILD BIN | ||||||||||||
| QFeatures 1.8.0 (landing page) Laurent Gatto
| kjohnson | macOS 13.0 Ventura / arm64 | OK | OK | OK | ||||||||||||
| Package 330/470 | Hostname | OS / Arch | INSTALL | BUILD | BUILD BIN | ||||||||||||
| qPLEXanalyzer 1.16.1 (landing page) Ashley Sawle
| kjohnson | macOS 13.0 Ventura / arm64 | OK | OK | OK | ||||||||||||
| Package 331/470 | Hostname | OS / Arch | INSTALL | BUILD | BUILD BIN | ||||||||||||
| qsea 1.24.0 (landing page) Matthias Lienhard
| kjohnson | macOS 13.0 Ventura / arm64 | OK | OK | OK | ||||||||||||
| Package 332/470 | Hostname | OS / Arch | INSTALL | BUILD | BUILD BIN | ||||||||||||
| QSutils 1.16.0 (landing page) Mercedes Guerrero-Murillo
| kjohnson | macOS 13.0 Ventura / arm64 | OK | OK | OK | ||||||||||||
| Package 333/470 | Hostname | OS / Arch | INSTALL | BUILD | BUILD BIN | ||||||||||||
| QuasR 1.38.0 (landing page) Michael Stadler
| kjohnson | macOS 13.0 Ventura / arm64 | OK | OK | OK | ||||||||||||
| Package 334/470 | Hostname | OS / Arch | INSTALL | BUILD | BUILD BIN | ||||||||||||
| R3CPET 1.30.0 (landing page) Mohamed Nadhir Djekidel
| kjohnson | macOS 13.0 Ventura / arm64 | OK | OK | OK | ||||||||||||
| Package 335/470 | Hostname | OS / Arch | INSTALL | BUILD | BUILD BIN | ||||||||||||
| R453Plus1Toolbox 1.48.0 (landing page) Hans-Ulrich Klein
| kjohnson | macOS 13.0 Ventura / arm64 | OK | OK | OK | ||||||||||||
| Package 336/470 | Hostname | OS / Arch | INSTALL | BUILD | BUILD BIN | ||||||||||||
| RadioGx 2.2.0 (landing page) Benjamin Haibe-Kains
| kjohnson | macOS 13.0 Ventura / arm64 | OK | OK | OK | ||||||||||||
| Package 337/470 | Hostname | OS / Arch | INSTALL | BUILD | BUILD BIN | ||||||||||||
| RaggedExperiment 1.22.0 (landing page) Marcel Ramos
| kjohnson | macOS 13.0 Ventura / arm64 | OK | OK | OK | ||||||||||||
| Package 338/470 | Hostname | OS / Arch | INSTALL | BUILD | BUILD BIN | ||||||||||||
| ramr 1.6.0 (landing page) Oleksii Nikolaienko
| kjohnson | macOS 13.0 Ventura / arm64 | OK | OK | OK | ||||||||||||
| Package 339/470 | Hostname | OS / Arch | INSTALL | BUILD | BUILD BIN | ||||||||||||
| ramwas 1.22.0 (landing page) Andrey A Shabalin
| kjohnson | macOS 13.0 Ventura / arm64 | OK | OK | OK | ||||||||||||
| Package 340/470 | Hostname | OS / Arch | INSTALL | BUILD | BUILD BIN | ||||||||||||
| RareVariantVis 2.26.0 (landing page) Tomasz Stokowy
| kjohnson | macOS 13.0 Ventura / arm64 | OK | OK | OK | ||||||||||||
| Package 341/470 | Hostname | OS / Arch | INSTALL | BUILD | BUILD BIN | ||||||||||||
| RCAS 1.24.0 (landing page) Bora Uyar
| kjohnson | macOS 13.0 Ventura / arm64 | OK | OK | OK | ||||||||||||
| Package 342/470 | Hostname | OS / Arch | INSTALL | BUILD | BUILD BIN | ||||||||||||
| RcisTarget 1.18.2 (landing page) Sara Aibar
| kjohnson | macOS 13.0 Ventura / arm64 | OK | OK | OK | ||||||||||||
| Package 343/470 | Hostname | OS / Arch | INSTALL | BUILD | BUILD BIN | ||||||||||||
| RCy3 2.18.0 (landing page) Alex Pico
| kjohnson | macOS 13.0 Ventura / arm64 | OK | OK | OK | ||||||||||||
| Package 344/470 | Hostname | OS / Arch | INSTALL | BUILD | BUILD BIN | ||||||||||||
| RCyjs 2.20.0 (landing page) Paul Shannon
| kjohnson | macOS 13.0 Ventura / arm64 | OK | OK | OK | ||||||||||||
| Package 345/470 | Hostname | OS / Arch | INSTALL | BUILD | BUILD BIN | ||||||||||||
| recoup 1.26.0 (landing page) Panagiotis Moulos
| kjohnson | macOS 13.0 Ventura / arm64 | OK | OK | OK | ||||||||||||
| Package 346/470 | Hostname | OS / Arch | INSTALL | BUILD | BUILD BIN | ||||||||||||
| REDseq 1.44.0 (landing page) Lihua Julie Zhu
| kjohnson | macOS 13.0 Ventura / arm64 | OK | OK | OK | ||||||||||||
| Package 347/470 | Hostname | OS / Arch | INSTALL | BUILD | BUILD BIN | ||||||||||||
| REMP 1.22.0 (landing page) Yinan Zheng
| kjohnson | macOS 13.0 Ventura / arm64 | OK | OK | OK | ||||||||||||
| Package 348/470 | Hostname | OS / Arch | INSTALL | BUILD | BUILD BIN | ||||||||||||
| Repitools 1.44.0 (landing page) Mark Robinson
| kjohnson | macOS 13.0 Ventura / arm64 | OK | OK | OK | ||||||||||||
| Package 349/470 | Hostname | OS / Arch | INSTALL | BUILD | BUILD BIN | ||||||||||||
| ReportingTools 2.38.0 (landing page) Jason A. Hackney
| kjohnson | macOS 13.0 Ventura / arm64 | OK | OK | OK | ||||||||||||
| Package 350/470 | Hostname | OS / Arch | INSTALL | BUILD | BUILD BIN | ||||||||||||
| RGSEA 1.32.0 (landing page) Chengcheng Ma
| kjohnson | macOS 13.0 Ventura / arm64 | OK | OK | OK | ||||||||||||
| Package 351/470 | Hostname | OS / Arch | INSTALL | BUILD | BUILD BIN | ||||||||||||
| RiboCrypt 1.4.0 (landing page) Michal Swirski
| kjohnson | macOS 13.0 Ventura / arm64 | OK | OK | OK | ||||||||||||
| Package 352/470 | Hostname | OS / Arch | INSTALL | BUILD | BUILD BIN | ||||||||||||
| RiboDiPA 1.6.0 (landing page) Ji-Ping Wang
| kjohnson | macOS 13.0 Ventura / arm64 | OK | OK | OK | ||||||||||||
| Package 353/470 | Hostname | OS / Arch | INSTALL | BUILD | BUILD BIN | ||||||||||||
| RiboProfiling 1.28.0 (landing page) A. Popa
| kjohnson | macOS 13.0 Ventura / arm64 | OK | OK | OK | ||||||||||||
| Package 354/470 | Hostname | OS / Arch | INSTALL | BUILD | BUILD BIN | ||||||||||||
| ribosomeProfilingQC 1.10.0 (landing page) Jianhong Ou
| kjohnson | macOS 13.0 Ventura / arm64 | OK | OK | OK | ||||||||||||
| Package 355/470 | Hostname | OS / Arch | INSTALL | BUILD | BUILD BIN | ||||||||||||
| Ringo 1.62.0 (landing page) J. Toedling
| kjohnson | macOS 13.0 Ventura / arm64 | OK | OK | OK | ||||||||||||
| Package 356/470 | Hostname | OS / Arch | INSTALL | BUILD | BUILD BIN | ||||||||||||
| RJMCMCNucleosomes 1.22.0 (landing page) Astrid Deschênes
| kjohnson | macOS 13.0 Ventura / arm64 | OK | OK | OK | ||||||||||||
| Package 357/470 | Hostname | OS / Arch | INSTALL | BUILD | BUILD BIN | ||||||||||||
| rnaEditr 1.8.0 (landing page) Lanyu Zhang
| kjohnson | macOS 13.0 Ventura / arm64 | OK | OK | OK | ||||||||||||
| Package 358/470 | Hostname | OS / Arch | INSTALL | BUILD | BUILD BIN | ||||||||||||
| RNAmodR 1.12.0 (landing page) Felix G.M. Ernst
| kjohnson | macOS 13.0 Ventura / arm64 | OK | OK | OK | ||||||||||||
| Package 359/470 | Hostname | OS / Arch | INSTALL | BUILD | BUILD BIN | ||||||||||||
| RNAmodR.AlkAnilineSeq 1.12.0 (landing page) Felix G.M. Ernst
| kjohnson | macOS 13.0 Ventura / arm64 | OK | OK | OK | ||||||||||||
| Package 360/470 | Hostname | OS / Arch | INSTALL | BUILD | BUILD BIN | ||||||||||||
| RNAmodR.ML 1.12.0 (landing page) Felix G.M. Ernst
| kjohnson | macOS 13.0 Ventura / arm64 | OK | OK | OK | ||||||||||||
| Package 361/470 | Hostname | OS / Arch | INSTALL | BUILD | BUILD BIN | ||||||||||||
| RNAmodR.RiboMethSeq 1.12.0 (landing page) Felix G.M. Ernst
| kjohnson | macOS 13.0 Ventura / arm64 | OK | OK | OK | ||||||||||||
| Package 362/470 | Hostname | OS / Arch | INSTALL | BUILD | BUILD BIN | ||||||||||||
| RnBeads 2.16.0 (landing page) Fabian Mueller
| kjohnson | macOS 13.0 Ventura / arm64 | OK | OK | OK | ||||||||||||
| Package 363/470 | Hostname | OS / Arch | INSTALL | BUILD | BUILD BIN | ||||||||||||
| roar 1.34.0 (landing page) Elena Grassi
| kjohnson | macOS 13.0 Ventura / arm64 | OK | OK | OK | ||||||||||||
| Package 364/470 | Hostname | OS / Arch | INSTALL | BUILD | BUILD BIN | ||||||||||||
| rols 2.26.0 (landing page) Laurent Gatto
| kjohnson | macOS 13.0 Ventura / arm64 | OK | OK | OK | ||||||||||||
| Package 365/470 | Hostname | OS / Arch | INSTALL | BUILD | BUILD BIN | ||||||||||||
| RPA 1.54.0 (landing page) Leo Lahti
| kjohnson | macOS 13.0 Ventura / arm64 | OK | OK | OK | ||||||||||||
| Package 366/470 | Hostname | OS / Arch | INSTALL | BUILD | BUILD BIN | ||||||||||||
| Rqc 1.32.0 (landing page) Welliton Souza
| kjohnson | macOS 13.0 Ventura / arm64 | OK | OK | OK | ||||||||||||
| Package 367/470 | Hostname | OS / Arch | INSTALL | BUILD | BUILD BIN | ||||||||||||
| rqubic 1.44.0 (landing page) Jitao David Zhang
| kjohnson | macOS 13.0 Ventura / arm64 | OK | OK | OK | ||||||||||||
| Package 368/470 | Hostname | OS / Arch | INSTALL | BUILD | BUILD BIN | ||||||||||||
| Rsamtools 2.14.0 (landing page) Bioconductor Package Maintainer
| kjohnson | macOS 13.0 Ventura / arm64 | OK | OK | OK | ||||||||||||
| Package 369/470 | Hostname | OS / Arch | INSTALL | BUILD | BUILD BIN | ||||||||||||
rsbml (landing page)
| kjohnson | macOS 13.0 Ventura / arm64 | ... NOT SUPPORTED ... | ||||||||||||||
| Package 370/470 | Hostname | OS / Arch | INSTALL | BUILD | BUILD BIN | ||||||||||||
| rScudo 1.14.0 (landing page) Matteo Ciciani
| kjohnson | macOS 13.0 Ventura / arm64 | OK | OK | OK | ||||||||||||
| Package 371/470 | Hostname | OS / Arch | INSTALL | BUILD | BUILD BIN | ||||||||||||
| RTCGAToolbox 2.28.4 (landing page) Marcel Ramos
| kjohnson | macOS 13.0 Ventura / arm64 | OK | OK | OK | ||||||||||||
| Package 372/470 | Hostname | OS / Arch | INSTALL | BUILD | BUILD BIN | ||||||||||||
| rtracklayer 1.58.0 (landing page) Michael Lawrence
| kjohnson | macOS 13.0 Ventura / arm64 | OK | OK | OK | ||||||||||||
| Package 373/470 | Hostname | OS / Arch | INSTALL | BUILD | BUILD BIN | ||||||||||||
| S4Vectors 0.36.2 (landing page) Hervé Pagès
| kjohnson | macOS 13.0 Ventura / arm64 | OK | OK | OK | ||||||||||||
| Package 374/470 | Hostname | OS / Arch | INSTALL | BUILD | BUILD BIN | ||||||||||||
| SC3 1.26.2 (landing page) Vladimir Kiselev
| kjohnson | macOS 13.0 Ventura / arm64 | OK | OK | OK | ||||||||||||
| Package 375/470 | Hostname | OS / Arch | INSTALL | BUILD | BUILD BIN | ||||||||||||
| SCArray 1.6.0 (landing page) Xiuwen Zheng
| kjohnson | macOS 13.0 Ventura / arm64 | OK | OK | OK | ||||||||||||
| Package 376/470 | Hostname | OS / Arch | INSTALL | BUILD | BUILD BIN | ||||||||||||
| scater 1.26.1 (landing page) Alan O'Callaghan
| kjohnson | macOS 13.0 Ventura / arm64 | OK | OK | OK | ||||||||||||
| Package 377/470 | Hostname | OS / Arch | INSTALL | BUILD | BUILD BIN | ||||||||||||
| scDblFinder 1.12.0 (landing page) Pierre-Luc Germain
| kjohnson | macOS 13.0 Ventura / arm64 | OK | OK | OK | ||||||||||||
| Package 378/470 | Hostname | OS / Arch | INSTALL | BUILD | BUILD BIN | ||||||||||||
| scmap 1.20.2 (landing page) Vladimir Kiselev
| kjohnson | macOS 13.0 Ventura / arm64 | OK | OK | OK | ||||||||||||
| Package 379/470 | Hostname | OS / Arch | INSTALL | BUILD | BUILD BIN | ||||||||||||
| SCnorm 1.20.0 (landing page) Rhonda Bacher
| kjohnson | macOS 13.0 Ventura / arm64 | OK | OK | OK | ||||||||||||
| Package 380/470 | Hostname | OS / Arch | INSTALL | BUILD | BUILD BIN | ||||||||||||
| SCOPE 1.10.0 (landing page) Rujin Wang
| kjohnson | macOS 13.0 Ventura / arm64 | OK | OK | OK | ||||||||||||
| Package 381/470 | Hostname | OS / Arch | INSTALL | BUILD | BUILD BIN | ||||||||||||
| scPipe 1.20.6 (landing page) Shian Su
| kjohnson | macOS 13.0 Ventura / arm64 | OK | OK | OK | ||||||||||||
| Package 382/470 | Hostname | OS / Arch | INSTALL | BUILD | BUILD BIN | ||||||||||||
| scran 1.26.2 (landing page) Aaron Lun
| kjohnson | macOS 13.0 Ventura / arm64 | OK | OK | OK | ||||||||||||
| Package 383/470 | Hostname | OS / Arch | INSTALL | BUILD | BUILD BIN | ||||||||||||
| scruff 1.16.0 (landing page) Zhe Wang
| kjohnson | macOS 13.0 Ventura / arm64 | OK | OK | OK | ||||||||||||
| Package 384/470 | Hostname | OS / Arch | INSTALL | BUILD | BUILD BIN | ||||||||||||
| scuttle 1.8.4 (landing page) Aaron Lun
| kjohnson | macOS 13.0 Ventura / arm64 | OK | OK | OK | ||||||||||||
| Package 385/470 | Hostname | OS / Arch | INSTALL | BUILD | BUILD BIN | ||||||||||||
| SeqVarTools 1.36.0 (landing page) Stephanie M. Gogarten
| kjohnson | macOS 13.0 Ventura / arm64 | OK | OK | OK | ||||||||||||
| Package 386/470 | Hostname | OS / Arch | INSTALL | BUILD | BUILD BIN | ||||||||||||
| sevenC 1.18.0 (landing page) Jonas Ibn-Salem
| kjohnson | macOS 13.0 Ventura / arm64 | OK | OK | OK | ||||||||||||
| Package 387/470 | Hostname | OS / Arch | INSTALL | BUILD | BUILD BIN | ||||||||||||
| SGSeq 1.32.0 (landing page) Leonard Goldstein
| kjohnson | macOS 13.0 Ventura / arm64 | OK | OK | OK | ||||||||||||
| Package 388/470 | Hostname | OS / Arch | INSTALL | BUILD | BUILD BIN | ||||||||||||
| SharedObject 1.12.0 (landing page) Jiefei Wang
| kjohnson | macOS 13.0 Ventura / arm64 | OK | OK | OK | ||||||||||||
| Package 389/470 | Hostname | OS / Arch | INSTALL | BUILD | BUILD BIN | ||||||||||||
| shinyMethyl 1.34.0 (landing page) Jean-Philippe Fortin
| kjohnson | macOS 13.0 Ventura / arm64 | OK | OK | OK | ||||||||||||
| Package 390/470 | Hostname | OS / Arch | INSTALL | BUILD | BUILD BIN | ||||||||||||
| ShortRead 1.56.1 (landing page) Bioconductor Package Maintainer
| kjohnson | macOS 13.0 Ventura / arm64 | OK | OK | OK | ||||||||||||
| Package 391/470 | Hostname | OS / Arch | INSTALL | BUILD | BUILD BIN | ||||||||||||
| signatureSearch 1.12.0 (landing page) Brendan Gongol
| kjohnson | macOS 13.0 Ventura / arm64 | OK | OK | OK | ||||||||||||
| Package 392/470 | Hostname | OS / Arch | INSTALL | BUILD | BUILD BIN | ||||||||||||
| signeR 2.0.2 (landing page) Renan Valieris
| kjohnson | macOS 13.0 Ventura / arm64 | OK | OK | OK | ||||||||||||
| Package 393/470 | Hostname | OS / Arch | INSTALL | BUILD | BUILD BIN | ||||||||||||
| signifinder 1.0.0 (landing page) Stefania Pirrotta
| kjohnson | macOS 13.0 Ventura / arm64 | OK | OK | OK | ||||||||||||
| Package 394/470 | Hostname | OS / Arch | INSTALL | BUILD | BUILD BIN | ||||||||||||
| simplifyEnrichment 1.8.0 (landing page) Zuguang Gu
| kjohnson | macOS 13.0 Ventura / arm64 | OK | OK | OK | ||||||||||||
| Package 395/470 | Hostname | OS / Arch | INSTALL | BUILD | BUILD BIN | ||||||||||||
| single 1.2.0 (landing page) Rocio Espada
| kjohnson | macOS 13.0 Ventura / arm64 | OK | OK | OK | ||||||||||||
| Package 396/470 | Hostname | OS / Arch | INSTALL | BUILD | BUILD BIN | ||||||||||||
| SingleCellExperiment 1.20.1 (landing page) Davide Risso
| kjohnson | macOS 13.0 Ventura / arm64 | OK | OK | OK | ||||||||||||
| Package 397/470 | Hostname | OS / Arch | INSTALL | BUILD | BUILD BIN | ||||||||||||
| SingleMoleculeFootprinting 1.6.0 (landing page) Guido Barzaghi
| kjohnson | macOS 13.0 Ventura / arm64 | OK | OK | OK | ||||||||||||
| Package 398/470 | Hostname | OS / Arch | INSTALL | BUILD | BUILD BIN | ||||||||||||
| sitadela 1.6.0 (landing page) Panagiotis Moulos
| kjohnson | macOS 13.0 Ventura / arm64 | OK | OK | OK | ||||||||||||
| Package 399/470 | Hostname | OS / Arch | INSTALL | BUILD | BUILD BIN | ||||||||||||
| SNPhood 1.28.0 (landing page) Christian Arnold
| kjohnson | macOS 13.0 Ventura / arm64 | OK | OK | OK | ||||||||||||
| Package 400/470 | Hostname | OS / Arch | INSTALL | BUILD | BUILD BIN | ||||||||||||
| snpStats 1.48.0 (landing page) David Clayton
| kjohnson | macOS 13.0 Ventura / arm64 | OK | OK | OK | ||||||||||||
| Package 401/470 | Hostname | OS / Arch | INSTALL | BUILD | BUILD BIN | ||||||||||||
| soGGi 1.30.0 (landing page) Tom Carroll
| kjohnson | macOS 13.0 Ventura / arm64 | OK | OK | OK | ||||||||||||
| Package 402/470 | Hostname | OS / Arch | INSTALL | BUILD | BUILD BIN | ||||||||||||
| sparrow 1.4.0 (landing page) Steve Lianoglou
| kjohnson | macOS 13.0 Ventura / arm64 | OK | OK | OK | ||||||||||||
| Package 403/470 | Hostname | OS / Arch | INSTALL | BUILD | BUILD BIN | ||||||||||||
| SpatialExperiment 1.8.1 (landing page) Dario Righelli
| kjohnson | macOS 13.0 Ventura / arm64 | OK | OK | OK | ||||||||||||
| Package 404/470 | Hostname | OS / Arch | INSTALL | BUILD | BUILD BIN | ||||||||||||
| SpatialFeatureExperiment 1.0.3 (landing page) Lambda Moses
| kjohnson | macOS 13.0 Ventura / arm64 | OK | OK | OK | ||||||||||||
| Package 405/470 | Hostname | OS / Arch | INSTALL | BUILD | BUILD BIN | ||||||||||||
| spatzie 1.4.0 (landing page) Jennifer Hammelman
| kjohnson | macOS 13.0 Ventura / arm64 | OK | OK | OK | ||||||||||||
| Package 406/470 | Hostname | OS / Arch | INSTALL | BUILD | BUILD BIN | ||||||||||||
| Spectra 1.8.3 (landing page) RforMassSpectrometry Package Maintainer
| kjohnson | macOS 13.0 Ventura / arm64 | OK | OK | OK | ||||||||||||
| Package 407/470 | Hostname | OS / Arch | INSTALL | BUILD | BUILD BIN | ||||||||||||
| spicyR 1.10.7 (landing page) Ellis Patrick
| kjohnson | macOS 13.0 Ventura / arm64 | OK | OK | OK | ||||||||||||
| Package 408/470 | Hostname | OS / Arch | INSTALL | BUILD | BUILD BIN | ||||||||||||
| splatter 1.22.1 (landing page) Luke Zappia
| kjohnson | macOS 13.0 Ventura / arm64 | OK | OK | OK | ||||||||||||
| Package 409/470 | Hostname | OS / Arch | INSTALL | BUILD | BUILD BIN | ||||||||||||
| SpliceWiz 1.0.4 (landing page) Alex Chit Hei Wong
| kjohnson | macOS 13.0 Ventura / arm64 | OK | OK | OK | ||||||||||||
| Package 410/470 | Hostname | OS / Arch | INSTALL | BUILD | BUILD BIN | ||||||||||||
| SplicingGraphs 1.38.0 (landing page) H. Pagès
| kjohnson | macOS 13.0 Ventura / arm64 | OK | OK | OK | ||||||||||||
| Package 411/470 | Hostname | OS / Arch | INSTALL | BUILD | BUILD BIN | ||||||||||||
| spqn 1.10.0 (landing page) Yi Wang
| kjohnson | macOS 13.0 Ventura / arm64 | OK | OK | OK | ||||||||||||
| Package 412/470 | Hostname | OS / Arch | INSTALL | BUILD | BUILD BIN | ||||||||||||
| SQLDataFrame 1.12.0 (landing page) Qian Liu
| kjohnson | macOS 13.0 Ventura / arm64 | OK | OK | OK | ||||||||||||
| Package 413/470 | Hostname | OS / Arch | INSTALL | BUILD | BUILD BIN | ||||||||||||
| sRACIPE 1.14.0 (landing page) Vivek Kohar
| kjohnson | macOS 13.0 Ventura / arm64 | OK | OK | OK | ||||||||||||
| Package 414/470 | Hostname | OS / Arch | INSTALL | BUILD | BUILD BIN | ||||||||||||
| sscu 2.28.0 (landing page) Yu Sun
| kjohnson | macOS 13.0 Ventura / arm64 | OK | OK | OK | ||||||||||||
| Package 415/470 | Hostname | OS / Arch | INSTALL | BUILD | BUILD BIN | ||||||||||||
| STAN 2.26.2 (landing page) Rafael Campos-Martin
| kjohnson | macOS 13.0 Ventura / arm64 | OK | OK | OK | ||||||||||||
| Package 416/470 | Hostname | OS / Arch | INSTALL | BUILD | BUILD BIN | ||||||||||||
| standR 1.2.2 (landing page) Ning Liu
| kjohnson | macOS 13.0 Ventura / arm64 | OK | OK | OK | ||||||||||||
| Package 417/470 | Hostname | OS / Arch | INSTALL | BUILD | BUILD BIN | ||||||||||||
| strandCheckR 1.16.0 (landing page) Thu-Hien To
| kjohnson | macOS 13.0 Ventura / arm64 | OK | OK | OK | ||||||||||||
| Package 418/470 | Hostname | OS / Arch | INSTALL | BUILD | BUILD BIN | ||||||||||||
| Streamer 1.44.0 (landing page) Martin Morgan
| kjohnson | macOS 13.0 Ventura / arm64 | OK | OK | OK | ||||||||||||
| Package 419/470 | Hostname | OS / Arch | INSTALL | BUILD | BUILD BIN | ||||||||||||
| Structstrings 1.14.0 (landing page) Felix G.M. Ernst
| kjohnson | macOS 13.0 Ventura / arm64 | OK | OK | OK | ||||||||||||
| Package 420/470 | Hostname | OS / Arch | INSTALL | BUILD | BUILD BIN | ||||||||||||
| StructuralVariantAnnotation 1.14.1 (landing page) Daniel Cameron
| kjohnson | macOS 13.0 Ventura / arm64 | OK | OK | OK | ||||||||||||
| Package 421/470 | Hostname | OS / Arch | INSTALL | BUILD | BUILD BIN | ||||||||||||
| SummarizedBenchmark 2.16.0 (landing page) Patrick Kimes
| kjohnson | macOS 13.0 Ventura / arm64 | OK | OK | OK | ||||||||||||
| Package 422/470 | Hostname | OS / Arch | INSTALL | BUILD | BUILD BIN | ||||||||||||
| SummarizedExperiment 1.28.0 (landing page) Hervé Pagès
| kjohnson | macOS 13.0 Ventura / arm64 | OK | OK | OK | ||||||||||||
| Package 423/470 | Hostname | OS / Arch | INSTALL | BUILD | BUILD BIN | ||||||||||||
| svaNUMT 1.4.0 (landing page) Ruining Dong
| kjohnson | macOS 13.0 Ventura / arm64 | OK | OK | OK | ||||||||||||
| Package 424/470 | Hostname | OS / Arch | INSTALL | BUILD | BUILD BIN | ||||||||||||
| svaRetro 1.4.0 (landing page) Ruining Dong
| kjohnson | macOS 13.0 Ventura / arm64 | OK | OK | OK | ||||||||||||
| Package 425/470 | Hostname | OS / Arch | INSTALL | BUILD | BUILD BIN | ||||||||||||
| SynMut 1.14.0 (landing page) Haogao Gu
| kjohnson | macOS 13.0 Ventura / arm64 | OK | OK | OK | ||||||||||||
| Package 426/470 | Hostname | OS / Arch | INSTALL | BUILD | BUILD BIN | ||||||||||||
| systemPipeR 2.4.0 (landing page) Thomas Girke
| kjohnson | macOS 13.0 Ventura / arm64 | OK | OK | OK | ||||||||||||
| Package 427/470 | Hostname | OS / Arch | INSTALL | BUILD | BUILD BIN | ||||||||||||
| TAPseq 1.10.0 (landing page) Andreas R. Gschwind
| kjohnson | macOS 13.0 Ventura / arm64 | OK | OK | OK | ||||||||||||
| Package 428/470 | Hostname | OS / Arch | INSTALL | BUILD | BUILD BIN | ||||||||||||
| target 1.12.0 (landing page) Mahmoud Ahmed
| kjohnson | macOS 13.0 Ventura / arm64 | OK | OK | OK | ||||||||||||
| Package 429/470 | Hostname | OS / Arch | INSTALL | BUILD | BUILD BIN | ||||||||||||
| TarSeqQC 1.28.0 (landing page) Gabriela Merino
| kjohnson | macOS 13.0 Ventura / arm64 | OK | OK | OK | ||||||||||||
| Package 430/470 | Hostname | OS / Arch | INSTALL | BUILD | BUILD BIN | ||||||||||||
| TBSignatureProfiler 1.10.0 (landing page) Aubrey R. Odom-Mabey
| kjohnson | macOS 13.0 Ventura / arm64 | OK | OK | OK | ||||||||||||
| Package 431/470 | Hostname | OS / Arch | INSTALL | BUILD | BUILD BIN | ||||||||||||
| TCGAutils 1.18.0 (landing page) Marcel Ramos
| kjohnson | macOS 13.0 Ventura / arm64 | OK | ERROR | skipped | ||||||||||||
| Package 432/470 | Hostname | OS / Arch | INSTALL | BUILD | BUILD BIN | ||||||||||||
| TCseq 1.22.6 (landing page) Mengjun Wu
| kjohnson | macOS 13.0 Ventura / arm64 | OK | OK | OK | ||||||||||||
| Package 433/470 | Hostname | OS / Arch | INSTALL | BUILD | BUILD BIN | ||||||||||||
| TENxIO 1.0.1 (landing page) Marcel Ramos
| kjohnson | macOS 13.0 Ventura / arm64 | OK | OK | OK | ||||||||||||
| Package 434/470 | Hostname | OS / Arch | INSTALL | BUILD | BUILD BIN | ||||||||||||
| TEQC 4.20.0 (landing page) Sarah Bonnin
| kjohnson | macOS 13.0 Ventura / arm64 | OK | OK | OK | ||||||||||||
| Package 435/470 | Hostname | OS / Arch | INSTALL | BUILD | BUILD BIN | ||||||||||||
| TFBSTools 1.36.0 (landing page) Ge Tan
| kjohnson | macOS 13.0 Ventura / arm64 | OK | OK | OK | ||||||||||||
| Package 436/470 | Hostname | OS / Arch | INSTALL | BUILD | BUILD BIN | ||||||||||||
| tigre 1.52.0 (landing page) Antti Honkela
| kjohnson | macOS 13.0 Ventura / arm64 | OK | OK | OK | ||||||||||||
| Package 437/470 | Hostname | OS / Arch | INSTALL | BUILD | BUILD BIN | ||||||||||||
| TitanCNA 1.36.0 (landing page) Gavin Ha
| kjohnson | macOS 13.0 Ventura / arm64 | OK | OK | OK | ||||||||||||
| Package 438/470 | Hostname | OS / Arch | INSTALL | BUILD | BUILD BIN | ||||||||||||
| topdownr 1.20.0 (landing page) Sebastian Gibb
| kjohnson | macOS 13.0 Ventura / arm64 | OK | OK | OK | ||||||||||||
| Package 439/470 | Hostname | OS / Arch | INSTALL | BUILD | BUILD BIN | ||||||||||||
| topGO 2.50.0 (landing page) Adrian Alexa
| kjohnson | macOS 13.0 Ventura / arm64 | OK | OK | OK | ||||||||||||
| Package 440/470 | Hostname | OS / Arch | INSTALL | BUILD | BUILD BIN | ||||||||||||
| ToxicoGx 2.2.0 (landing page) Benjamin Haibe-Kains
| kjohnson | macOS 13.0 Ventura / arm64 | OK | OK | OK | ||||||||||||
| Package 441/470 | Hostname | OS / Arch | INSTALL | BUILD | BUILD BIN | ||||||||||||
| trackViewer 1.34.0 (landing page) Jianhong Ou
| kjohnson | macOS 13.0 Ventura / arm64 | OK | OK | OK | ||||||||||||
| Package 442/470 | Hostname | OS / Arch | INSTALL | BUILD | BUILD BIN | ||||||||||||
| transcriptR 1.26.0 (landing page) Armen R. Karapetyan
| kjohnson | macOS 13.0 Ventura / arm64 | OK | OK | OK | ||||||||||||
| Package 443/470 | Hostname | OS / Arch | INSTALL | BUILD | BUILD BIN | ||||||||||||
| transite 1.16.0 (landing page) Konstantin Krismer
| kjohnson | macOS 13.0 Ventura / arm64 | OK | OK | OK | ||||||||||||
| Package 444/470 | Hostname | OS / Arch | INSTALL | BUILD | BUILD BIN | ||||||||||||
| TransView 1.42.0 (landing page) Julius Muller
| kjohnson | macOS 13.0 Ventura / arm64 | OK | OK | OK | ||||||||||||
| Package 445/470 | Hostname | OS / Arch | INSTALL | BUILD | BUILD BIN | ||||||||||||
| TreeSummarizedExperiment 2.6.0 (landing page) Ruizhu Huang
| kjohnson | macOS 13.0 Ventura / arm64 | OK | OK | OK | ||||||||||||
| Package 446/470 | Hostname | OS / Arch | INSTALL | BUILD | BUILD BIN | ||||||||||||
| tRNA 1.16.1 (landing page) Felix GM Ernst
| kjohnson | macOS 13.0 Ventura / arm64 | OK | OK | OK | ||||||||||||
| Package 447/470 | Hostname | OS / Arch | INSTALL | BUILD | BUILD BIN | ||||||||||||
| tRNAdbImport 1.16.0 (landing page) Felix G.M. Ernst
| kjohnson | macOS 13.0 Ventura / arm64 | OK | OK | OK | ||||||||||||
| Package 448/470 | Hostname | OS / Arch | INSTALL | BUILD | BUILD BIN | ||||||||||||
| tRNAscanImport 1.18.0 (landing page) Felix G.M. Ernst
| kjohnson | macOS 13.0 Ventura / arm64 | OK | OK | OK | ||||||||||||
| Package 449/470 | Hostname | OS / Arch | INSTALL | BUILD | BUILD BIN | ||||||||||||
| TVTB 1.24.0 (landing page) Kevin Rue-Albrecht
| kjohnson | macOS 13.0 Ventura / arm64 | OK | OK | OK | ||||||||||||
| Package 450/470 | Hostname | OS / Arch | INSTALL | BUILD | BUILD BIN | ||||||||||||
| txcutr 1.4.0 (landing page) Mervin Fansler
| kjohnson | macOS 13.0 Ventura / arm64 | OK | OK | OK | ||||||||||||
| Package 451/470 | Hostname | OS / Arch | INSTALL | BUILD | BUILD BIN | ||||||||||||
| Ularcirc 1.16.0 (landing page) David Humphreys
| kjohnson | macOS 13.0 Ventura / arm64 | OK | OK | OK | ||||||||||||
| Package 452/470 | Hostname | OS / Arch | INSTALL | BUILD | BUILD BIN | ||||||||||||
| UMI4Cats 1.8.1 (landing page) Mireia Ramos-Rodriguez
| kjohnson | macOS 13.0 Ventura / arm64 | OK | OK | OK | ||||||||||||
| Package 453/470 | Hostname | OS / Arch | INSTALL | BUILD | BUILD BIN | ||||||||||||
| UNDO 1.40.0 (landing page) Niya Wang
| kjohnson | macOS 13.0 Ventura / arm64 | OK | OK | OK | ||||||||||||
| Package 454/470 | Hostname | OS / Arch | INSTALL | BUILD | BUILD BIN | ||||||||||||
| unifiedWMWqPCR 1.34.0 (landing page) Joris Meys
| kjohnson | macOS 13.0 Ventura / arm64 | OK | OK | OK | ||||||||||||
| Package 455/470 | Hostname | OS / Arch | INSTALL | BUILD | BUILD BIN | ||||||||||||
| UniProt.ws 2.38.1 (landing page) Marcel Ramos
| kjohnson | macOS 13.0 Ventura / arm64 | OK | OK | OK | ||||||||||||
| Package 456/470 | Hostname | OS / Arch | INSTALL | BUILD | BUILD BIN | ||||||||||||
| universalmotif 1.16.0 (landing page) Benjamin Jean-Marie Tremblay
| kjohnson | macOS 13.0 Ventura / arm64 | OK | OK | OK | ||||||||||||
| Package 457/470 | Hostname | OS / Arch | INSTALL | BUILD | BUILD BIN | ||||||||||||
| updateObject 1.2.0 (landing page) Hervé Pagès
| kjohnson | macOS 13.0 Ventura / arm64 | OK | OK | OK | ||||||||||||
| Package 458/470 | Hostname | OS / Arch | INSTALL | BUILD | BUILD BIN | ||||||||||||
| uSORT 1.24.0 (landing page) Hao Chen
| kjohnson | macOS 13.0 Ventura / arm64 | OK | OK | OK | ||||||||||||
| Package 459/470 | Hostname | OS / Arch | INSTALL | BUILD | BUILD BIN | ||||||||||||
| VanillaICE 1.60.0 (landing page) Robert Scharpf
| kjohnson | macOS 13.0 Ventura / arm64 | OK | OK | OK | ||||||||||||
| Package 460/470 | Hostname | OS / Arch | INSTALL | BUILD | BUILD BIN | ||||||||||||
| VariantAnnotation 1.44.1 (landing page) Bioconductor Package Maintainer
| kjohnson | macOS 13.0 Ventura / arm64 | OK | OK | OK | ||||||||||||
| Package 461/470 | Hostname | OS / Arch | INSTALL | BUILD | BUILD BIN | ||||||||||||
| VariantFiltering 1.34.0 (landing page) Robert Castelo
| kjohnson | macOS 13.0 Ventura / arm64 | OK | ERROR | skipped | ||||||||||||
| Package 462/470 | Hostname | OS / Arch | INSTALL | BUILD | BUILD BIN | ||||||||||||
| VariantTools 1.40.0 (landing page) Michael Lawrence
| kjohnson | macOS 13.0 Ventura / arm64 | OK | OK | OK | ||||||||||||
| Package 463/470 | Hostname | OS / Arch | INSTALL | BUILD | BUILD BIN | ||||||||||||
| VCFArray 1.14.0 (landing page) Qian Liu
| kjohnson | macOS 13.0 Ventura / arm64 | OK | OK | OK | ||||||||||||
| Package 464/470 | Hostname | OS / Arch | INSTALL | BUILD | BUILD BIN | ||||||||||||
| velociraptor 1.8.0 (landing page) Kevin Rue-Albrecht
| kjohnson | macOS 13.0 Ventura / arm64 | OK | ERROR | skipped | ||||||||||||
| Package 465/470 | Hostname | OS / Arch | INSTALL | BUILD | BUILD BIN | ||||||||||||
| wavClusteR 2.32.0 (landing page) Federico Comoglio
| kjohnson | macOS 13.0 Ventura / arm64 | OK | OK | OK | ||||||||||||
| Package 466/470 | Hostname | OS / Arch | INSTALL | BUILD | BUILD BIN | ||||||||||||
| weitrix 1.10.0 (landing page) Paul Harrison
| kjohnson | macOS 13.0 Ventura / arm64 | OK | OK | OK | ||||||||||||
| Package 467/470 | Hostname | OS / Arch | INSTALL | BUILD | BUILD BIN | ||||||||||||
| xcms 3.20.0 (landing page) Steffen Neumann
| kjohnson | macOS 13.0 Ventura / arm64 | OK | OK | OK | ||||||||||||
| Package 468/470 | Hostname | OS / Arch | INSTALL | BUILD | BUILD BIN | ||||||||||||
| XDE 2.44.0 (landing page) Robert Scharpf
| kjohnson | macOS 13.0 Ventura / arm64 | OK | OK | OK | ||||||||||||
| Package 469/470 | Hostname | OS / Arch | INSTALL | BUILD | BUILD BIN | ||||||||||||
| XVector 0.38.0 (landing page) Hervé Pagès
| kjohnson | macOS 13.0 Ventura / arm64 | OK | OK | OK | ||||||||||||
| Package 470/470 | Hostname | OS / Arch | INSTALL | BUILD | BUILD BIN | ||||||||||||
| yamss 1.24.0 (landing page) Leslie Myint
| kjohnson | macOS 13.0 Ventura / arm64 | OK | OK | OK | ||||||||||||