| Back to Mac ARM64 build report for BioC 3.16 |
|
This page was generated on 2023-04-19 11:01:56 -0400 (Wed, 19 Apr 2023).
| Hostname | OS | Arch (*) | R version | Installed pkgs |
|---|---|---|---|---|
| kjohnson | macOS 13.0 Ventura | arm64 | 4.2.2 (2022-10-31) -- "Innocent and Trusting" | 4256 |
| Click on any hostname to see more info about the system (e.g. compilers) (*) as reported by 'uname -p', except on Windows and Mac OS X | ||||
|
To the developers/maintainers of the multtest package: Make sure to use the following settings in order to reproduce any error or warning you see on this page. |
| Package 1307/2183 | Hostname | OS / Arch | INSTALL | BUILD | BUILD BIN | ||||||||
| multtest 2.54.0 (landing page) Katherine S. Pollard
| kjohnson | macOS 13.0 Ventura / arm64 | OK | OK | OK | ||||||||
| Package: multtest |
| Version: 2.54.0 |
| Command: /Library/Frameworks/R.framework/Resources/bin/R CMD INSTALL multtest |
| StartedAt: 2023-04-16 14:21:16 -0400 (Sun, 16 Apr 2023) |
| EndedAt: 2023-04-16 14:21:38 -0400 (Sun, 16 Apr 2023) |
| EllapsedTime: 21.9 seconds |
| RetCode: 0 |
| Status: OK |
##############################################################################
##############################################################################
###
### Running command:
###
### /Library/Frameworks/R.framework/Resources/bin/R CMD INSTALL multtest
###
##############################################################################
##############################################################################
* installing to library ‘/Library/Frameworks/R.framework/Versions/4.2-arm64/Resources/library’
* installing *source* package ‘multtest’ ...
** using staged installation
** libs
clang -arch arm64 -I"/Library/Frameworks/R.framework/Resources/include" -DNDEBUG -I/opt/R/arm64/include -DUSEDOUBLE -fPIC -falign-functions=64 -Wall -g -O2 -c Rpack.c -o Rpack.o
clang -arch arm64 -I"/Library/Frameworks/R.framework/Resources/include" -DNDEBUG -I/opt/R/arm64/include -DUSEDOUBLE -fPIC -falign-functions=64 -Wall -g -O2 -c VScount.c -o VScount.o
clang -arch arm64 -I"/Library/Frameworks/R.framework/Resources/include" -DNDEBUG -I/opt/R/arm64/include -DUSEDOUBLE -fPIC -falign-functions=64 -Wall -g -O2 -c block_sampling_fixed.c -o block_sampling_fixed.o
clang -arch arm64 -I"/Library/Frameworks/R.framework/Resources/include" -DNDEBUG -I/opt/R/arm64/include -DUSEDOUBLE -fPIC -falign-functions=64 -Wall -g -O2 -c bootloop.c -o bootloop.o
clang -arch arm64 -I"/Library/Frameworks/R.framework/Resources/include" -DNDEBUG -I/opt/R/arm64/include -DUSEDOUBLE -fPIC -falign-functions=64 -Wall -g -O2 -c mt.c -o mt.o
clang -arch arm64 -I"/Library/Frameworks/R.framework/Resources/include" -DNDEBUG -I/opt/R/arm64/include -DUSEDOUBLE -fPIC -falign-functions=64 -Wall -g -O2 -c pairt_sampling.c -o pairt_sampling.o
clang -arch arm64 -I"/Library/Frameworks/R.framework/Resources/include" -DNDEBUG -I/opt/R/arm64/include -DUSEDOUBLE -fPIC -falign-functions=64 -Wall -g -O2 -c pairt_sampling_fixed.c -o pairt_sampling_fixed.o
clang -arch arm64 -I"/Library/Frameworks/R.framework/Resources/include" -DNDEBUG -I/opt/R/arm64/include -DUSEDOUBLE -fPIC -falign-functions=64 -Wall -g -O2 -c random.c -o random.o
random.c:48:6: warning: absolute value function 'abs' given an argument of type 'long' but has parameter of type 'int' which may cause truncation of value [-Wabsolute-value]
z1=abs(seed); /*setting the seed to z1 and initialize it*/
^
random.c:48:6: note: use function 'labs' instead
z1=abs(seed); /*setting the seed to z1 and initialize it*/
^~~
labs
1 warning generated.
clang -arch arm64 -I"/Library/Frameworks/R.framework/Resources/include" -DNDEBUG -I/opt/R/arm64/include -DUSEDOUBLE -fPIC -falign-functions=64 -Wall -g -O2 -c sampling.c -o sampling.o
clang -arch arm64 -I"/Library/Frameworks/R.framework/Resources/include" -DNDEBUG -I/opt/R/arm64/include -DUSEDOUBLE -fPIC -falign-functions=64 -Wall -g -O2 -c sampling_fixed.c -o sampling_fixed.o
clang -arch arm64 -I"/Library/Frameworks/R.framework/Resources/include" -DNDEBUG -I/opt/R/arm64/include -DUSEDOUBLE -fPIC -falign-functions=64 -Wall -g -O2 -c stat_func.c -o stat_func.o
clang -arch arm64 -I"/Library/Frameworks/R.framework/Resources/include" -DNDEBUG -I/opt/R/arm64/include -DUSEDOUBLE -fPIC -falign-functions=64 -Wall -g -O2 -c stat_order.c -o stat_order.o
clang -arch arm64 -dynamiclib -Wl,-headerpad_max_install_names -undefined dynamic_lookup -single_module -multiply_defined suppress -L/Library/Frameworks/R.framework/Resources/lib -L/opt/R/arm64/lib -o multtest.so Rpack.o VScount.o block_sampling_fixed.o bootloop.o mt.o pairt_sampling.o pairt_sampling_fixed.o random.o sampling.o sampling_fixed.o stat_func.o stat_order.o -lm -F/Library/Frameworks/R.framework/.. -framework R -Wl,-framework -Wl,CoreFoundation
ld: warning: -undefined dynamic_lookup may not work with chained fixups
installing to /Library/Frameworks/R.framework/Versions/4.2-arm64/Resources/library/00LOCK-multtest/00new/multtest/libs
** R
** data
** inst
** byte-compile and prepare package for lazy loading
** help
*** installing help indices
** building package indices
** installing vignettes
** testing if installed package can be loaded from temporary location
** checking absolute paths in shared objects and dynamic libraries
** testing if installed package can be loaded from final location
** testing if installed package keeps a record of temporary installation path
* DONE (multtest)