| Back to Mac ARM64 build report for BioC 3.16 |
|
This page was generated on 2023-04-19 11:01:54 -0400 (Wed, 19 Apr 2023).
| Hostname | OS | Arch (*) | R version | Installed pkgs |
|---|---|---|---|---|
| kjohnson | macOS 13.0 Ventura | arm64 | 4.2.2 (2022-10-31) -- "Innocent and Trusting" | 4256 |
| Click on any hostname to see more info about the system (e.g. compilers) (*) as reported by 'uname -p', except on Windows and Mac OS X | ||||
|
To the developers/maintainers of the ctgGEM package: Make sure to use the following settings in order to reproduce any error or warning you see on this page. |
| Package 452/2183 | Hostname | OS / Arch | INSTALL | BUILD | BUILD BIN | ||||||||
USD Biomedical Engineering
| kjohnson | macOS 13.0 Ventura / arm64 | ERROR | ERROR | skipped | ||||||||
| Package: ctgGEM |
| Version: 1.10.0 |
| Command: /Library/Frameworks/R.framework/Resources/bin/R CMD build --keep-empty-dirs --no-resave-data ctgGEM |
| StartedAt: 2023-04-17 02:23:15 -0400 (Mon, 17 Apr 2023) |
| EndedAt: 2023-04-17 02:23:16 -0400 (Mon, 17 Apr 2023) |
| EllapsedTime: 1.1 seconds |
| RetCode: 1 |
| Status: ERROR |
| PackageFile: None |
| PackageFileSize: NA |
##############################################################################
##############################################################################
###
### Running command:
###
### /Library/Frameworks/R.framework/Resources/bin/R CMD build --keep-empty-dirs --no-resave-data ctgGEM
###
##############################################################################
##############################################################################
* checking for file ‘ctgGEM/DESCRIPTION’ ... OK
* preparing ‘ctgGEM’:
* checking DESCRIPTION meta-information ... OK
* installing the package to build vignettes
-----------------------------------
* installing *source* package ‘ctgGEM’ ...
** using staged installation
** R
Error in .install_package_code_files(".", instdir) :
files in 'Collate' field missing from '/private/tmp/RtmpQoDkJA/Rbuild1f45754e2eaa/ctgGEM/R':
zzz.R
ERROR: unable to collate and parse R files for package ‘ctgGEM’
* removing ‘/private/tmp/RtmpQoDkJA/Rinst1f455fd9d710/ctgGEM’
-----------------------------------
ERROR: package installation failed