| Back to Mac ARM64 build report for BioC 3.16 | 
 | 
This page was generated on 2023-04-19 11:01:57 -0400 (Wed, 19 Apr 2023).
| Hostname | OS | Arch (*) | R version | Installed pkgs | 
|---|---|---|---|---|
| kjohnson | macOS 13.0 Ventura | arm64 | 4.2.2 (2022-10-31) -- "Innocent and Trusting" | 4256 | 
| Click on any hostname to see more info about the system (e.g. compilers) (*) as reported by 'uname -p', except on Windows and Mac OS X | ||||
| To the developers/maintainers of the rqubic package: Make sure to use the following settings in order to reproduce any error or warning you see on this page. | 
| Package 1728/2183 | Hostname | OS / Arch | INSTALL | BUILD | BUILD BIN | ||||||||
| rqubic 1.44.0  (landing page) Jitao David Zhang 
 | kjohnson | macOS 13.0 Ventura / arm64 | OK | OK | OK |  | |||||||
| Package: rqubic | 
| Version: 1.44.0 | 
| Command: /Library/Frameworks/R.framework/Resources/bin/R CMD INSTALL rqubic | 
| StartedAt: 2023-04-16 15:29:11 -0400 (Sun, 16 Apr 2023) | 
| EndedAt: 2023-04-16 15:29:30 -0400 (Sun, 16 Apr 2023) | 
| EllapsedTime: 19.0 seconds | 
| RetCode: 0 | 
| Status: OK | 
##############################################################################
##############################################################################
###
### Running command:
###
###   /Library/Frameworks/R.framework/Resources/bin/R CMD INSTALL rqubic
###
##############################################################################
##############################################################################
* installing to library ‘/Library/Frameworks/R.framework/Versions/4.2-arm64/Resources/library’
* installing *source* package ‘rqubic’ ...
** using staged installation
** libs
clang -arch arm64 -I"/Library/Frameworks/R.framework/Resources/include" -DNDEBUG   -I/opt/R/arm64/include   -fPIC  -falign-functions=64 -Wall -g -O2  -c bicluster.c -o bicluster.o
bicluster.c:354:15: warning: using the result of an assignment as a condition without parentheses [-Wparentheses]
      if (flag=ss) (*m_cnt)++;
          ~~~~^~~
bicluster.c:354:15: note: place parentheses around the assignment to silence this warning
      if (flag=ss) (*m_cnt)++;
              ^
          (      )
bicluster.c:354:15: note: use '==' to turn this assignment into an equality comparison
      if (flag=ss) (*m_cnt)++;
              ^
              ==
1 warning generated.
clang -arch arm64 -I"/Library/Frameworks/R.framework/Resources/include" -DNDEBUG   -I/opt/R/arm64/include   -fPIC  -falign-functions=64 -Wall -g -O2  -c discretize.c -o discretize.o
clang -arch arm64 -I"/Library/Frameworks/R.framework/Resources/include" -DNDEBUG   -I/opt/R/arm64/include   -fPIC  -falign-functions=64 -Wall -g -O2  -c fib.c -o fib.o
clang -arch arm64 -I"/Library/Frameworks/R.framework/Resources/include" -DNDEBUG   -I/opt/R/arm64/include   -fPIC  -falign-functions=64 -Wall -g -O2  -c graph.c -o graph.o
clang -arch arm64 -I"/Library/Frameworks/R.framework/Resources/include" -DNDEBUG   -I/opt/R/arm64/include   -fPIC  -falign-functions=64 -Wall -g -O2  -c rqubic.c -o rqubic.o
clang -arch arm64 -dynamiclib -Wl,-headerpad_max_install_names -undefined dynamic_lookup -single_module -multiply_defined suppress -L/Library/Frameworks/R.framework/Resources/lib -L/opt/R/arm64/lib -o rqubic.so bicluster.o discretize.o fib.o graph.o rqubic.o -F/Library/Frameworks/R.framework/.. -framework R -Wl,-framework -Wl,CoreFoundation
ld: warning: -undefined dynamic_lookup may not work with chained fixups
installing to /Library/Frameworks/R.framework/Versions/4.2-arm64/Resources/library/00LOCK-rqubic/00new/rqubic/libs
** R
** inst
** byte-compile and prepare package for lazy loading
** help
*** installing help indices
** building package indices
** installing vignettes
** testing if installed package can be loaded from temporary location
** checking absolute paths in shared objects and dynamic libraries
** testing if installed package can be loaded from final location
** testing if installed package keeps a record of temporary installation path
* DONE (rqubic)